{"text_format":"1","workbook":"xlsx","n_sheets":2,"sheets":["Roller Coaster","Calculations"],"not_rendered":{"charts":4,"images":21,"macros":1,"external_links":0,"defined_names":5,"comments":0,"pivot_tables":0},"unopened":[],"bounds":{"document_bytes":16777216,"sheet_cells":100000,"rows_first":2000,"rows_last":500,"rows_between":2000,"halvings":0,"cell_chars":16384,"cell_head_chars":4096},"cells_cut":0,"cells_raw":0,"read":"whole","date_system":"1900"}

{"sheet":"Roller Coaster","index":0,"n_rows":21,"n_cols":3,"rows_kept":21,"cut":false,"hidden":false,"merged":[]}
[]
[]
[]
[]
[]
[]
[]
[]
[]
[]
[]
[]
[]
[]
[]
[]
[]
[]
[]
[]
[null,null,0]

{"sheet":"Calculations","index":1,"n_rows":3710,"n_cols":81,"rows_kept":2250,"cut":true,"hidden":false,"merged":[],"bounds":{"rows_first":1000,"rows_last":250,"rows_between":1000,"halvings":1}}
["eye-screen",20,null,null,{"$f":"SIN(55)","v":-0.99975517335861985}]
["screen-O",-10,null,null,{"$f":"SIN(B1)","v":0.91294525072762767},null,null,null,null,null,null,null,null,null,null,null,null,null,null,null,"x0","y0","z0"]
[null,null,null,null,null,null,null,null,null,null,null,null,null,null,null,null,null,null,null,"Current",{"$f":"OFFSET(U45,B1666,0)","v":0},{"$f":"OFFSET(V45,B1666,0)","v":0},{"$f":"OFFSET(W45,B1666,0)","v":7}]
[null,null,null,null,"sin(Y)",{"$f":"SIN(ASIN(C1704)+RADIANS(B6))","v":0},null,null,null,null,null,null,null,null,null,null,null,null,null,null,null,null,null,null,"Trunc Speed",{"$f":"TRUNC(OFFSET(AG45,B1666,0),0)","v":0}]
["Rider Offset",null,null,null,"cos(Y)",{"$f":"COS(ACOS(E1704)+RADIANS(B6))","v":1},null,null,null,null,null,null,null,null,null,null,null,null,null,null,null,null,null,null,"Slow down-scale",8]
["Yaw",0,null,null,"sin(P)",{"$f":"SIN(ASIN(G1704)+RADIANS(B7))","v":0},null,null,null,null,null,null,null,null,null,null,null,null,null,null,null,null,null,null,null,null,null,"Name"]
["Pitch",0,null,null,"cos(P)",{"$f":"COS(ACOS(I1704)+RADIANS(B7))","v":1},null,null,null,null,null,null,null,null,null,null,null,null,null,null,{"$f":"OFFSET(AA45,B1666,0)","v":0},{"$f":"OFFSET(AB45,B1666,0)","v":0.92507641085160142},{"$f":"OFFSET(AC45,B1666,0)","v":3.2503250607440748E-2},null,null,null,null,13.5,{"$f":"IF(Calculations!C21=0,5,-99)","v":5}]
["Roll",0,null,null,"sin(R)",{"$f":"SIN(ASIN(K1704)+RADIANS(B8))","v":0},null,null,null,null,null,null,null,null,null,null,null,null,null,"Transverse",{"$f":"OFFSET(AD$45,$B1666,0)","v":-10},{"$f":"OFFSET(AE$45,$B1666,0)","v":0},{"$f":"OFFSET(AF$45,$B1666,0)","v":0}]
[null,null,null,null,"cos(R)",{"$f":"COS(ACOS(M1704)+RADIANS(B8))","v":1},null,null,null,null,null,null,null,null,null,null,null,null,null,null,null,null,null,null,null,null,null,13.5,{"$f":"IF(Calculations!C$21=0,5,-99)","v":5}]
["x0",0,null,null,null,null,null,null,null,null,null,null,null,null,null,null,null,null,null,null,null,null,null,null,null,null,null,{"$f":"AB9-1","v":12.5},{"$f":"IF(OR(Calculations!C$21=2,Calculations!C$21=1980),5.5,-99)","v":-99}]
["y0",0,null,null,null,null,null,null,null,null,null,null,null,null,null,null,null,null,null,null,null,null,null,null,null,null,null,{"$f":"AB10-1","v":11.5},{"$f":"IF(OR(Calculations!C$21=4,Calculations!C$21=1979),6,-99)","v":-99}]
["z0",0,null,null,null,null,null,null,null,null,null,null,null,null,null,null,null,null,null,null,null,null,null,null,null,null,null,10.5,{"$f":"IF(OR(Calculations!C$21=6,Calculations!C$21=1978),6.5,-99)","v":-99}]
[null,null,null,null,null,null,null,null,null,null,null,null,null,null,null,null,null,null,null,null,null,null,null,null,null,null,null,9.5,{"$f":"IF(OR(Calculations!C$21=8,Calculations!C$21=1977),7,-99)","v":-99}]
[null,null,null,null,null,null,null,null,null,null,null,null,null,null,null,null,null,null,null,null,null,null,null,null,null,null,null,8.5,{"$f":"IF(OR(Calculations!C$21=10,Calculations!C$21=1976),7.5,-99)","v":-99}]
["Speed",{"$f":"U16","v":0},null,null,null,null,null,null,null,null,null,null,null,null,null,null,null,null,null,null,"Speed Variable",null,null,null,null,null,null,7.5,{"$f":"IF(OR(Calculations!C$21=12,Calculations!C$21=1975),8,-99)","v":-99}]
[null,null," ",null,null,null,null,null,null,null,null,null,null,null,null,null,null,null,null,null,{"$f":"OFFSET(AG45,Calculations!C21,0)","v":0},null,null,null,null,null,null,6.5,{"$f":"IF(OR(Calculations!C$21=14,Calculations!C$21=1974),8.5,-99)","v":-99}]
[null,null,null,null,null,null,null,null,null,null,null,null,null,null,null,null,null,null,null,null,null,null,null,null,null,null,null,5.5,{"$f":"IF(OR(Calculations!C$21=16,Calculations!C$21=1973),9,-99)","v":-99}]
[null,null," ",null,null,null,null,null,null,null,null,null,null,null,null,null,null,null,null,null,null,null,null,null,null,null,null,4.5,{"$f":"IF(OR(Calculations!C$21=18,Calculations!C$21=1972),9.5,-99)","v":-99},null,null,null,null,null,null,null,null,null,null,null,null,null,null,null,null,null,null,null,null,null,null,null,null,null,null,null,null,null,null,null,null,null,null,null,null,null,null,null,null,null,null,null,0]
[null,null,null,null,null,null,null,null,null,null,null,null,null,null,null,null,null,null,null,null,null,null,null,null,null,null,null,3.5,{"$f":"IF(OR(Calculations!C$21=20,Calculations!C$21=1971),10,-99)","v":-99}]
[null,null,null,null,null,null,null,null,null,null,null,null,null,null,null,null,null,null,null,null,null,null,null,null,null,null,null,2.5,{"$f":"IF(OR(Calculations!C$21=22,Calculations!C$21=1970),10.5,-99)","v":-99}]
[null,"Index",0,null,null,null,null,null,null,null,null,null,null,null,null,null,null,null,null,null,null,null,null,null,null,null,null,1.5,{"$f":"IF(OR(Calculations!C$21=24,Calculations!C$21=1969),11,-99)","v":-99}]
[null,null,null,null,null,null,null,null,null,null,null,null,null,null,null,null,null,null,null,null,null,null,null,null,null,null,null,0.5,{"$f":"IF(OR(Calculations!C$21=26,Calculations!C$21=1968),11.5,-99)","v":-99}]
[null,null,null,null,null,null,null,null,null,null,null,null,null,null,null,null,null,null,null,null,null,null,null,null,null,null,null,0,{"$f":"IF(Calculations!C$21=28,12,-99)","v":-99}]
["Delay",0,"ms"]
[]
[null,10.67578125,{"$f":"IF(mySeconds=\"\",\"\",\"seconds\")","v":"seconds"}]
[]
[]
[]
[]
[]
[]
[]
[]
[]
[null,null,null,null,null,null,null,null,null,null,null,null,null,null,null,"  "]
[]
[300]
[-200]
[]
[]
[null,null,null,null,null,null,null,null,null,null,null,null,null,null,null,null,null,null,null,null,null,"Rider",null,null,"Transverse",null,null,null,null,null,null,null,null,null,null,null,null,null,null,null,null,null,null,null,"X-twist+dx","Y-twist+dx","Z-twist+dx"]
[null,"X-x0","Y-y0","Z-z0","X-y","Y-y","Z-y","X-p","Y-p","Z-p","X-r","Y-r","Z-r","u","v",null,null,null,null,null,"x","y","z","delta-x","delta-y","delta-z",null,"MovAverageRider",null,null,"MovAverageTransverse",null,"speed",null,null,null,null,null,null,null,null,null,null,null,-5,0,0]
[null,null,null,null,null,null,null,null,null,null,null,null,null,null,null,null,null,null,null,null,null,null,null,null,null,null,null,null,null,null,null,null,null,null,null,null,null,null,null,null,null,null,null,null,0,0,-3.0539999999999998]
[8,{"$f":"OFFSET(Calculations!AS$43,$A45,0)-U$3-B$10","v":0},{"$f":"OFFSET(Calculations!AT$43,$A45,0)-V$3-B$11","v":10.319229926819414},{"$f":"OFFSET(Calculations!AU$43,$A45,0)-W$3-B$12","v":-10.037269868454707},{"$f":"B45*F$5+C45*F$4","v":0},{"$f":"C45*F$5-B45*F$4","v":10.319229926819414},{"$f":"D45","v":-10.037269868454707},0,{"$f":"F45*F$7+G45*F$6","v":10.319229926819414},{"$f":"G45*F$7-F45*F$6","v":-10.037269868454707},{"$f":"H45*F$9+J45*F$8","v":0},{"$f":"I45","v":10.319229926819414},{"$f":"J45*F$9-H45*F$8","v":-10.037269868454707},null,null,{"$f":"IF(MIN(L45:L51)+B$2+B$1>0,1,0)","v":1},{"$f":"IF(P45=1,K45*B$1/(B$1+B$2+L45),99999)","v":0},{"$f":"M45*B$1/(B$1+B$2+L45)","v":-9.8795770357482731},null,0,{"$f":"OFFSET(Calculations!AS$46,$T45,0)","v":0},{"$f":"OFFSET(Calculations!AT$46,$T45,0)","v":0},{"$f":"OFFSET(Calculations!AU$46,$T45,0)","v":7},{"$f":"OFFSET(Calculations!AS$43,$T45,0)-OFFSET(Calculations!AS$45,$T45,0)","v":-10},{"$f":"OFFSET(Calculations!AT$43,$T45,0)-OFFSET(Calculations!AT$45,$T45,0)","v":0},{"$f":"OFFSET(Calculations!AU$43,$T45,0)-OFFSET(Calculations!AU$45,$T45,0)","v":0},{"$f":"(SUM(U46:U61)-SUM(U45:U60))/16","v":0},{"$f":"(SUM(V46:V61)-SUM(V45:V60))/16","v":0.92507641085160142},{"$f":"(SUM(W46:W61)-SUM(W45:W60))/16","v":3.2503250607440748E-2},{"$f":"SUM(X45:X60)/16","v":-10},{"$f":"SUM(Y45:Y60)/16","v":0},{"$f":"SUM(Z45:Z60)/16","v":0},0,null,null,null,null,null,null,null,null,null,null,null,5,0,0]
[1,{"$f":"OFFSET(Calculations!AS$43,$A46,0)-U$3-B$10","v":0},{"$f":"OFFSET(Calculations!AT$43,$A46,0)-V$3-B$11","v":0},{"$f":"OFFSET(Calculations!AU$43,$A46,0)-W$3-B$12","v":-10.054},0,0,-10.054,0,0,-10.054,0,0,-10.054,null,null,null,{"$f":"IF(P45=1,K46*B$1/(B$1+B$2+L46),99999)","v":0},-20.108000000000001,null,null,{"$f":"(9*U45+U55)/10","v":0},0.92683007571264253,6.9961653267577919,-10,0,0,0,0.92478413337475995,3.8559571249050073E-2,-10,0,0,1,null,null,null,null,null,null,null,null,null,null,null,0,0,7]
[0,{"$f":"OFFSET(Calculations!AS$43,$A47,0)-U$3-B$10","v":-5},{"$f":"OFFSET(Calculations!AT$43,$A47,0)-V$3-B$11","v":0},{"$f":"OFFSET(Calculations!AU$43,$A47,0)-W$3-B$12","v":-7},-5,0,-7,-5,0,-7,-5,0,-7,null,null,null,{"$f":"IF(P45=1,K47*B$1/(B$1+B$2+L47),99999)","v":-10},-14,null,null,{"$f":"(8*U45+2*U55)/10","v":0},1.8536601514252851,6.9923306535155829,-10,0,0,0,0.92449185589792116,4.461589189065851E-2,-10,0,0,{"$f":"AG46","v":1},null,null,null,null,"Axes",null,null,null,null,null,null,-7,0,0]
[7,{"$f":"OFFSET(Calculations!AS$43,$A48,0)-U$3-B$10","v":-5},{"$f":"OFFSET(Calculations!AT$43,$A48,0)-V$3-B$11","v":10},{"$f":"OFFSET(Calculations!AU$43,$A48,0)-W$3-B$12","v":-7},-5,10,-7,-5,10,-7,-5,10,-7,null,null,null,{"$f":"IF(P45=1,K48*B$1/(B$1+B$2+L48),99999)","v":-5},-7,null,null,{"$f":"(7*U45+3*U55)/10","v":0},2.7804902271379275,6.988495980273373,-10,0,0,0,0.92419957842107969,5.0672212532267835E-2,-10,0,0,1,null,null,null,null,null,null,null,null,null,null,null,0,0,15]
[9,{"$f":"OFFSET(Calculations!AS$43,$A49,0)-U$3-B$10","v":5},{"$f":"OFFSET(Calculations!AT$43,$A49,0)-V$3-B$11","v":10},{"$f":"OFFSET(Calculations!AU$43,$A49,0)-W$3-B$12","v":-7},5,10,-7,5,10,-7,5,10,-7,null,null,null,{"$f":"IF(P45=1,K49*B$1/(B$1+B$2+L49),99999)","v":5},-7,null,null,{"$f":"(6*U45+4*U55)/10","v":0},3.7073203028505701,6.9846613070311649,-10,0,0,0,0.92390730094424001,5.6728533173876272E-2,-10,0,0,1,null,null,null,null,null,null,null,null,null,null,null,7,0,0]
[2,{"$f":"OFFSET(Calculations!AS$43,$A50,0)-U$3-B$10","v":5},{"$f":"OFFSET(Calculations!AT$43,$A50,0)-V$3-B$11","v":0},{"$f":"OFFSET(Calculations!AU$43,$A50,0)-W$3-B$12","v":-7},5,0,-7,5,0,-7,5,0,-7,null,null,null,{"$f":"IF(P45=1,K50*B$1/(B$1+B$2+L50),99999)","v":10},-14,null,null,{"$f":"(5*U45+5*U55)/10","v":0},4.6341503785632128,6.980826633788956,-10,0,0,0,0.91841605459677389,6.7136337167383431E-2,-10,0,0,1,null,null,null,null,null,null,null,null,null,null,null,-5,10,0]
[1,{"$f":"OFFSET(Calculations!AS$43,$A51,0)-U$3-B$10","v":0},{"$f":"OFFSET(Calculations!AT$43,$A51,0)-V$3-B$11","v":0},{"$f":"OFFSET(Calculations!AU$43,$A51,0)-W$3-B$12","v":-10.054},0,0,-10.054,0,0,-10.054,0,0,-10.054,null,null,null,{"$f":"IF(P45=1,K51*B$1/(B$1+B$2+L51),99999)","v":0},-20.108000000000001,null,null,{"$f":"(4*U45+6*U55)/10","v":0},5.560980454275855,6.9769919605467479,-10,0,0,0,0.91292480824930777,7.7544141160889701E-2,-10,0,0,1,null,null,null,null,null,null,null,null,null,null,null,0,10.319229926819414,-3.0372698684547066]
[" ",null,null,null,null,null,null,null,null,null,null,null,null,null,null,null,null,null,null,null,{"$f":"(3*U45+7*U55)/10","v":0},6.4878105299884981,6.9731572873045398,-10,0,0,0,0.90743356190183988,8.7951945154399525E-2,-10,0,0,1,null,null,null,null,null,null,null,null,null,null,null,5,10,0]
[{"$f":"A45+7","v":15},{"$f":"OFFSET(Calculations!AS$43,$A53,0)-U$3-B$10","v":0},{"$f":"OFFSET(Calculations!AT$43,$A53,0)-V$3-B$11","v":20.577824924944238},{"$f":"OFFSET(Calculations!AU$43,$A53,0)-W$3-B$12","v":-8.9308924671561911},{"$f":"B53*F$5+C53*F$4","v":0},{"$f":"C53*F$5-B53*F$4","v":20.577824924944238},{"$f":"D53","v":-8.9308924671561911},0,{"$f":"F53*F$7+G53*F$6","v":20.577824924944238},{"$f":"G53*F$7-F53*F$6","v":-8.9308924671561911},{"$f":"H53*F$9+J53*F$8","v":0},{"$f":"I53","v":20.577824924944238},{"$f":"J53*F$9-H53*F$8","v":-8.9308924671561911},null,null,{"$f":"IF(MIN(L53:L59)+B$2+B$1>0,1,0)","v":1},{"$f":"IF(P53=1,K53*B$1/(B$1+B$2+L53),99999)","v":0},{"$f":"M53*B$1/(B$1+B$2+L53)","v":-5.841417752294543},null,null,{"$f":"(2*U45+8*U55)/10","v":0},7.4146406057011403,6.9693226140623299,-10,0,0,0,0.90194231555437554,9.8359749147907571E-2,-10,0,0,1,null,null,null,null,null,null,null,null,null,null,null,0,9.2683007571264255,6.9616532675779128]
[{"$f":"A46+7","v":8},{"$f":"OFFSET(Calculations!AS$43,$A54,0)-U$3-B$10","v":0},{"$f":"OFFSET(Calculations!AT$43,$A54,0)-V$3-B$11","v":10.319229926819414},{"$f":"OFFSET(Calculations!AU$43,$A54,0)-W$3-B$12","v":-10.037269868454707},0,10.319229926819414,-10.037269868454707,0,10.319229926819414,-10.037269868454707,0,10.319229926819414,-10.037269868454707,null,null,null,{"$f":"IF(P53=1,K54*B$1/(B$1+B$2+L54),99999)","v":0},-9.8795770357482731,null,null,{"$f":"(1*U45+9*U55)/10","v":0},8.3414706814137833,6.9654879408201227,-10,0,0,0,0.89645106920690587,0.10876755314141562,-10,0,0,1,null,null,null,null,null,null,null,null,null,null,null,-7,10,0]
[7,{"$f":"OFFSET(Calculations!AS$43,$A55,0)-U$3-B$10","v":-5},{"$f":"OFFSET(Calculations!AT$43,$A55,0)-V$3-B$11","v":10},{"$f":"OFFSET(Calculations!AU$43,$A55,0)-W$3-B$12","v":-7},-5,10,-7,-5,10,-7,-5,10,-7,null,null,null,{"$f":"IF(P53=1,K55*B$1/(B$1+B$2+L55),99999)","v":-5},-7,null,{"$f":"T45+7","v":7},{"$f":"OFFSET(Calculations!AS$46,$T55,0)","v":0},{"$f":"OFFSET(Calculations!AT$46,$T55,0)","v":9.2683007571264255},{"$f":"OFFSET(Calculations!AU$46,$T55,0)","v":6.9616532675779128},{"$f":"OFFSET(Calculations!AS$43,$T55,0)-OFFSET(Calculations!AS$45,$T55,0)","v":-10},{"$f":"OFFSET(Calculations!AT$43,$T55,0)-OFFSET(Calculations!AT$45,$T55,0)","v":0},{"$f":"OFFSET(Calculations!AU$43,$T55,0)-OFFSET(Calculations!AU$45,$T55,0)","v":0},0,0.89095982285943975,0.119175357134921,-10,0,0,1,null,null,null,null,null,null,null,null,null,null,null,0,8.4320730509851973,14.9178284305241]
[14,{"$f":"OFFSET(Calculations!AS$43,$A56,0)-U$3-B$10","v":-5},{"$f":"OFFSET(Calculations!AT$43,$A56,0)-V$3-B$11","v":19.945218953682733},{"$f":"OFFSET(Calculations!AU$43,$A56,0)-W$3-B$12","v":-5.9547153673234652},-5,19.945218953682733,-5.9547153673234652,-5,19.945218953682733,-5.9547153673234652,-5,19.945218953682733,-5.9547153673234652,null,null,null,{"$f":"IF(P53=1,K56*B$1/(B$1+B$2+L56),99999)","v":-3.339431251268302},-3.9770725180095172,null,null,{"$f":"(9*U55+U65)/10","v":0},10.190454393209624,7.0547197246014388,-10,0,0,0,0.88576085398881332,0.12352684048682239,-10,0,0,1,null,null,null,null,null,null,null,null,null,null,null,7,10,0]
[16,{"$f":"OFFSET(Calculations!AS$43,$A57,0)-U$3-B$10","v":5},{"$f":"OFFSET(Calculations!AT$43,$A57,0)-V$3-B$11","v":19.945218953682733},{"$f":"OFFSET(Calculations!AU$43,$A57,0)-W$3-B$12","v":-5.9547153673234652},5,19.945218953682733,-5.9547153673234652,5,19.945218953682733,-5.9547153673234652,5,19.945218953682733,-5.9547153673234652,null,null,null,{"$f":"IF(P53=1,K57*B$1/(B$1+B$2+L57),99999)","v":3.339431251268302},-3.9770725180095172,null,null,{"$f":"(8*U55+2*U65)/10","v":0},11.112608029292824,7.1477861816249657,-10,0,0,0,0.88056188511819045,0.12787832383871933,-10,0,0,1,null,null,null,null,null,null,null,null,null,null,null,-5,19.945218953682733,1.0452846326765348]
[9,{"$f":"OFFSET(Calculations!AS$43,$A58,0)-U$3-B$10","v":5},{"$f":"OFFSET(Calculations!AT$43,$A58,0)-V$3-B$11","v":10},{"$f":"OFFSET(Calculations!AU$43,$A58,0)-W$3-B$12","v":-7},5,10,-7,5,10,-7,5,10,-7,null,null,null,{"$f":"IF(P53=1,K58*B$1/(B$1+B$2+L58),99999)","v":5},-7,null,null,{"$f":"(7*U55+3*U65)/10","v":0},12.034761665376022,7.2408526386484908,-10,0,0,0,0.87536291624756046,0.13222980719062249,-10,0,0,1,null,null,null,null,null,null,null,null,null,null,null,0,20.577824924944238,-1.9308924671561911]
[8,{"$f":"OFFSET(Calculations!AS$43,$A59,0)-U$3-B$10","v":0},{"$f":"OFFSET(Calculations!AT$43,$A59,0)-V$3-B$11","v":10.319229926819414},{"$f":"OFFSET(Calculations!AU$43,$A59,0)-W$3-B$12","v":-10.037269868454707},0,10.319229926819414,-10.037269868454707,0,10.319229926819414,-10.037269868454707,0,10.319229926819414,-10.037269868454707,null,null,null,{"$f":"IF(P53=1,K59*B$1/(B$1+B$2+L59),99999)","v":0},-9.8795770357482731,null,null,{"$f":"(6*U55+4*U65)/10","v":0},12.956915301459222,7.3339190956720177,-10,0,0,0,0.87016394737693403,0.13658129054251944,-10,0,0,1,null,null,null,null,null,null,null,null,null,null,null,5,19.945218953682733,1.0452846326765348]
[" ",null,null,null,null,null,null,null,null,null,null,null,null,null,null,null,null,null,null,null,{"$f":"(5*U55+5*U65)/10","v":0},13.879068937542423,7.4269855526955437,-10,0,0,0,0.86170505957116816,0.15161255690282616,-10,0,0,1,null,null,null,null,null,null,null,null,null,null,null,0,18.489837117958416,7.8923178378131738]
[{"$f":"A53+7","v":22},{"$f":"OFFSET(Calculations!AS$43,$A61,0)-U$3-B$10","v":0},{"$f":"OFFSET(Calculations!AT$43,$A61,0)-V$3-B$11","v":30.960191620588667},{"$f":"OFFSET(Calculations!AU$43,$A61,0)-W$3-B$12","v":-6.6460773170233329},{"$f":"B61*F$5+C61*F$4","v":0},{"$f":"C61*F$5-B61*F$4","v":30.960191620588667},{"$f":"D61","v":-6.6460773170233329},0,{"$f":"F61*F$7+G61*F$6","v":30.960191620588667},{"$f":"G61*F$7-F61*F$6","v":-6.6460773170233329},{"$f":"H61*F$9+J61*F$8","v":0},{"$f":"I61","v":30.960191620588667},{"$f":"J61*F$9-H61*F$8","v":-6.6460773170233329},null,null,{"$f":"IF(MIN(L61:L67)+B$2+B$1>0,1,0)","v":1},{"$f":"IF(P61=1,K61*B$1/(B$1+B$2+L61),99999)","v":0},{"$f":"M61*B$1/(B$1+B$2+L61)","v":-3.2451397584198203},null,null,{"$f":"(4*U55+6*U65)/10","v":0},14.801222573625619,7.5200520097190688,-10,0,0,0,0.85324617176540229,0.16664382326313465,-10,0,0,1,null,null,null,null,null,null,null,null,null,null,null,-7,19.945218953682733,1.0452846326765348]
[15,{"$f":"OFFSET(Calculations!AS$43,$A62,0)-U$3-B$10","v":0},{"$f":"OFFSET(Calculations!AT$43,$A62,0)-V$3-B$11","v":20.577824924944238},{"$f":"OFFSET(Calculations!AU$43,$A62,0)-W$3-B$12","v":-8.9308924671561911},0,20.577824924944238,-8.9308924671561911,0,20.577824924944238,-8.9308924671561911,0,20.577824924944238,-8.9308924671561911,null,null,null,{"$f":"IF(P61=1,K62*B$1/(B$1+B$2+L62),99999)","v":0},-5.841417752294543,null,null,{"$f":"(3*U55+7*U65)/10","v":0},15.723376209708817,7.6131184667425957,-10,0,0,0,0.84478728395963287,0.18167508962344137,-10,0,0,1,null,null,null,null,null,null,null,null,null,null,null,0,16.826543591416343,15.717498643683617]
[14,{"$f":"OFFSET(Calculations!AS$43,$A63,0)-U$3-B$10","v":-5},{"$f":"OFFSET(Calculations!AT$43,$A63,0)-V$3-B$11","v":19.945218953682733},{"$f":"OFFSET(Calculations!AU$43,$A63,0)-W$3-B$12","v":-5.9547153673234652},-5,19.945218953682733,-5.9547153673234652,-5,19.945218953682733,-5.9547153673234652,-5,19.945218953682733,-5.9547153673234652,null,null,null,{"$f":"IF(P61=1,K63*B$1/(B$1+B$2+L63),99999)","v":-3.339431251268302},-3.9770725180095172,null,null,{"$f":"(2*U55+8*U65)/10","v":0},16.645529845792019,7.7061849237661217,-10,0,0,0,0.83632839615387056,0.19670635598374808,-10,0,0,1,null,null,null,null,null,null,null,null,null,null,null,7,19.945218953682733,1.0452846326765348]
[21,{"$f":"OFFSET(Calculations!AS$43,$A64,0)-U$3-B$10","v":-5},{"$f":"OFFSET(Calculations!AT$43,$A64,0)-V$3-B$11","v":29.72669496102079},{"$f":"OFFSET(Calculations!AU$43,$A64,0)-W$3-B$12","v":-3.8755984591458716},-5,29.72669496102079,-3.8755984591458716,-5,29.72669496102079,-3.8755984591458716,-5,29.72669496102079,-3.8755984591458716,null,null,null,{"$f":"IF(P61=1,K64*B$1/(B$1+B$2+L64),99999)","v":-2.5171990798156862},-1.9511305750194159,null,null,{"$f":"(1*U55+9*U65)/10","v":0},17.567683481875218,7.7992513807896486,-10,0,0,0,0.82786950834810469,0.21173762234406013,-10,0,0,1,null,null,null,null,null,null,null,null,null,null,null,-5,29.72669496102079,3.1244015408541284]
[23,{"$f":"OFFSET(Calculations!AS$43,$A65,0)-U$3-B$10","v":5},{"$f":"OFFSET(Calculations!AT$43,$A65,0)-V$3-B$11","v":29.72669496102079},{"$f":"OFFSET(Calculations!AU$43,$A65,0)-W$3-B$12","v":-3.8755984591458716},5,29.72669496102079,-3.8755984591458716,5,29.72669496102079,-3.8755984591458716,5,29.72669496102079,-3.8755984591458716,null,null,null,{"$f":"IF(P61=1,K65*B$1/(B$1+B$2+L65),99999)","v":2.5171990798156862},-1.9511305750194159,null,{"$f":"T55+7","v":14},{"$f":"OFFSET(Calculations!AS$46,$T65,0)","v":0},{"$f":"OFFSET(Calculations!AT$46,$T65,0)","v":18.489837117958416},{"$f":"OFFSET(Calculations!AU$46,$T65,0)","v":7.8923178378131738},{"$f":"OFFSET(Calculations!AS$43,$T65,0)-OFFSET(Calculations!AS$45,$T65,0)","v":-10},{"$f":"OFFSET(Calculations!AT$43,$T65,0)-OFFSET(Calculations!AT$45,$T65,0)","v":0},{"$f":"OFFSET(Calculations!AU$43,$T65,0)-OFFSET(Calculations!AU$45,$T65,0)","v":0},0,0.81941062054233171,0.22676888870436152,-10,0,0,1,null,null,null,null,null,null,null,null,null,null,null,0,30.960191620588667,0.35392268297666729]
[16,{"$f":"OFFSET(Calculations!AS$43,$A66,0)-U$3-B$10","v":5},{"$f":"OFFSET(Calculations!AT$43,$A66,0)-V$3-B$11","v":19.945218953682733},{"$f":"OFFSET(Calculations!AU$43,$A66,0)-W$3-B$12","v":-5.9547153673234652},5,19.945218953682733,-5.9547153673234652,5,19.945218953682733,-5.9547153673234652,5,19.945218953682733,-5.9547153673234652,null,null,null,{"$f":"IF(P61=1,K66*B$1/(B$1+B$2+L66),99999)","v":3.339431251268302},-3.9770725180095172,null,null,{"$f":"(9*U65+U75)/10","v":0},19.328807252111595,8.0550080284670909,-10,0,0,0,0.81615070160719583,0.23744867171276951,-10,0,0,1,null,null,null,null,null,null,null,null,null,null,null,5,29.72669496102079,3.1244015408541284]
[15,{"$f":"OFFSET(Calculations!AS$43,$A67,0)-U$3-B$10","v":0},{"$f":"OFFSET(Calculations!AT$43,$A67,0)-V$3-B$11","v":20.577824924944238},{"$f":"OFFSET(Calculations!AU$43,$A67,0)-W$3-B$12","v":-8.9308924671561911},0,20.577824924944238,-8.9308924671561911,0,20.577824924944238,-8.9308924671561911,0,20.577824924944238,-8.9308924671561911,null,null,null,{"$f":"IF(P61=1,K67*B$1/(B$1+B$2+L67),99999)","v":0},-5.841417752294543,null,null,{"$f":"(8*U65+2*U75)/10","v":0},20.16777738626477,8.2176982191210062,-10,0,0,0,0.81289078267205639,0.24812845472118106,-10,0,0,1,null,null,null,null,null,null,null,null,null,null,null,0,26.879538459490185,9.5192197443523341]
[" ",null,null,null,null,null,null,null,null,null,null,null,null,null,null,null,null,null,null,null,{"$f":"(7*U65+3*U75)/10","v":0},21.006747520417946,8.3803884097749215,-10,0,0,0,0.8096308637369134,0.25880823772958728,-10,0,0,1,null,null,null,null,null,null,null,null,null,null,null,-7,29.72669496102079,3.1244015408541284]
[{"$f":"A61+7","v":29},{"$f":"OFFSET(Calculations!AS$43,$A69,0)-U$3-B$10","v":0},{"$f":"OFFSET(Calculations!AT$43,$A69,0)-V$3-B$11","v":40.639612140379235},{"$f":"OFFSET(Calculations!AU$43,$A69,0)-W$3-B$12","v":-2.2546994193777117},{"$f":"B69*F$5+C69*F$4","v":0},{"$f":"C69*F$5-B69*F$4","v":40.639612140379235},{"$f":"D69","v":-2.2546994193777117},0,{"$f":"F69*F$7+G69*F$6","v":40.639612140379235},{"$f":"G69*F$7-F69*F$6","v":-2.2546994193777117},{"$f":"H69*F$9+J69*F$8","v":0},{"$f":"I69","v":40.639612140379235},{"$f":"J69*F$9-H69*F$8","v":-2.2546994193777117},null,null,{"$f":"IF(MIN(L69:L75)+B$2+B$1>0,1,0)","v":1},{"$f":"IF(P69=1,K69*B$1/(B$1+B$2+L69),99999)","v":0},{"$f":"M69*B$1/(B$1+B$2+L69)","v":-0.89048842361880953},null,null,{"$f":"(6*U65+4*U75)/10","v":0},21.845717654571125,8.5430786004288386,-10,0,0,0,0.80637094480177041,0.26948802073799527,-10,0,0,1,null,null,null,null,null,null,null,null,null,null,null,0,23.625645314883783,16.82758340549314]
[22,{"$f":"OFFSET(Calculations!AS$43,$A70,0)-U$3-B$10","v":0},{"$f":"OFFSET(Calculations!AT$43,$A70,0)-V$3-B$11","v":30.960191620588667},{"$f":"OFFSET(Calculations!AU$43,$A70,0)-W$3-B$12","v":-6.6460773170233329},0,30.960191620588667,-6.6460773170233329,0,30.960191620588667,-6.6460773170233329,0,30.960191620588667,-6.6460773170233329,null,null,null,{"$f":"IF(P69=1,K70*B$1/(B$1+B$2+L70),99999)","v":0},-3.2451397584198203,null,null,{"$f":"(5*U65+5*U75)/10","v":0},22.6846877887243,8.7057687910827539,-10,0,0,0,0.79770189223879129,0.28993643261470048,-10,0,0,1,null,null,null,null,null,null,null,null,null,null,null,7,29.72669496102079,3.1244015408541284]
[21,{"$f":"OFFSET(Calculations!AS$43,$A71,0)-U$3-B$10","v":-5},{"$f":"OFFSET(Calculations!AT$43,$A71,0)-V$3-B$11","v":29.72669496102079},{"$f":"OFFSET(Calculations!AU$43,$A71,0)-W$3-B$12","v":-3.8755984591458716},-5,29.72669496102079,-3.8755984591458716,-5,29.72669496102079,-3.8755984591458716,-5,29.72669496102079,-3.8755984591458716,null,null,null,{"$f":"IF(P69=1,K71*B$1/(B$1+B$2+L71),99999)","v":-2.5171990798156862},-1.9511305750194159,null,null,{"$f":"(4*U65+6*U75)/10","v":0},23.523657922877476,8.8684589817366692,-10,0,0,0,0.78903283967581217,0.31038484449140569,-10,0,0,1,null,null,null,null,null,null,null,null,null,null,null,-5,38.862149537446797,7.1917679716121299]
[28,{"$f":"OFFSET(Calculations!AS$43,$A72,0)-U$3-B$10","v":-5},{"$f":"OFFSET(Calculations!AT$43,$A72,0)-V$3-B$11","v":38.862149537446797},{"$f":"OFFSET(Calculations!AU$43,$A72,0)-W$3-B$12","v":0.19176797161212988},-5,38.862149537446797,0.19176797161212988,-5,38.862149537446797,0.19176797161212988,-5,38.862149537446797,0.19176797161212988,null,null,null,{"$f":"IF(P69=1,K72*B$1/(B$1+B$2+L72),99999)","v":-2.0465739012026551},7.8493465157591327E-2,null,null,{"$f":"(3*U65+7*U75)/10","v":0},24.362628057030655,9.0311491723905846,-10,0,0,0,0.7803637871128295,0.33083325636811267,-10,0,0,1,null,null,null,null,null,null,null,null,null,null,null,0,40.639612140379235,4.7453005806222883]
[30,{"$f":"OFFSET(Calculations!AS$43,$A73,0)-U$3-B$10","v":5},{"$f":"OFFSET(Calculations!AT$43,$A73,0)-V$3-B$11","v":38.862149537446797},{"$f":"OFFSET(Calculations!AU$43,$A73,0)-W$3-B$12","v":0.19176797161212988},5,38.862149537446797,0.19176797161212988,5,38.862149537446797,0.19176797161212988,5,38.862149537446797,0.19176797161212988,null,null,null,{"$f":"IF(P69=1,K73*B$1/(B$1+B$2+L73),99999)","v":2.0465739012026551},7.8493465157591327E-2,null,null,{"$f":"(2*U65+8*U75)/10","v":0},25.20159819118383,9.1938393630445017,-10,0,0,0,0.77169473454985393,0.35128166824481966,-10,0,0,1,null,null,null,null,null,null,null,null,null,null,null,5,38.862149537446797,7.1917679716121299]
[23,{"$f":"OFFSET(Calculations!AS$43,$A74,0)-U$3-B$10","v":5},{"$f":"OFFSET(Calculations!AT$43,$A74,0)-V$3-B$11","v":29.72669496102079},{"$f":"OFFSET(Calculations!AU$43,$A74,0)-W$3-B$12","v":-3.8755984591458716},5,29.72669496102079,-3.8755984591458716,5,29.72669496102079,-3.8755984591458716,5,29.72669496102079,-3.8755984591458716,null,null,null,{"$f":"IF(P69=1,K74*B$1/(B$1+B$2+L74),99999)","v":2.5171990798156862},-1.9511305750194159,null,null,{"$f":"(1*U65+9*U75)/10","v":0},26.040568325337006,9.3565295536984188,-10,0,0,0,0.76302568198687126,0.37173008012152486,-10,0,0,1,null,null,null,null,null,null,null,null,null,null,null,0,34.74765277139948,12.854886932236761]
[22,{"$f":"OFFSET(Calculations!AS$43,$A75,0)-U$3-B$10","v":0},{"$f":"OFFSET(Calculations!AT$43,$A75,0)-V$3-B$11","v":30.960191620588667},{"$f":"OFFSET(Calculations!AU$43,$A75,0)-W$3-B$12","v":-6.6460773170233329},0,30.960191620588667,-6.6460773170233329,0,30.960191620588667,-6.6460773170233329,0,30.960191620588667,-6.6460773170233329,null,null,null,{"$f":"IF(P69=1,K75*B$1/(B$1+B$2+L75),99999)","v":0},-3.2451397584198203,null,{"$f":"T65+7","v":21},{"$f":"OFFSET(Calculations!AS$46,$T75,0)","v":0},{"$f":"OFFSET(Calculations!AT$46,$T75,0)","v":26.879538459490185},{"$f":"OFFSET(Calculations!AU$46,$T75,0)","v":9.5192197443523341},{"$f":"OFFSET(Calculations!AS$43,$T75,0)-OFFSET(Calculations!AS$45,$T75,0)","v":-10},{"$f":"OFFSET(Calculations!AT$43,$T75,0)-OFFSET(Calculations!AT$45,$T75,0)","v":0},{"$f":"OFFSET(Calculations!AU$43,$T75,0)-OFFSET(Calculations!AU$45,$T75,0)","v":0},0,0.7543566294239028,0.39217849199823185,-10,0,0,1,null,null,null,null,null,null,null,null,null,null,null,-7,38.862149537446797,7.1917679716121299]
[" ",null,null,null,null,null,null,null,null,null,null,null,null,null,null,null,null,null,null,null,{"$f":"(9*U75+U85)/10","v":0},27.666349890681111,9.8527864631407773,-10,0,0,0,0.74894749579605246,0.40194712086652906,-10,0,0,2,null,null,null,null,null,null,null,null,null,null,null,0,30.045370753059704,19.327022887236339]
[{"$f":"A69+7","v":36},{"$f":"OFFSET(Calculations!AS$43,$A77,0)-U$3-B$10","v":0},{"$f":"OFFSET(Calculations!AT$43,$A77,0)-V$3-B$11","v":49.194139704719746},{"$f":"OFFSET(Calculations!AU$43,$A77,0)-W$3-B$12","v":4.0510764986876389},{"$f":"B77*F$5+C77*F$4","v":0},{"$f":"C77*F$5-B77*F$4","v":49.194139704719746},{"$f":"D77","v":4.0510764986876389},0,{"$f":"F77*F$7+G77*F$6","v":49.194139704719746},{"$f":"G77*F$7-F77*F$6","v":4.0510764986876389},{"$f":"H77*F$9+J77*F$8","v":0},{"$f":"I77","v":49.194139704719746},{"$f":"J77*F$9-H77*F$8","v":4.0510764986876389},null,null,{"$f":"IF(MIN(L77:L83)+B$2+B$1>0,1,0)","v":1},{"$f":"IF(P77=1,K77*B$1/(B$1+B$2+L77),99999)","v":0},{"$f":"M77*B$1/(B$1+B$2+L77)","v":1.3687424190623496},null,null,{"$f":"(8*U75+2*U85)/10","v":0},28.453161321872045,10.186353181929219,-10,0,0,0,0.74353836216821634,0.41171574973482628,-10,0,0,2,null,null,null,null,null,null,null,null,null,null,null,7,38.862149537446797,7.1917679716121299]
[29,{"$f":"OFFSET(Calculations!AS$43,$A78,0)-U$3-B$10","v":0},{"$f":"OFFSET(Calculations!AT$43,$A78,0)-V$3-B$11","v":40.639612140379235},{"$f":"OFFSET(Calculations!AU$43,$A78,0)-W$3-B$12","v":-2.2546994193777117},0,40.639612140379235,-2.2546994193777117,0,40.639612140379235,-2.2546994193777117,0,40.639612140379235,-2.2546994193777117,null,null,null,{"$f":"IF(P77=1,K78*B$1/(B$1+B$2+L78),99999)","v":0},-0.89048842361880953,null,null,{"$f":"(7*U75+3*U85)/10","v":0},29.239972753062972,10.519919900717662,-10,0,0,0,0.73812922854037311,0.42148437860312349,-10,0,0,2,null,null,null,null,null,null,null,null,null,null,null,-5,46.952319481196277,13.069620494536862]
[28,{"$f":"OFFSET(Calculations!AS$43,$A79,0)-U$3-B$10","v":-5},{"$f":"OFFSET(Calculations!AT$43,$A79,0)-V$3-B$11","v":38.862149537446797},{"$f":"OFFSET(Calculations!AU$43,$A79,0)-W$3-B$12","v":0.19176797161212988},-5,38.862149537446797,0.19176797161212988,-5,38.862149537446797,0.19176797161212988,-5,38.862149537446797,0.19176797161212988,null,null,null,{"$f":"IF(P77=1,K79*B$1/(B$1+B$2+L79),99999)","v":-2.0465739012026551},7.8493465157591327E-2,null,null,{"$f":"(6*U75+4*U85)/10","v":0},30.026784184253906,10.853486619506105,-10,0,0,0,0.73272009491253698,0.4312530074714207,-10,0,0,2,null,null,null,null,null,null,null,null,null,null,null,0,49.194139704719746,11.051076498687639]
[35,{"$f":"OFFSET(Calculations!AS$43,$A80,0)-U$3-B$10","v":-5},{"$f":"OFFSET(Calculations!AT$43,$A80,0)-V$3-B$11","v":46.952319481196277},{"$f":"OFFSET(Calculations!AU$43,$A80,0)-W$3-B$12","v":6.0696204945368617},-5,46.952319481196277,6.0696204945368617,-5,46.952319481196277,6.0696204945368617,-5,46.952319481196277,6.0696204945368617,null,null,null,{"$f":"IF(P77=1,K80*B$1/(B$1+B$2+L80),99999)","v":-1.7558547379798395},2.1314743806144172,null,null,{"$f":"(5*U75+5*U85)/10","v":0},30.813595615444832,11.187053338294547,-10,0,0,0,0.71998901805960003,0.44945217511128277,-10,0,0,2,null,null,null,null,null,null,null,null,null,null,null,5,46.952319481196277,13.069620494536862]
[37,{"$f":"OFFSET(Calculations!AS$43,$A81,0)-U$3-B$10","v":5},{"$f":"OFFSET(Calculations!AT$43,$A81,0)-V$3-B$11","v":46.952319481196277},{"$f":"OFFSET(Calculations!AU$43,$A81,0)-W$3-B$12","v":6.0696204945368617},5,46.952319481196277,6.0696204945368617,5,46.952319481196277,6.0696204945368617,5,46.952319481196277,6.0696204945368617,null,null,null,{"$f":"IF(P77=1,K81*B$1/(B$1+B$2+L81),99999)","v":1.7558547379798395},2.1314743806144172,null,null,{"$f":"(4*U75+6*U85)/10","v":0},31.600407046635759,11.52062005708299,-10,0,0,0,0.70725794120665597,0.46765134275114129,-10,0,0,2,null,null,null,null,null,null,null,null,null,null,null,0,41.750305702854504,17.753534739048867]
[30,{"$f":"OFFSET(Calculations!AS$43,$A82,0)-U$3-B$10","v":5},{"$f":"OFFSET(Calculations!AT$43,$A82,0)-V$3-B$11","v":38.862149537446797},{"$f":"OFFSET(Calculations!AU$43,$A82,0)-W$3-B$12","v":0.19176797161212988},5,38.862149537446797,0.19176797161212988,5,38.862149537446797,0.19176797161212988,5,38.862149537446797,0.19176797161212988,null,null,null,{"$f":"IF(P77=1,K82*B$1/(B$1+B$2+L82),99999)","v":2.0465739012026551},7.8493465157591327E-2,null,null,{"$f":"(3*U75+7*U85)/10","v":0},32.387218477826693,11.854186775871431,-10,0,0,0,0.69452686435373323,0.48585051039100158,-10,0,0,2,null,null,null,null,null,null,null,null,null,null,null,-7,46.952319481196277,13.069620494536862]
[29,{"$f":"OFFSET(Calculations!AS$43,$A83,0)-U$3-B$10","v":0},{"$f":"OFFSET(Calculations!AT$43,$A83,0)-V$3-B$11","v":40.639612140379235},{"$f":"OFFSET(Calculations!AU$43,$A83,0)-W$3-B$12","v":-2.2546994193777117},0,40.639612140379235,-2.2546994193777117,0,40.639612140379235,-2.2546994193777117,0,40.639612140379235,-2.2546994193777117,null,null,null,{"$f":"IF(P77=1,K83*B$1/(B$1+B$2+L83),99999)","v":0},-0.89048842361880953,null,null,{"$f":"(2*U75+8*U85)/10","v":0},33.174029909017619,12.187753494659876,-10,0,0,0,0.68179578750078917,0.50404967803086009,-10,0,0,2,null,null,null,null,null,null,null,null,null,null,null,0,35.805147099035352,23.106579589919736]
[" ",null,null,null,null,null,null,null,null,null,null,null,null,null,null,null,null,null,null,null,{"$f":"(1*U75+9*U85)/10","v":0},33.960841340208546,12.52132021344832,-10,0,0,0,0.66906471064784512,0.52224884567072039,-10,0,0,2,null,null,null,null,null,null,null,null,null,null,null,7,46.952319481196277,13.069620494536862]
[{"$f":"A77+7","v":43},{"$f":"OFFSET(Calculations!AS$43,$A85,0)-U$3-B$10","v":0},{"$f":"OFFSET(Calculations!AT$43,$A85,0)-V$3-B$11","v":56.250939360445209},{"$f":"OFFSET(Calculations!AU$43,$A85,0)-W$3-B$12","v":11.995735415977471},{"$f":"B85*F$5+C85*F$4","v":0},{"$f":"C85*F$5-B85*F$4","v":56.250939360445209},{"$f":"D85","v":11.995735415977471},0,{"$f":"F85*F$7+G85*F$6","v":56.250939360445209},{"$f":"G85*F$7-F85*F$6","v":11.995735415977471},{"$f":"H85*F$9+J85*F$8","v":0},{"$f":"I85","v":56.250939360445209},{"$f":"J85*F$9-H85*F$8","v":11.995735415977471},null,null,{"$f":"IF(MIN(L85:L91)+B$2+B$1>0,1,0)","v":1},{"$f":"IF(P85=1,K85*B$1/(B$1+B$2+L85),99999)","v":0},{"$f":"M85*B$1/(B$1+B$2+L85)","v":3.6213027412980239},null,{"$f":"T75+7","v":28},{"$f":"OFFSET(Calculations!AS$46,$T85,0)","v":0},{"$f":"OFFSET(Calculations!AT$46,$T85,0)","v":34.74765277139948},{"$f":"OFFSET(Calculations!AU$46,$T85,0)","v":12.854886932236761},{"$f":"OFFSET(Calculations!AS$43,$T85,0)-OFFSET(Calculations!AS$45,$T85,0)","v":-10},{"$f":"OFFSET(Calculations!AT$43,$T85,0)-OFFSET(Calculations!AT$45,$T85,0)","v":0},{"$f":"OFFSET(Calculations!AU$43,$T85,0)-OFFSET(Calculations!AU$45,$T85,0)","v":0},0,0.65633363379491527,0.54044801331058068,-10,0,0,2,null,null,null,null,null,null,null,null,null,null,null,-5,53.643625544784854,20.501068749310804]
[36,{"$f":"OFFSET(Calculations!AS$43,$A86,0)-U$3-B$10","v":0},{"$f":"OFFSET(Calculations!AT$43,$A86,0)-V$3-B$11","v":49.194139704719746},{"$f":"OFFSET(Calculations!AU$43,$A86,0)-W$3-B$12","v":4.0510764986876389},0,49.194139704719746,4.0510764986876389,0,49.194139704719746,4.0510764986876389,0,49.194139704719746,4.0510764986876389,null,null,null,{"$f":"IF(P85=1,K86*B$1/(B$1+B$2+L86),99999)","v":0},1.3687424190623496,null,null,{"$f":"(9*U85+U95)/10","v":0},35.447918064544986,13.344751712917972,-10,0,0,0,0.64901169056981445,0.5488785520821402,-10,0,0,2,null,null,null,null,null,null,null,null,null,null,null,0,56.250939360445209,18.995735415977471]
[35,{"$f":"OFFSET(Calculations!AS$43,$A87,0)-U$3-B$10","v":-5},{"$f":"OFFSET(Calculations!AT$43,$A87,0)-V$3-B$11","v":46.952319481196277},{"$f":"OFFSET(Calculations!AU$43,$A87,0)-W$3-B$12","v":6.0696204945368617},-5,46.952319481196277,6.0696204945368617,-5,46.952319481196277,6.0696204945368617,-5,46.952319481196277,6.0696204945368617,null,null,null,{"$f":"IF(P85=1,K87*B$1/(B$1+B$2+L87),99999)","v":-1.7558547379798395},2.1314743806144172,null,null,{"$f":"(8*U85+2*U95)/10","v":0},36.148183357690485,13.834616493599182,-10,0,0,0,0.64168974734471362,0.55730909085370328,-10,0,0,2,null,null,null,null,null,null,null,null,null,null,null,5,53.643625544784854,20.501068749310804]
[42,{"$f":"OFFSET(Calculations!AS$43,$A88,0)-U$3-B$10","v":-5},{"$f":"OFFSET(Calculations!AT$43,$A88,0)-V$3-B$11","v":53.643625544784854},{"$f":"OFFSET(Calculations!AU$43,$A88,0)-W$3-B$12","v":13.501068749310804},-5,53.643625544784854,13.501068749310804,-5,53.643625544784854,13.501068749310804,-5,53.643625544784854,13.501068749310804,null,null,null,{"$f":"IF(P85=1,K88*B$1/(B$1+B$2+L88),99999)","v":-1.5712492672126579},4.2427088757884635,null,null,{"$f":"(7*U85+3*U95)/10","v":0},36.848448650835984,14.324481274280393,-10,0,0,0,0.6343678041196199,0.56573962962526636,-10,0,0,2,null,null,null,null,null,null,null,null,null,null,null,0,47.581447718293788,24.001068749310804]
[44,{"$f":"OFFSET(Calculations!AS$43,$A89,0)-U$3-B$10","v":5},{"$f":"OFFSET(Calculations!AT$43,$A89,0)-V$3-B$11","v":53.643625544784854},{"$f":"OFFSET(Calculations!AU$43,$A89,0)-W$3-B$12","v":13.501068749310804},5,53.643625544784854,13.501068749310804,5,53.643625544784854,13.501068749310804,5,53.643625544784854,13.501068749310804,null,null,null,{"$f":"IF(P85=1,K89*B$1/(B$1+B$2+L89),99999)","v":1.5712492672126579},4.2427088757884635,null,null,{"$f":"(6*U85+4*U95)/10","v":0},37.54871394398149,14.814346054961604,-10,0,0,0,0.62704586089451908,0.57417016839682589,-10,0,0,2,null,null,null,null,null,null,null,null,null,null,null,-7,53.643625544784854,20.501068749310804]
[37,{"$f":"OFFSET(Calculations!AS$43,$A90,0)-U$3-B$10","v":5},{"$f":"OFFSET(Calculations!AT$43,$A90,0)-V$3-B$11","v":46.952319481196277},{"$f":"OFFSET(Calculations!AU$43,$A90,0)-W$3-B$12","v":6.0696204945368617},5,46.952319481196277,6.0696204945368617,5,46.952319481196277,6.0696204945368617,5,46.952319481196277,6.0696204945368617,null,null,null,{"$f":"IF(P85=1,K90*B$1/(B$1+B$2+L90),99999)","v":1.7558547379798395},2.1314743806144172,null,null,{"$f":"(5*U85+5*U95)/10","v":0},38.248979237126989,15.304210835642811,-10,0,0,0,0.61245027771662564,0.59359993547534273,-10,0,0,2,null,null,null,null,null,null,null,null,null,null,null,0,40.653244488018274,28.001068749310804]
[36,{"$f":"OFFSET(Calculations!AS$43,$A91,0)-U$3-B$10","v":0},{"$f":"OFFSET(Calculations!AT$43,$A91,0)-V$3-B$11","v":49.194139704719746},{"$f":"OFFSET(Calculations!AU$43,$A91,0)-W$3-B$12","v":4.0510764986876389},0,49.194139704719746,4.0510764986876389,0,49.194139704719746,4.0510764986876389,0,49.194139704719746,4.0510764986876389,null,null,null,{"$f":"IF(P85=1,K91*B$1/(B$1+B$2+L91),99999)","v":0},1.3687424190623496,null,null,{"$f":"(4*U85+6*U95)/10","v":0},38.949244530272495,15.794075616324026,-10,0,0,0,0.5978546945387393,0.61302970255385603,-10,0,0,2,null,null,null,null,null,null,null,null,null,null,null,7,53.643625544784854,20.501068749310804]
[" ",null,null,null,null,null,null,null,null,null,null,null,null,null,null,null,null,null,null,null,{"$f":"(3*U85+7*U95)/10","v":0},39.649509823418001,16.283940397005235,-10,0,0,0,0.58325911136086006,0.63245946963237998,-10,0,0,2,null,null,null,null,null,null,null,null,null,null,null,-5,58.643625544784854,29.161322787155189]
[{"$f":"A85+7","v":50},{"$f":"OFFSET(Calculations!AS$43,$A93,0)-U$3-B$10","v":0},{"$f":"OFFSET(Calculations!AT$43,$A93,0)-V$3-B$11","v":61.38974319045851},{"$f":"OFFSET(Calculations!AU$43,$A93,0)-W$3-B$12","v":20.938672438069332},{"$f":"B93*F$5+C93*F$4","v":0},{"$f":"C93*F$5-B93*F$4","v":61.38974319045851},{"$f":"D93","v":20.938672438069332},0,{"$f":"F93*F$7+G93*F$6","v":61.38974319045851},{"$f":"G93*F$7-F93*F$6","v":20.938672438069332},{"$f":"H93*F$9+J93*F$8","v":0},{"$f":"I93","v":61.38974319045851},{"$f":"J93*F$9-H93*F$8","v":20.938672438069332},null,null,{"$f":"IF(MIN(L93:L99)+B$2+B$1>0,1,0)","v":1},{"$f":"IF(P93=1,K93*B$1/(B$1+B$2+L93),99999)","v":0},{"$f":"M93*B$1/(B$1+B$2+L93)","v":5.8660170221393528},null,null,{"$f":"(2*U85+8*U95)/10","v":0},40.349775116563499,16.773805177686448,-10,0,0,0,0.56866352818296662,0.65188923671089327,-10,0,0,2,null,null,null,null,null,null,null,null,null,null,null,0,61.38974319045851,27.938672438069332]
[43,{"$f":"OFFSET(Calculations!AS$43,$A94,0)-U$3-B$10","v":0},{"$f":"OFFSET(Calculations!AT$43,$A94,0)-V$3-B$11","v":56.250939360445209},{"$f":"OFFSET(Calculations!AU$43,$A94,0)-W$3-B$12","v":11.995735415977471},0,56.250939360445209,11.995735415977471,0,56.250939360445209,11.995735415977471,0,56.250939360445209,11.995735415977471,null,null,null,{"$f":"IF(P93=1,K94*B$1/(B$1+B$2+L94),99999)","v":0},3.6213027412980239,null,null,{"$f":"(1*U85+9*U95)/10","v":0},41.050040409709005,17.263669958367654,-10,0,0,0,0.55406794500507317,0.67131900378941367,-10,0,0,2,null,null,null,null,null,null,null,null,null,null,null,5,58.643625544784854,29.161322787155189]
[42,{"$f":"OFFSET(Calculations!AS$43,$A95,0)-U$3-B$10","v":-5},{"$f":"OFFSET(Calculations!AT$43,$A95,0)-V$3-B$11","v":53.643625544784854},{"$f":"OFFSET(Calculations!AU$43,$A95,0)-W$3-B$12","v":13.501068749310804},-5,53.643625544784854,13.501068749310804,-5,53.643625544784854,13.501068749310804,-5,53.643625544784854,13.501068749310804,null,null,null,{"$f":"IF(P93=1,K95*B$1/(B$1+B$2+L95),99999)","v":-1.5712492672126579},4.2427088757884635,null,{"$f":"T85+7","v":35},{"$f":"OFFSET(Calculations!AS$46,$T95,0)","v":0},{"$f":"OFFSET(Calculations!AT$46,$T95,0)","v":41.750305702854504},{"$f":"OFFSET(Calculations!AU$46,$T95,0)","v":17.753534739048867},{"$f":"OFFSET(Calculations!AS$43,$T95,0)-OFFSET(Calculations!AS$45,$T95,0)","v":-10},{"$f":"OFFSET(Calculations!AT$43,$T95,0)-OFFSET(Calculations!AT$45,$T95,0)","v":0},{"$f":"OFFSET(Calculations!AU$43,$T95,0)-OFFSET(Calculations!AU$45,$T95,0)","v":0},0,0.53947236182718683,0.69074877086793407,-10,0,0,2,null,null,null,null,null,null,null,null,null,null,null,0,52.24880734128665,32.008479288685791]
[49,{"$f":"OFFSET(Calculations!AS$43,$A96,0)-U$3-B$10","v":-5},{"$f":"OFFSET(Calculations!AT$43,$A96,0)-V$3-B$11","v":58.643625544784854},{"$f":"OFFSET(Calculations!AU$43,$A96,0)-W$3-B$12","v":22.161322787155189},-5,58.643625544784854,22.161322787155189,-5,58.643625544784854,22.161322787155189,-5,58.643625544784854,22.161322787155189,null,null,null,{"$f":"IF(P93=1,K96*B$1/(B$1+B$2+L96),99999)","v":-1.4567995091511803},6.4569208316937097,null,null,{"$f":"(9*U95+U105)/10","v":0},42.333419904398433,18.37828814007506,-10,0,0,0,0.53219872187440131,0.70174799917489494,-10,0,0,2,null,null,null,null,null,null,null,null,null,null,null,-7,58.643625544784854,29.161322787155189]
[51,{"$f":"OFFSET(Calculations!AS$43,$A97,0)-U$3-B$10","v":5},{"$f":"OFFSET(Calculations!AT$43,$A97,0)-V$3-B$11","v":58.643625544784854},{"$f":"OFFSET(Calculations!AU$43,$A97,0)-W$3-B$12","v":22.161322787155189},5,58.643625544784854,22.161322787155189,5,58.643625544784854,22.161322787155189,5,58.643625544784854,22.161322787155189,null,null,null,{"$f":"IF(P93=1,K97*B$1/(B$1+B$2+L97),99999)","v":1.4567995091511803},6.4569208316937097,null,null,{"$f":"(8*U95+2*U105)/10","v":0},42.916534105942361,19.003041541101254,-10,0,0,0,0.52492508192160159,0.71274722748184161,-10,0,0,2,null,null,null,null,null,null,null,null,null,null,null,0,44.940443680145833,35.262372433292192]
[44,{"$f":"OFFSET(Calculations!AS$43,$A98,0)-U$3-B$10","v":5},{"$f":"OFFSET(Calculations!AT$43,$A98,0)-V$3-B$11","v":53.643625544784854},{"$f":"OFFSET(Calculations!AU$43,$A98,0)-W$3-B$12","v":13.501068749310804},5,53.643625544784854,13.501068749310804,5,53.643625544784854,13.501068749310804,5,53.643625544784854,13.501068749310804,null,null,null,{"$f":"IF(P93=1,K98*B$1/(B$1+B$2+L98),99999)","v":1.5712492672126579},4.2427088757884635,null,null,{"$f":"(7*U95+3*U105)/10","v":0},43.499648307486289,19.627794942127448,-10,0,0,0,0.51765144196881607,0.72374645578880603,-10,0,0,2,null,null,null,null,null,null,null,null,null,null,null,7,58.643625544784854,29.161322787155189]
[43,{"$f":"OFFSET(Calculations!AS$43,$A99,0)-U$3-B$10","v":0},{"$f":"OFFSET(Calculations!AT$43,$A99,0)-V$3-B$11","v":56.250939360445209},{"$f":"OFFSET(Calculations!AU$43,$A99,0)-W$3-B$12","v":11.995735415977471},0,56.250939360445209,11.995735415977471,0,56.250939360445209,11.995735415977471,0,56.250939360445209,11.995735415977471,null,null,null,{"$f":"IF(P93=1,K99*B$1/(B$1+B$2+L99),99999)","v":0},3.6213027412980239,null,null,{"$f":"(6*U95+4*U105)/10","v":0},44.082762509030218,20.252548343153641,-10,0,0,0,0.51037780201603766,0.7347456840957598,-10,0,0,2,null,null,null,null,null,null,null,null,null,null,null,-5,62.710991975542854,38.296777363581199]
[" ",null,null,null,null,null,null,null,null,null,null,null,null,null,null,null,null,null,null,null,{"$f":"(5*U95+5*U105)/10","v":0},44.665876710574153,20.877301744179835,-10,0,0,0,0.4993542046117625,0.75279518763428399,-10,0,0,2,null,null,null,null,null,null,null,null,null,null,null,0,65.454064469691048,37.075482803305597]
[{"$f":"A93+7","v":57},{"$f":"OFFSET(Calculations!AS$43,$A101,0)-U$3-B$10","v":0},{"$f":"OFFSET(Calculations!AT$43,$A101,0)-V$3-B$11","v":65.454064469691048},{"$f":"OFFSET(Calculations!AU$43,$A101,0)-W$3-B$12","v":30.075482803305597},{"$f":"B101*F$5+C101*F$4","v":0},{"$f":"C101*F$5-B101*F$4","v":65.454064469691048},{"$f":"D101","v":30.075482803305597},0,{"$f":"F101*F$7+G101*F$6","v":65.454064469691048},{"$f":"G101*F$7-F101*F$6","v":30.075482803305597},{"$f":"H101*F$9+J101*F$8","v":0},{"$f":"I101","v":65.454064469691048},{"$f":"J101*F$9-H101*F$8","v":30.075482803305597},{"$f":"IF(P101=1,K101*B$1/(B$1+B$2+L101),99999)","v":0},{"$f":"M101*B$1/(B$1+B$2+L101)","v":7.9718655355899459},{"$f":"IF(MIN(L101:L107)+B$2+B$1>0,1,0)","v":1},null,null,null,null,{"$f":"(4*U95+6*U105)/10","v":0},45.248990912118074,21.502055145206029,-10,0,0,0,0.48833060720750154,0.77084469117281174,-10,0,0,2,null,null,null,null,null,null,null,null,null,null,null,5,62.710991975542854,38.296777363581199]
[50,{"$f":"OFFSET(Calculations!AS$43,$A102,0)-U$3-B$10","v":0},{"$f":"OFFSET(Calculations!AT$43,$A102,0)-V$3-B$11","v":61.38974319045851},{"$f":"OFFSET(Calculations!AU$43,$A102,0)-W$3-B$12","v":20.938672438069332},0,61.38974319045851,20.938672438069332,0,61.38974319045851,20.938672438069332,0,61.38974319045851,20.938672438069332,{"$f":"IF(P101=1,K102*B$1/(B$1+B$2+L102),99999)","v":0},5.8660170221393528,null,null,null,null,null,{"$f":"(3*U95+7*U105)/10","v":0},45.832105113661996,22.126808546232223,-10,0,0,0,0.47730700980326191,0.78889419471133593,-10,0,0,2,null,null,null,null,null,null,null,null,null,null,null,0,56.31617377204465,41.143933865111812]
[49,{"$f":"OFFSET(Calculations!AS$43,$A103,0)-U$3-B$10","v":-5},{"$f":"OFFSET(Calculations!AT$43,$A103,0)-V$3-B$11","v":58.643625544784854},{"$f":"OFFSET(Calculations!AU$43,$A103,0)-W$3-B$12","v":22.161322787155189},-5,58.643625544784854,22.161322787155189,-5,58.643625544784854,22.161322787155189,-5,58.643625544784854,22.161322787155189,{"$f":"IF(P101=1,K103*B$1/(B$1+B$2+L103),99999)","v":-1.4567995091511803},6.4569208316937097,null,null,null,null,null,{"$f":"(2*U95+8*U105)/10","v":0},46.415219315205931,22.751561947258416,-10,0,0,0,0.46628341239899385,0.80694369824986367,-10,0,0,2,null,null,null,null,null,null,null,null,null,null,null,-7,62.710991975542854,38.296777363581199]
[56,{"$f":"OFFSET(Calculations!AS$43,$A104,0)-U$3-B$10","v":-5},{"$f":"OFFSET(Calculations!AT$43,$A104,0)-V$3-B$11","v":62.710991975542854},{"$f":"OFFSET(Calculations!AU$43,$A104,0)-W$3-B$12","v":31.296777363581199},-5,62.710991975542854,31.296777363581199,-5,62.710991975542854,31.296777363581199,-5,62.710991975542854,31.296777363581199,{"$f":"IF(P101=1,K104*B$1/(B$1+B$2+L104),99999)","v":-1.3753078768838156},8.6085408858424657,null,null,null,null,null,{"$f":"(1*U95+9*U105)/10","v":0},46.998333516749867,23.37631534828461,-10,0,0,0,0.45525981499473289,0.82499320178838786,-10,0,0,2,null,null,null,null,null,null,null,null,null,null,null,0,49.007810110903847,44.397827009718206]
[58,{"$f":"OFFSET(Calculations!AS$43,$A105,0)-U$3-B$10","v":5},{"$f":"OFFSET(Calculations!AT$43,$A105,0)-V$3-B$11","v":62.710991975542854},{"$f":"OFFSET(Calculations!AU$43,$A105,0)-W$3-B$12","v":31.296777363581199},5,62.710991975542854,31.296777363581199,5,62.710991975542854,31.296777363581199,5,62.710991975542854,31.296777363581199,{"$f":"IF(P101=1,K105*B$1/(B$1+B$2+L105),99999)","v":1.3753078768838156},8.6085408858424657,null,null,null,null,{"$f":"T95+7","v":42},{"$f":"OFFSET(Calculations!AS$46,$T105,0)","v":0},{"$f":"OFFSET(Calculations!AT$46,$T105,0)","v":47.581447718293788},{"$f":"OFFSET(Calculations!AU$46,$T105,0)","v":24.001068749310804},{"$f":"OFFSET(Calculations!AS$43,$T105,0)-OFFSET(Calculations!AS$45,$T105,0)","v":-10},{"$f":"OFFSET(Calculations!AT$43,$T105,0)-OFFSET(Calculations!AT$45,$T105,0)","v":0},{"$f":"OFFSET(Calculations!AU$43,$T105,0)-OFFSET(Calculations!AU$45,$T105,0)","v":0},0,0.44423621759048615,0.84304270532691206,-10,0,0,2,null,null,null,null,null,null,null,null,null,null,null,7,62.710991975542854,38.296777363581199]
[51,{"$f":"OFFSET(Calculations!AS$43,$A106,0)-U$3-B$10","v":5},{"$f":"OFFSET(Calculations!AT$43,$A106,0)-V$3-B$11","v":58.643625544784854},{"$f":"OFFSET(Calculations!AU$43,$A106,0)-W$3-B$12","v":22.161322787155189},5,58.643625544784854,22.161322787155189,5,58.643625544784854,22.161322787155189,5,58.643625544784854,22.161322787155189,{"$f":"IF(P101=1,K106*B$1/(B$1+B$2+L106),99999)","v":1.4567995091511803},6.4569208316937097,null,null,null,null,null,{"$f":"(9*U105+U115)/10","v":0},48.048183680593077,24.8018098032483,-10,0,0,0,0.44048626013901071,0.85009298055847893,-10,0,0,2,null,null,null,null,null,null,null,null,null,null,null,-5,66.778358406300868,47.432231940007213]
[50,{"$f":"OFFSET(Calculations!AS$43,$A107,0)-U$3-B$10","v":0},{"$f":"OFFSET(Calculations!AT$43,$A107,0)-V$3-B$11","v":61.38974319045851},{"$f":"OFFSET(Calculations!AU$43,$A107,0)-W$3-B$12","v":20.938672438069332},0,61.38974319045851,20.938672438069332,0,61.38974319045851,20.938672438069332,0,61.38974319045851,20.938672438069332,{"$f":"IF(P101=1,K107*B$1/(B$1+B$2+L107),99999)","v":0},5.8660170221393528,null,null,null,null,null,{"$f":"(8*U105+2*U115)/10","v":0},48.514919642892359,25.602550857185804,-10,0,0,0,0.43673630268753527,0.8571432557900529,-10,0,0,2,null,null,null,null,null,null,null,null,null,null,null,0,69.519603809533777,46.211750853017762]
[" ",null,null,null,null,null,null,null,null,null,null,null,null,null,null,null,null,null,null,null,{"$f":"(7*U105+3*U115)/10","v":0},48.981655605191648,26.403291911123301,-10,0,0,0,0.43298634523607404,0.86419353102161267,-10,0,0,2,null,null,null,null,null,null,null,null,null,null,null,5,66.778358406300868,47.432231940007213]
[{"$f":"A101+7","v":64},{"$f":"OFFSET(Calculations!AS$43,$A109,0)-U$3-B$10","v":0},{"$f":"OFFSET(Calculations!AT$43,$A109,0)-V$3-B$11","v":69.519603809533777},{"$f":"OFFSET(Calculations!AU$43,$A109,0)-W$3-B$12","v":39.211750853017762},{"$f":"B109*F$5+C109*F$4","v":0},{"$f":"C109*F$5-B109*F$4","v":69.519603809533777},{"$f":"D109","v":39.211750853017762},0,{"$f":"F109*F$7+G109*F$6","v":69.519603809533777},{"$f":"G109*F$7-F109*F$6","v":39.211750853017762},{"$f":"H109*F$9+J109*F$8","v":0},{"$f":"I109","v":69.519603809533777},{"$f":"J109*F$9-H109*F$8","v":39.211750853017762},{"$f":"IF(P109=1,K109*B$1/(B$1+B$2+L109),99999)","v":0},{"$f":"M109*B$1/(B$1+B$2+L109)","v":9.8621595114930827},{"$f":"IF(MIN(L109:L115)+B$2+B$1>0,1,0)","v":1},null,null,null,null,{"$f":"(6*U105+4*U115)/10","v":0},49.44839156749093,27.204032965060797,-10,0,0,{"$f":"(SUM(U110:U125)-SUM(U109:U124))/16","v":0},{"$f":"(SUM(V110:V125)-SUM(V109:V124))/16","v":0.42923638778461282},{"$f":"(SUM(W110:W125)-SUM(W109:W124))/16","v":0.8712438062531902},{"$f":"SUM(X109:X124)/16","v":-10},{"$f":"SUM(Y109:Y124)/16","v":0},{"$f":"SUM(Z109:Z124)/16","v":0},2,null,null,null,null,null,null,null,null,null,null,null,0,60.383540202802664,50.279388441537812]
[57,{"$f":"OFFSET(Calculations!AS$43,$A110,0)-U$3-B$10","v":0},{"$f":"OFFSET(Calculations!AT$43,$A110,0)-V$3-B$11","v":65.454064469691048},{"$f":"OFFSET(Calculations!AU$43,$A110,0)-W$3-B$12","v":30.075482803305597},0,65.454064469691048,30.075482803305597,0,65.454064469691048,30.075482803305597,0,65.454064469691048,30.075482803305597,{"$f":"IF(P109=1,K110*B$1/(B$1+B$2+L110),99999)","v":0},7.9718655355899459,null,null,null,null,null,{"$f":"(5*U105+5*U115)/10","v":0},49.915127529790219,28.004774018998297,-10,0,0,0,0.42548643033313738,0.87829408148475352,-10,0,0,2,null,null,null,null,null,null,null,null,null,null,null,-7,66.778358406300868,47.432231940007213]
[56,{"$f":"OFFSET(Calculations!AS$43,$A111,0)-U$3-B$10","v":-5},{"$f":"OFFSET(Calculations!AT$43,$A111,0)-V$3-B$11","v":62.710991975542854},{"$f":"OFFSET(Calculations!AU$43,$A111,0)-W$3-B$12","v":31.296777363581199},-5,62.710991975542854,31.296777363581199,-5,62.710991975542854,31.296777363581199,-5,62.710991975542854,31.296777363581199,{"$f":"IF(P109=1,K111*B$1/(B$1+B$2+L111),99999)","v":-1.3753078768838156},8.6085408858424657,null,null,null,null,null,{"$f":"(4*U105+6*U115)/10","v":0},50.381863492089508,28.805515072935794,-10,0,0,0,0.42173647288167615,0.88534435671633105,-10,0,0,{"$f":"AG110","v":2},null,null,null,null,null,null,null,null,null,null,null,0,53.075176541661847,53.53328158614422]
[63,{"$f":"OFFSET(Calculations!AS$43,$A112,0)-U$3-B$10","v":-5},{"$f":"OFFSET(Calculations!AT$43,$A112,0)-V$3-B$11","v":66.778358406300868},{"$f":"OFFSET(Calculations!AU$43,$A112,0)-W$3-B$12","v":40.432231940007213},-5,66.778358406300868,40.432231940007213,-5,66.778358406300868,40.432231940007213,-5,66.778358406300868,40.432231940007213,{"$f":"IF(P109=1,K112*B$1/(B$1+B$2+L112),99999)","v":-1.3024503528821663},10.532194951615198,null,null,null,null,null,{"$f":"(3*U105+7*U115)/10","v":0},50.848599454388797,29.606256126873291,-10,0,0,0,0.41798651543020782,0.89239463194789437,-10,0,0,2,null,null,null,null,null,null,null,null,null,null,null,7,66.778358406300868,47.432231940007213]
[65,{"$f":"OFFSET(Calculations!AS$43,$A113,0)-U$3-B$10","v":5},{"$f":"OFFSET(Calculations!AT$43,$A113,0)-V$3-B$11","v":66.778358406300868},{"$f":"OFFSET(Calculations!AU$43,$A113,0)-W$3-B$12","v":40.432231940007213},5,66.778358406300868,40.432231940007213,5,66.778358406300868,40.432231940007213,5,66.778358406300868,40.432231940007213,{"$f":"IF(P109=1,K113*B$1/(B$1+B$2+L113),99999)","v":1.3024503528821663},10.532194951615198,null,null,null,null,null,{"$f":"(2*U105+8*U115)/10","v":0},51.315335416688072,30.406997180810794,-10,0,0,0,0.41423655797873238,0.89944490717946479,-10,0,0,2,null,null,null,null,null,null,null,null,null,null,null,-5,70.845724837058867,56.567686516433213]
[58,{"$f":"OFFSET(Calculations!AS$43,$A114,0)-U$3-B$10","v":5},{"$f":"OFFSET(Calculations!AT$43,$A114,0)-V$3-B$11","v":62.710991975542854},{"$f":"OFFSET(Calculations!AU$43,$A114,0)-W$3-B$12","v":31.296777363581199},5,62.710991975542854,31.296777363581199,5,62.710991975542854,31.296777363581199,5,62.710991975542854,31.296777363581199,{"$f":"IF(P109=1,K114*B$1/(B$1+B$2+L114),99999)","v":1.3753078768838156},8.6085408858424657,null,null,null,null,null,{"$f":"(1*U105+9*U115)/10","v":0},51.782071378987361,31.207738234748298,-10,0,0,0,0.41048660052727826,0.90649518241103522,-10,0,0,2,null,null,null,null,null,null,null,null,null,null,null,0,73.586361209986677,55.347476587205819]
[57,{"$f":"OFFSET(Calculations!AS$43,$A115,0)-U$3-B$10","v":0},{"$f":"OFFSET(Calculations!AT$43,$A115,0)-V$3-B$11","v":65.454064469691048},{"$f":"OFFSET(Calculations!AU$43,$A115,0)-W$3-B$12","v":30.075482803305597},0,65.454064469691048,30.075482803305597,0,65.454064469691048,30.075482803305597,0,65.454064469691048,30.075482803305597,{"$f":"IF(P109=1,K115*B$1/(B$1+B$2+L115),99999)","v":0},7.9718655355899459,null,null,null,null,{"$f":"T105+7","v":49},{"$f":"OFFSET(Calculations!AS$46,$T115,0)","v":0},{"$f":"OFFSET(Calculations!AT$46,$T115,0)","v":52.24880734128665},{"$f":"OFFSET(Calculations!AU$46,$T115,0)","v":32.008479288685791},{"$f":"OFFSET(Calculations!AS$43,$T115,0)-OFFSET(Calculations!AS$45,$T115,0)","v":-10},{"$f":"OFFSET(Calculations!AT$43,$T115,0)-OFFSET(Calculations!AT$45,$T115,0)","v":0},{"$f":"OFFSET(Calculations!AU$43,$T115,0)-OFFSET(Calculations!AU$45,$T115,0)","v":0},0,0.40673664307579571,0.91354545764259854,-10,0,0,2,null,null,null,null,null,null,null,null,null,null,null,5,70.845724837058867,56.567686516433213]
[" ",null,null,null,null,null,null,null,null,null,null,null,null,null,null,null,null,null,null,null,{"$f":"(9*U115+U125)/10","v":0},52.655543984362453,32.922024746328397,-10,0,0,0,0.40673664307579571,0.91354545764259854,-10,0,0,2,null,null,null,null,null,null,null,null,null,null,null,0,64.450906633560649,59.414843017963825]
[{"$f":"A109+7","v":71},{"$f":"OFFSET(Calculations!AS$43,$A117,0)-U$3-B$10","v":0},{"$f":"OFFSET(Calculations!AT$43,$A117,0)-V$3-B$11","v":73.586361209986677},{"$f":"OFFSET(Calculations!AU$43,$A117,0)-W$3-B$12","v":48.347476587205819},{"$f":"B117*F$5+C117*F$4","v":0},{"$f":"C117*F$5-B117*F$4","v":73.586361209986677},{"$f":"D117","v":48.347476587205819},0,{"$f":"F117*F$7+G117*F$6","v":73.586361209986677},{"$f":"G117*F$7-F117*F$6","v":48.347476587205819},{"$f":"H117*F$9+J117*F$8","v":0},{"$f":"I117","v":73.586361209986677},{"$f":"J117*F$9-H117*F$8","v":48.347476587205819},{"$f":"IF(P117=1,K117*B$1/(B$1+B$2+L117),99999)","v":0},{"$f":"M117*B$1/(B$1+B$2+L117)","v":11.568269245683922},{"$f":"IF(MIN(L117:L123)+B$2+B$1>0,1,0)","v":1},null,null,null,null,{"$f":"(8*U115+2*U125)/10","v":0},53.062280627438248,33.835570203970995,-10,0,0,0,0.40673664307580282,0.91354545764260564,-10,0,0,2,null,null,null,null,null,null,null,null,null,null,null,-7,70.845724837058867,56.567686516433213]
[64,{"$f":"OFFSET(Calculations!AS$43,$A118,0)-U$3-B$10","v":0},{"$f":"OFFSET(Calculations!AT$43,$A118,0)-V$3-B$11","v":69.519603809533777},{"$f":"OFFSET(Calculations!AU$43,$A118,0)-W$3-B$12","v":39.211750853017762},0,69.519603809533777,39.211750853017762,0,69.519603809533777,39.211750853017762,0,69.519603809533777,39.211750853017762,{"$f":"IF(P117=1,K118*B$1/(B$1+B$2+L118),99999)","v":0},9.8621595114930827,null,null,null,null,null,{"$f":"(7*U115+3*U125)/10","v":0},53.469017270514051,34.749115661613601,-10,0,0,0,0.40673664307580282,0.91354545764259854,-10,0,0,2,null,null,null,null,null,null,null,null,null,null,null,0,57.142542972419847,62.66873616257022]
[63,{"$f":"OFFSET(Calculations!AS$43,$A119,0)-U$3-B$10","v":-5},{"$f":"OFFSET(Calculations!AT$43,$A119,0)-V$3-B$11","v":66.778358406300868},{"$f":"OFFSET(Calculations!AU$43,$A119,0)-W$3-B$12","v":40.432231940007213},-5,66.778358406300868,40.432231940007213,-5,66.778358406300868,40.432231940007213,-5,66.778358406300868,40.432231940007213,{"$f":"IF(P117=1,K119*B$1/(B$1+B$2+L119),99999)","v":-1.3024503528821663},10.532194951615198,null,null,null,null,null,{"$f":"(6*U115+4*U125)/10","v":0},53.875753913589847,35.6626611192562,-10,0,0,0,0.40673664307579571,0.91354545764259854,-10,0,0,2,null,null,null,null,null,null,null,null,null,null,null,7,70.845724837058867,56.567686516433213]
[70,{"$f":"OFFSET(Calculations!AS$43,$A120,0)-U$3-B$10","v":-5},{"$f":"OFFSET(Calculations!AT$43,$A120,0)-V$3-B$11","v":70.845724837058867},{"$f":"OFFSET(Calculations!AU$43,$A120,0)-W$3-B$12","v":49.567686516433213},-5,70.845724837058867,49.567686516433213,-5,70.845724837058867,49.567686516433213,-5,70.845724837058867,49.567686516433213,{"$f":"IF(P117=1,K120*B$1/(B$1+B$2+L120),99999)","v":-1.2369237854140804},12.26229008802501,null,null,null,null,null,{"$f":"(5*U115+5*U125)/10","v":0},54.28249055666565,36.576206576898798,-10,0,0,0,0.40673664307579571,0.91354545764259854,-10,0,0,2,null,null,null,null,null,null,null,null,null,null,null,-5,74.913091267816881,65.703141092859227]
[72,{"$f":"OFFSET(Calculations!AS$43,$A121,0)-U$3-B$10","v":5},{"$f":"OFFSET(Calculations!AT$43,$A121,0)-V$3-B$11","v":70.845724837058867},{"$f":"OFFSET(Calculations!AU$43,$A121,0)-W$3-B$12","v":49.567686516433213},5,70.845724837058867,49.567686516433213,5,70.845724837058867,49.567686516433213,5,70.845724837058867,49.567686516433213,{"$f":"IF(P117=1,K121*B$1/(B$1+B$2+L121),99999)","v":1.2369237854140804},12.26229008802501,null,null,null,null,null,{"$f":"(4*U115+6*U125)/10","v":0},54.68922719974146,37.489752034541404,-10,0,0,0,0.40673664307580282,0.91354545764259854,-10,0,0,2,null,null,null,null,null,null,null,null,null,null,null,0,77.654336671049762,64.482660005869789]
[65,{"$f":"OFFSET(Calculations!AS$43,$A122,0)-U$3-B$10","v":5},{"$f":"OFFSET(Calculations!AT$43,$A122,0)-V$3-B$11","v":66.778358406300868},{"$f":"OFFSET(Calculations!AU$43,$A122,0)-W$3-B$12","v":40.432231940007213},5,66.778358406300868,40.432231940007213,5,66.778358406300868,40.432231940007213,5,66.778358406300868,40.432231940007213,{"$f":"IF(P117=1,K122*B$1/(B$1+B$2+L122),99999)","v":1.3024503528821663},10.532194951615198,null,null,null,null,null,{"$f":"(3*U115+7*U125)/10","v":0},55.095963842817255,38.403297492184002,-10,0,0,0,0.40673664307580282,0.91354545764260564,-10,0,0,2,null,null,null,null,null,null,null,null,null,null,null,5,74.913091267816881,65.703141092859227]
[64,{"$f":"OFFSET(Calculations!AS$43,$A123,0)-U$3-B$10","v":0},{"$f":"OFFSET(Calculations!AT$43,$A123,0)-V$3-B$11","v":69.519603809533777},{"$f":"OFFSET(Calculations!AU$43,$A123,0)-W$3-B$12","v":39.211750853017762},0,69.519603809533777,39.211750853017762,0,69.519603809533777,39.211750853017762,0,69.519603809533777,39.211750853017762,{"$f":"IF(P117=1,K123*B$1/(B$1+B$2+L123),99999)","v":0},9.8621595114930827,null,null,null,null,null,{"$f":"(2*U115+8*U125)/10","v":0},55.502700485893044,39.316842949826608,-10,0,0,0,0.40673664307579571,0.91354545764259854,-10,0,0,2,null,null,null,null,null,null,null,null,null,null,null,0,68.518273064318663,68.550297594389846]
[" ",null,null,null,null,null,null,null,null,null,null,null,null,null,null,null,null,null,null,null,{"$f":"(1*U115+9*U125)/10","v":0},55.909437128968854,40.230388407469214,-10,0,0,0,0.40673664307580282,0.91354545764260564,-10,0,0,2,null,null,null,null,null,null,null,null,null,null,null,-7,74.913091267816881,65.703141092859227]
[{"$f":"A117+7","v":78},{"$f":"OFFSET(Calculations!AS$43,$A125,0)-U$3-B$10","v":0},{"$f":"OFFSET(Calculations!AT$43,$A125,0)-V$3-B$11","v":77.654336671049762},{"$f":"OFFSET(Calculations!AU$43,$A125,0)-W$3-B$12","v":57.482660005869789},{"$f":"B125*F$5+C125*F$4","v":0},{"$f":"C125*F$5-B125*F$4","v":77.654336671049762},{"$f":"D125","v":57.482660005869789},0,{"$f":"F125*F$7+G125*F$6","v":77.654336671049762},{"$f":"G125*F$7-F125*F$6","v":57.482660005869789},{"$f":"H125*F$9+J125*F$8","v":0},{"$f":"I125","v":77.654336671049762},{"$f":"J125*F$9-H125*F$8","v":57.482660005869789},{"$f":"IF(P125=1,K125*B$1/(B$1+B$2+L125),99999)","v":0},{"$f":"M125*B$1/(B$1+B$2+L125)","v":13.115759513779997},{"$f":"IF(MIN(L125:L131)+B$2+B$1>0,1,0)","v":1},null,null,null,{"$f":"T115+7","v":56},{"$f":"OFFSET(Calculations!AS$46,$T125,0)","v":0},{"$f":"OFFSET(Calculations!AT$46,$T125,0)","v":56.31617377204465},{"$f":"OFFSET(Calculations!AU$46,$T125,0)","v":41.143933865111812},{"$f":"OFFSET(Calculations!AS$43,$T125,0)-OFFSET(Calculations!AS$45,$T125,0)","v":-10},{"$f":"OFFSET(Calculations!AT$43,$T125,0)-OFFSET(Calculations!AT$45,$T125,0)","v":0},{"$f":"OFFSET(Calculations!AU$43,$T125,0)-OFFSET(Calculations!AU$45,$T125,0)","v":0},0,0.40673664307579571,0.91354545764260564,-10,0,0,2,null,null,null,null,null,null,null,null,null,null,null,0,61.209909403177846,71.804190738996226]
[71,{"$f":"OFFSET(Calculations!AS$43,$A126,0)-U$3-B$10","v":0},{"$f":"OFFSET(Calculations!AT$43,$A126,0)-V$3-B$11","v":73.586361209986677},{"$f":"OFFSET(Calculations!AU$43,$A126,0)-W$3-B$12","v":48.347476587205819},0,73.586361209986677,48.347476587205819,0,73.586361209986677,48.347476587205819,0,73.586361209986677,48.347476587205819,{"$f":"IF(P125=1,K126*B$1/(B$1+B$2+L126),99999)","v":0},11.568269245683922,null,null,null,null,null,{"$f":"(9*U125+U135)/10","v":0},56.722910415120452,42.057479322754418,-10,0,0,0,0.40673664307580282,0.91354545764259854,-10,0,0,2,null,null,null,null,null,null,null,null,null,null,null,7,74.913091267816881,65.703141092859227]
[70,{"$f":"OFFSET(Calculations!AS$43,$A127,0)-U$3-B$10","v":-5},{"$f":"OFFSET(Calculations!AT$43,$A127,0)-V$3-B$11","v":70.845724837058867},{"$f":"OFFSET(Calculations!AU$43,$A127,0)-W$3-B$12","v":49.567686516433213},-5,70.845724837058867,49.567686516433213,-5,70.845724837058867,49.567686516433213,-5,70.845724837058867,49.567686516433213,{"$f":"IF(P125=1,K127*B$1/(B$1+B$2+L127),99999)","v":-1.2369237854140804},12.26229008802501,null,null,null,null,null,{"$f":"(8*U125+2*U135)/10","v":0},57.129647058196248,42.971024780397009,-10,0,0,0,0.40673664307579571,0.91354545764260564,-10,0,0,2,null,null,null,null,null,null,null,null,null,null,null,-5,78.980457698574853,74.838595669285255]
[77,{"$f":"OFFSET(Calculations!AS$43,$A128,0)-U$3-B$10","v":-5},{"$f":"OFFSET(Calculations!AT$43,$A128,0)-V$3-B$11","v":74.913091267816881},{"$f":"OFFSET(Calculations!AU$43,$A128,0)-W$3-B$12","v":58.703141092859227},-5,74.913091267816881,58.703141092859227,-5,74.913091267816881,58.703141092859227,-5,74.913091267816881,58.703141092859227,{"$f":"IF(P125=1,K128*B$1/(B$1+B$2+L128),99999)","v":-1.1776747084215653},13.8266409139926,null,null,null,null,null,{"$f":"(7*U125+3*U135)/10","v":0},57.536383701272051,43.884570238039615,-10,0,0,0,0.40673664307580282,0.91354545764259143,-10,0,0,2,null,null,null,null,null,null,null,null,null,null,null,0,81.723530192723047,73.617301109009659]
[79,{"$f":"OFFSET(Calculations!AS$43,$A129,0)-U$3-B$10","v":5},{"$f":"OFFSET(Calculations!AT$43,$A129,0)-V$3-B$11","v":74.913091267816881},{"$f":"OFFSET(Calculations!AU$43,$A129,0)-W$3-B$12","v":58.703141092859227},5,74.913091267816881,58.703141092859227,5,74.913091267816881,58.703141092859227,5,74.913091267816881,58.703141092859227,{"$f":"IF(P125=1,K129*B$1/(B$1+B$2+L129),99999)","v":1.1776747084215653},13.8266409139926,null,null,null,null,null,{"$f":"(6*U125+4*U135)/10","v":0},57.943120344347861,44.798115695682213,-10,0,0,0,0.40673664307579571,0.91354545764260564,-10,0,0,2,null,null,null,null,null,null,null,null,null,null,null,5,78.980457698574853,74.838595669285255]
[72,{"$f":"OFFSET(Calculations!AS$43,$A130,0)-U$3-B$10","v":5},{"$f":"OFFSET(Calculations!AT$43,$A130,0)-V$3-B$11","v":70.845724837058867},{"$f":"OFFSET(Calculations!AU$43,$A130,0)-W$3-B$12","v":49.567686516433213},5,70.845724837058867,49.567686516433213,5,70.845724837058867,49.567686516433213,5,70.845724837058867,49.567686516433213,{"$f":"IF(P125=1,K130*B$1/(B$1+B$2+L130),99999)","v":1.2369237854140804},12.26229008802501,null,null,null,null,null,{"$f":"(5*U125+5*U135)/10","v":0},58.349856987423664,45.711661153324812,-10,0,0,0,0.40673664307580282,0.91354545764259143,-10,0,0,2,null,null,null,null,null,null,null,null,null,null,null,0,72.585639495076663,77.685752170815832]
[71,{"$f":"OFFSET(Calculations!AS$43,$A131,0)-U$3-B$10","v":0},{"$f":"OFFSET(Calculations!AT$43,$A131,0)-V$3-B$11","v":73.586361209986677},{"$f":"OFFSET(Calculations!AU$43,$A131,0)-W$3-B$12","v":48.347476587205819},0,73.586361209986677,48.347476587205819,0,73.586361209986677,48.347476587205819,0,73.586361209986677,48.347476587205819,{"$f":"IF(P125=1,K131*B$1/(B$1+B$2+L131),99999)","v":0},11.568269245683922,null,null,null,null,null,{"$f":"(4*U125+6*U135)/10","v":0},58.756593630499459,46.625206610967417,-10,0,0,0,0.40673664307580992,0.91354545764260564,-10,0,0,2,null,null,null,null,null,null,null,null,null,null,null,-7,78.980457698574853,74.838595669285255]
[" ",null,null,null,null,null,null,null,null,null,null,null,null,null,null,null,null,null,null,null,{"$f":"(3*U125+7*U135)/10","v":0},59.163330273575255,47.538752068610009,-10,0,0,0,0.40673664307578861,0.91354545764259143,-10,0,0,2,null,null,null,null,null,null,null,null,null,null,null,0,65.277275833935846,80.939645315422226]
[{"$f":"A125+7","v":85},{"$f":"OFFSET(Calculations!AS$43,$A133,0)-U$3-B$10","v":0},{"$f":"OFFSET(Calculations!AT$43,$A133,0)-V$3-B$11","v":81.723530192723047},{"$f":"OFFSET(Calculations!AU$43,$A133,0)-W$3-B$12","v":66.617301109009659},{"$f":"B133*F$5+C133*F$4","v":0},{"$f":"C133*F$5-B133*F$4","v":81.723530192723047},{"$f":"D133","v":66.617301109009659},0,{"$f":"F133*F$7+G133*F$6","v":81.723530192723047},{"$f":"G133*F$7-F133*F$6","v":66.617301109009659},{"$f":"H133*F$9+J133*F$8","v":0},{"$f":"I133","v":81.723530192723047},{"$f":"J133*F$9-H133*F$8","v":66.617301109009659},{"$f":"IF(P133=1,K133*B$1/(B$1+B$2+L133),99999)","v":0},{"$f":"M133*B$1/(B$1+B$2+L133)","v":14.525673176563975},{"$f":"IF(MIN(L133:L139)+B$2+B$1>0,1,0)","v":1},null,null,null,null,{"$f":"(2*U125+8*U135)/10","v":0},59.570066916651058,48.452297526252615,-10,0,0,0,0.40673664307580282,0.91354545764260564,-10,0,0,2,null,null,null,null,null,null,null,null,null,null,null,7,78.980457698574853,74.838595669285255]
[78,{"$f":"OFFSET(Calculations!AS$43,$A134,0)-U$3-B$10","v":0},{"$f":"OFFSET(Calculations!AT$43,$A134,0)-V$3-B$11","v":77.654336671049762},{"$f":"OFFSET(Calculations!AU$43,$A134,0)-W$3-B$12","v":57.482660005869789},0,77.654336671049762,57.482660005869789,0,77.654336671049762,57.482660005869789,0,77.654336671049762,57.482660005869789,{"$f":"IF(P133=1,K134*B$1/(B$1+B$2+L134),99999)","v":0},13.115759513779997,null,null,null,null,null,{"$f":"(1*U125+9*U135)/10","v":0},59.976803559726861,49.365842983895213,-10,0,0,0,0.40673664307580992,0.91354545764259854,-10,0,0,2,null,null,null,null,null,null,null,null,null,null,null,-5,83.047824129332852,83.974050245711254]
[77,{"$f":"OFFSET(Calculations!AS$43,$A135,0)-U$3-B$10","v":-5},{"$f":"OFFSET(Calculations!AT$43,$A135,0)-V$3-B$11","v":74.913091267816881},{"$f":"OFFSET(Calculations!AU$43,$A135,0)-W$3-B$12","v":58.703141092859227},-5,74.913091267816881,58.703141092859227,-5,74.913091267816881,58.703141092859227,-5,74.913091267816881,58.703141092859227,{"$f":"IF(P133=1,K135*B$1/(B$1+B$2+L135),99999)","v":-1.1776747084215653},13.8266409139926,null,null,null,null,{"$f":"T125+7","v":63},{"$f":"OFFSET(Calculations!AS$46,$T135,0)","v":0},{"$f":"OFFSET(Calculations!AT$46,$T135,0)","v":60.383540202802664},{"$f":"OFFSET(Calculations!AU$46,$T135,0)","v":50.279388441537812},{"$f":"OFFSET(Calculations!AS$43,$T135,0)-OFFSET(Calculations!AS$45,$T135,0)","v":-10},{"$f":"OFFSET(Calculations!AT$43,$T135,0)-OFFSET(Calculations!AT$45,$T135,0)","v":0},{"$f":"OFFSET(Calculations!AU$43,$T135,0)-OFFSET(Calculations!AU$45,$T135,0)","v":0},0,0.40673664307578861,0.91354545764261275,-10,0,0,2,null,null,null,null,null,null,null,null,null,null,null,0,85.793941775006516,82.751399896625387]
[84,{"$f":"OFFSET(Calculations!AS$43,$A136,0)-U$3-B$10","v":-5},{"$f":"OFFSET(Calculations!AT$43,$A136,0)-V$3-B$11","v":78.980457698574853},{"$f":"OFFSET(Calculations!AU$43,$A136,0)-W$3-B$12","v":67.838595669285255},-5,78.980457698574853,67.838595669285255,-5,78.980457698574853,67.838595669285255,-5,78.980457698574853,67.838595669285255,{"$f":"IF(P133=1,K136*B$1/(B$1+B$2+L136),99999)","v":-1.1238422748819108},15.247976336352737,null,null,null,null,null,{"$f":"(9*U135+U145)/10","v":0},60.790276845878466,51.192933899180417,-10,0,0,0,0.40673664307580282,0.91354545764260564,-10,0,0,2,null,null,null,null,null,null,null,null,null,null,null,5,83.047824129332852,83.974050245711254]
[86,{"$f":"OFFSET(Calculations!AS$43,$A137,0)-U$3-B$10","v":5},{"$f":"OFFSET(Calculations!AT$43,$A137,0)-V$3-B$11","v":78.980457698574853},{"$f":"OFFSET(Calculations!AU$43,$A137,0)-W$3-B$12","v":67.838595669285255},5,78.980457698574853,67.838595669285255,5,78.980457698574853,67.838595669285255,5,78.980457698574853,67.838595669285255,{"$f":"IF(P133=1,K137*B$1/(B$1+B$2+L137),99999)","v":1.1238422748819108},15.247976336352737,null,null,null,null,null,{"$f":"(8*U135+2*U145)/10","v":0},61.197013488954255,52.106479356823016,-10,0,0,0,0.40673664307581703,0.91354545764260564,-10,0,0,2,null,null,null,null,null,null,null,null,null,null,null,0,76.653005925834677,86.82120674724186]
[79,{"$f":"OFFSET(Calculations!AS$43,$A138,0)-U$3-B$10","v":5},{"$f":"OFFSET(Calculations!AT$43,$A138,0)-V$3-B$11","v":74.913091267816881},{"$f":"OFFSET(Calculations!AU$43,$A138,0)-W$3-B$12","v":58.703141092859227},5,74.913091267816881,58.703141092859227,5,74.913091267816881,58.703141092859227,5,74.913091267816881,58.703141092859227,{"$f":"IF(P133=1,K138*B$1/(B$1+B$2+L138),99999)","v":1.1776747084215653},13.8266409139926,null,null,null,null,null,{"$f":"(7*U135+3*U145)/10","v":0},61.603750132030065,53.020024814465614,-10,0,0,0,0.40673664307578861,0.91354545764259854,-10,0,0,2,null,null,null,null,null,null,null,null,null,null,null,-7,83.047824129332852,83.974050245711254]
[78,{"$f":"OFFSET(Calculations!AS$43,$A139,0)-U$3-B$10","v":0},{"$f":"OFFSET(Calculations!AT$43,$A139,0)-V$3-B$11","v":77.654336671049762},{"$f":"OFFSET(Calculations!AU$43,$A139,0)-W$3-B$12","v":57.482660005869789},0,77.654336671049762,57.482660005869789,0,77.654336671049762,57.482660005869789,0,77.654336671049762,57.482660005869789,{"$f":"IF(P133=1,K139*B$1/(B$1+B$2+L139),99999)","v":0},13.115759513779997,null,null,null,null,null,{"$f":"(6*U135+4*U145)/10","v":0},62.010486775105861,53.933570272108213,-10,0,0,0,0.40673664307578861,0.91354545764259143,-10,0,0,2,null,null,null,null,null,null,null,null,null,null,null,0,69.344642264693874,90.075099891848254]
[" ",null,null,null,null,null,null,null,null,null,null,null,null,null,null,null,null,null,null,null,{"$f":"(5*U135+5*U145)/10","v":0},62.417223418181649,54.847115729750819,-10,0,0,0,0.40673664307581703,0.91354545764260564,-10,0,0,2,null,null,null,null,null,null,null,null,null,null,null,7,83.047824129332852,83.974050245711254]
[{"$f":"A133+7","v":92},{"$f":"OFFSET(Calculations!AS$43,$A141,0)-U$3-B$10","v":0},{"$f":"OFFSET(Calculations!AT$43,$A141,0)-V$3-B$11","v":85.793941775006516},{"$f":"OFFSET(Calculations!AU$43,$A141,0)-W$3-B$12","v":75.751399896625387},{"$f":"B141*F$5+C141*F$4","v":0},{"$f":"C141*F$5-B141*F$4","v":85.793941775006516},{"$f":"D141","v":75.751399896625387},0,{"$f":"F141*F$7+G141*F$6","v":85.793941775006516},{"$f":"G141*F$7-F141*F$6","v":75.751399896625387},{"$f":"H141*F$9+J141*F$8","v":0},{"$f":"I141","v":85.793941775006516},{"$f":"J141*F$9-H141*F$8","v":75.751399896625387},{"$f":"IF(P141=1,K141*B$1/(B$1+B$2+L141),99999)","v":0},{"$f":"M141*B$1/(B$1+B$2+L141)","v":15.81548864009469},{"$f":"IF(MIN(L141:L147)+B$2+B$1>0,1,0)","v":1},null,null,null,null,{"$f":"(4*U135+6*U145)/10","v":0},62.823960061257459,55.760661187393417,-10,0,0,0,0.40673664307578861,0.91354545764259854,-10,0,0,2,null,null,null,null,null,null,null,null,null,null,null,-5,87.11519056009088,93.109504822137239]
[85,{"$f":"OFFSET(Calculations!AS$43,$A142,0)-U$3-B$10","v":0},{"$f":"OFFSET(Calculations!AT$43,$A142,0)-V$3-B$11","v":81.723530192723047},{"$f":"OFFSET(Calculations!AU$43,$A142,0)-W$3-B$12","v":66.617301109009659},0,81.723530192723047,66.617301109009659,0,81.723530192723047,66.617301109009659,0,81.723530192723047,66.617301109009659,{"$f":"IF(P141=1,K142*B$1/(B$1+B$2+L142),99999)","v":0},14.525673176563975,null,null,null,null,null,{"$f":"(3*U135+7*U145)/10","v":0},63.230696704333255,56.674206645036023,-10,0,0,0,0.40673664307580282,0.91354545764259854,-10,0,0,2,null,null,null,null,null,null,null,null,null,null,null,0,89.865571417900185,91.884956368717056]
[84,{"$f":"OFFSET(Calculations!AS$43,$A143,0)-U$3-B$10","v":-5},{"$f":"OFFSET(Calculations!AT$43,$A143,0)-V$3-B$11","v":78.980457698574853},{"$f":"OFFSET(Calculations!AU$43,$A143,0)-W$3-B$12","v":67.838595669285255},-5,78.980457698574853,67.838595669285255,-5,78.980457698574853,67.838595669285255,-5,78.980457698574853,67.838595669285255,{"$f":"IF(P141=1,K143*B$1/(B$1+B$2+L143),99999)","v":-1.1238422748819108},15.247976336352737,null,null,null,null,null,{"$f":"(2*U135+8*U145)/10","v":0},63.637433347409043,57.587752102678621,-10,0,0,0,0.40673664307580282,0.91354545764259854,-10,0,0,2,null,null,null,null,null,null,null,null,null,null,null,5,87.11519056009088,93.109504822137239]
[91,{"$f":"OFFSET(Calculations!AS$43,$A144,0)-U$3-B$10","v":-5},{"$f":"OFFSET(Calculations!AT$43,$A144,0)-V$3-B$11","v":83.047824129332852},{"$f":"OFFSET(Calculations!AU$43,$A144,0)-W$3-B$12","v":76.974050245711254},-5,83.047824129332852,76.974050245711254,-5,83.047824129332852,76.974050245711254,-5,83.047824129332852,76.974050245711254,{"$f":"IF(P141=1,K144*B$1/(B$1+B$2+L144),99999)","v":-1.074716157370901},16.545051099469092,null,null,null,null,null,{"$f":"(1*U135+9*U145)/10","v":0},64.044169990484846,58.50129756032122,-10,0,0,0,0.40673664307578861,0.91354545764259854,-10,0,0,2,null,null,null,null,null,null,null,null,null,null,null,0,80.720372356592662,95.956661323667845]
[93,{"$f":"OFFSET(Calculations!AS$43,$A145,0)-U$3-B$10","v":5},{"$f":"OFFSET(Calculations!AT$43,$A145,0)-V$3-B$11","v":83.047824129332852},{"$f":"OFFSET(Calculations!AU$43,$A145,0)-W$3-B$12","v":76.974050245711254},5,83.047824129332852,76.974050245711254,5,83.047824129332852,76.974050245711254,5,83.047824129332852,76.974050245711254,{"$f":"IF(P141=1,K145*B$1/(B$1+B$2+L145),99999)","v":1.074716157370901},16.545051099469092,null,null,null,null,{"$f":"T135+7","v":70},{"$f":"OFFSET(Calculations!AS$46,$T145,0)","v":0},{"$f":"OFFSET(Calculations!AT$46,$T145,0)","v":64.450906633560649},{"$f":"OFFSET(Calculations!AU$46,$T145,0)","v":59.414843017963825},{"$f":"OFFSET(Calculations!AS$43,$T145,0)-OFFSET(Calculations!AS$45,$T145,0)","v":-10},{"$f":"OFFSET(Calculations!AT$43,$T145,0)-OFFSET(Calculations!AT$45,$T145,0)","v":0},{"$f":"OFFSET(Calculations!AU$43,$T145,0)-OFFSET(Calculations!AU$45,$T145,0)","v":0},0,0.40673664307580282,0.91354545764259854,-10,0,0,2,null,null,null,null,null,null,null,null,null,null,null,-7,87.11519056009088,93.109504822137239]
[86,{"$f":"OFFSET(Calculations!AS$43,$A146,0)-U$3-B$10","v":5},{"$f":"OFFSET(Calculations!AT$43,$A146,0)-V$3-B$11","v":78.980457698574853},{"$f":"OFFSET(Calculations!AU$43,$A146,0)-W$3-B$12","v":67.838595669285255},5,78.980457698574853,67.838595669285255,5,78.980457698574853,67.838595669285255,5,78.980457698574853,67.838595669285255,{"$f":"IF(P141=1,K146*B$1/(B$1+B$2+L146),99999)","v":1.1238422748819108},15.247976336352737,null,null,null,null,null,{"$f":"(9*U145+U155)/10","v":0},64.857643276636452,60.328388475606424,-10,0,0,0,0.40673664307581703,0.91354545764261275,-10,0,0,2,null,null,null,null,null,null,null,null,null,null,null,0,73.41200869545186,99.210554468274253]
[85,{"$f":"OFFSET(Calculations!AS$43,$A147,0)-U$3-B$10","v":0},{"$f":"OFFSET(Calculations!AT$43,$A147,0)-V$3-B$11","v":81.723530192723047},{"$f":"OFFSET(Calculations!AU$43,$A147,0)-W$3-B$12","v":66.617301109009659},0,81.723530192723047,66.617301109009659,0,81.723530192723047,66.617301109009659,0,81.723530192723047,66.617301109009659,{"$f":"IF(P141=1,K147*B$1/(B$1+B$2+L147),99999)","v":0},14.525673176563975,null,null,null,null,null,{"$f":"(8*U145+2*U155)/10","v":0},65.264379919712241,61.24193393324903,-10,0,0,0,0.40673664307578861,0.91354545764259854,-10,0,0,2,null,null,null,null,null,null,null,null,null,null,null,7,87.11519056009088,93.109504822137239]
[" ",null,null,null,null,null,null,null,null,null,null,null,null,null,null,null,null,null,null,null,{"$f":"(7*U145+3*U155)/10","v":0},65.671116562788058,62.155479390891628,-10,0,0,0,0.40673664307580282,0.91354545764261275,-10,0,0,2,null,null,null,null,null,null,null,null,null,null,null,-5,91.18255699084888,102.24495939856325]
[{"$f":"A141+7","v":99},{"$f":"OFFSET(Calculations!AS$43,$A149,0)-U$3-B$10","v":0},{"$f":"OFFSET(Calculations!AT$43,$A149,0)-V$3-B$11","v":89.865571417900185},{"$f":"OFFSET(Calculations!AU$43,$A149,0)-W$3-B$12","v":84.884956368717056},{"$f":"B149*F$5+C149*F$4","v":0},{"$f":"C149*F$5-B149*F$4","v":89.865571417900185},{"$f":"D149","v":84.884956368717056},0,{"$f":"F149*F$7+G149*F$6","v":89.865571417900185},{"$f":"G149*F$7-F149*F$6","v":84.884956368717056},{"$f":"H149*F$9+J149*F$8","v":0},{"$f":"I149","v":89.865571417900185},{"$f":"J149*F$9-H149*F$8","v":84.884956368717056},null,null,{"$f":"IF(MIN(L149:L155)+B$2+B$1>0,1,0)","v":1},{"$f":"IF(P149=1,K149*B$1/(B$1+B$2+L149),99999)","v":0},{"$f":"M149*B$1/(B$1+B$2+L149)","v":16.999843922888132},null,null,{"$f":"(6*U145+4*U155)/10","v":0},66.07785320586386,63.069024848534241,-10,0,0,0,0.40673664307580282,0.91354545764259854,-10,0,0,2,null,null,null,null,null,null,null,null,null,null,null,0,93.870426672150458,100.87542139101562]
[92,{"$f":"OFFSET(Calculations!AS$43,$A150,0)-U$3-B$10","v":0},{"$f":"OFFSET(Calculations!AT$43,$A150,0)-V$3-B$11","v":85.793941775006516},{"$f":"OFFSET(Calculations!AU$43,$A150,0)-W$3-B$12","v":75.751399896625387},0,85.793941775006516,75.751399896625387,0,85.793941775006516,75.751399896625387,0,85.793941775006516,75.751399896625387,null,null,null,{"$f":"IF(P149=1,K150*B$1/(B$1+B$2+L150),99999)","v":0},15.81548864009469,null,null,{"$f":"(5*U145+5*U155)/10","v":0},66.484589848939663,63.982570306176832,-10,0,0,0,0.40673664307580282,0.91354545764259854,-10,0,0,2,null,null,null,null,null,null,null,null,null,null,null,5,91.18255699084888,102.24495939856325]
[91,{"$f":"OFFSET(Calculations!AS$43,$A151,0)-U$3-B$10","v":-5},{"$f":"OFFSET(Calculations!AT$43,$A151,0)-V$3-B$11","v":83.047824129332852},{"$f":"OFFSET(Calculations!AU$43,$A151,0)-W$3-B$12","v":76.974050245711254},-5,83.047824129332852,76.974050245711254,-5,83.047824129332852,76.974050245711254,-5,83.047824129332852,76.974050245711254,null,null,null,{"$f":"IF(P149=1,K151*B$1/(B$1+B$2+L151),99999)","v":-1.074716157370901},16.545051099469092,null,null,{"$f":"(4*U145+6*U155)/10","v":0},66.891326492015452,64.896115763819438,-10,0,0,0,0.40673664307580282,0.91354545764258432,-10,0,0,2,null,null,null,null,null,null,null,null,null,null,null,0,84.945511321530319,105.42289289674011]
[98,{"$f":"OFFSET(Calculations!AS$43,$A152,0)-U$3-B$10","v":-5},{"$f":"OFFSET(Calculations!AT$43,$A152,0)-V$3-B$11","v":87.11519056009088},{"$f":"OFFSET(Calculations!AU$43,$A152,0)-W$3-B$12","v":86.109504822137239},-5,87.11519056009088,86.109504822137239,-5,87.11519056009088,86.109504822137239,-5,87.11519056009088,86.109504822137239,null,null,null,{"$f":"IF(P149=1,K152*B$1/(B$1+B$2+L152),99999)","v":-1.0297050278465356},17.733478012146044,null,null,{"$f":"(3*U145+7*U155)/10","v":0},67.298063135091255,65.809661221462036,-10,0,0,0,0.40673664307580282,0.91354545764261275,-10,0,0,2,null,null,null,null,null,null,null,null,null,null,null,-7,91.18255699084888,102.24495939856325]
[100,{"$f":"OFFSET(Calculations!AS$43,$A153,0)-U$3-B$10","v":5},{"$f":"OFFSET(Calculations!AT$43,$A153,0)-V$3-B$11","v":87.11519056009088},{"$f":"OFFSET(Calculations!AU$43,$A153,0)-W$3-B$12","v":86.109504822137239},5,87.11519056009088,86.109504822137239,5,87.11519056009088,86.109504822137239,5,87.11519056009088,86.109504822137239,null,null,null,{"$f":"IF(P149=1,K153*B$1/(B$1+B$2+L153),99999)","v":1.0297050278465356},17.733478012146044,null,null,{"$f":"(2*U145+8*U155)/10","v":0},67.704799778167057,66.723206679104649,-10,0,0,0,0.40673664307578861,0.91354545764258432,-10,0,0,2,null,null,null,null,null,null,null,null,null,null,null,0,77.817459128023387,109.0548168946565]
[93,{"$f":"OFFSET(Calculations!AS$43,$A154,0)-U$3-B$10","v":5},{"$f":"OFFSET(Calculations!AT$43,$A154,0)-V$3-B$11","v":83.047824129332852},{"$f":"OFFSET(Calculations!AU$43,$A154,0)-W$3-B$12","v":76.974050245711254},5,83.047824129332852,76.974050245711254,5,83.047824129332852,76.974050245711254,5,83.047824129332852,76.974050245711254,null,null,null,{"$f":"IF(P149=1,K154*B$1/(B$1+B$2+L154),99999)","v":1.074716157370901},16.545051099469092,null,null,{"$f":"(1*U145+9*U155)/10","v":0},68.11153642124286,67.636752136747234,-10,0,0,0,0.40673664307580282,0.91354545764258432,-10,0,0,2,null,null,null,null,null,null,null,null,null,null,null,7,91.18255699084888,102.24495939856325]
[92,{"$f":"OFFSET(Calculations!AS$43,$A155,0)-U$3-B$10","v":0},{"$f":"OFFSET(Calculations!AT$43,$A155,0)-V$3-B$11","v":85.793941775006516},{"$f":"OFFSET(Calculations!AU$43,$A155,0)-W$3-B$12","v":75.751399896625387},0,85.793941775006516,75.751399896625387,0,85.793941775006516,75.751399896625387,0,85.793941775006516,75.751399896625387,null,null,null,{"$f":"IF(P149=1,K155*B$1/(B$1+B$2+L155),99999)","v":0},15.81548864009469,null,{"$f":"T145+7","v":77},{"$f":"OFFSET(Calculations!AS$46,$T155,0)","v":0},{"$f":"OFFSET(Calculations!AT$46,$T155,0)","v":68.518273064318663},{"$f":"OFFSET(Calculations!AU$46,$T155,0)","v":68.550297594389846},{"$f":"OFFSET(Calculations!AS$43,$T155,0)-OFFSET(Calculations!AS$45,$T155,0)","v":-10},{"$f":"OFFSET(Calculations!AT$43,$T155,0)-OFFSET(Calculations!AT$45,$T155,0)","v":0},{"$f":"OFFSET(Calculations!AU$43,$T155,0)-OFFSET(Calculations!AU$45,$T155,0)","v":0},0,0.40673664307581703,0.91354545764261275,-10,0,0,2,null,null,null,null,null,null,null,null,null,null,null,-5,95.722461988244348,111.15502464044694]
[" ",null,null,null,null,null,null,null,null,null,null,null,null,null,null,null,null,null,null,null,{"$f":"(9*U155+U165)/10","v":0},68.925009707394466,69.463843052032445,-10,0,0,0,0.4067366430757744,0.91354545764259854,-10,0,0,2,null,null,null,null,null,null,null,null,null,null,null,0,98.22947160765078,109.46402530035141]
[{"$f":"A149+7","v":106},{"$f":"OFFSET(Calculations!AS$43,$A157,0)-U$3-B$10","v":0},{"$f":"OFFSET(Calculations!AT$43,$A157,0)-V$3-B$11","v":93.870426672150458},{"$f":"OFFSET(Calculations!AU$43,$A157,0)-W$3-B$12","v":93.875421391015621},{"$f":"B157*F$5+C157*F$4","v":0},{"$f":"C157*F$5-B157*F$4","v":93.870426672150458},{"$f":"D157","v":93.875421391015621},0,{"$f":"F157*F$7+G157*F$6","v":93.870426672150458},{"$f":"G157*F$7-F157*F$6","v":93.875421391015621},{"$f":"H157*F$9+J157*F$8","v":0},{"$f":"I157","v":93.870426672150458},{"$f":"J157*F$9-H157*F$8","v":93.875421391015621},null,null,{"$f":"IF(MIN(L157:L163)+B$2+B$1>0,1,0)","v":1},{"$f":"IF(P157=1,K157*B$1/(B$1+B$2+L157),99999)","v":0},{"$f":"M157*B$1/(B$1+B$2+L157)","v":18.075485852641698},null,null,{"$f":"(8*U155+2*U165)/10","v":0},69.331746350470254,70.377388509675043,-10,0,0,0,0.40673664307580282,0.91354545764261275,-10,0,0,2,null,null,null,null,null,null,null,null,null,null,null,5,95.722461988244348,111.15502464044694]
[99,{"$f":"OFFSET(Calculations!AS$43,$A158,0)-U$3-B$10","v":0},{"$f":"OFFSET(Calculations!AT$43,$A158,0)-V$3-B$11","v":89.865571417900185},{"$f":"OFFSET(Calculations!AU$43,$A158,0)-W$3-B$12","v":84.884956368717056},0,89.865571417900185,84.884956368717056,0,89.865571417900185,84.884956368717056,0,89.865571417900185,84.884956368717056,null,null,null,{"$f":"IF(P157=1,K158*B$1/(B$1+B$2+L158),99999)","v":0},16.999843922888132,null,null,{"$f":"(7*U155+3*U165)/10","v":0},69.738482993546057,71.290933967317642,-10,0,0,0,0.40673664307581703,0.91354545764259854,-10,0,0,2,null,null,null,null,null,null,null,null,null,null,null,0,89.919198980359042,115.06937496474215]
[98,{"$f":"OFFSET(Calculations!AS$43,$A159,0)-U$3-B$10","v":-5},{"$f":"OFFSET(Calculations!AT$43,$A159,0)-V$3-B$11","v":87.11519056009088},{"$f":"OFFSET(Calculations!AU$43,$A159,0)-W$3-B$12","v":86.109504822137239},-5,87.11519056009088,86.109504822137239,-5,87.11519056009088,86.109504822137239,-5,87.11519056009088,86.109504822137239,null,null,null,{"$f":"IF(P157=1,K159*B$1/(B$1+B$2+L159),99999)","v":-1.0297050278465356},17.733478012146044,null,null,{"$f":"(6*U155+4*U165)/10","v":0},70.145219636621874,72.204479424960226,-10,0,0,0,0.40673664307578861,0.91354545764261275,-10,0,0,2,null,null,null,null,null,null,null,null,null,null,null,-7,95.722461988244348,111.15502464044694]
[105,{"$f":"OFFSET(Calculations!AS$43,$A160,0)-U$3-B$10","v":-5},{"$f":"OFFSET(Calculations!AT$43,$A160,0)-V$3-B$11","v":91.18255699084888},{"$f":"OFFSET(Calculations!AU$43,$A160,0)-W$3-B$12","v":95.244959398563253},-5,91.18255699084888,95.244959398563253,-5,91.18255699084888,95.244959398563253,-5,91.18255699084888,95.244959398563253,null,null,null,{"$f":"IF(P157=1,K160*B$1/(B$1+B$2+L160),99999)","v":-0.98831263978675854},18.826359449915337,null,null,{"$f":"(5*U155+5*U165)/10","v":0},70.551956279697663,73.118024882602839,-10,0,0,0,0.40673664307580282,0.91354545764259854,-10,0,0,2,null,null,null,null,null,null,null,null,null,null,null,0,83.286898399918712,119.54291819250817]
[107,{"$f":"OFFSET(Calculations!AS$43,$A161,0)-U$3-B$10","v":5},{"$f":"OFFSET(Calculations!AT$43,$A161,0)-V$3-B$11","v":91.18255699084888},{"$f":"OFFSET(Calculations!AU$43,$A161,0)-W$3-B$12","v":95.244959398563253},5,91.18255699084888,95.244959398563253,5,91.18255699084888,95.244959398563253,5,91.18255699084888,95.244959398563253,null,null,null,{"$f":"IF(P157=1,K161*B$1/(B$1+B$2+L161),99999)","v":0.98831263978675854},18.826359449915337,null,null,{"$f":"(4*U155+6*U165)/10","v":0},70.958692922773452,74.031570340245437,-10,0,0,0,0.40673664307580282,0.91354545764259854,-10,0,0,2,null,null,null,null,null,null,null,null,null,null,null,7,95.722461988244348,111.15502464044694]
[100,{"$f":"OFFSET(Calculations!AS$43,$A162,0)-U$3-B$10","v":5},{"$f":"OFFSET(Calculations!AT$43,$A162,0)-V$3-B$11","v":87.11519056009088},{"$f":"OFFSET(Calculations!AU$43,$A162,0)-W$3-B$12","v":86.109504822137239},5,87.11519056009088,86.109504822137239,5,87.11519056009088,86.109504822137239,5,87.11519056009088,86.109504822137239,null,null,null,{"$f":"IF(P157=1,K162*B$1/(B$1+B$2+L162),99999)","v":1.0297050278465356},17.733478012146044,null,null,{"$f":"(3*U155+7*U165)/10","v":0},71.365429565849269,74.945115797888036,-10,0,0,0,0.40673664307580282,0.91354545764259854,-10,0,0,2,null,null,null,null,null,null,null,null,null,null,null,-5,101.3143910229518,119.44540036599737]
[99,{"$f":"OFFSET(Calculations!AS$43,$A163,0)-U$3-B$10","v":0},{"$f":"OFFSET(Calculations!AT$43,$A163,0)-V$3-B$11","v":89.865571417900185},{"$f":"OFFSET(Calculations!AU$43,$A163,0)-W$3-B$12","v":84.884956368717056},0,89.865571417900185,84.884956368717056,0,89.865571417900185,84.884956368717056,0,89.865571417900185,84.884956368717056,null,null,null,{"$f":"IF(P157=1,K163*B$1/(B$1+B$2+L163),99999)","v":0},16.999843922888132,null,null,{"$f":"(2*U155+8*U165)/10","v":0},71.772166208925071,75.858661255530635,-10,0,0,0,0.40673664307578861,0.91354545764261275,-10,0,0,2,null,null,null,null,null,null,null,null,null,null,null,0,103.34364110850279,117.19168982526627]
[" ",null,null,null,null,null,null,null,null,null,null,null,null,null,null,null,null,null,null,null,{"$f":"(1*U155+9*U165)/10","v":0},72.17890285200086,76.772206713173233,-10,0,0,0,0.40673664307581703,0.91354545764259854,-10,0,0,2,null,null,null,null,null,null,null,null,null,null,null,5,101.3143910229518,119.44540036599737]
[{"$f":"A157+7","v":113},{"$f":"OFFSET(Calculations!AS$43,$A165,0)-U$3-B$10","v":0},{"$f":"OFFSET(Calculations!AT$43,$A165,0)-V$3-B$11","v":98.22947160765078},{"$f":"OFFSET(Calculations!AU$43,$A165,0)-W$3-B$12","v":102.46402530035141},{"$f":"B165*F$5+C165*F$4","v":0},{"$f":"C165*F$5-B165*F$4","v":98.22947160765078},{"$f":"D165","v":102.46402530035141},0,{"$f":"F165*F$7+G165*F$6","v":98.22947160765078},{"$f":"G165*F$7-F165*F$6","v":102.46402530035141},{"$f":"H165*F$9+J165*F$8","v":0},{"$f":"I165","v":98.22947160765078},{"$f":"J165*F$9-H165*F$8","v":102.46402530035141},null,null,{"$f":"IF(MIN(L165:L171)+B$2+B$1>0,1,0)","v":1},{"$f":"IF(P165=1,K165*B$1/(B$1+B$2+L165),99999)","v":0},{"$f":"M165*B$1/(B$1+B$2+L165)","v":18.934588477304956},null,{"$f":"T155+7","v":84},{"$f":"OFFSET(Calculations!AS$46,$T165,0)","v":0},{"$f":"OFFSET(Calculations!AT$46,$T165,0)","v":72.585639495076663},{"$f":"OFFSET(Calculations!AU$46,$T165,0)","v":77.685752170815832},{"$f":"OFFSET(Calculations!AS$43,$T165,0)-OFFSET(Calculations!AS$45,$T165,0)","v":-10},{"$f":"OFFSET(Calculations!AT$43,$T165,0)-OFFSET(Calculations!AT$45,$T165,0)","v":0},{"$f":"OFFSET(Calculations!AU$43,$T165,0)-OFFSET(Calculations!AU$45,$T165,0)","v":0},0,0.40673664307578861,0.91354545764259854,-10,0,0,2,null,null,null,null,null,null,null,null,null,null,null,0,96.630476778439828,124.64741414433914]
[106,{"$f":"OFFSET(Calculations!AS$43,$A166,0)-U$3-B$10","v":0},{"$f":"OFFSET(Calculations!AT$43,$A166,0)-V$3-B$11","v":93.870426672150458},{"$f":"OFFSET(Calculations!AU$43,$A166,0)-W$3-B$12","v":93.875421391015621},0,93.870426672150458,93.875421391015621,0,93.870426672150458,93.875421391015621,0,93.870426672150458,93.875421391015621,null,null,null,{"$f":"IF(P165=1,K166*B$1/(B$1+B$2+L166),99999)","v":0},18.075485852641698,null,null,{"$f":"(9*U165+U175)/10","v":0},72.992376138152466,78.59929762845843,-10,0,0,0,0.40673664307580282,0.91354545764259854,-10,0,0,2,null,null,null,null,null,null,null,null,null,null,null,-7,101.3143910229518,119.44540036599737]
[105,{"$f":"OFFSET(Calculations!AS$43,$A167,0)-U$3-B$10","v":-5},{"$f":"OFFSET(Calculations!AT$43,$A167,0)-V$3-B$11","v":91.18255699084888},{"$f":"OFFSET(Calculations!AU$43,$A167,0)-W$3-B$12","v":95.244959398563253},-5,91.18255699084888,95.244959398563253,-5,91.18255699084888,95.244959398563253,-5,91.18255699084888,95.244959398563253,null,null,null,{"$f":"IF(P165=1,K167*B$1/(B$1+B$2+L167),99999)","v":-0.98831263978675854},18.826359449915337,null,null,{"$f":"(8*U165+2*U175)/10","v":0},73.399112781228268,79.512843086101043,-10,0,0,0,0.40673664307580282,0.91354545764261275,-10,0,0,2,null,null,null,null,null,null,null,null,null,null,null,0,91.277431927568941,130.59257274815829]
[112,{"$f":"OFFSET(Calculations!AS$43,$A168,0)-U$3-B$10","v":-5},{"$f":"OFFSET(Calculations!AT$43,$A168,0)-V$3-B$11","v":95.722461988244348},{"$f":"OFFSET(Calculations!AU$43,$A168,0)-W$3-B$12","v":104.15502464044694},-5,95.722461988244348,104.15502464044694,-5,95.722461988244348,104.15502464044694,-5,95.722461988244348,104.15502464044694,null,null,null,{"$f":"IF(P165=1,K168*B$1/(B$1+B$2+L168),99999)","v":-0.94587278918191819},19.703480732794191,null,null,{"$f":"(7*U165+3*U175)/10","v":0},73.805849424304071,80.426388543743641,-10,0,0,0,0.40673664307580282,0.91354545764259854,-10,0,0,2,null,null,null,null,null,null,null,null,null,null,null,7,101.3143910229518,119.44540036599737]
[114,{"$f":"OFFSET(Calculations!AS$43,$A169,0)-U$3-B$10","v":5},{"$f":"OFFSET(Calculations!AT$43,$A169,0)-V$3-B$11","v":95.722461988244348},{"$f":"OFFSET(Calculations!AU$43,$A169,0)-W$3-B$12","v":104.15502464044694},5,95.722461988244348,104.15502464044694,5,95.722461988244348,104.15502464044694,5,95.722461988244348,104.15502464044694,null,null,null,{"$f":"IF(P165=1,K169*B$1/(B$1+B$2+L169),99999)","v":0.94587278918191819},19.703480732794191,null,null,{"$f":"(6*U165+4*U175)/10","v":0},74.212586067379874,81.33993400138624,-10,0,0,0,0.40673664307578861,0.91354545764259854,-10,0,0,2,null,null,null,null,null,null,null,null,null,null,null,-5,108.74583927772574,126.13670642958594]
[107,{"$f":"OFFSET(Calculations!AS$43,$A170,0)-U$3-B$10","v":5},{"$f":"OFFSET(Calculations!AT$43,$A170,0)-V$3-B$11","v":91.18255699084888},{"$f":"OFFSET(Calculations!AU$43,$A170,0)-W$3-B$12","v":95.244959398563253},5,91.18255699084888,95.244959398563253,5,91.18255699084888,95.244959398563253,5,91.18255699084888,95.244959398563253,null,null,null,{"$f":"IF(P165=1,K170*B$1/(B$1+B$2+L170),99999)","v":0.98831263978675854},18.826359449915337,null,null,{"$f":"(5*U165+5*U175)/10","v":0},74.619322710455663,82.253479459028839,-10,0,0,0,0.40772272141443011,0.91561281387164684,-10,0,0,2,null,null,null,null,null,null,null,null,null,null,null,0,110.17428475276228,123.45019122038053]
[106,{"$f":"OFFSET(Calculations!AS$43,$A171,0)-U$3-B$10","v":0},{"$f":"OFFSET(Calculations!AT$43,$A171,0)-V$3-B$11","v":93.870426672150458},{"$f":"OFFSET(Calculations!AU$43,$A171,0)-W$3-B$12","v":93.875421391015621},0,93.870426672150458,93.875421391015621,0,93.870426672150458,93.875421391015621,0,93.870426672150458,93.875421391015621,null,null,null,{"$f":"IF(P165=1,K171*B$1/(B$1+B$2+L171),99999)","v":0},18.075485852641698,null,null,{"$f":"(4*U165+6*U175)/10","v":0},75.026059353531465,83.167024916671451,-10,0,0,0,0.40870879975305741,0.91768017010068093,-10,0,0,2,null,null,null,null,null,null,null,null,null,null,null,5,108.74583927772574,126.13670642958594]
[" ",null,null,null,null,null,null,null,null,null,null,null,null,null,null,null,null,null,null,null,{"$f":"(3*U165+7*U175)/10","v":0},75.432795996607268,84.080570374314064,-10,0,0,0,0.40969487809167049,0.91974752632968659,-10,0,0,2,null,null,null,null,null,null,null,null,null,null,null,0,105.45953833822452,132.31733957959844]
[{"$f":"A165+7","v":120},{"$f":"OFFSET(Calculations!AS$43,$A173,0)-U$3-B$10","v":0},{"$f":"OFFSET(Calculations!AT$43,$A173,0)-V$3-B$11","v":103.34364110850279},{"$f":"OFFSET(Calculations!AU$43,$A173,0)-W$3-B$12","v":110.19168982526627},{"$f":"B173*F$5+C173*F$4","v":0},{"$f":"C173*F$5-B173*F$4","v":103.34364110850279},{"$f":"D173","v":110.19168982526627},0,{"$f":"F173*F$7+G173*F$6","v":103.34364110850279},{"$f":"G173*F$7-F173*F$6","v":110.19168982526627},{"$f":"H173*F$9+J173*F$8","v":0},{"$f":"I173","v":103.34364110850279},{"$f":"J173*F$9-H173*F$8","v":110.19168982526627},null,null,{"$f":"IF(MIN(L173:L179)+B$2+B$1>0,1,0)","v":1},{"$f":"IF(P173=1,K173*B$1/(B$1+B$2+L173),99999)","v":0},{"$f":"M173*B$1/(B$1+B$2+L173)","v":19.443823887708142},null,null,{"$f":"(2*U165+8*U175)/10","v":0},75.839532639683085,84.994115831956648,-10,0,0,{"$f":"(SUM(U174:U189)-SUM(U173:U188))/16","v":0},{"$f":"(SUM(V174:V189)-SUM(V173:V188))/16","v":0.41068095643028357},{"$f":"(SUM(W174:W189)-SUM(W173:W188))/16","v":0.92181488255876332},{"$f":"SUM(X173:X188)/16","v":-10},{"$f":"SUM(Y173:Y188)/16","v":0},{"$f":"SUM(Z173:Z188)/16","v":0},2,null,null,null,null,null,null,null,null,null,null,null,-7,108.74583927772574,126.13670642958594]
[113,{"$f":"OFFSET(Calculations!AS$43,$A174,0)-U$3-B$10","v":0},{"$f":"OFFSET(Calculations!AT$43,$A174,0)-V$3-B$11","v":98.22947160765078},{"$f":"OFFSET(Calculations!AU$43,$A174,0)-W$3-B$12","v":102.46402530035141},0,98.22947160765078,102.46402530035141,0,98.22947160765078,102.46402530035141,0,98.22947160765078,102.46402530035141,null,null,null,{"$f":"IF(P173=1,K174*B$1/(B$1+B$2+L174),99999)","v":0},18.934588477304956,null,null,{"$f":"(1*U165+9*U175)/10","v":0},76.246269282758874,85.907661289599247,-10,0,0,0,0.41166703476891087,0.92388223878779741,-10,0,0,2,null,null,null,null,null,null,null,null,null,null,null,0,101.70376583593739,139.38092032246985]
[112,{"$f":"OFFSET(Calculations!AS$43,$A175,0)-U$3-B$10","v":-5},{"$f":"OFFSET(Calculations!AT$43,$A175,0)-V$3-B$11","v":95.722461988244348},{"$f":"OFFSET(Calculations!AU$43,$A175,0)-W$3-B$12","v":104.15502464044694},-5,95.722461988244348,104.15502464044694,-5,95.722461988244348,104.15502464044694,-5,95.722461988244348,104.15502464044694,null,null,null,{"$f":"IF(P173=1,K175*B$1/(B$1+B$2+L175),99999)","v":-0.94587278918191819},19.703480732794191,null,{"$f":"T165+7","v":91},{"$f":"OFFSET(Calculations!AS$46,$T175,0)","v":0},{"$f":"OFFSET(Calculations!AT$46,$T175,0)","v":76.653005925834677},{"$f":"OFFSET(Calculations!AU$46,$T175,0)","v":86.82120674724186},{"$f":"OFFSET(Calculations!AS$43,$T175,0)-OFFSET(Calculations!AS$45,$T175,0)","v":-10},{"$f":"OFFSET(Calculations!AT$43,$T175,0)-OFFSET(Calculations!AT$45,$T175,0)","v":0},{"$f":"OFFSET(Calculations!AU$43,$T175,0)-OFFSET(Calculations!AU$45,$T175,0)","v":0},0,0.41265311310753816,0.92594959501683149,-10,0,0,{"$f":"AG174","v":2},null,null,null,null,null,null,null,null,null,null,null,7,108.74583927772574,126.13670642958594]
[119,{"$f":"OFFSET(Calculations!AS$43,$A176,0)-U$3-B$10","v":-5},{"$f":"OFFSET(Calculations!AT$43,$A176,0)-V$3-B$11","v":101.3143910229518},{"$f":"OFFSET(Calculations!AU$43,$A176,0)-W$3-B$12","v":112.44540036599737},-5,101.3143910229518,112.44540036599737,-5,101.3143910229518,112.44540036599737,-5,101.3143910229518,112.44540036599737,null,null,null,{"$f":"IF(P173=1,K176*B$1/(B$1+B$2+L176),99999)","v":-0.89835643963933742},20.203209905323451,null,null,{"$f":"(9*U175+U185)/10","v":0},77.05974256891048,87.734752204884458,-10,0,0,0,0.41363919144616546,0.9280169512458798,-10,0,0,2,null,null,null,null,null,null,null,null,null,null,null,-5,117.57531520631503,130.83142205744483]
[121,{"$f":"OFFSET(Calculations!AS$43,$A177,0)-U$3-B$10","v":5},{"$f":"OFFSET(Calculations!AT$43,$A177,0)-V$3-B$11","v":101.3143910229518},{"$f":"OFFSET(Calculations!AU$43,$A177,0)-W$3-B$12","v":112.44540036599737},5,101.3143910229518,112.44540036599737,5,101.3143910229518,112.44540036599737,5,101.3143910229518,112.44540036599737,null,null,null,{"$f":"IF(P173=1,K177*B$1/(B$1+B$2+L177),99999)","v":0.89835643963933742},20.203209905323451,null,null,{"$f":"(8*U175+2*U185)/10","v":0},77.466479211986282,88.648297662527057,-10,0,0,0,0.41462526978476433,0.93008430747491389,-10,0,0,2,null,null,null,null,null,null,null,null,null,null,null,0,118.31414467547638,127.86813890939797]
[114,{"$f":"OFFSET(Calculations!AS$43,$A178,0)-U$3-B$10","v":5},{"$f":"OFFSET(Calculations!AT$43,$A178,0)-V$3-B$11","v":95.722461988244348},{"$f":"OFFSET(Calculations!AU$43,$A178,0)-W$3-B$12","v":104.15502464044694},5,95.722461988244348,104.15502464044694,5,95.722461988244348,104.15502464044694,5,95.722461988244348,104.15502464044694,null,null,null,{"$f":"IF(P173=1,K178*B$1/(B$1+B$2+L178),99999)","v":0.94587278918191819},19.703480732794191,null,null,{"$f":"(7*U175+3*U185)/10","v":0},77.873215855062071,89.561843120169655,-10,0,0,0,0.41561134812340583,0.93215166370394797,-10,0,0,2,null,null,null,null,null,null,null,null,null,null,null,5,117.57531520631503,130.83142205744483]
[113,{"$f":"OFFSET(Calculations!AS$43,$A179,0)-U$3-B$10","v":0},{"$f":"OFFSET(Calculations!AT$43,$A179,0)-V$3-B$11","v":98.22947160765078},{"$f":"OFFSET(Calculations!AU$43,$A179,0)-W$3-B$12","v":102.46402530035141},0,98.22947160765078,102.46402530035141,0,98.22947160765078,102.46402530035141,0,98.22947160765078,102.46402530035141,null,null,null,{"$f":"IF(P173=1,K179*B$1/(B$1+B$2+L179),99999)","v":0},18.934588477304956,null,null,{"$f":"(6*U175+4*U185)/10","v":0},78.279952498137874,90.475388577812254,-10,0,0,0,0.41659742646203313,0.93421901993298206,-10,0,0,2,null,null,null,null,null,null,null,null,null,null,null,0,115.88186193711734,137.62349214137686]
[" ",null,null,null,null,null,null,null,null,null,null,null,null,null,null,null,null,null,null,null,{"$f":"(5*U175+5*U185)/10","v":0},78.686689141213677,91.388934035454852,-10,0,0,0,0.42226193413746671,0.93741294175534051,-10,0,0,2,null,null,null,null,null,null,null,null,null,null,null,-7,117.57531520631503,130.83142205744483]
[{"$f":"A173+7","v":127},{"$f":"OFFSET(Calculations!AS$43,$A181,0)-U$3-B$10","v":0},{"$f":"OFFSET(Calculations!AT$43,$A181,0)-V$3-B$11","v":110.17428475276228},{"$f":"OFFSET(Calculations!AU$43,$A181,0)-W$3-B$12","v":116.45019122038053},{"$f":"B181*F$5+C181*F$4","v":0},{"$f":"C181*F$5-B181*F$4","v":110.17428475276228},{"$f":"D181","v":116.45019122038053},0,{"$f":"F181*F$7+G181*F$6","v":110.17428475276228},{"$f":"G181*F$7-F181*F$6","v":116.45019122038053},{"$f":"H181*F$9+J181*F$8","v":0},{"$f":"I181","v":110.17428475276228},{"$f":"J181*F$9-H181*F$8","v":116.45019122038053},null,null,{"$f":"IF(MIN(L181:L187)+B$2+B$1>0,1,0)","v":1},{"$f":"IF(P181=1,K181*B$1/(B$1+B$2+L181),99999)","v":0},{"$f":"M181*B$1/(B$1+B$2+L181)","v":19.38021789935452},null,null,{"$f":"(4*U175+6*U185)/10","v":0},79.093425784289465,92.302479493097451,-10,0,0,0,0.4279264418129145,0.94060686357768475,-10,0,0,2,null,null,null,null,null,null,null,null,null,null,null,0,113.94648677232003,145.38585795158482]
[120,{"$f":"OFFSET(Calculations!AS$43,$A182,0)-U$3-B$10","v":0},{"$f":"OFFSET(Calculations!AT$43,$A182,0)-V$3-B$11","v":103.34364110850279},{"$f":"OFFSET(Calculations!AU$43,$A182,0)-W$3-B$12","v":110.19168982526627},0,103.34364110850279,110.19168982526627,0,103.34364110850279,110.19168982526627,0,103.34364110850279,110.19168982526627,null,null,null,{"$f":"IF(P181=1,K182*B$1/(B$1+B$2+L182),99999)","v":0},19.443823887708142,null,null,{"$f":"(3*U175+7*U185)/10","v":0},79.500162427365268,93.216024950740049,-10,0,0,0,0.43359094948834809,0.9438007854000432,-10,0,0,2,null,null,null,null,null,null,null,null,null,null,null,7,117.57531520631503,130.83142205744483]
[119,{"$f":"OFFSET(Calculations!AS$43,$A183,0)-U$3-B$10","v":-5},{"$f":"OFFSET(Calculations!AT$43,$A183,0)-V$3-B$11","v":101.3143910229518},{"$f":"OFFSET(Calculations!AU$43,$A183,0)-W$3-B$12","v":112.44540036599737},-5,101.3143910229518,112.44540036599737,-5,101.3143910229518,112.44540036599737,-5,101.3143910229518,112.44540036599737,null,null,null,{"$f":"IF(P181=1,K183*B$1/(B$1+B$2+L183),99999)","v":-0.89835643963933742},20.203209905323451,null,null,{"$f":"(2*U175+8*U185)/10","v":0},79.906899070441071,94.129570408382648,-10,0,0,0,0.43925545716381009,0.94699470722241585,-10,0,0,2,null,null,null,null,null,null,null,null,null,null,null,-5,127.27827246907501,133.25064101344154]
[126,{"$f":"OFFSET(Calculations!AS$43,$A184,0)-U$3-B$10","v":-5},{"$f":"OFFSET(Calculations!AT$43,$A184,0)-V$3-B$11","v":108.74583927772574},{"$f":"OFFSET(Calculations!AU$43,$A184,0)-W$3-B$12","v":119.13670642958594},-5,108.74583927772574,119.13670642958594,-5,108.74583927772574,119.13670642958594,-5,108.74583927772574,119.13670642958594,null,null,null,{"$f":"IF(P181=1,K184*B$1/(B$1+B$2+L184),99999)","v":-0.84213476959068434},20.065832563774471,null,null,{"$f":"(1*U175+9*U185)/10","v":0},80.313635713516859,95.043115866025246,-10,0,0,0,0.44491996483924368,0.95018862904473167,-10,0,0,2,null,null,null,null,null,null,null,null,null,null,null,0,127.27827246907501,130.18397434677485]
[128,{"$f":"OFFSET(Calculations!AS$43,$A185,0)-U$3-B$10","v":5},{"$f":"OFFSET(Calculations!AT$43,$A185,0)-V$3-B$11","v":108.74583927772574},{"$f":"OFFSET(Calculations!AU$43,$A185,0)-W$3-B$12","v":119.13670642958594},5,108.74583927772574,119.13670642958594,5,108.74583927772574,119.13670642958594,5,108.74583927772574,119.13670642958594,null,null,null,{"$f":"IF(P181=1,K185*B$1/(B$1+B$2+L185),99999)","v":0.84213476959068434},20.065832563774471,null,{"$f":"T175+7","v":98},{"$f":"OFFSET(Calculations!AS$46,$T185,0)","v":0},{"$f":"OFFSET(Calculations!AT$46,$T185,0)","v":80.720372356592662},{"$f":"OFFSET(Calculations!AU$46,$T185,0)","v":95.956661323667845},{"$f":"OFFSET(Calculations!AS$43,$T185,0)-OFFSET(Calculations!AS$45,$T185,0)","v":-10},{"$f":"OFFSET(Calculations!AT$43,$T185,0)-OFFSET(Calculations!AT$45,$T185,0)","v":0},{"$f":"OFFSET(Calculations!AU$43,$T185,0)-OFFSET(Calculations!AU$45,$T185,0)","v":0},0,0.45058447251466305,0.95338255086709012,-10,0,0,2,null,null,null,null,null,null,null,null,null,null,null,5,127.27827246907501,133.25064101344154]
[121,{"$f":"OFFSET(Calculations!AS$43,$A186,0)-U$3-B$10","v":5},{"$f":"OFFSET(Calculations!AT$43,$A186,0)-V$3-B$11","v":101.3143910229518},{"$f":"OFFSET(Calculations!AU$43,$A186,0)-W$3-B$12","v":112.44540036599737},5,101.3143910229518,112.44540036599737,5,101.3143910229518,112.44540036599737,5,101.3143910229518,112.44540036599737,null,null,null,{"$f":"IF(P181=1,K186*B$1/(B$1+B$2+L186),99999)","v":0.89835643963933742},20.203209905323451,null,null,{"$f":"(9*U185+U195)/10","v":0},81.142886253086431,96.903284480975074,-10,0,0,0,0.45526290185151197,0.95450911646041448,-10,0,0,2,null,null,null,null,null,null,null,null,null,null,null,0,127.27827246907495,140.25064101344154]
[120,{"$f":"OFFSET(Calculations!AS$43,$A187,0)-U$3-B$10","v":0},{"$f":"OFFSET(Calculations!AT$43,$A187,0)-V$3-B$11","v":103.34364110850279},{"$f":"OFFSET(Calculations!AU$43,$A187,0)-W$3-B$12","v":110.19168982526627},0,103.34364110850279,110.19168982526627,0,103.34364110850279,110.19168982526627,0,103.34364110850279,110.19168982526627,null,null,null,{"$f":"IF(P181=1,K187*B$1/(B$1+B$2+L187),99999)","v":0},19.443823887708142,null,null,{"$f":"(8*U185+2*U195)/10","v":0},81.565400149580199,97.849907638282303,-10,0,0,0,0.45994133118831826,0.95563568205371041,-10,0,0,2,null,null,null,null,null,null,null,null,null,null,null,-7,127.27827246907501,133.25064101344154]
[" ",null,null,null,null,null,null,null,null,null,null,null,null,null,null,null,null,null,null,null,{"$f":"(7*U185+3*U195)/10","v":0},81.987914046073954,98.796530795589518,-10,0,0,0,0.46461976052513876,0.95676224764702056,-10,0,0,2,null,null,null,null,null,null,null,null,null,null,null,0,127.27827246907495,148.25064101344154]
[{"$f":"A181+7","v":134},{"$f":"OFFSET(Calculations!AS$43,$A189,0)-U$3-B$10","v":0},{"$f":"OFFSET(Calculations!AT$43,$A189,0)-V$3-B$11","v":118.31414467547638},{"$f":"OFFSET(Calculations!AU$43,$A189,0)-W$3-B$12","v":120.86813890939797},{"$f":"B189*F$5+C189*F$4","v":0},{"$f":"C189*F$5-B189*F$4","v":118.31414467547638},{"$f":"D189","v":120.86813890939797},0,{"$f":"F189*F$7+G189*F$6","v":118.31414467547638},{"$f":"G189*F$7-F189*F$6","v":120.86813890939797},{"$f":"H189*F$9+J189*F$8","v":0},{"$f":"I189","v":118.31414467547638},{"$f":"J189*F$9-H189*F$8","v":120.86813890939797},null,null,{"$f":"IF(MIN(L189:L195)+B$2+B$1>0,1,0)","v":1},{"$f":"IF(P189=1,K189*B$1/(B$1+B$2+L189),99999)","v":0},{"$f":"M189*B$1/(B$1+B$2+L189)","v":18.839409983223543},null,null,{"$f":"(6*U185+4*U195)/10","v":0},82.410427942567736,99.743153952896748,-10,0,0,0,0.46929818986195926,0.95788881324033071,-10,0,0,2,null,null,null,null,null,null,null,null,null,null,null,7,127.27827246907501,133.25064101344154]
[127,{"$f":"OFFSET(Calculations!AS$43,$A190,0)-U$3-B$10","v":0},{"$f":"OFFSET(Calculations!AT$43,$A190,0)-V$3-B$11","v":110.17428475276228},{"$f":"OFFSET(Calculations!AU$43,$A190,0)-W$3-B$12","v":116.45019122038053},0,110.17428475276228,116.45019122038053,0,110.17428475276228,116.45019122038053,0,110.17428475276228,116.45019122038053,null,null,null,{"$f":"IF(P189=1,K190*B$1/(B$1+B$2+L190),99999)","v":0},19.38021789935452,null,null,{"$f":"(5*U185+5*U195)/10","v":0},82.832941839061476,100.68977711020398,-10,0,0,0,0.48483655756908206,0.9585876107811373,-10,0,0,2,null,null,null,null,null,null,null,null,null,null,null,-5,137.27827246907498,133.25064101344154]
[126,{"$f":"OFFSET(Calculations!AS$43,$A191,0)-U$3-B$10","v":-5},{"$f":"OFFSET(Calculations!AT$43,$A191,0)-V$3-B$11","v":108.74583927772574},{"$f":"OFFSET(Calculations!AU$43,$A191,0)-W$3-B$12","v":119.13670642958594},-5,108.74583927772574,119.13670642958594,-5,108.74583927772574,119.13670642958594,-5,108.74583927772574,119.13670642958594,null,null,null,{"$f":"IF(P189=1,K191*B$1/(B$1+B$2+L191),99999)","v":-0.84213476959068434},20.065832563774471,null,null,{"$f":"(4*U185+6*U195)/10","v":0},83.255455735555259,101.63640026751121,-10,0,0,0,0.50037492527623328,0.95928640832188705,-10,0,0,2,null,null,null,null,null,null,null,null,null,null,null,0,136.53944299991358,130.2873578653946]
[133,{"$f":"OFFSET(Calculations!AS$43,$A192,0)-U$3-B$10","v":-5},{"$f":"OFFSET(Calculations!AT$43,$A192,0)-V$3-B$11","v":117.57531520631503},{"$f":"OFFSET(Calculations!AU$43,$A192,0)-W$3-B$12","v":123.83142205744483},-5,117.57531520631503,123.83142205744483,-5,117.57531520631503,123.83142205744483,-5,117.57531520631503,123.83142205744483,null,null,null,{"$f":"IF(P189=1,K192*B$1/(B$1+B$2+L192),99999)","v":-0.78385069900301496},19.413069347653099,null,null,{"$f":"(3*U185+7*U195)/10","v":0},83.677969632049013,102.58302342481844,-10,0,0,0,0.51591329298339872,0.95998520586266523,-10,0,0,2,null,null,null,null,null,null,null,null,null,null,null,5,137.27827246907498,133.25064101344154]
[135,{"$f":"OFFSET(Calculations!AS$43,$A193,0)-U$3-B$10","v":5},{"$f":"OFFSET(Calculations!AT$43,$A193,0)-V$3-B$11","v":117.57531520631503},{"$f":"OFFSET(Calculations!AU$43,$A193,0)-W$3-B$12","v":123.83142205744483},5,117.57531520631503,123.83142205744483,5,117.57531520631503,123.83142205744483,5,117.57531520631503,123.83142205744483,null,null,null,{"$f":"IF(P189=1,K193*B$1/(B$1+B$2+L193),99999)","v":0.78385069900301496},19.413069347653099,null,null,{"$f":"(2*U185+8*U195)/10","v":0},84.100483528542782,103.52964658212565,-10,0,0,0,0.53145166069053573,0.96068400340347182,-10,0,0,2,null,null,null,null,null,null,null,null,null,null,null,0,138.97172573827262,140.04271109737348]
[128,{"$f":"OFFSET(Calculations!AS$43,$A194,0)-U$3-B$10","v":5},{"$f":"OFFSET(Calculations!AT$43,$A194,0)-V$3-B$11","v":108.74583927772574},{"$f":"OFFSET(Calculations!AU$43,$A194,0)-W$3-B$12","v":119.13670642958594},5,108.74583927772574,119.13670642958594,5,108.74583927772574,119.13670642958594,5,108.74583927772574,119.13670642958594,null,null,null,{"$f":"IF(P189=1,K194*B$1/(B$1+B$2+L194),99999)","v":0.84213476959068434},20.065832563774471,null,null,{"$f":"(1*U185+9*U195)/10","v":0},84.52299742503655,104.47626973943288,-10,0,0,0,0.54699002839768696,0.96138280094422157,-10,0,0,2,null,null,null,null,null,null,null,null,null,null,null,-7,137.27827246907498,133.25064101344154]
[127,{"$f":"OFFSET(Calculations!AS$43,$A195,0)-U$3-B$10","v":0},{"$f":"OFFSET(Calculations!AT$43,$A195,0)-V$3-B$11","v":110.17428475276228},{"$f":"OFFSET(Calculations!AU$43,$A195,0)-W$3-B$12","v":116.45019122038053},0,110.17428475276228,116.45019122038053,0,110.17428475276228,116.45019122038053,0,110.17428475276228,116.45019122038053,null,null,null,{"$f":"IF(P189=1,K195*B$1/(B$1+B$2+L195),99999)","v":0},19.38021789935452,null,{"$f":"T185+7","v":105},{"$f":"OFFSET(Calculations!AS$46,$T195,0)","v":0},{"$f":"OFFSET(Calculations!AT$46,$T195,0)","v":84.945511321530319},{"$f":"OFFSET(Calculations!AU$46,$T195,0)","v":105.42289289674011},{"$f":"OFFSET(Calculations!AS$43,$T195,0)-OFFSET(Calculations!AS$45,$T195,0)","v":-10},{"$f":"OFFSET(Calculations!AT$43,$T195,0)-OFFSET(Calculations!AT$45,$T195,0)","v":0},{"$f":"OFFSET(Calculations!AU$43,$T195,0)-OFFSET(Calculations!AU$45,$T195,0)","v":0},0,0.56252839610483818,0.96208159848502817,-10,0,0,2,null,null,null,null,null,null,null,null,null,null,null,0,140.90710090307002,147.80507690758151]
[" ",null,null,null,null,null,null,null,null,null,null,null,null,null,null,null,null,null,null,null,{"$f":"(9*U195+U205)/10","v":0},85.442880087413201,106.38754110354031,-10,0,0,0,0.57338833447515469,0.96165383043248198,-10,0,0,2,null,null,null,null,null,null,null,null,null,null,null,7,137.27827246907498,133.25064101344154]
[{"$f":"A189+7","v":141},{"$f":"OFFSET(Calculations!AS$43,$A197,0)-U$3-B$10","v":0},{"$f":"OFFSET(Calculations!AT$43,$A197,0)-V$3-B$11","v":127.27827246907501},{"$f":"OFFSET(Calculations!AU$43,$A197,0)-W$3-B$12","v":123.18397434677485},{"$f":"B197*F$5+C197*F$4","v":0},{"$f":"C197*F$5-B197*F$4","v":127.27827246907501},{"$f":"D197","v":123.18397434677485},0,{"$f":"F197*F$7+G197*F$6","v":127.27827246907501},{"$f":"G197*F$7-F197*F$6","v":123.18397434677485},{"$f":"H197*F$9+J197*F$8","v":0},{"$f":"I197","v":127.27827246907501},{"$f":"J197*F$9-H197*F$8","v":123.18397434677485},null,null,{"$f":"IF(MIN(L197:L203)+B$2+B$1>0,1,0)","v":1},{"$f":"IF(P197=1,K197*B$1/(B$1+B$2+L197),99999)","v":0},{"$f":"M197*B$1/(B$1+B$2+L197)","v":17.946609049079459},null,null,{"$f":"(8*U195+2*U205)/10","v":0},85.940248853296069,107.35218931034051,-10,0,0,0,0.58424827284547121,0.96122606237995001,-10,0,0,2,null,null,null,null,null,null,null,null,null,null,null,-5,146.98122973183496,130.83142205744485]
[134,{"$f":"OFFSET(Calculations!AS$43,$A198,0)-U$3-B$10","v":0},{"$f":"OFFSET(Calculations!AT$43,$A198,0)-V$3-B$11","v":118.31414467547638},{"$f":"OFFSET(Calculations!AU$43,$A198,0)-W$3-B$12","v":120.86813890939797},0,118.31414467547638,120.86813890939797,0,118.31414467547638,120.86813890939797,0,118.31414467547638,120.86813890939797,null,null,null,{"$f":"IF(P197=1,K198*B$1/(B$1+B$2+L198),99999)","v":0},18.839409983223543,null,null,{"$f":"(7*U195+3*U205)/10","v":0},86.437617619178923,108.31683751714073,-10,0,0,0,0.59510821121580193,0.96079829432741803,-10,0,0,2,null,null,null,null,null,null,null,null,null,null,null,0,145.55278425679845,128.14490684823946]
[133,{"$f":"OFFSET(Calculations!AS$43,$A199,0)-U$3-B$10","v":-5},{"$f":"OFFSET(Calculations!AT$43,$A199,0)-V$3-B$11","v":117.57531520631503},{"$f":"OFFSET(Calculations!AU$43,$A199,0)-W$3-B$12","v":123.83142205744483},-5,117.57531520631503,123.83142205744483,-5,117.57531520631503,123.83142205744483,-5,117.57531520631503,123.83142205744483,null,null,null,{"$f":"IF(P197=1,K199*B$1/(B$1+B$2+L199),99999)","v":-0.78385069900301496},19.413069347653099,null,null,{"$f":"(6*U195+4*U205)/10","v":0},86.934986385061805,109.28148572394093,-10,0,0,0,0.60596814958613265,0.96037052627488606,-10,0,0,2,null,null,null,null,null,null,null,null,null,null,null,5,146.98122973183496,130.83142205744485]
[140,{"$f":"OFFSET(Calculations!AS$43,$A200,0)-U$3-B$10","v":-5},{"$f":"OFFSET(Calculations!AT$43,$A200,0)-V$3-B$11","v":127.27827246907501},{"$f":"OFFSET(Calculations!AU$43,$A200,0)-W$3-B$12","v":126.25064101344154},-5,127.27827246907501,126.25064101344154,-5,127.27827246907501,126.25064101344154,-5,127.27827246907501,126.25064101344154,null,null,null,{"$f":"IF(P197=1,K200*B$1/(B$1+B$2+L200),99999)","v":-0.72844739521709256},18.393390118145945,null,null,{"$f":"(5*U195+5*U205)/10","v":0},87.432355150944687,110.24613393074114,-10,0,0,0,0.6300642364671063,0.94801704732024916,-10,0,0,2,null,null,null,null,null,null,null,null,null,null,null,0,150.26753067133617,137.01205520745734]
[142,{"$f":"OFFSET(Calculations!AS$43,$A201,0)-U$3-B$10","v":5},{"$f":"OFFSET(Calculations!AT$43,$A201,0)-V$3-B$11","v":127.27827246907501},{"$f":"OFFSET(Calculations!AU$43,$A201,0)-W$3-B$12","v":126.25064101344154},5,127.27827246907501,126.25064101344154,5,127.27827246907501,126.25064101344154,5,127.27827246907501,126.25064101344154,null,null,null,{"$f":"IF(P197=1,K201*B$1/(B$1+B$2+L201),99999)","v":0.72844739521709256},18.393390118145945,null,null,{"$f":"(4*U195+6*U205)/10","v":0},87.929723916827555,111.21078213754133,-10,0,0,0,0.65416032334806573,0.93566356836561226,-10,0,0,2,null,null,null,null,null,null,null,null,null,null,null,-7,146.98122973183496,130.83142205744485]
[135,{"$f":"OFFSET(Calculations!AS$43,$A202,0)-U$3-B$10","v":5},{"$f":"OFFSET(Calculations!AT$43,$A202,0)-V$3-B$11","v":117.57531520631503},{"$f":"OFFSET(Calculations!AU$43,$A202,0)-W$3-B$12","v":123.83142205744483},5,117.57531520631503,123.83142205744483,5,117.57531520631503,123.83142205744483,5,117.57531520631503,123.83142205744483,null,null,null,{"$f":"IF(P197=1,K202*B$1/(B$1+B$2+L202),99999)","v":0.78385069900301496},19.413069347653099,null,null,{"$f":"(3*U195+7*U205)/10","v":0},88.427092682710423,112.17543034434155,-10,0,0,0,0.67825641022903937,0.92331008941094694,-10,0,0,2,null,null,null,null,null,null,null,null,null,null,null,0,154.0233031736233,144.07563595032875]
[134,{"$f":"OFFSET(Calculations!AS$43,$A203,0)-U$3-B$10","v":0},{"$f":"OFFSET(Calculations!AT$43,$A203,0)-V$3-B$11","v":118.31414467547638},{"$f":"OFFSET(Calculations!AU$43,$A203,0)-W$3-B$12","v":120.86813890939797},0,118.31414467547638,120.86813890939797,0,118.31414467547638,120.86813890939797,0,118.31414467547638,120.86813890939797,null,null,null,{"$f":"IF(P197=1,K203*B$1/(B$1+B$2+L203),99999)","v":0},18.839409983223543,null,null,{"$f":"(2*U195+8*U205)/10","v":0},88.924461448593291,113.14007855114173,-10,0,0,0,0.70235249711002723,0.91095661045631005,-10,0,0,2,null,null,null,null,null,null,null,null,null,null,null,7,146.98122973183496,130.83142205744485]
[" ",null,null,null,null,null,null,null,null,null,null,null,null,null,null,null,null,null,null,null,{"$f":"(1*U195+9*U205)/10","v":0},89.421830214476174,114.10472675794195,-10,0,0,0,0.72644858399100087,0.89860313150168736,-10,0,0,2,null,null,null,null,null,null,null,null,null,null,null,-5,155.81070566042422,126.13670642958596]
[{"$f":"A197+7","v":148},{"$f":"OFFSET(Calculations!AS$43,$A205,0)-U$3-B$10","v":0},{"$f":"OFFSET(Calculations!AT$43,$A205,0)-V$3-B$11","v":136.53944299991358},{"$f":"OFFSET(Calculations!AU$43,$A205,0)-W$3-B$12","v":123.2873578653946},{"$f":"B205*F$5+C205*F$4","v":0},{"$f":"C205*F$5-B205*F$4","v":136.53944299991358},{"$f":"D205","v":123.2873578653946},0,{"$f":"F205*F$7+G205*F$6","v":136.53944299991358},{"$f":"G205*F$7-F205*F$6","v":123.2873578653946},{"$f":"H205*F$9+J205*F$8","v":0},{"$f":"I205","v":136.53944299991358},{"$f":"J205*F$9-H205*F$8","v":123.2873578653946},null,null,{"$f":"IF(MIN(L205:L211)+B$2+B$1>0,1,0)","v":1},{"$f":"IF(P205=1,K205*B$1/(B$1+B$2+L205),99999)","v":0},{"$f":"M205*B$1/(B$1+B$2+L205)","v":16.826508323150552},null,{"$f":"T195+7","v":112},{"$f":"OFFSET(Calculations!AS$46,$T205,0)","v":0},{"$f":"OFFSET(Calculations!AT$46,$T205,0)","v":89.919198980359042},{"$f":"OFFSET(Calculations!AU$46,$T205,0)","v":115.06937496474215},{"$f":"OFFSET(Calculations!AS$43,$T205,0)-OFFSET(Calculations!AS$45,$T205,0)","v":-10},{"$f":"OFFSET(Calculations!AT$43,$T205,0)-OFFSET(Calculations!AT$45,$T205,0)","v":0},{"$f":"OFFSET(Calculations!AU$43,$T205,0)-OFFSET(Calculations!AU$45,$T205,0)","v":0},0,0.75054467087196031,0.88624965254703625,-10,0,0,2,null,null,null,null,null,null,null,null,null,null,null,0,153.78145557487323,123.88299588885478]
[141,{"$f":"OFFSET(Calculations!AS$43,$A206,0)-U$3-B$10","v":0},{"$f":"OFFSET(Calculations!AT$43,$A206,0)-V$3-B$11","v":127.27827246907501},{"$f":"OFFSET(Calculations!AU$43,$A206,0)-W$3-B$12","v":123.18397434677485},0,127.27827246907501,123.18397434677485,0,127.27827246907501,123.18397434677485,0,127.27827246907501,123.18397434677485,null,null,null,{"$f":"IF(P205=1,K206*B$1/(B$1+B$2+L206),99999)","v":0},17.946609049079459,null,null,{"$f":"(9*U205+U215)/10","v":0},90.59032676016713,116.02717888270186,-10,0,0,0,0.76378081938263165,0.87432394164491711,-10,0,0,2,null,null,null,null,null,null,null,null,null,null,null,5,155.81070566042422,126.13670642958596]
[140,{"$f":"OFFSET(Calculations!AS$43,$A207,0)-U$3-B$10","v":-5},{"$f":"OFFSET(Calculations!AT$43,$A207,0)-V$3-B$11","v":127.27827246907501},{"$f":"OFFSET(Calculations!AU$43,$A207,0)-W$3-B$12","v":126.25064101344154},-5,127.27827246907501,126.25064101344154,-5,127.27827246907501,126.25064101344154,-5,127.27827246907501,126.25064101344154,null,null,null,{"$f":"IF(P205=1,K207*B$1/(B$1+B$2+L207),99999)","v":-0.72844739521709256},18.393390118145945,null,null,{"$f":"(8*U205+2*U215)/10","v":0},91.26145453997519,116.98498280066156,-10,0,0,0,0.77701696789327457,0.86239823074281219,-10,0,0,2,null,null,null,null,null,null,null,null,null,null,null,0,160.49461990493623,131.33872020792768]
[147,{"$f":"OFFSET(Calculations!AS$43,$A208,0)-U$3-B$10","v":-5},{"$f":"OFFSET(Calculations!AT$43,$A208,0)-V$3-B$11","v":137.27827246907498},{"$f":"OFFSET(Calculations!AU$43,$A208,0)-W$3-B$12","v":126.25064101344154},-5,137.27827246907498,126.25064101344154,-5,137.27827246907498,126.25064101344154,-5,137.27827246907498,126.25064101344154,null,null,null,{"$f":"IF(P205=1,K208*B$1/(B$1+B$2+L208),99999)","v":-0.67898678008324465},17.14450324503246,null,null,{"$f":"(7*U205+3*U215)/10","v":0},91.932582319783279,117.94278671862125,-10,0,0,0,0.79025311640391749,0.85047251984070726,-10,0,0,2,null,null,null,null,null,null,null,null,null,null,null,-7,155.81070566042422,126.13670642958596]
[149,{"$f":"OFFSET(Calculations!AS$43,$A209,0)-U$3-B$10","v":5},{"$f":"OFFSET(Calculations!AT$43,$A209,0)-V$3-B$11","v":137.27827246907498},{"$f":"OFFSET(Calculations!AU$43,$A209,0)-W$3-B$12","v":126.25064101344154},5,137.27827246907498,126.25064101344154,5,137.27827246907498,126.25064101344154,5,137.27827246907498,126.25064101344154,null,null,null,{"$f":"IF(P205=1,K209*B$1/(B$1+B$2+L209),99999)","v":0.67898678008324465},17.14450324503246,null,null,{"$f":"(6*U205+4*U215)/10","v":0},92.603710099591353,118.90059063658096,-10,0,0,0,0.80348926491457462,0.83854680893858813,-10,0,0,2,null,null,null,null,null,null,null,null,null,null,null,0,165.84766475580702,137.28387881174683]
[142,{"$f":"OFFSET(Calculations!AS$43,$A210,0)-U$3-B$10","v":5},{"$f":"OFFSET(Calculations!AT$43,$A210,0)-V$3-B$11","v":127.27827246907501},{"$f":"OFFSET(Calculations!AU$43,$A210,0)-W$3-B$12","v":126.25064101344154},5,127.27827246907501,126.25064101344154,5,127.27827246907501,126.25064101344154,5,127.27827246907501,126.25064101344154,null,null,null,{"$f":"IF(P205=1,K210*B$1/(B$1+B$2+L210),99999)","v":0.72844739521709256},18.393390118145945,null,null,{"$f":"(5*U205+5*U215)/10","v":0},93.274837879399428,119.85839455454065,-10,0,0,0,0.82668330116965194,0.81184751757723461,-10,0,0,2,null,null,null,null,null,null,null,null,null,null,null,7,155.81070566042422,126.13670642958596]
[141,{"$f":"OFFSET(Calculations!AS$43,$A211,0)-U$3-B$10","v":0},{"$f":"OFFSET(Calculations!AT$43,$A211,0)-V$3-B$11","v":127.27827246907501},{"$f":"OFFSET(Calculations!AU$43,$A211,0)-W$3-B$12","v":123.18397434677485},0,127.27827246907501,123.18397434677485,0,127.27827246907501,123.18397434677485,0,127.27827246907501,123.18397434677485,null,null,null,{"$f":"IF(P205=1,K211*B$1/(B$1+B$2+L211),99999)","v":0},17.946609049079459,null,null,{"$f":"(4*U205+6*U215)/10","v":0},93.945965659207516,120.81619847250036,-10,0,0,0,0.84987733742471505,0.78514822621585267,-10,0,0,2,null,null,null,null,null,null,null,null,null,null,null,-5,163.24215391519817,119.44540036599734]
[" ",null,null,null,null,null,null,null,null,null,null,null,null,null,null,null,null,null,null,null,{"$f":"(3*U205+7*U215)/10","v":0},94.617093439015591,121.77400239046005,-10,0,0,0,0.87307137367982079,0.75844893485449916,-10,0,0,2,null,null,null,null,null,null,null,null,null,null,null,0,160.95991214460452,117.46147786233011]
[{"$f":"A205+7","v":155},{"$f":"OFFSET(Calculations!AS$43,$A213,0)-U$3-B$10","v":0},{"$f":"OFFSET(Calculations!AT$43,$A213,0)-V$3-B$11","v":145.55278425679845},{"$f":"OFFSET(Calculations!AU$43,$A213,0)-W$3-B$12","v":121.14490684823946},{"$f":"B213*F$5+C213*F$4","v":0},{"$f":"C213*F$5-B213*F$4","v":145.55278425679845},{"$f":"D213","v":121.14490684823946},0,{"$f":"F213*F$7+G213*F$6","v":145.55278425679845},{"$f":"G213*F$7-F213*F$6","v":121.14490684823946},{"$f":"H213*F$9+J213*F$8","v":0},{"$f":"I213","v":145.55278425679845},{"$f":"J213*F$9-H213*F$8","v":121.14490684823946},null,null,{"$f":"IF(MIN(L213:L219)+B$2+B$1>0,1,0)","v":1},{"$f":"IF(P213=1,K213*B$1/(B$1+B$2+L213),99999)","v":0},{"$f":"M213*B$1/(B$1+B$2+L213)","v":15.576051232647069},null,null,{"$f":"(2*U205+8*U215)/10","v":0},95.288221218823679,122.73180630841973,-10,0,0,0,0.89626540993486969,0.73174964349314564,-10,0,0,2,null,null,null,null,null,null,null,null,null,null,null,5,163.24215391519817,119.44540036599734]
[148,{"$f":"OFFSET(Calculations!AS$43,$A214,0)-U$3-B$10","v":0},{"$f":"OFFSET(Calculations!AT$43,$A214,0)-V$3-B$11","v":136.53944299991358},{"$f":"OFFSET(Calculations!AU$43,$A214,0)-W$3-B$12","v":123.2873578653946},0,136.53944299991358,123.2873578653946,0,136.53944299991358,123.2873578653946,0,136.53944299991358,123.2873578653946,null,null,null,{"$f":"IF(P213=1,K214*B$1/(B$1+B$2+L214),99999)","v":0},16.826508323150552,null,null,{"$f":"(1*U205+9*U215)/10","v":0},95.959348998631754,123.68961022637943,-10,0,0,0,0.91945944618994702,0.7050503521317637,-10,0,0,2,null,null,null,null,null,null,null,null,null,null,null,0,168.52512097675759,124.03781356893096]
[147,{"$f":"OFFSET(Calculations!AS$43,$A215,0)-U$3-B$10","v":-5},{"$f":"OFFSET(Calculations!AT$43,$A215,0)-V$3-B$11","v":137.27827246907498},{"$f":"OFFSET(Calculations!AU$43,$A215,0)-W$3-B$12","v":126.25064101344154},-5,137.27827246907498,126.25064101344154,-5,137.27827246907498,126.25064101344154,-5,137.27827246907498,126.25064101344154,null,null,null,{"$f":"IF(P213=1,K215*B$1/(B$1+B$2+L215),99999)","v":-0.67898678008324465},17.14450324503246,null,{"$f":"T205+7","v":119},{"$f":"OFFSET(Calculations!AS$46,$T215,0)","v":0},{"$f":"OFFSET(Calculations!AT$46,$T215,0)","v":96.630476778439828},{"$f":"OFFSET(Calculations!AU$46,$T215,0)","v":124.64741414433914},{"$f":"OFFSET(Calculations!AS$43,$T215,0)-OFFSET(Calculations!AS$45,$T215,0)","v":-10},{"$f":"OFFSET(Calculations!AT$43,$T215,0)-OFFSET(Calculations!AT$45,$T215,0)","v":0},{"$f":"OFFSET(Calculations!AU$43,$T215,0)-OFFSET(Calculations!AU$45,$T215,0)","v":0},0,0.94265348244502434,0.67835106077041019,-10,0,0,2,null,null,null,null,null,null,null,null,null,null,null,-7,163.24215391519817,119.44540036599734]
[154,{"$f":"OFFSET(Calculations!AS$43,$A216,0)-U$3-B$10","v":-5},{"$f":"OFFSET(Calculations!AT$43,$A216,0)-V$3-B$11","v":146.98122973183496},{"$f":"OFFSET(Calculations!AU$43,$A216,0)-W$3-B$12","v":123.83142205744485},-5,146.98122973183496,123.83142205744485,-5,146.98122973183496,123.83142205744485,-5,146.98122973183496,123.83142205744485,null,null,null,{"$f":"IF(P213=1,K216*B$1/(B$1+B$2+L216),99999)","v":-0.63701883448630248},15.776589630362984,null,null,{"$f":"(9*U215+U225)/10","v":0},97.513382934418303,125.41440668786507,-10,0,0,0,0.95261137018944453,0.66357748031111896,-10,0,0,2,null,null,null,null,null,null,null,null,null,null,null,0,174.56279761853975,129.28628580085496]
[156,{"$f":"OFFSET(Calculations!AS$43,$A217,0)-U$3-B$10","v":5},{"$f":"OFFSET(Calculations!AT$43,$A217,0)-V$3-B$11","v":146.98122973183496},{"$f":"OFFSET(Calculations!AU$43,$A217,0)-W$3-B$12","v":123.83142205744485},5,146.98122973183496,123.83142205744485,5,146.98122973183496,123.83142205744485,5,146.98122973183496,123.83142205744485,null,null,null,{"$f":"IF(P213=1,K217*B$1/(B$1+B$2+L217),99999)","v":0.63701883448630248},15.776589630362984,null,null,{"$f":"(8*U215+2*U225)/10","v":0},98.396289090396778,126.181399231391,-10,0,0,0,0.96256925793387893,0.648803899851913,-10,0,0,2,null,null,null,null,null,null,null,null,null,null,null,7,163.24215391519817,119.44540036599734]
[149,{"$f":"OFFSET(Calculations!AS$43,$A218,0)-U$3-B$10","v":5},{"$f":"OFFSET(Calculations!AT$43,$A218,0)-V$3-B$11","v":137.27827246907498},{"$f":"OFFSET(Calculations!AU$43,$A218,0)-W$3-B$12","v":126.25064101344154},5,137.27827246907498,126.25064101344154,5,137.27827246907498,126.25064101344154,5,137.27827246907498,126.25064101344154,null,null,null,{"$f":"IF(P213=1,K218*B$1/(B$1+B$2+L218),99999)","v":0.67898678008324465},17.14450324503246,null,null,{"$f":"(7*U215+3*U225)/10","v":0},99.279195246375224,126.94839177491694,-10,0,0,0,0.97252714567831333,0.63403031939262178,-10,0,0,2,null,null,null,null,null,null,null,null,null,null,null,-5,169.80274420510324,111.89830456376963]
[148,{"$f":"OFFSET(Calculations!AS$43,$A219,0)-U$3-B$10","v":0},{"$f":"OFFSET(Calculations!AT$43,$A219,0)-V$3-B$11","v":136.53944299991358},{"$f":"OFFSET(Calculations!AU$43,$A219,0)-W$3-B$12","v":123.2873578653946},0,136.53944299991358,123.2873578653946,0,136.53944299991358,123.2873578653946,0,136.53944299991358,123.2873578653946,null,null,null,{"$f":"IF(P213=1,K219*B$1/(B$1+B$2+L219),99999)","v":0},16.826508323150552,null,null,{"$f":"(6*U215+4*U225)/10","v":0},100.1621014023537,127.71538431844287,-10,0,0,0,0.98248503342271931,0.6192567389333874,-10,0,0,2,null,null,null,null,null,null,null,null,null,null,null,0,167.42557843172293,110.04105911320389]
[" ",null,null,null,null,null,null,null,null,null,null,null,null,null,null,null,null,null,null,null,{"$f":"(5*U215+5*U225)/10","v":0},101.04500755833217,128.48237686196879,-10,0,0,0,0.99853096449881207,0.58773938541338566,-10,0,0,2,null,null,null,null,null,null,null,null,null,null,null,5,169.80274420510324,111.89830456376963]
[{"$f":"A213+7","v":162},{"$f":"OFFSET(Calculations!AS$43,$A221,0)-U$3-B$10","v":0},{"$f":"OFFSET(Calculations!AT$43,$A221,0)-V$3-B$11","v":153.78145557487323},{"$f":"OFFSET(Calculations!AU$43,$A221,0)-W$3-B$12","v":116.88299588885478},{"$f":"B221*F$5+C221*F$4","v":0},{"$f":"C221*F$5-B221*F$4","v":153.78145557487323},{"$f":"D221","v":116.88299588885478},0,{"$f":"F221*F$7+G221*F$6","v":153.78145557487323},{"$f":"G221*F$7-F221*F$6","v":116.88299588885478},{"$f":"H221*F$9+J221*F$8","v":0},{"$f":"I221","v":153.78145557487323},{"$f":"J221*F$9-H221*F$8","v":116.88299588885478},null,null,{"$f":"IF(MIN(L221:L227)+B$2+B$1>0,1,0)","v":1},{"$f":"IF(P221=1,K221*B$1/(B$1+B$2+L221),99999)","v":0},{"$f":"M221*B$1/(B$1+B$2+L221)","v":14.273043975411651},null,null,{"$f":"(4*U215+6*U225)/10","v":0},101.92791371431063,129.24936940549475,-10,0,0,0,1.0145768955748764,0.55622203189344077,-10,0,0,2,null,null,null,null,null,null,null,null,null,null,null,0,175.3188194803503,116.20793489104926]
[155,{"$f":"OFFSET(Calculations!AS$43,$A222,0)-U$3-B$10","v":0},{"$f":"OFFSET(Calculations!AT$43,$A222,0)-V$3-B$11","v":145.55278425679845},{"$f":"OFFSET(Calculations!AU$43,$A222,0)-W$3-B$12","v":121.14490684823946},0,145.55278425679845,121.14490684823946,0,145.55278425679845,121.14490684823946,0,145.55278425679845,121.14490684823946,null,null,null,{"$f":"IF(P221=1,K222*B$1/(B$1+B$2+L222),99999)","v":0},15.576051232647069,null,null,{"$f":"(3*U215+7*U225)/10","v":0},102.81081987028911,130.01636194902068,-10,0,0,0,1.0306228266509834,0.52470467837346746,-10,0,0,2,null,null,null,null,null,null,null,null,null,null,null,-7,169.80274420510324,111.89830456376963]
[154,{"$f":"OFFSET(Calculations!AS$43,$A223,0)-U$3-B$10","v":-5},{"$f":"OFFSET(Calculations!AT$43,$A223,0)-V$3-B$11","v":146.98122973183496},{"$f":"OFFSET(Calculations!AU$43,$A223,0)-W$3-B$12","v":123.83142205744485},-5,146.98122973183496,123.83142205744485,-5,146.98122973183496,123.83142205744485,-5,146.98122973183496,123.83142205744485,null,null,null,{"$f":"IF(P221=1,K223*B$1/(B$1+B$2+L223),99999)","v":-0.63701883448630248},15.776589630362984,null,null,{"$f":"(2*U215+8*U225)/10","v":0},103.69372602626758,130.78335449254658,-10,0,0,0,1.0466687577270335,0.49318732485352257,-10,0,0,2,null,null,null,null,null,null,null,null,null,null,null,0,181.62290550920409,121.13322669365455]
[161,{"$f":"OFFSET(Calculations!AS$43,$A224,0)-U$3-B$10","v":-5},{"$f":"OFFSET(Calculations!AT$43,$A224,0)-V$3-B$11","v":155.81070566042422},{"$f":"OFFSET(Calculations!AU$43,$A224,0)-W$3-B$12","v":119.13670642958596},-5,155.81070566042422,119.13670642958596,-5,155.81070566042422,119.13670642958596,-5,155.81070566042422,119.13670642958596,null,null,null,{"$f":"IF(P221=1,K224*B$1/(B$1+B$2+L224),99999)","v":-0.60309736697458638},14.370206791541515,null,null,{"$f":"(1*U215+9*U225)/10","v":0},104.57663218224604,131.55034703607251,-10,0,0,0,1.0627146888031405,0.46166997133354926,-10,0,0,2,null,null,null,null,null,null,null,null,null,null,null,7,169.80274420510324,111.89830456376963]
[163,{"$f":"OFFSET(Calculations!AS$43,$A225,0)-U$3-B$10","v":5},{"$f":"OFFSET(Calculations!AT$43,$A225,0)-V$3-B$11","v":155.81070566042422},{"$f":"OFFSET(Calculations!AU$43,$A225,0)-W$3-B$12","v":119.13670642958596},5,155.81070566042422,119.13670642958596,5,155.81070566042422,119.13670642958596,5,155.81070566042422,119.13670642958596,null,null,null,{"$f":"IF(P221=1,K225*B$1/(B$1+B$2+L225),99999)","v":0.60309736697458638},14.370206791541515,null,{"$f":"T215+7","v":126},{"$f":"OFFSET(Calculations!AS$46,$T225,0)","v":0},{"$f":"OFFSET(Calculations!AT$46,$T225,0)","v":105.45953833822452},{"$f":"OFFSET(Calculations!AU$46,$T225,0)","v":132.31733957959844},{"$f":"OFFSET(Calculations!AS$43,$T225,0)-OFFSET(Calculations!AS$45,$T225,0)","v":-10},{"$f":"OFFSET(Calculations!AT$43,$T225,0)-OFFSET(Calculations!AT$45,$T225,0)","v":0},{"$f":"OFFSET(Calculations!AU$43,$T225,0)-OFFSET(Calculations!AU$45,$T225,0)","v":0},0,1.0787606198792048,0.43015261781357594,-10,0,0,2,null,null,null,null,null,null,null,null,null,null,null,-5,175.95935895835981,104.01819702770243]
[156,{"$f":"OFFSET(Calculations!AS$43,$A226,0)-U$3-B$10","v":5},{"$f":"OFFSET(Calculations!AT$43,$A226,0)-V$3-B$11","v":146.98122973183496},{"$f":"OFFSET(Calculations!AU$43,$A226,0)-W$3-B$12","v":123.83142205744485},5,146.98122973183496,123.83142205744485,5,146.98122973183496,123.83142205744485,5,146.98122973183496,123.83142205744485,null,null,null,{"$f":"IF(P221=1,K226*B$1/(B$1+B$2+L226),99999)","v":0.63701883448630248},15.776589630362984,null,null,{"$f":"(9*U225+U235)/10","v":0},106.5017706981138,132.84795483577628,-10,0,0,0,1.0848486632108632,0.41340884475286543,-10,0,0,1,null,null,null,null,null,null,null,null,null,null,null,0,173.58692124950116,102.16464554598862]
[155,{"$f":"OFFSET(Calculations!AS$43,$A227,0)-U$3-B$10","v":0},{"$f":"OFFSET(Calculations!AT$43,$A227,0)-V$3-B$11","v":145.55278425679845},{"$f":"OFFSET(Calculations!AU$43,$A227,0)-W$3-B$12","v":121.14490684823946},0,145.55278425679845,121.14490684823946,0,145.55278425679845,121.14490684823946,0,145.55278425679845,121.14490684823946,null,null,null,{"$f":"IF(P221=1,K227*B$1/(B$1+B$2+L227),99999)","v":0},15.576051232647069,null,null,{"$f":"(8*U225+2*U235)/10","v":0},107.54400305800309,133.37857009195415,-10,0,0,0,1.0909367065425215,0.39666507169215492,-10,0,0,1,null,null,null,null,null,null,null,null,null,null,null,5,175.95935895835981,104.01819702770243]
[" ",null,null,null,null,null,null,null,null,null,null,null,null,null,null,null,null,null,null,null,{"$f":"(7*U225+3*U235)/10","v":0},108.58623541789237,133.90918534813198,-10,0,0,0,1.0970247498741799,0.37992129863144442,-10,0,0,1,null,null,null,null,null,null,null,null,null,null,null,0,181.4754342336069,108.32782735498205]
[{"$f":"A221+7","v":169},{"$f":"OFFSET(Calculations!AS$43,$A229,0)-U$3-B$10","v":0},{"$f":"OFFSET(Calculations!AT$43,$A229,0)-V$3-B$11","v":160.95991214460452},{"$f":"OFFSET(Calculations!AU$43,$A229,0)-W$3-B$12","v":110.46147786233011},{"$f":"B229*F$5+C229*F$4","v":0},{"$f":"C229*F$5-B229*F$4","v":160.95991214460452},{"$f":"D229","v":110.46147786233011},0,{"$f":"F229*F$7+G229*F$6","v":160.95991214460452},{"$f":"G229*F$7-F229*F$6","v":110.46147786233011},{"$f":"H229*F$9+J229*F$8","v":0},{"$f":"I229","v":160.95991214460452},{"$f":"J229*F$9-H229*F$8","v":110.46147786233011},null,null,{"$f":"IF(MIN(L229:L235)+B$2+B$1>0,1,0)","v":1},{"$f":"IF(P229=1,K229*B$1/(B$1+B$2+L229),99999)","v":0},{"$f":"M229*B$1/(B$1+B$2+L229)","v":12.922500541401487},null,null,{"$f":"(6*U225+4*U235)/10","v":0},109.62846777778164,134.43980060430982,-10,0,0,0,1.103112793205824,0.36317752557073391,-10,0,0,1,null,null,null,null,null,null,null,null,null,null,null,-7,175.95935895835981,104.01819702770243]
[162,{"$f":"OFFSET(Calculations!AS$43,$A230,0)-U$3-B$10","v":0},{"$f":"OFFSET(Calculations!AT$43,$A230,0)-V$3-B$11","v":153.78145557487323},{"$f":"OFFSET(Calculations!AU$43,$A230,0)-W$3-B$12","v":116.88299588885478},0,153.78145557487323,116.88299588885478,0,153.78145557487323,116.88299588885478,0,153.78145557487323,116.88299588885478,null,null,null,{"$f":"IF(P229=1,K230*B$1/(B$1+B$2+L230),99999)","v":0},14.273043975411651,null,null,{"$f":"(5*U225+5*U235)/10","v":0},110.67070013767093,134.97041586048763,-10,0,0,0,1.1110573536452506,0.32871451008418262,-10,0,0,1,null,null,null,null,null,null,null,null,null,null,null,0,187.77952026246061,113.25311915758732]
[161,{"$f":"OFFSET(Calculations!AS$43,$A231,0)-U$3-B$10","v":-5},{"$f":"OFFSET(Calculations!AT$43,$A231,0)-V$3-B$11","v":155.81070566042422},{"$f":"OFFSET(Calculations!AU$43,$A231,0)-W$3-B$12","v":119.13670642958596},-5,155.81070566042422,119.13670642958596,-5,155.81070566042422,119.13670642958596,-5,155.81070566042422,119.13670642958596,null,null,null,{"$f":"IF(P229=1,K231*B$1/(B$1+B$2+L231),99999)","v":-0.60309736697458638},14.370206791541515,null,null,{"$f":"(4*U225+6*U235)/10","v":0},111.71293249756022,135.5010311166655,-10,0,0,0,1.1190019140846346,0.29425149459765976,-10,0,0,1,null,null,null,null,null,null,null,null,null,null,null,7,175.95935895835981,104.01819702770243]
[168,{"$f":"OFFSET(Calculations!AS$43,$A232,0)-U$3-B$10","v":-5},{"$f":"OFFSET(Calculations!AT$43,$A232,0)-V$3-B$11","v":163.24215391519817},{"$f":"OFFSET(Calculations!AU$43,$A232,0)-W$3-B$12","v":112.44540036599734},-5,163.24215391519817,112.44540036599734,-5,163.24215391519817,112.44540036599734,-5,163.24215391519817,112.44540036599734,null,null,null,{"$f":"IF(P229=1,K232*B$1/(B$1+B$2+L232),99999)","v":-0.5772267184403046},12.981297891394174,null,null,{"$f":"(3*U225+7*U235)/10","v":0},112.75516485744947,136.03164637284334,-10,0,0,0,1.1269464745240612,0.25978847911108005,-10,0,0,1,null,null,null,null,null,null,null,null,null,null,null,-5,182.11597371161639,96.138089491635228]
[170,{"$f":"OFFSET(Calculations!AS$43,$A233,0)-U$3-B$10","v":5},{"$f":"OFFSET(Calculations!AT$43,$A233,0)-V$3-B$11","v":163.24215391519817},{"$f":"OFFSET(Calculations!AU$43,$A233,0)-W$3-B$12","v":112.44540036599734},5,163.24215391519817,112.44540036599734,5,163.24215391519817,112.44540036599734,5,163.24215391519817,112.44540036599734,null,null,null,{"$f":"IF(P229=1,K233*B$1/(B$1+B$2+L233),99999)","v":0.5772267184403046},12.981297891394174,null,null,{"$f":"(2*U225+8*U235)/10","v":0},113.79739721733877,136.56226162902118,-10,0,0,0,1.1348910349634451,0.22532546362461403,-10,0,0,1,null,null,null,null,null,null,null,null,null,null,null,0,179.74721338627458,94.287411096806267]
[163,{"$f":"OFFSET(Calculations!AS$43,$A234,0)-U$3-B$10","v":5},{"$f":"OFFSET(Calculations!AT$43,$A234,0)-V$3-B$11","v":155.81070566042422},{"$f":"OFFSET(Calculations!AU$43,$A234,0)-W$3-B$12","v":119.13670642958596},5,155.81070566042422,119.13670642958596,5,155.81070566042422,119.13670642958596,5,155.81070566042422,119.13670642958596,null,null,null,{"$f":"IF(P229=1,K234*B$1/(B$1+B$2+L234),99999)","v":0.60309736697458638},14.370206791541515,null,null,{"$f":"(1*U225+9*U235)/10","v":0},114.83962957722807,137.09287688519902,-10,0,0,0,1.1428355954028575,0.19086244813803432,-10,0,0,1,null,null,null,null,null,null,null,null,null,null,null,5,182.11597371161639,96.138089491635228]
[162,{"$f":"OFFSET(Calculations!AS$43,$A235,0)-U$3-B$10","v":0},{"$f":"OFFSET(Calculations!AT$43,$A235,0)-V$3-B$11","v":153.78145557487323},{"$f":"OFFSET(Calculations!AU$43,$A235,0)-W$3-B$12","v":116.88299588885478},0,153.78145557487323,116.88299588885478,0,153.78145557487323,116.88299588885478,0,153.78145557487323,116.88299588885478,null,null,null,{"$f":"IF(P229=1,K235*B$1/(B$1+B$2+L235),99999)","v":0},14.273043975411651,null,{"$f":"T225+7","v":133},{"$f":"OFFSET(Calculations!AS$46,$T235,0)","v":0},{"$f":"OFFSET(Calculations!AT$46,$T235,0)","v":115.88186193711734},{"$f":"OFFSET(Calculations!AU$46,$T235,0)","v":137.62349214137686},{"$f":"OFFSET(Calculations!AS$43,$T235,0)-OFFSET(Calculations!AS$45,$T235,0)","v":-10},{"$f":"OFFSET(Calculations!AT$43,$T235,0)-OFFSET(Calculations!AT$45,$T235,0)","v":0},{"$f":"OFFSET(Calculations!AU$43,$T235,0)-OFFSET(Calculations!AU$45,$T235,0)","v":0},0,1.1507801558422699,0.15639943265148304,-10,0,0,1,null,null,null,null,null,null,null,null,null,null,null,0,187.63204898686342,100.44771981891482]
[" ",null,null,null,null,null,null,null,null,null,null,null,null,null,null,null,null,null,null,null,{"$f":"(9*U235+U245)/10","v":0},117.0215029903131,137.88620702858333,-10,0,0,0,1.1526366729500097,0.13868019022564226,-10,0,0,1,null,null,null,null,null,null,null,null,null,null,null,-7,182.11597371161639,96.138089491635228]
[{"$f":"A229+7","v":176},{"$f":"OFFSET(Calculations!AS$43,$A237,0)-U$3-B$10","v":0},{"$f":"OFFSET(Calculations!AT$43,$A237,0)-V$3-B$11","v":167.42557843172293},{"$f":"OFFSET(Calculations!AU$43,$A237,0)-W$3-B$12","v":103.04105911320389},{"$f":"B237*F$5+C237*F$4","v":0},{"$f":"C237*F$5-B237*F$4","v":167.42557843172293},{"$f":"D237","v":103.04105911320389},0,{"$f":"F237*F$7+G237*F$6","v":167.42557843172293},{"$f":"G237*F$7-F237*F$6","v":103.04105911320389},{"$f":"H237*F$9+J237*F$8","v":0},{"$f":"I237","v":167.42557843172293},{"$f":"J237*F$9-H237*F$8","v":103.04105911320389},null,null,{"$f":"IF(MIN(L237:L243)+B$2+B$1>0,1,0)","v":1},{"$f":"IF(P237=1,K237*B$1/(B$1+B$2+L237),99999)","v":0},{"$f":"M237*B$1/(B$1+B$2+L237)","v":11.615130132193002},null,null,{"$f":"(8*U235+2*U245)/10","v":0},118.16114404350886,138.1489219157898,-10,0,0,{"$f":"(SUM(U238:U253)-SUM(U237:U252))/16","v":0},{"$f":"(SUM(V238:V253)-SUM(V237:V252))/16","v":1.1544931900577637},{"$f":"(SUM(W238:W253)-SUM(W237:W252))/16","v":0.12096094779982991},{"$f":"SUM(X237:X252)/16","v":-10},{"$f":"SUM(Y237:Y252)/16","v":0},{"$f":"SUM(Z237:Z252)/16","v":0},1,null,null,null,null,null,null,null,null,null,null,null,0,193.93613501571727,105.37301162152004]
[169,{"$f":"OFFSET(Calculations!AS$43,$A238,0)-U$3-B$10","v":0},{"$f":"OFFSET(Calculations!AT$43,$A238,0)-V$3-B$11","v":160.95991214460452},{"$f":"OFFSET(Calculations!AU$43,$A238,0)-W$3-B$12","v":110.46147786233011},0,160.95991214460452,110.46147786233011,0,160.95991214460452,110.46147786233011,0,160.95991214460452,110.46147786233011,null,null,null,{"$f":"IF(P237=1,K238*B$1/(B$1+B$2+L238),99999)","v":0},12.922500541401487,null,null,{"$f":"(7*U235+3*U245)/10","v":0},119.30078509670462,138.41163680299627,-10,0,0,0,1.1563497071654893,0.10324170537398913,-10,0,0,1,null,null,null,null,null,null,null,null,null,null,null,7,182.11597371161639,96.138089491635228]
[168,{"$f":"OFFSET(Calculations!AS$43,$A239,0)-U$3-B$10","v":-5},{"$f":"OFFSET(Calculations!AT$43,$A239,0)-V$3-B$11","v":163.24215391519817},{"$f":"OFFSET(Calculations!AU$43,$A239,0)-W$3-B$12","v":112.44540036599734},-5,163.24215391519817,112.44540036599734,-5,163.24215391519817,112.44540036599734,-5,163.24215391519817,112.44540036599734,null,null,null,{"$f":"IF(P237=1,K239*B$1/(B$1+B$2+L239),99999)","v":-0.5772267184403046},12.981297891394174,null,null,{"$f":"(6*U235+4*U245)/10","v":0},120.44042614990039,138.67435169020274,-10,0,0,0,1.1582062242733002,8.5522462948176781E-2,-10,0,0,1,null,null,null,null,null,null,null,null,null,null,null,-5,188.272588464873,88.257981955567971]
[175,{"$f":"OFFSET(Calculations!AS$43,$A240,0)-U$3-B$10","v":-5},{"$f":"OFFSET(Calculations!AT$43,$A240,0)-V$3-B$11","v":169.80274420510324},{"$f":"OFFSET(Calculations!AU$43,$A240,0)-W$3-B$12","v":104.89830456376963},-5,169.80274420510324,104.89830456376963,-5,169.80274420510324,104.89830456376963,-5,169.80274420510324,104.89830456376963,null,null,null,{"$f":"IF(P237=1,K240*B$1/(B$1+B$2+L240),99999)","v":-0.55616503764774994},11.668153901378815,null,null,{"$f":"(5*U235+5*U245)/10","v":0},121.58006720309614,138.93706657740918,-10,0,0,0,1.1575774392801463,5.0161183185792879E-2,-10,0,0,1,null,null,null,null,null,null,null,null,null,null,null,0,185.90645484204319,86.409355765656841]
[177,{"$f":"OFFSET(Calculations!AS$43,$A241,0)-U$3-B$10","v":5},{"$f":"OFFSET(Calculations!AT$43,$A241,0)-V$3-B$11","v":169.80274420510324},{"$f":"OFFSET(Calculations!AU$43,$A241,0)-W$3-B$12","v":104.89830456376963},5,169.80274420510324,104.89830456376963,5,169.80274420510324,104.89830456376963,5,169.80274420510324,104.89830456376963,null,null,null,{"$f":"IF(P237=1,K241*B$1/(B$1+B$2+L241),99999)","v":0.55616503764774994},11.668153901378815,null,null,{"$f":"(4*U235+6*U245)/10","v":0},122.7197082562919,139.19978146461568,-10,0,0,0,1.1569486542871061,1.4799903423408978E-2,-10,0,0,1,null,null,null,null,null,null,null,null,null,null,null,5,188.272588464873,88.257981955567971]
[170,{"$f":"OFFSET(Calculations!AS$43,$A242,0)-U$3-B$10","v":5},{"$f":"OFFSET(Calculations!AT$43,$A242,0)-V$3-B$11","v":163.24215391519817},{"$f":"OFFSET(Calculations!AU$43,$A242,0)-W$3-B$12","v":112.44540036599734},5,163.24215391519817,112.44540036599734,5,163.24215391519817,112.44540036599734,5,163.24215391519817,112.44540036599734,null,null,null,{"$f":"IF(P237=1,K242*B$1/(B$1+B$2+L242),99999)","v":0.5772267184403046},12.981297891394174,null,null,{"$f":"(3*U235+7*U245)/10","v":0},123.85934930948765,139.46249635182215,-10,0,0,0,1.1563198692940091,-2.0561376338946502E-2,-10,0,0,1,null,null,null,null,null,null,null,null,null,null,null,0,193.78866374011997,92.567612282847548]
[169,{"$f":"OFFSET(Calculations!AS$43,$A243,0)-U$3-B$10","v":0},{"$f":"OFFSET(Calculations!AT$43,$A243,0)-V$3-B$11","v":160.95991214460452},{"$f":"OFFSET(Calculations!AU$43,$A243,0)-W$3-B$12","v":110.46147786233011},0,160.95991214460452,110.46147786233011,0,160.95991214460452,110.46147786233011,0,160.95991214460452,110.46147786233011,null,null,null,{"$f":"IF(P237=1,K243*B$1/(B$1+B$2+L243),99999)","v":0},12.922500541401487,null,null,{"$f":"(2*U235+8*U245)/10","v":0},124.99899036268343,139.72521123902862,-10,0,0,0,1.1556910843009121,-5.5922656101358825E-2,-10,0,0,1,null,null,null,null,null,null,null,null,null,null,null,-7,188.272588464873,88.257981955567971]
[" ",null,null,null,null,null,null,null,null,null,null,null,null,null,null,null,null,null,null,null,{"$f":"(1*U235+9*U245)/10","v":0},126.13863141587917,139.98792612623507,-10,0,0,0,1.155062299307815,-9.1283935863742727E-2,-10,0,0,1,null,null,null,null,null,null,null,null,null,null,null,0,200.09274976897382,97.492904085452849]
[{"$f":"A237+7","v":183},{"$f":"OFFSET(Calculations!AS$43,$A245,0)-U$3-B$10","v":0},{"$f":"OFFSET(Calculations!AT$43,$A245,0)-V$3-B$11","v":173.58692124950116},{"$f":"OFFSET(Calculations!AU$43,$A245,0)-W$3-B$12","v":95.16464554598862},{"$f":"B245*F$5+C245*F$4","v":0},{"$f":"C245*F$5-B245*F$4","v":173.58692124950116},{"$f":"D245","v":95.16464554598862},0,{"$f":"F245*F$7+G245*F$6","v":173.58692124950116},{"$f":"G245*F$7-F245*F$6","v":95.16464554598862},{"$f":"H245*F$9+J245*F$8","v":0},{"$f":"I245","v":173.58692124950116},{"$f":"J245*F$9-H245*F$8","v":95.16464554598862},null,null,{"$f":"IF(MIN(L245:L251)+B$2+B$1>0,1,0)","v":1},{"$f":"IF(P245=1,K245*B$1/(B$1+B$2+L245),99999)","v":0},{"$f":"M245*B$1/(B$1+B$2+L245)","v":10.36725763450834},null,{"$f":"T235+7","v":140},{"$f":"OFFSET(Calculations!AS$46,$T245,0)","v":0},{"$f":"OFFSET(Calculations!AT$46,$T245,0)","v":127.27827246907495},{"$f":"OFFSET(Calculations!AU$46,$T245,0)","v":140.25064101344154},{"$f":"OFFSET(Calculations!AS$43,$T245,0)-OFFSET(Calculations!AS$45,$T245,0)","v":-10},{"$f":"OFFSET(Calculations!AT$43,$T245,0)-OFFSET(Calculations!AT$45,$T245,0)","v":0},{"$f":"OFFSET(Calculations!AU$43,$T245,0)-OFFSET(Calculations!AU$45,$T245,0)","v":0},0,1.154433514314718,-0.12664521562609821,-10,0,0,1,null,null,null,null,null,null,null,null,null,null,null,7,188.272588464873,88.257981955567971]
[176,{"$f":"OFFSET(Calculations!AS$43,$A246,0)-U$3-B$10","v":0},{"$f":"OFFSET(Calculations!AT$43,$A246,0)-V$3-B$11","v":167.42557843172293},{"$f":"OFFSET(Calculations!AU$43,$A246,0)-W$3-B$12","v":103.04105911320389},0,167.42557843172293,103.04105911320389,0,167.42557843172293,103.04105911320389,0,167.42557843172293,103.04105911320389,null,null,null,{"$f":"IF(P245=1,K246*B$1/(B$1+B$2+L246),99999)","v":0},11.615130132193002,null,null,{"$f":"(9*U245+U255)/10","v":0},128.44761779599472,140.22984802183473,-10,0,0,0,1.1519482122139095,-0.14428725296264133,-10,0,0,{"$f":"AG$245+SIGN(W$245-W246)*SQRT(2*ABS(W$245-W246)/Z$5)","v":1.0720988758698966},null,null,null,null,null,null,null,null,null,null,null,-5,194.42920321812952,80.377874419500785]
[175,{"$f":"OFFSET(Calculations!AS$43,$A247,0)-U$3-B$10","v":-5},{"$f":"OFFSET(Calculations!AT$43,$A247,0)-V$3-B$11","v":169.80274420510324},{"$f":"OFFSET(Calculations!AU$43,$A247,0)-W$3-B$12","v":104.89830456376963},-5,169.80274420510324,104.89830456376963,-5,169.80274420510324,104.89830456376963,-5,169.80274420510324,104.89830456376963,null,null,null,{"$f":"IF(P245=1,K247*B$1/(B$1+B$2+L247),99999)","v":-0.55616503764774994},11.668153901378815,null,null,{"$f":"(8*U245+2*U255)/10","v":0},129.61696312291448,140.20905503022794,-10,0,0,0,1.1494629101131011,-0.1619292902992413,-10,0,0,1.1019632080870272,null,null,null,null,null,null,null,null,null,null,null,0,192.06464561680696,78.530479552540243]
[182,{"$f":"OFFSET(Calculations!AS$43,$A248,0)-U$3-B$10","v":-5},{"$f":"OFFSET(Calculations!AT$43,$A248,0)-V$3-B$11","v":175.95935895835981},{"$f":"OFFSET(Calculations!AU$43,$A248,0)-W$3-B$12","v":97.018197027702428},-5,175.95935895835981,97.018197027702428,-5,175.95935895835981,97.018197027702428,-5,175.95935895835981,97.018197027702428,null,null,null,{"$f":"IF(P245=1,K248*B$1/(B$1+B$2+L248),99999)","v":-0.53775190751433},10.434344103049616,null,null,{"$f":"(7*U245+3*U255)/10","v":0},130.78630844983425,140.18826203862113,-10,0,0,0,1.1469776080122074,-0.17957132763575601,-10,0,0,1.1248789161752342,null,null,null,null,null,null,null,null,null,null,null,5,194.42920321812952,80.377874419500785]
[184,{"$f":"OFFSET(Calculations!AS$43,$A249,0)-U$3-B$10","v":5},{"$f":"OFFSET(Calculations!AT$43,$A249,0)-V$3-B$11","v":175.95935895835981},{"$f":"OFFSET(Calculations!AU$43,$A249,0)-W$3-B$12","v":97.018197027702428},5,175.95935895835981,97.018197027702428,5,175.95935895835981,97.018197027702428,5,175.95935895835981,97.018197027702428,null,null,null,{"$f":"IF(P245=1,K249*B$1/(B$1+B$2+L249),99999)","v":0.53775190751433},10.434344103049616,null,null,{"$f":"(6*U245+4*U255)/10","v":0},131.95565377675402,140.16746904701432,-10,0,0,0,1.1444923059113989,-0.19721336497229913,-10,0,0,1.1441977517397686,null,null,null,null,null,null,null,null,null,null,null,0,199.94527849337661,84.687504746780348]
[177,{"$f":"OFFSET(Calculations!AS$43,$A250,0)-U$3-B$10","v":5},{"$f":"OFFSET(Calculations!AT$43,$A250,0)-V$3-B$11","v":169.80274420510324},{"$f":"OFFSET(Calculations!AU$43,$A250,0)-W$3-B$12","v":104.89830456376963},5,169.80274420510324,104.89830456376963,5,169.80274420510324,104.89830456376963,5,169.80274420510324,104.89830456376963,null,null,null,{"$f":"IF(P245=1,K250*B$1/(B$1+B$2+L250),99999)","v":0.55616503764774994},11.668153901378815,null,null,{"$f":"(5*U245+5*U255)/10","v":0},133.12499910367379,140.14667605540751,-10,0,0,0,1.135327530688869,-0.23137214674392226,-10,0,0,1.1612179875463859,null,null,null,null,null,null,null,null,null,null,null,-7,194.42920321812952,80.377874419500785]
[176,{"$f":"OFFSET(Calculations!AS$43,$A251,0)-U$3-B$10","v":0},{"$f":"OFFSET(Calculations!AT$43,$A251,0)-V$3-B$11","v":167.42557843172293},{"$f":"OFFSET(Calculations!AU$43,$A251,0)-W$3-B$12","v":103.04105911320389},0,167.42557843172293,103.04105911320389,0,167.42557843172293,103.04105911320389,0,167.42557843172293,103.04105911320389,null,null,null,{"$f":"IF(P245=1,K251*B$1/(B$1+B$2+L251),99999)","v":0},11.615130132193002,null,null,{"$f":"(4*U245+6*U255)/10","v":0},134.29434443059353,140.1258830638007,-10,0,0,0,1.126162755466396,-0.26553092851560223,-10,0,0,1.1766054569094893,null,null,null,null,null,null,null,null,null,null,null,0,206.24936452223039,89.612796549385621]
[" ",null,null,null,null,null,null,null,null,null,null,null,null,null,null,null,null,null,null,null,{"$f":"(3*U245+7*U255)/10","v":0},135.46368975751332,140.10509007219389,-10,0,0,0,1.1169979802439514,-0.29968971028722535,-10,0,0,1.1907556953590435,null,null,null,null,null,null,null,null,null,null,null,7,194.42920321812952,80.377874419500785]
[{"$f":"A245+7","v":190},{"$f":"OFFSET(Calculations!AS$43,$A253,0)-U$3-B$10","v":0},{"$f":"OFFSET(Calculations!AT$43,$A253,0)-V$3-B$11","v":179.74721338627458},{"$f":"OFFSET(Calculations!AU$43,$A253,0)-W$3-B$12","v":87.287411096806267},{"$f":"B253*F$5+C253*F$4","v":0},{"$f":"C253*F$5-B253*F$4","v":179.74721338627458},{"$f":"D253","v":87.287411096806267},0,{"$f":"F253*F$7+G253*F$6","v":179.74721338627458},{"$f":"G253*F$7-F253*F$6","v":87.287411096806267},{"$f":"H253*F$9+J253*F$8","v":0},{"$f":"I253","v":179.74721338627458},{"$f":"J253*F$9-H253*F$8","v":87.287411096806267},null,null,{"$f":"IF(MIN(L253:L259)+B$2+B$1>0,1,0)","v":1},{"$f":"IF(P253=1,K253*B$1/(B$1+B$2+L253),99999)","v":0},{"$f":"M253*B$1/(B$1+B$2+L253)","v":9.2003892483113781},null,null,{"$f":"(2*U245+8*U255)/10","v":0},136.63303508443309,140.08429708058708,-10,0,0,0,1.1078332050214499,-0.33384849205884848,-10,0,0,1.2039264161741068,null,null,null,null,null,null,null,null,null,null,null,-5,200.58581797138618,72.497766883433513]
[183,{"$f":"OFFSET(Calculations!AS$43,$A254,0)-U$3-B$10","v":0},{"$f":"OFFSET(Calculations!AT$43,$A254,0)-V$3-B$11","v":173.58692124950116},{"$f":"OFFSET(Calculations!AU$43,$A254,0)-W$3-B$12","v":95.16464554598862},0,173.58692124950116,95.16464554598862,0,173.58692124950116,95.16464554598862,0,173.58692124950116,95.16464554598862,null,null,null,{"$f":"IF(P253=1,K254*B$1/(B$1+B$2+L254),99999)","v":0},10.36725763450834,null,null,{"$f":"(1*U245+9*U255)/10","v":0},137.80238041135286,140.0635040889803,-10,0,0,0,1.0986684297989768,-0.3680072738304716,-10,0,0,1.216296627609657,null,null,null,null,null,null,null,null,null,null,null,0,198.22178571056597,70.650782457456586]
[182,{"$f":"OFFSET(Calculations!AS$43,$A255,0)-U$3-B$10","v":-5},{"$f":"OFFSET(Calculations!AT$43,$A255,0)-V$3-B$11","v":175.95935895835981},{"$f":"OFFSET(Calculations!AU$43,$A255,0)-W$3-B$12","v":97.018197027702428},-5,175.95935895835981,97.018197027702428,-5,175.95935895835981,97.018197027702428,-5,175.95935895835981,97.018197027702428,null,null,null,{"$f":"IF(P253=1,K255*B$1/(B$1+B$2+L255),99999)","v":-0.53775190751433},10.434344103049616,null,{"$f":"T245+7","v":147},{"$f":"OFFSET(Calculations!AS$46,$T255,0)","v":0},{"$f":"OFFSET(Calculations!AT$46,$T255,0)","v":138.97172573827262},{"$f":"OFFSET(Calculations!AU$46,$T255,0)","v":140.04271109737348},{"$f":"OFFSET(Calculations!AS$43,$T255,0)-OFFSET(Calculations!AS$45,$T255,0)","v":-10},{"$f":"OFFSET(Calculations!AT$43,$T255,0)-OFFSET(Calculations!AT$45,$T255,0)","v":0},{"$f":"OFFSET(Calculations!AU$43,$T255,0)-OFFSET(Calculations!AU$45,$T255,0)","v":0},0,1.0895036545764754,-0.40216605560215157,-10,0,0,1.2279966644865958,null,null,null,null,null,null,null,null,null,null,null,5,200.58581797138618,72.497766883433513]
[189,{"$f":"OFFSET(Calculations!AS$43,$A256,0)-U$3-B$10","v":-5},{"$f":"OFFSET(Calculations!AT$43,$A256,0)-V$3-B$11","v":182.11597371161639},{"$f":"OFFSET(Calculations!AU$43,$A256,0)-W$3-B$12","v":89.138089491635228},-5,182.11597371161639,89.138089491635228,-5,182.11597371161639,89.138089491635228,-5,182.11597371161639,89.138089491635228,null,null,null,{"$f":"IF(P253=1,K256*B$1/(B$1+B$2+L256),99999)","v":-0.52051892441858649},9.2796124933827357,null,null,{"$f":"(9*U255+U265)/10","v":0},140.10130623157897,139.73964550838187,-10,0,0,0,1.0828241814548107,-0.41868280003720315,-10,0,0,1.3574197480063419,null,null,null,null,null,null,null,null,null,null,null,0,206.10189324663318,76.807397210713177]
[191,{"$f":"OFFSET(Calculations!AS$43,$A257,0)-U$3-B$10","v":5},{"$f":"OFFSET(Calculations!AT$43,$A257,0)-V$3-B$11","v":182.11597371161639},{"$f":"OFFSET(Calculations!AU$43,$A257,0)-W$3-B$12","v":89.138089491635228},5,182.11597371161639,89.138089491635228,5,182.11597371161639,89.138089491635228,5,182.11597371161639,89.138089491635228,null,null,null,{"$f":"IF(P253=1,K257*B$1/(B$1+B$2+L257),99999)","v":0.52051892441858649},9.2796124933827357,null,null,{"$f":"(8*U255+2*U265)/10","v":0},141.23088672488535,139.43657991939025,-10,0,0,0,1.0761447083331461,-0.43519954447228315,-10,0,0,1.4511266712496842,null,null,null,null,null,null,null,null,null,null,null,-7,200.58581797138618,72.497766883433513]
[184,{"$f":"OFFSET(Calculations!AS$43,$A258,0)-U$3-B$10","v":5},{"$f":"OFFSET(Calculations!AT$43,$A258,0)-V$3-B$11","v":175.95935895835981},{"$f":"OFFSET(Calculations!AU$43,$A258,0)-W$3-B$12","v":97.018197027702428},5,175.95935895835981,97.018197027702428,5,175.95935895835981,97.018197027702428,5,175.95935895835981,97.018197027702428,null,null,null,{"$f":"IF(P253=1,K258*B$1/(B$1+B$2+L258),99999)","v":0.53775190751433},10.434344103049616,null,null,{"$f":"(7*U255+3*U265)/10","v":0},142.36046721819167,139.13351433039864,-10,0,0,0,1.0694652352115384,-0.45171628890736315,-10,0,0,1.5284710689912215,null,null,null,null,null,null,null,null,null,null,null,0,212.40597927548697,81.732689013318421]
[183,{"$f":"OFFSET(Calculations!AS$43,$A259,0)-U$3-B$10","v":0},{"$f":"OFFSET(Calculations!AT$43,$A259,0)-V$3-B$11","v":173.58692124950116},{"$f":"OFFSET(Calculations!AU$43,$A259,0)-W$3-B$12","v":95.16464554598862},0,173.58692124950116,95.16464554598862,0,173.58692124950116,95.16464554598862,0,173.58692124950116,95.16464554598862,null,null,null,{"$f":"IF(P253=1,K259*B$1/(B$1+B$2+L259),99999)","v":0},10.36725763450834,null,null,{"$f":"(6*U255+4*U265)/10","v":0},143.49004771149802,138.830448741407,-10,0,0,0,1.0627857620899022,-0.46823303334247157,-10,0,0,1.5958591008020564,null,null,null,null,null,null,null,null,null,null,null,7,200.58581797138618,72.497766883433513]
[" ",null,null,null,null,null,null,null,null,null,null,null,null,null,null,null,null,null,null,null,{"$f":"(5*U255+5*U265)/10","v":0},144.6196282048044,138.52738315241541,-10,0,0,0,1.0423776129571536,-0.4949221005242066,-10,0,0,1.6563645825732309,null,null,null,null,null,null,null,null,null,null,null,-5,206.74243272464275,64.617659347366327]
[{"$f":"A253+7","v":197},{"$f":"OFFSET(Calculations!AS$43,$A261,0)-U$3-B$10","v":0},{"$f":"OFFSET(Calculations!AT$43,$A261,0)-V$3-B$11","v":185.90645484204319},{"$f":"OFFSET(Calculations!AU$43,$A261,0)-W$3-B$12","v":79.409355765656841},{"$f":"B261*F$5+C261*F$4","v":0},{"$f":"C261*F$5-B261*F$4","v":185.90645484204319},{"$f":"D261","v":79.409355765656841},0,{"$f":"F261*F$7+G261*F$6","v":185.90645484204319},{"$f":"G261*F$7-F261*F$6","v":79.409355765656841},{"$f":"H261*F$9+J261*F$8","v":0},{"$f":"I261","v":185.90645484204319},{"$f":"J261*F$9-H261*F$8","v":79.409355765656841},{"$f":"IF(P261=1,K261*B$1/(B$1+B$2+L261),99999)","v":0},{"$f":"M261*B$1/(B$1+B$2+L261)","v":8.1068646594297853},{"$f":"IF(MIN(L261:L267)+B$2+B$1>0,1,0)","v":1},null,null,null,null,{"$f":"(4*U255+6*U265)/10","v":0},145.74920869811075,138.2243175634238,-10,0,0,0,1.0219694638243482,-0.52161116770597005,-10,0,0,1.7117449420294011,null,null,null,null,null,null,null,null,null,null,null,0,204.37787512332017,62.7702644804058]
[190,{"$f":"OFFSET(Calculations!AS$43,$A262,0)-U$3-B$10","v":0},{"$f":"OFFSET(Calculations!AT$43,$A262,0)-V$3-B$11","v":179.74721338627458},{"$f":"OFFSET(Calculations!AU$43,$A262,0)-W$3-B$12","v":87.287411096806267},0,179.74721338627458,87.287411096806267,0,179.74721338627458,87.287411096806267,0,179.74721338627458,87.287411096806267,{"$f":"IF(P261=1,K262*B$1/(B$1+B$2+L262),99999)","v":0},9.2003892483113781,null,null,null,null,null,{"$f":"(3*U255+7*U265)/10","v":0},146.87878919141713,137.92125197443218,-10,0,0,0,1.0015613146915996,-0.54830023488770507,-10,0,0,1.7631168061000486,null,null,null,null,null,null,null,null,null,null,null,5,206.74243272464275,64.617659347366327]
[189,{"$f":"OFFSET(Calculations!AS$43,$A263,0)-U$3-B$10","v":-5},{"$f":"OFFSET(Calculations!AT$43,$A263,0)-V$3-B$11","v":182.11597371161639},{"$f":"OFFSET(Calculations!AU$43,$A263,0)-W$3-B$12","v":89.138089491635228},-5,182.11597371161639,89.138089491635228,-5,182.11597371161639,89.138089491635228,-5,182.11597371161639,89.138089491635228,{"$f":"IF(P261=1,K263*B$1/(B$1+B$2+L263),99999)","v":-0.52051892441858649},9.2796124933827357,null,null,null,null,null,{"$f":"(2*U255+8*U265)/10","v":0},148.00836968472348,137.61818638544057,-10,0,0,0,0.98115316555882259,-0.57498930206946852,-10,0,0,1.8112420458779506,null,null,null,null,null,null,null,null,null,null,null,0,212.25850799988984,68.927289674645891]
[196,{"$f":"OFFSET(Calculations!AS$43,$A264,0)-U$3-B$10","v":-5},{"$f":"OFFSET(Calculations!AT$43,$A264,0)-V$3-B$11","v":188.272588464873},{"$f":"OFFSET(Calculations!AU$43,$A264,0)-W$3-B$12","v":81.257981955567971},-5,188.272588464873,81.257981955567971,-5,188.272588464873,81.257981955567971,-5,188.272588464873,81.257981955567971,{"$f":"IF(P261=1,K264*B$1/(B$1+B$2+L264),99999)","v":-0.50435615318411264},8.1965926389228585,null,null,null,null,null,{"$f":"(1*U255+9*U265)/10","v":0},149.13795017802983,137.31512079644895,-10,0,0,0,0.96074501642607402,-0.60167836925123197,-10,0,0,1.8566679953448397,null,null,null,null,null,null,null,null,null,null,null,-7,206.74243272464275,64.617659347366327]
[198,{"$f":"OFFSET(Calculations!AS$43,$A265,0)-U$3-B$10","v":5},{"$f":"OFFSET(Calculations!AT$43,$A265,0)-V$3-B$11","v":188.272588464873},{"$f":"OFFSET(Calculations!AU$43,$A265,0)-W$3-B$12","v":81.257981955567971},5,188.272588464873,81.257981955567971,5,188.272588464873,81.257981955567971,5,188.272588464873,81.257981955567971,{"$f":"IF(P261=1,K265*B$1/(B$1+B$2+L265),99999)","v":0.50435615318411264},8.1965926389228585,null,null,null,null,{"$f":"T255+7","v":154},{"$f":"OFFSET(Calculations!AS$46,$T265,0)","v":0},{"$f":"OFFSET(Calculations!AT$46,$T265,0)","v":150.26753067133617},{"$f":"OFFSET(Calculations!AU$46,$T265,0)","v":137.01205520745734},{"$f":"OFFSET(Calculations!AS$43,$T265,0)-OFFSET(Calculations!AS$45,$T265,0)","v":-10},{"$f":"OFFSET(Calculations!AT$43,$T265,0)-OFFSET(Calculations!AT$45,$T265,0)","v":0},{"$f":"OFFSET(Calculations!AU$43,$T265,0)-OFFSET(Calculations!AU$45,$T265,0)","v":0},0,0.94033686729329702,-0.62836743643299542,-10,0,0,1.8998035627269156,null,null,null,null,null,null,null,null,null,null,null,0,218.56259402874358,73.852581477251206]
[191,{"$f":"OFFSET(Calculations!AS$43,$A266,0)-U$3-B$10","v":5},{"$f":"OFFSET(Calculations!AT$43,$A266,0)-V$3-B$11","v":182.11597371161639},{"$f":"OFFSET(Calculations!AU$43,$A266,0)-W$3-B$12","v":89.138089491635228},5,182.11597371161639,89.138089491635228,5,182.11597371161639,89.138089491635228,5,182.11597371161639,89.138089491635228,{"$f":"IF(P261=1,K266*B$1/(B$1+B$2+L266),99999)","v":0.52051892441858649},9.2796124933827357,null,null,null,null,null,{"$f":"(9*U265+U275)/10","v":0},151.29023959469617,136.44472170750436,-10,0,0,0,0.92660819128218463,-0.63853975917965045,-10,0,0,1.9754382740513594,null,null,null,null,null,null,null,null,null,null,null,7,206.74243272464275,64.617659347366327]
[190,{"$f":"OFFSET(Calculations!AS$43,$A267,0)-U$3-B$10","v":0},{"$f":"OFFSET(Calculations!AT$43,$A267,0)-V$3-B$11","v":179.74721338627458},{"$f":"OFFSET(Calculations!AU$43,$A267,0)-W$3-B$12","v":87.287411096806267},0,179.74721338627458,87.287411096806267,0,179.74721338627458,87.287411096806267,0,179.74721338627458,87.287411096806267,{"$f":"IF(P261=1,K267*B$1/(B$1+B$2+L267),99999)","v":0},9.2003892483113781,null,null,null,null,null,{"$f":"(8*U265+2*U275)/10","v":0},152.3129485180562,135.87738820755141,-10,0,0,0,0.91287951527107225,-0.64871208192630547,-10,0,0,2.0456161826753316,null,null,null,null,null,null,null,null,null,null,null,-5,212.89904747789933,56.737551811299092]
[" ",null,null,null,null,null,null,null,null,null,null,null,null,null,null,null,null,null,null,null,{"$f":"(7*U265+3*U275)/10","v":0},153.3356574414162,135.31005470759845,-10,0,0,0,0.89915083925995987,-0.65888440467301734,-10,0,0,2.1113714844554772,null,null,null,null,null,null,null,null,null,null,null,0,210.70303609650415,54.689738068818123]
[{"$f":"A261+7","v":204},{"$f":"OFFSET(Calculations!AS$43,$A269,0)-U$3-B$10","v":0},{"$f":"OFFSET(Calculations!AT$43,$A269,0)-V$3-B$11","v":192.06464561680696},{"$f":"OFFSET(Calculations!AU$43,$A269,0)-W$3-B$12","v":71.530479552540243},{"$f":"B269*F$5+C269*F$4","v":0},{"$f":"C269*F$5-B269*F$4","v":192.06464561680696},{"$f":"D269","v":71.530479552540243},0,{"$f":"F269*F$7+G269*F$6","v":192.06464561680696},{"$f":"G269*F$7-F269*F$6","v":71.530479552540243},{"$f":"H269*F$9+J269*F$8","v":0},{"$f":"I269","v":192.06464561680696},{"$f":"J269*F$9-H269*F$8","v":71.530479552540243},{"$f":"IF(P269=1,K269*B$1/(B$1+B$2+L269),99999)","v":0},{"$f":"M269*B$1/(B$1+B$2+L269)","v":7.0799599142335676},{"$f":"IF(MIN(L269:L275)+B$2+B$1>0,1,0)","v":1},null,null,null,null,{"$f":"(6*U265+4*U275)/10","v":0},154.3583663647762,134.74272120764547,-10,0,0,0,0.88542216324884748,-0.66905672741964395,-10,0,0,2.1734478903850039,null,null,null,null,null,null,null,null,null,null,null,5,212.89904747789933,56.737551811299092]
[197,{"$f":"OFFSET(Calculations!AS$43,$A270,0)-U$3-B$10","v":0},{"$f":"OFFSET(Calculations!AT$43,$A270,0)-V$3-B$11","v":185.90645484204319},{"$f":"OFFSET(Calculations!AU$43,$A270,0)-W$3-B$12","v":79.409355765656841},0,185.90645484204319,79.409355765656841,0,185.90645484204319,79.409355765656841,0,185.90645484204319,79.409355765656841,{"$f":"IF(P269=1,K270*B$1/(B$1+B$2+L270),99999)","v":0},8.1068646594297853,null,null,null,null,null,{"$f":"(5*U265+5*U275)/10","v":0},155.3810752881362,134.17538770769252,-10,0,0,0,0.86396347118628114,-0.68253512540937322,-10,0,0,2.2324014469470788,null,null,null,null,null,null,null,null,null,null,null,0,218.01852338923348,61.511540331736548]
[196,{"$f":"OFFSET(Calculations!AS$43,$A271,0)-U$3-B$10","v":-5},{"$f":"OFFSET(Calculations!AT$43,$A271,0)-V$3-B$11","v":188.272588464873},{"$f":"OFFSET(Calculations!AU$43,$A271,0)-W$3-B$12","v":81.257981955567971},-5,188.272588464873,81.257981955567971,-5,188.272588464873,81.257981955567971,-5,188.272588464873,81.257981955567971,{"$f":"IF(P269=1,K271*B$1/(B$1+B$2+L271),99999)","v":-0.50435615318411264},8.1965926389228585,null,null,null,null,null,{"$f":"(4*U265+6*U275)/10","v":0},156.4037842114962,133.60805420773954,-10,0,0,0,0.84250477912374322,-0.69601352339904565,-10,0,0,2.2886608170599039,null,null,null,null,null,null,null,null,null,null,null,-7,212.89904747789933,56.737551811299092]
[203,{"$f":"OFFSET(Calculations!AS$43,$A272,0)-U$3-B$10","v":-5},{"$f":"OFFSET(Calculations!AT$43,$A272,0)-V$3-B$11","v":194.42920321812952},{"$f":"OFFSET(Calculations!AU$43,$A272,0)-W$3-B$12","v":73.377874419500785},-5,194.42920321812952,73.377874419500785,-5,194.42920321812952,73.377874419500785,-5,194.42920321812952,73.377874419500785,{"$f":"IF(P269=1,K272*B$1/(B$1+B$2+L272),99999)","v":-0.48916690191908768},7.1788054998390152,null,null,null,null,null,{"$f":"(3*U265+7*U275)/10","v":0},157.42649313485623,133.04072070778656,-10,0,0,0,0.8210460870612053,-0.7094919213887465,-10,0,0,2.3425647382579893,null,null,null,null,null,null,null,null,null,null,null,0,223.86935300218687,66.96752721223659]
[205,{"$f":"OFFSET(Calculations!AS$43,$A273,0)-U$3-B$10","v":5},{"$f":"OFFSET(Calculations!AT$43,$A273,0)-V$3-B$11","v":194.42920321812952},{"$f":"OFFSET(Calculations!AU$43,$A273,0)-W$3-B$12","v":73.377874419500785},5,194.42920321812952,73.377874419500785,5,194.42920321812952,73.377874419500785,5,194.42920321812952,73.377874419500785,{"$f":"IF(P269=1,K273*B$1/(B$1+B$2+L273),99999)","v":0.48916690191908768},7.1788054998390152,null,null,null,null,null,{"$f":"(2*U265+8*U275)/10","v":0},158.44920205821623,132.47338720783361,-10,0,0,0,0.79958739499866738,-0.72297031937844736,-10,0,0,2.3943864067761065,null,null,null,null,null,null,null,null,null,null,null,7,212.89904747789933,56.737551811299092]
[198,{"$f":"OFFSET(Calculations!AS$43,$A274,0)-U$3-B$10","v":5},{"$f":"OFFSET(Calculations!AT$43,$A274,0)-V$3-B$11","v":188.272588464873},{"$f":"OFFSET(Calculations!AU$43,$A274,0)-W$3-B$12","v":81.257981955567971},5,188.272588464873,81.257981955567971,5,188.272588464873,81.257981955567971,5,188.272588464873,81.257981955567971,{"$f":"IF(P269=1,K274*B$1/(B$1+B$2+L274),99999)","v":0.50435615318411264},8.1965926389228585,null,null,null,null,null,{"$f":"(1*U265+9*U275)/10","v":0},159.4719109815762,131.90605370788063,-10,0,0,0,0.77812870293610104,-0.73644871736816242,-10,0,0,2.4443499667290567,null,null,null,null,null,null,null,null,null,null,null,-4.9987937030088903,219.72670023943081,49.314457966339589]
[197,{"$f":"OFFSET(Calculations!AS$43,$A275,0)-U$3-B$10","v":0},{"$f":"OFFSET(Calculations!AT$43,$A275,0)-V$3-B$11","v":185.90645484204319},{"$f":"OFFSET(Calculations!AU$43,$A275,0)-W$3-B$12","v":79.409355765656841},0,185.90645484204319,79.409355765656841,0,185.90645484204319,79.409355765656841,0,185.90645484204319,79.409355765656841,{"$f":"IF(P269=1,K275*B$1/(B$1+B$2+L275),99999)","v":0},8.1068646594297853,null,null,null,null,{"$f":"T265+7","v":161},{"$f":"OFFSET(Calculations!AS$46,$T275,0)","v":0},{"$f":"OFFSET(Calculations!AT$46,$T275,0)","v":160.49461990493623},{"$f":"OFFSET(Calculations!AU$46,$T275,0)","v":131.33872020792768},{"$f":"OFFSET(Calculations!AS$43,$T275,0)-OFFSET(Calculations!AS$45,$T275,0)","v":-10},{"$f":"OFFSET(Calculations!AT$43,$T275,0)-OFFSET(Calculations!AT$45,$T275,0)","v":0},{"$f":"OFFSET(Calculations!AU$43,$T275,0)-OFFSET(Calculations!AU$45,$T275,0)","v":0},0,0.75667001087356311,-0.74992711535784906,-10,0,0,2.4926420205054072,null,null,null,null,null,null,null,null,null,null,null,5.1315514627882239E-2,217.99518782838229,46.961949165011731]
[" ",null,null,null,null,null,null,null,null,null,null,null,null,null,null,null,null,null,null,null,{"$f":"(9*U275+U285)/10","v":0},161.29767001211835,130.60862954402802,-10,0,0,0,0.74893999482213758,-0.75323319060088068,-10,0,0,2.5525794238470958,null,null,null,null,null,null,null,null,null,null,null,4.9987937030088903,219.71136191761772,49.533571623875225]
[{"$f":"A269+7","v":211},{"$f":"OFFSET(Calculations!AS$43,$A277,0)-U$3-B$10","v":0},{"$f":"OFFSET(Calculations!AT$43,$A277,0)-V$3-B$11","v":198.22178571056597},{"$f":"OFFSET(Calculations!AU$43,$A277,0)-W$3-B$12","v":63.650782457456586},{"$f":"B277*F$5+C277*F$4","v":0},{"$f":"C277*F$5-B277*F$4","v":198.22178571056597},{"$f":"D277","v":63.650782457456586},0,{"$f":"F277*F$7+G277*F$6","v":198.22178571056597},{"$f":"G277*F$7-F277*F$6","v":63.650782457456586},{"$f":"H277*F$9+J277*F$8","v":0},{"$f":"I277","v":198.22178571056597},{"$f":"J277*F$9-H277*F$8","v":63.650782457456586},{"$f":"IF(P277=1,K277*B$1/(B$1+B$2+L277),99999)","v":0},{"$f":"M277*B$1/(B$1+B$2+L277)","v":6.1137485916995189},{"$f":"IF(MIN(L277:L283)+B$2+B$1>0,1,0)","v":1},null,null,null,null,{"$f":"(8*U275+2*U285)/10","v":0},162.10072011930052,129.87853888012833,-10,0,0,0,0.74120997877068362,-0.7565392658439265,-10,0,0,2.6102874070576041,null,null,null,null,null,null,null,null,null,null,null,-0.11949720638562064,223.7333034507777,55.157367892469281]
[204,{"$f":"OFFSET(Calculations!AS$43,$A278,0)-U$3-B$10","v":0},{"$f":"OFFSET(Calculations!AT$43,$A278,0)-V$3-B$11","v":192.06464561680696},{"$f":"OFFSET(Calculations!AU$43,$A278,0)-W$3-B$12","v":71.530479552540243},0,192.06464561680696,71.530479552540243,0,192.06464561680696,71.530479552540243,0,192.06464561680696,71.530479552540243,{"$f":"IF(P277=1,K278*B$1/(B$1+B$2+L278),99999)","v":0},7.0799599142335676,null,null,null,null,null,{"$f":"(7*U275+3*U285)/10","v":0},162.90377022648266,129.14844821622864,-10,0,0,0,0.7334799627192865,-0.7598453410869439,-10,0,0,2.6659976588528638,null,null,null,null,null,null,null,null,null,null,null,-6.9983111842124472,219.72976790379346,49.270635234832497]
[203,{"$f":"OFFSET(Calculations!AS$43,$A279,0)-U$3-B$10","v":-5},{"$f":"OFFSET(Calculations!AT$43,$A279,0)-V$3-B$11","v":194.42920321812952},{"$f":"OFFSET(Calculations!AU$43,$A279,0)-W$3-B$12","v":73.377874419500785},-5,194.42920321812952,73.377874419500785,-5,194.42920321812952,73.377874419500785,-5,194.42920321812952,73.377874419500785,{"$f":"IF(P277=1,K279*B$1/(B$1+B$2+L279),99999)","v":-0.48916690191908768},7.1788054998390152,null,null,null,null,null,{"$f":"(6*U275+4*U285)/10","v":0},163.70682033366478,128.41835755232898,-10,0,0,0,0.72574994666783255,-0.76315141633000394,-10,0,0,2.7199043186404697,null,null,null,null,null,null,null,null,null,null,null,-0.25606544225490141,228.32104330478163,61.709771432311442]
[210,{"$f":"OFFSET(Calculations!AS$43,$A280,0)-U$3-B$10","v":-5},{"$f":"OFFSET(Calculations!AT$43,$A280,0)-V$3-B$11","v":200.58581797138618},{"$f":"OFFSET(Calculations!AU$43,$A280,0)-W$3-B$12","v":65.497766883433513},-5,200.58581797138618,65.497766883433513,-5,200.58581797138618,65.497766883433513,-5,200.58581797138618,65.497766883433513,{"$f":"IF(P277=1,K280*B$1/(B$1+B$2+L280),99999)","v":-0.47486578613564434},6.220529712246166,null,null,null,null,null,{"$f":"(5*U275+5*U285)/10","v":0},164.5098704408469,127.68826688842933,-10,0,0,0,0.71403815717678754,-0.76677142193665304,-10,0,0,2.7721719812854095,null,null,null,null,null,null,null,null,null,null,null,6.9983111842124472,219.70829425325519,49.57739435538231]
[212,{"$f":"OFFSET(Calculations!AS$43,$A281,0)-U$3-B$10","v":5},{"$f":"OFFSET(Calculations!AT$43,$A281,0)-V$3-B$11","v":200.58581797138618},{"$f":"OFFSET(Calculations!AU$43,$A281,0)-W$3-B$12","v":65.497766883433513},5,200.58581797138618,65.497766883433513,5,200.58581797138618,65.497766883433513,5,200.58581797138618,65.497766883433513,{"$f":"IF(P277=1,K281*B$1/(B$1+B$2+L281),99999)","v":0.47486578613564434},6.220529712246166,null,null,null,null,null,{"$f":"(4*U275+6*U285)/10","v":0},165.31292054802904,126.95817622452964,-10,0,0,0,0.70232636768579937,-0.7703914275433732,-10,0,0,2.8229416329734685,null,null,null,null,null,null,null,null,null,null,null,-4.8570107667811282,227.94926090841057,43.475917090211553]
[205,{"$f":"OFFSET(Calculations!AS$43,$A282,0)-U$3-B$10","v":5},{"$f":"OFFSET(Calculations!AT$43,$A282,0)-V$3-B$11","v":194.42920321812952},{"$f":"OFFSET(Calculations!AU$43,$A282,0)-W$3-B$12","v":73.377874419500785},5,194.42920321812952,73.377874419500785,5,194.42920321812952,73.377874419500785,5,194.42920321812952,73.377874419500785,{"$f":"IF(P277=1,K282*B$1/(B$1+B$2+L282),99999)","v":0.48916690191908768},7.1788054998390152,null,null,null,null,null,{"$f":"(3*U275+7*U285)/10","v":0},166.11597065521119,126.22808556062998,-10,0,0,0,0.69061457819472594,-0.77401143315005072,-10,0,0,2.8723351364547134,null,null,null,null,null,null,null,null,null,null,null,0.24851636916304498,226.73548486487056,40.921615980701631]
[204,{"$f":"OFFSET(Calculations!AS$43,$A283,0)-U$3-B$10","v":0},{"$f":"OFFSET(Calculations!AT$43,$A283,0)-V$3-B$11","v":192.06464561680696},{"$f":"OFFSET(Calculations!AU$43,$A283,0)-W$3-B$12","v":71.530479552540243},0,192.06464561680696,71.530479552540243,0,192.06464561680696,71.530479552540243,0,192.06464561680696,71.530479552540243,{"$f":"IF(P277=1,K283*B$1/(B$1+B$2+L283),99999)","v":0},7.0799599142335676,null,null,null,null,null,{"$f":"(2*U275+8*U285)/10","v":0},166.91902076239333,125.4979948967303,-10,0,0,0,0.67890278870379461,-0.77763143875674245,-10,0,0,2.9204586767691225,null,null,null,null,null,null,null,null,null,null,null,5.1334456001250794,227.87333901732217,43.906053635272286]
[" ",null,null,null,null,null,null,null,null,null,null,null,null,null,null,null,null,null,null,null,{"$f":"(1*U275+9*U285)/10","v":0},167.72207086957545,124.76790423283065,-10,0,0,0,0.66719099921266434,-0.7812514443634484,-10,0,0,2.9674054475762546,null,null,null,null,null,null,null,null,null,null,null,-0.11823497508095267,230.64514817565558,50.129953146493662]
[{"$f":"A277+7","v":218},{"$f":"OFFSET(Calculations!AS$43,$A285,0)-U$3-B$10","v":0},{"$f":"OFFSET(Calculations!AT$43,$A285,0)-V$3-B$11","v":204.37787512332017},{"$f":"OFFSET(Calculations!AU$43,$A285,0)-W$3-B$12","v":55.7702644804058},{"$f":"B285*F$5+C285*F$4","v":0},{"$f":"C285*F$5-B285*F$4","v":204.37787512332017},{"$f":"D285","v":55.7702644804058},0,{"$f":"F285*F$7+G285*F$6","v":204.37787512332017},{"$f":"G285*F$7-F285*F$6","v":55.7702644804058},{"$f":"H285*F$9+J285*F$8","v":0},{"$f":"I285","v":204.37787512332017},{"$f":"J285*F$9-H285*F$8","v":55.7702644804058},{"$f":"IF(P285=1,K285*B$1/(B$1+B$2+L285),99999)","v":0},{"$f":"M285*B$1/(B$1+B$2+L285)","v":5.2029869638668762},{"$f":"IF(MIN(L285:L291)+B$2+B$1>0,1,0)","v":1},null,null,null,{"$f":"T275+7","v":168},{"$f":"OFFSET(Calculations!AS$46,$T285,0)","v":0},{"$f":"OFFSET(Calculations!AT$46,$T285,0)","v":168.52512097675759},{"$f":"OFFSET(Calculations!AU$46,$T285,0)","v":124.03781356893096},{"$f":"OFFSET(Calculations!AS$43,$T285,0)-OFFSET(Calculations!AS$45,$T285,0)","v":-10},{"$f":"OFFSET(Calculations!AT$43,$T285,0)-OFFSET(Calculations!AT$45,$T285,0)","v":0},{"$f":"OFFSET(Calculations!AU$43,$T285,0)-OFFSET(Calculations!AU$45,$T285,0)","v":0},0,0.65547920972167617,-0.78487144997014013,-10,0,0,3.0132577731447219,null,null,null,null,null,null,null,null,null,null,null,-6.8551020401623708,227.96444528662832,43.389889781199358]
[211,{"$f":"OFFSET(Calculations!AS$43,$A286,0)-U$3-B$10","v":0},{"$f":"OFFSET(Calculations!AT$43,$A286,0)-V$3-B$11","v":198.22178571056597},{"$f":"OFFSET(Calculations!AU$43,$A286,0)-W$3-B$12","v":63.650782457456586},0,198.22178571056597,63.650782457456586,0,198.22178571056597,63.650782457456586,0,198.22178571056597,63.650782457456586,{"$f":"IF(P285=1,K286*B$1/(B$1+B$2+L286),99999)","v":0},6.1137485916995189,null,null,null,null,null,{"$f":"(9*U285+U295)/10","v":0},169.20449082711687,123.25482570114279,-10,0,0,0,0.65149743628208512,-0.78518538033377183,-10,0,0,3.0612990632304391,null,null,null,null,null,null,null,null,null,null,null,-0.4113234227985853,233.76954613312887,57.488773470781496]
[210,{"$f":"OFFSET(Calculations!AS$43,$A287,0)-U$3-B$10","v":-5},{"$f":"OFFSET(Calculations!AT$43,$A287,0)-V$3-B$11","v":200.58581797138618},{"$f":"OFFSET(Calculations!AU$43,$A287,0)-W$3-B$12","v":65.497766883433513},-5,200.58581797138618,65.497766883433513,-5,200.58581797138618,65.497766883433513,-5,200.58581797138618,65.497766883433513,{"$f":"IF(P285=1,K287*B$1/(B$1+B$2+L287),99999)","v":-0.47486578613564434},6.220529712246166,null,null,null,null,null,{"$f":"(8*U285+2*U295)/10","v":0},169.88386067747612,122.47183783335463,-10,0,0,0,0.64751566284243722,-0.78549931069744616,-10,0,0,3.1082459047800204,null,null,null,null,null,null,null,null,null,null,null,7.1315368735063238,227.85815463910444,43.992080944284389]
[217,{"$f":"OFFSET(Calculations!AS$43,$A288,0)-U$3-B$10","v":-5},{"$f":"OFFSET(Calculations!AT$43,$A288,0)-V$3-B$11","v":206.74243272464275},{"$f":"OFFSET(Calculations!AU$43,$A288,0)-W$3-B$12","v":57.617659347366327},-5,206.74243272464275,57.617659347366327,-5,206.74243272464275,57.617659347366327,-5,206.74243272464275,57.617659347366327,{"$f":"IF(P285=1,K288*B$1/(B$1+B$2+L288),99999)","v":-0.46137712280383758},5.3166939784759029,null,null,null,null,null,{"$f":"(7*U285+3*U295)/10","v":0},170.5632305278354,121.68884996556645,-10,0,0,0,0.64353388940287459,-0.78581324106109207,-10,0,0,3.1541698544842682,null,null,null,null,null,null,null,null,null,null,null,-4.6134171152948529,237.20634026347153,39.480130576227495]
[219,{"$f":"OFFSET(Calculations!AS$43,$A289,0)-U$3-B$10","v":5},{"$f":"OFFSET(Calculations!AT$43,$A289,0)-V$3-B$11","v":206.74243272464275},{"$f":"OFFSET(Calculations!AU$43,$A289,0)-W$3-B$12","v":57.617659347366327},5,206.74243272464275,57.617659347366327,5,206.74243272464275,57.617659347366327,5,206.74243272464275,57.617659347366327,{"$f":"IF(P285=1,K289*B$1/(B$1+B$2+L289),99999)","v":0.46137712280383758},5.3166939784759029,null,null,null,null,null,{"$f":"(6*U285+4*U295)/10","v":0},171.24260037819468,120.90586209777828,-10,0,0,0,0.63955211596325512,-0.78612717142478061,-10,0,0,3.1991349956098225,null,null,null,null,null,null,null,null,null,null,null,0.55049623557387428,236.54154640007198,36.835829950034679]
[212,{"$f":"OFFSET(Calculations!AS$43,$A290,0)-U$3-B$10","v":5},{"$f":"OFFSET(Calculations!AT$43,$A290,0)-V$3-B$11","v":200.58581797138618},{"$f":"OFFSET(Calculations!AU$43,$A290,0)-W$3-B$12","v":65.497766883433513},5,200.58581797138618,65.497766883433513,5,200.58581797138618,65.497766883433513,5,200.58581797138618,65.497766883433513,{"$f":"IF(P285=1,K290*B$1/(B$1+B$2+L290),99999)","v":0.47486578613564434},6.220529712246166,null,null,null,null,null,{"$f":"(5*U285+5*U295)/10","v":0},171.92197022855393,120.12287422999012,-10,0,0,0,0.63557034252366407,-0.78644110178842652,-10,0,0,3.2431989871304006,null,null,null,null,null,null,null,null,null,null,null,5.3655052731445023,237.02727001576076,40.103862739811007]
[211,{"$f":"OFFSET(Calculations!AS$43,$A291,0)-U$3-B$10","v":0},{"$f":"OFFSET(Calculations!AT$43,$A291,0)-V$3-B$11","v":198.22178571056597},{"$f":"OFFSET(Calculations!AU$43,$A291,0)-W$3-B$12","v":63.650782457456586},0,198.22178571056597,63.650782457456586,0,198.22178571056597,63.650782457456586,0,198.22178571056597,63.650782457456586,{"$f":"IF(P285=1,K291*B$1/(B$1+B$2+L291),99999)","v":0},6.1137485916995189,null,null,null,null,null,{"$f":"(4*U285+6*U295)/10","v":0},172.60134007891321,119.33988636220195,-10,0,0,0,0.63158856908407301,-0.78675503215208664,-10,0,0,3.2864139307679823,null,null,null,null,null,null,null,null,null,null,null,-2.8762030426558088E-2,238.45165967336519,46.651610013563513]
[" ",null,null,null,null,null,null,null,null,null,null,null,null,null,null,null,null,null,null,null,{"$f":"(3*U285+7*U295)/10","v":0},173.28070992927249,118.55689849441379,-10,0,0,0,0.62760679564445354,-0.78706896251574676,-10,0,0,3.3288270931430133,null,null,null,null,null,null,null,null,null,null,null,-6.6092015929827239,237.24215431301374,39.355384143510733]
[{"$f":"A285+7","v":225},{"$f":"OFFSET(Calculations!AS$43,$A293,0)-U$3-B$10","v":0},{"$f":"OFFSET(Calculations!AT$43,$A293,0)-V$3-B$11","v":210.70303609650415},{"$f":"OFFSET(Calculations!AU$43,$A293,0)-W$3-B$12","v":47.689738068818123},{"$f":"B293*F$5+C293*F$4","v":0},{"$f":"C293*F$5-B293*F$4","v":210.70303609650415},{"$f":"D293","v":47.689738068818123},0,{"$f":"F293*F$7+G293*F$6","v":210.70303609650415},{"$f":"G293*F$7-F293*F$6","v":47.689738068818123},{"$f":"H293*F$9+J293*F$8","v":0},{"$f":"I293","v":210.70303609650415},{"$f":"J293*F$9-H293*F$8","v":47.689738068818123},{"$f":"IF(P293=1,K293*B$1/(B$1+B$2+L293),99999)","v":0},{"$f":"M293*B$1/(B$1+B$2+L293)","v":4.3216204826439641},{"$f":"IF(MIN(L293:L299)+B$2+B$1>0,1,0)","v":1},null,null,null,null,{"$f":"(2*U285+8*U295)/10","v":0},173.96007977963177,117.77391062662559,-10,0,0,0,0.62362502220486249,-0.78738289287940688,-10,0,0,3.3704815115718549,null,null,null,null,null,null,null,null,null,null,null,-0.49139758397099653,239.97720771193559,54.491168134185543]
[218,{"$f":"OFFSET(Calculations!AS$43,$A294,0)-U$3-B$10","v":0},{"$f":"OFFSET(Calculations!AT$43,$A294,0)-V$3-B$11","v":204.37787512332017},{"$f":"OFFSET(Calculations!AU$43,$A294,0)-W$3-B$12","v":55.7702644804058},0,204.37787512332017,55.7702644804058,0,204.37787512332017,55.7702644804058,0,204.37787512332017,55.7702644804058,{"$f":"IF(P293=1,K294*B$1/(B$1+B$2+L294),99999)","v":0},5.2029869638668762,null,null,null,null,null,{"$f":"(1*U285+9*U295)/10","v":0},174.63944962999102,116.99092275883743,-10,0,0,0,0.61964324876524302,-0.787696823243067,-10,0,0,3.4114165056354384,null,null,null,null,null,null,null,null,null,null,null,7.3612897508323778,236.99145596621841,40.22860917252774]
[217,{"$f":"OFFSET(Calculations!AS$43,$A295,0)-U$3-B$10","v":-5},{"$f":"OFFSET(Calculations!AT$43,$A295,0)-V$3-B$11","v":206.74243272464275},{"$f":"OFFSET(Calculations!AU$43,$A295,0)-W$3-B$12","v":57.617659347366327},-5,206.74243272464275,57.617659347366327,-5,206.74243272464275,57.617659347366327,-5,206.74243272464275,57.617659347366327,{"$f":"IF(P293=1,K295*B$1/(B$1+B$2+L295),99999)","v":-0.46137712280383758},5.3166939784759029,null,null,null,null,{"$f":"T285+7","v":175},{"$f":"OFFSET(Calculations!AS$46,$T295,0)","v":0},{"$f":"OFFSET(Calculations!AT$46,$T295,0)","v":175.3188194803503},{"$f":"OFFSET(Calculations!AU$46,$T295,0)","v":116.20793489104926},{"$f":"OFFSET(Calculations!AS$43,$T295,0)-OFFSET(Calculations!AS$45,$T295,0)","v":-10},{"$f":"OFFSET(Calculations!AT$43,$T295,0)-OFFSET(Calculations!AT$45,$T295,0)","v":0},{"$f":"OFFSET(Calculations!AU$43,$T295,0)-OFFSET(Calculations!AU$45,$T295,0)","v":0},0,0.61566147532568039,-0.78801075360672712,-10,0,0,3.4516681118369323,null,null,null,null,null,null,null,null,null,null,null,-4.311283186950849,247.09177782694886,37.503768973126377]
[224,{"$f":"OFFSET(Calculations!AS$43,$A296,0)-U$3-B$10","v":-5},{"$f":"OFFSET(Calculations!AT$43,$A296,0)-V$3-B$11","v":212.89904747789933},{"$f":"OFFSET(Calculations!AU$43,$A296,0)-W$3-B$12","v":49.737551811299092},-5,212.89904747789933,49.737551811299092,-5,212.89904747789933,49.737551811299092,-5,212.89904747789933,49.737551811299092,{"$f":"IF(P293=1,K296*B$1/(B$1+B$2+L296),99999)","v":-0.44863359054917046},4.4627872908457018,null,null,null,null,null,{"$f":"(9*U295+U305)/10","v":0},175.93448095567595,115.41992413744254,-10,0,0,0,0.61566147532565196,-0.78801075360671291,-10,0,0,3.4915214666945475,null,null,null,null,null,null,null,null,null,null,null,0.91151836841163536,246.9838585791274,34.885511279687321]
[226,{"$f":"OFFSET(Calculations!AS$43,$A297,0)-U$3-B$10","v":5},{"$f":"OFFSET(Calculations!AT$43,$A297,0)-V$3-B$11","v":212.89904747789933},{"$f":"OFFSET(Calculations!AU$43,$A297,0)-W$3-B$12","v":49.737551811299092},5,212.89904747789933,49.737551811299092,5,212.89904747789933,49.737551811299092,5,212.89904747789933,49.737551811299092,{"$f":"IF(P293=1,K297*B$1/(B$1+B$2+L297),99999)","v":0.44863359054917046},4.4627872908457018,null,null,null,null,null,{"$f":"(8*U295+2*U305)/10","v":0},176.55014243100163,114.63191338383581,-10,0,0,0,0.61566147532562354,-0.78801075360672712,-10,0,0,3.5307473021622351,null,null,null,null,null,null,null,null,null,null,null,5.6522125931384428,246.77155813231076,38.295104039522968]
[219,{"$f":"OFFSET(Calculations!AS$43,$A298,0)-U$3-B$10","v":5},{"$f":"OFFSET(Calculations!AT$43,$A298,0)-V$3-B$11","v":206.74243272464275},{"$f":"OFFSET(Calculations!AU$43,$A298,0)-W$3-B$12","v":57.617659347366327},5,206.74243272464275,57.617659347366327,5,206.74243272464275,57.617659347366327,5,206.74243272464275,57.617659347366327,{"$f":"IF(P293=1,K298*B$1/(B$1+B$2+L298),99999)","v":0.46137712280383758},5.3166939784759029,null,null,null,null,null,{"$f":"(7*U295+3*U305)/10","v":0},177.16580390632728,113.84390263022911,-10,0,0,0,0.61566147532568039,-0.78801075360671291,-10,0,0,3.5693743588280604,null,null,null,null,null,null,null,null,null,null,null,0.11247010745065472,246.8108564067187,44.876115271688889]
[218,{"$f":"OFFSET(Calculations!AS$43,$A299,0)-U$3-B$10","v":0},{"$f":"OFFSET(Calculations!AT$43,$A299,0)-V$3-B$11","v":204.37787512332017},{"$f":"OFFSET(Calculations!AU$43,$A299,0)-W$3-B$12","v":55.7702644804058},0,204.37787512332017,55.7702644804058,0,204.37787512332017,55.7702644804058,0,204.37787512332017,55.7702644804058,{"$f":"IF(P293=1,K299*B$1/(B$1+B$2+L299),99999)","v":0},5.2029869638668762,null,null,null,null,null,{"$f":"(6*U295+4*U305)/10","v":0},177.78146538165294,113.05589187662238,-10,0,0,0,0.61566147532568039,-0.78801075360672712,-10,0,0,3.6074292481685459,null,null,null,null,null,null,null,null,null,null,null,-6.3039823429687054,247.15582176587642,37.345501959847134]
[" ",null,null,null,null,null,null,null,null,null,null,null,null,null,null,null,null,null,null,null,{"$f":"(5*U295+5*U305)/10","v":0},178.39712685697859,112.26788112301566,-10,0,0,0,0.61566147532565196,-0.78801075360672712,-10,0,0,3.6449366670312675,null,null,null,null,null,null,null,null,null,null,null,-0.52523800185579406,246.67278603767747,52.849462432105113]
[{"$f":"A293+7","v":232},{"$f":"OFFSET(Calculations!AS$43,$A301,0)-U$3-B$10","v":5.1315514627882239E-2},{"$f":"OFFSET(Calculations!AT$43,$A301,0)-V$3-B$11","v":217.99518782838229},{"$f":"OFFSET(Calculations!AU$43,$A301,0)-W$3-B$12","v":39.961949165011731},{"$f":"B301*F$5+C301*F$4","v":5.1315514627882239E-2},{"$f":"C301*F$5-B301*F$4","v":217.99518782838229},{"$f":"D301","v":39.961949165011731},5.1315514627882239E-2,{"$f":"F301*F$7+G301*F$6","v":217.99518782838229},{"$f":"G301*F$7-F301*F$6","v":39.961949165011731},{"$f":"H301*F$9+J301*F$8","v":5.1315514627882239E-2},{"$f":"I301","v":217.99518782838229},{"$f":"J301*F$9-H301*F$8","v":39.961949165011731},{"$f":"IF(P301=1,K301*B$1/(B$1+B$2+L301),99999)","v":4.5014559400708689E-3},{"$f":"M301*B$1/(B$1+B$2+L301)","v":3.5055081245918309},{"$f":"IF(MIN(L301:L307)+B$2+B$1>0,1,0)","v":1},null,null,null,null,{"$f":"(4*U295+6*U305)/10","v":0},179.01278833230427,111.47987036940894,-10,0,0,{"$f":"(SUM(U302:U317)-SUM(U301:U316))/16","v":0},{"$f":"(SUM(V302:V317)-SUM(V301:V316))/16","v":0.61566147532565196},{"$f":"(SUM(W302:W317)-SUM(W301:W316))/16","v":-0.78801075360671291},{"$f":"SUM(X301:X316)/16","v":-10},{"$f":"SUM(Y301:Y316)/16","v":0},{"$f":"SUM(Z301:Z316)/16","v":0},3.681919585112154,null,null,null,null,null,null,null,null,null,null,null,7.6449117491563054,246.70751419338322,38.453371052802204]
[225,{"$f":"OFFSET(Calculations!AS$43,$A302,0)-U$3-B$10","v":0},{"$f":"OFFSET(Calculations!AT$43,$A302,0)-V$3-B$11","v":210.70303609650415},{"$f":"OFFSET(Calculations!AU$43,$A302,0)-W$3-B$12","v":47.689738068818123},0,210.70303609650415,47.689738068818123,0,210.70303609650415,47.689738068818123,0,210.70303609650415,47.689738068818123,{"$f":"IF(P301=1,K302*B$1/(B$1+B$2+L302),99999)","v":0},4.3216204826439641,null,null,null,null,null,{"$f":"(3*U295+7*U305)/10","v":0},179.62844980762992,110.69185961580222,-10,0,0,0,0.61566147532562354,-0.78801075360672712,-10,0,0,3.7183994094705493,null,null,null,null,null,null,null,null,null,null,null,-3.9964694768128162,257.1716120335887,37.634155371342501]
[224,{"$f":"OFFSET(Calculations!AS$43,$A303,0)-U$3-B$10","v":-5},{"$f":"OFFSET(Calculations!AT$43,$A303,0)-V$3-B$11","v":212.89904747789933},{"$f":"OFFSET(Calculations!AU$43,$A303,0)-W$3-B$12","v":49.737551811299092},-5,212.89904747789933,49.737551811299092,-5,212.89904747789933,49.737551811299092,-5,212.89904747789933,49.737551811299092,{"$f":"IF(P301=1,K303*B$1/(B$1+B$2+L303),99999)","v":-0.44863359054917046},4.4627872908457018,null,null,null,null,null,{"$f":"(2*U295+8*U305)/10","v":0},180.24411128295557,109.90384886219549,-10,0,0,0,0.61566147532565196,-0.78801075360672712,-10,0,0,3.7543961294286472,null,null,null,null,null,null,null,null,null,null,null,1.2832299252107959,257.6046897820404,35.157406494451926]
[231,{"$f":"OFFSET(Calculations!AS$43,$A304,0)-U$3-B$10","v":-4.9987937030088903},{"$f":"OFFSET(Calculations!AT$43,$A304,0)-V$3-B$11","v":219.72670023943081},{"$f":"OFFSET(Calculations!AU$43,$A304,0)-W$3-B$12","v":42.314457966339589},-4.9987937030088903,219.72670023943081,42.314457966339589,-4.9987937030088903,219.72670023943081,42.314457966339589,-4.9987937030088903,219.72670023943081,42.314457966339589,{"$f":"IF(P301=1,K304*B$1/(B$1+B$2+L304),99999)","v":-0.43519483784853369},3.6838955090755832,null,null,null,null,null,{"$f":"(1*U295+9*U305)/10","v":0},180.85977275828125,109.11583810858876,-10,0,0,0,0.61566147532565196,-0.78801075360672712,-10,0,0,3.789928444640327,null,null,null,null,null,null,null,null,null,null,null,5.9483896000752825,256.67848681942439,38.559685200138894]
[233,{"$f":"OFFSET(Calculations!AS$43,$A305,0)-U$3-B$10","v":4.9987937030088903},{"$f":"OFFSET(Calculations!AT$43,$A305,0)-V$3-B$11","v":219.71136191761772},{"$f":"OFFSET(Calculations!AU$43,$A305,0)-W$3-B$12","v":42.533571623875225},4.9987937030088903,219.71136191761772,42.533571623875225,4.9987937030088903,219.71136191761772,42.533571623875225,4.9987937030088903,219.71136191761772,42.533571623875225,{"$f":"IF(P301=1,K305*B$1/(B$1+B$2+L305),99999)","v":0.43522389674409112},3.7032187932549201,null,null,null,null,{"$f":"T295+7","v":182},{"$f":"OFFSET(Calculations!AS$46,$T305,0)","v":0},{"$f":"OFFSET(Calculations!AT$46,$T305,0)","v":181.4754342336069},{"$f":"OFFSET(Calculations!AU$46,$T305,0)","v":108.32782735498205},{"$f":"OFFSET(Calculations!AS$43,$T305,0)-OFFSET(Calculations!AS$45,$T305,0)","v":-10},{"$f":"OFFSET(Calculations!AT$43,$T305,0)-OFFSET(Calculations!AT$45,$T305,0)","v":0},{"$f":"OFFSET(Calculations!AU$43,$T305,0)-OFFSET(Calculations!AU$45,$T305,0)","v":0},0,0.61566147532565196,-0.78801075360672712,-10,0,0,3.8250138786588064,null,null,null,null,null,null,null,null,null,null,null,0.26671988410091896,255.35630382679111,44.881904855653246]
[226,{"$f":"OFFSET(Calculations!AS$43,$A306,0)-U$3-B$10","v":5},{"$f":"OFFSET(Calculations!AT$43,$A306,0)-V$3-B$11","v":212.89904747789933},{"$f":"OFFSET(Calculations!AU$43,$A306,0)-W$3-B$12","v":49.737551811299092},5,212.89904747789933,49.737551811299092,5,212.89904747789933,49.737551811299092,5,212.89904747789933,49.737551811299092,{"$f":"IF(P301=1,K306*B$1/(B$1+B$2+L306),99999)","v":0.44863359054917046},4.4627872908457018,null,null,null,null,null,{"$f":"(9*U305+U315)/10","v":0},182.09109570893256,107.53981660137531,-10,0,0,0,0.61566147532568039,-0.78801075360672712,-10,0,0,3.8596688799608527,null,null,null,null,null,null,null,null,null,null,null,-5.9854412921904343,257.27023707642161,37.44904940558326]
[225,{"$f":"OFFSET(Calculations!AS$43,$A307,0)-U$3-B$10","v":0},{"$f":"OFFSET(Calculations!AT$43,$A307,0)-V$3-B$11","v":210.70303609650415},{"$f":"OFFSET(Calculations!AU$43,$A307,0)-W$3-B$12","v":47.689738068818123},0,210.70303609650415,47.689738068818123,0,210.70303609650415,47.689738068818123,0,210.70303609650415,47.689738068818123,{"$f":"IF(P301=1,K307*B$1/(B$1+B$2+L307),99999)","v":0},4.3216204826439641,null,null,null,null,null,{"$f":"(8*U305+2*U315)/10","v":0},182.70675718425821,106.75180584776861,-10,0,0,0,0.61566147532565196,-0.78801075360671291,-10,0,0,3.8939089120803771,null,null,null,null,null,null,null,null,null,null,null,-0.5438403187908688,253.5634517128307,52.636172935553205]
[" ",null,null,null,null,null,null,null,null,null,null,null,null,null,null,null,null,null,null,null,{"$f":"(7*U305+3*U315)/10","v":0},183.32241865958386,105.96379509416188,-10,0,0,0,0.61566147532565196,-0.78801075360672712,-10,0,0,3.9277485342528844,null,null,null,null,null,null,null,null,null,null,null,7.9373614154529051,256.57986177659143,38.744791165898199]
[{"$f":"A301+7","v":239},{"$f":"OFFSET(Calculations!AS$43,$A309,0)-U$3-B$10","v":0.24851636916304498},{"$f":"OFFSET(Calculations!AT$43,$A309,0)-V$3-B$11","v":226.73548486487056},{"$f":"OFFSET(Calculations!AU$43,$A309,0)-W$3-B$12","v":33.921615980701631},{"$f":"B309*F$5+C309*F$4","v":0.24851636916304498},{"$f":"C309*F$5-B309*F$4","v":226.73548486487056},{"$f":"D309","v":33.921615980701631},0.24851636916304498,{"$f":"F309*F$7+G309*F$6","v":226.73548486487056},{"$f":"G309*F$7-F309*F$6","v":33.921615980701631},{"$f":"H309*F$9+J309*F$8","v":0.24851636916304498},{"$f":"I309","v":226.73548486487056},{"$f":"J309*F$9-H309*F$8","v":33.921615980701631},null,null,{"$f":"IF(MIN(L309:L315)+B$2+B$1>0,1,0)","v":1},{"$f":"IF(P309=1,K309*B$1/(B$1+B$2+L309),99999)","v":2.0995278279037802E-2},{"$f":"M309*B$1/(B$1+B$2+L309)","v":2.865782119656815},null,null,{"$f":"(6*U305+4*U315)/10","v":0},183.93808013490951,105.17578434055515,-10,0,0,0,0.61566147532565196,-0.78801075360672712,-10,0,0,3.9612014737639174,null,null,null,null,null,null,null,null,null,null,null,-3.7153974843517239,267.00328043088666,39.865401879217416]
[232,{"$f":"OFFSET(Calculations!AS$43,$A310,0)-U$3-B$10","v":5.1315514627882239E-2},{"$f":"OFFSET(Calculations!AT$43,$A310,0)-V$3-B$11","v":217.99518782838229},{"$f":"OFFSET(Calculations!AU$43,$A310,0)-W$3-B$12","v":39.961949165011731},5.1315514627882239E-2,217.99518782838229,39.961949165011731,5.1315514627882239E-2,217.99518782838229,39.961949165011731,5.1315514627882239E-2,217.99518782838229,39.961949165011731,null,null,null,{"$f":"IF(P309=1,K310*B$1/(B$1+B$2+L310),99999)","v":4.5014559400708689E-3},3.5055081245918309,null,null,{"$f":"(5*U305+5*U315)/10","v":0},184.55374161023514,104.38777358694843,-10,0,0,0,0.61566147532565196,-0.78801075360672712,-10,0,0,{"$f":"AG$245+SIGN(W$245-W310)*SQRT(2*ABS(W$245-W310)/Z$5)","v":3.9942806910213475},null,null,null,null,null,null,null,null,null,null,null,1.6167922334897997,267.93825545100651,37.640228859171259]
[231,{"$f":"OFFSET(Calculations!AS$43,$A311,0)-U$3-B$10","v":-4.9987937030088903},{"$f":"OFFSET(Calculations!AT$43,$A311,0)-V$3-B$11","v":219.72670023943081},{"$f":"OFFSET(Calculations!AU$43,$A311,0)-W$3-B$12","v":42.314457966339589},-4.9987937030088903,219.72670023943081,42.314457966339589,-4.9987937030088903,219.72670023943081,42.314457966339589,-4.9987937030088903,219.72670023943081,42.314457966339589,null,null,null,{"$f":"IF(P309=1,K311*B$1/(B$1+B$2+L311),99999)","v":-0.43519483784853369},3.6838955090755832,null,null,{"$f":"(4*U305+6*U315)/10","v":0},185.16940308556082,103.59976283334171,-10,0,0,0,0.61566147532565196,-0.78801075360672712,-10,0,0,4.0269984382263821,null,null,null,null,null,null,null,null,null,null,null,6.2084393569885714,266.3131436583335,40.885781015434532]
[238,{"$f":"OFFSET(Calculations!AS$43,$A312,0)-U$3-B$10","v":-4.8570107667811282},{"$f":"OFFSET(Calculations!AT$43,$A312,0)-V$3-B$11","v":227.94926090841057},{"$f":"OFFSET(Calculations!AU$43,$A312,0)-W$3-B$12","v":36.475917090211553},-4.8570107667811282,227.94926090841057,36.475917090211553,-4.8570107667811282,227.94926090841057,36.475917090211553,-4.8570107667811282,227.94926090841057,36.475917090211553,null,null,null,{"$f":"IF(P309=1,K312*B$1/(B$1+B$2+L312),99999)","v":-0.40823919756999361},3.0658567251655855,null,null,{"$f":"(3*U305+7*U315)/10","v":0},185.78506456088647,102.81175207973499,-10,0,0,0,0.61566147532565196,-0.78801075360672712,-10,0,0,4.0593663123965129,null,null,null,null,null,null,null,null,null,null,null,0.39466979251924672,263.71332690719487,46.668603536638905]
[240,{"$f":"OFFSET(Calculations!AS$43,$A313,0)-U$3-B$10","v":5.1334456001250794},{"$f":"OFFSET(Calculations!AT$43,$A313,0)-V$3-B$11","v":227.87333901732217},{"$f":"OFFSET(Calculations!AU$43,$A313,0)-W$3-B$12","v":36.906053635272286},5.1334456001250794,227.87333901732217,36.906053635272286,5.1334456001250794,227.87333901732217,36.906053635272286,5.1334456001250794,227.87333901732217,36.906053635272286,null,null,null,{"$f":"IF(P309=1,K313*B$1/(B$1+B$2+L313),99999)","v":0.43161168219455287},3.1030004276843108,null,null,{"$f":"(2*U305+8*U315)/10","v":0},186.40072603621212,102.02374132612826,-10,0,0,0,0.61566147532565196,-0.7880107536066987,-10,0,0,4.0913953033910619,null,null,null,null,null,null,null,null,null,null,null,-5.700164852619781,267.14130778539732,39.661326051973987]
[233,{"$f":"OFFSET(Calculations!AS$43,$A314,0)-U$3-B$10","v":4.9987937030088903},{"$f":"OFFSET(Calculations!AT$43,$A314,0)-V$3-B$11","v":219.71136191761772},{"$f":"OFFSET(Calculations!AU$43,$A314,0)-W$3-B$12","v":42.533571623875225},4.9987937030088903,219.71136191761772,42.533571623875225,4.9987937030088903,219.71136191761772,42.533571623875225,4.9987937030088903,219.71136191761772,42.533571623875225,null,null,null,{"$f":"IF(P309=1,K314*B$1/(B$1+B$2+L314),99999)","v":0.43522389674409112},3.7032187932549201,null,null,{"$f":"(1*U305+9*U315)/10","v":0},187.01638751153777,101.23573057252153,-10,0,0,0,0.61566147532565196,-0.78801075360674133,-10,0,0,4.1230958375032305,null,null,null,null,null,null,null,null,null,null,null,-0.57887437182266954,260.34774389300611,53.860617352996584]
[232,{"$f":"OFFSET(Calculations!AS$43,$A315,0)-U$3-B$10","v":5.1315514627882239E-2},{"$f":"OFFSET(Calculations!AT$43,$A315,0)-V$3-B$11","v":217.99518782838229},{"$f":"OFFSET(Calculations!AU$43,$A315,0)-W$3-B$12","v":39.961949165011731},5.1315514627882239E-2,217.99518782838229,39.961949165011731,5.1315514627882239E-2,217.99518782838229,39.961949165011731,5.1315514627882239E-2,217.99518782838229,39.961949165011731,null,null,null,{"$f":"IF(P309=1,K315*B$1/(B$1+B$2+L315),99999)","v":4.5014559400708689E-3},3.5055081245918309,null,{"$f":"T305+7","v":189},{"$f":"OFFSET(Calculations!AS$46,$T315,0)","v":0},{"$f":"OFFSET(Calculations!AT$46,$T315,0)","v":187.63204898686342},{"$f":"OFFSET(Calculations!AU$46,$T315,0)","v":100.44771981891482},{"$f":"OFFSET(Calculations!AS$43,$T315,0)-OFFSET(Calculations!AS$45,$T315,0)","v":-10},{"$f":"OFFSET(Calculations!AT$43,$T315,0)-OFFSET(Calculations!AT$45,$T315,0)","v":0},{"$f":"OFFSET(Calculations!AU$43,$T315,0)-OFFSET(Calculations!AU$45,$T315,0)","v":0},0,0.61566147532568039,-0.78801075360671291,-10,0,0,4.1544778171088286,null,null,null,null,null,null,null,null,null,null,null,8.1932067252566316,266.1751163038229,41.089856842677889]
[" ",null,null,null,null,null,null,null,null,null,null,null,null,null,null,null,null,null,null,null,{"$f":"(9*U315+U325)/10","v":0},188.2477104621891,99.659709065308093,-10,0,0,0,0.61566147532562354,-0.78801075360672712,-10,0,0,4.185550656799129,null,null,null,null,null,null,null,null,null,null,null,-3.5129958401049057,276.15520041717775,44.098670126943993]
[{"$f":"A309+7","v":246},{"$f":"OFFSET(Calculations!AS$43,$A317,0)-U$3-B$10","v":0.55049623557387428},{"$f":"OFFSET(Calculations!AT$43,$A317,0)-V$3-B$11","v":236.54154640007198},{"$f":"OFFSET(Calculations!AU$43,$A317,0)-W$3-B$12","v":29.835829950034679},{"$f":"B317*F$5+C317*F$4","v":0.55049623557387428},{"$f":"C317*F$5-B317*F$4","v":236.54154640007198},{"$f":"D317","v":29.835829950034679},0.55049623557387428,{"$f":"F317*F$7+G317*F$6","v":236.54154640007198},{"$f":"G317*F$7-F317*F$6","v":29.835829950034679},{"$f":"H317*F$9+J317*F$8","v":0.55049623557387428},{"$f":"I317","v":236.54154640007198},{"$f":"J317*F$9-H317*F$8","v":29.835829950034679},null,null,{"$f":"IF(MIN(L317:L323)+B$2+B$1>0,1,0)","v":1},{"$f":"IF(P317=1,K317*B$1/(B$1+B$2+L317),99999)","v":4.4657482165749371E-2},{"$f":"M317*B$1/(B$1+B$2+L317)","v":2.4203490556207501},null,null,{"$f":"(8*U315+2*U325)/10","v":0},188.86337193751473,98.871698311701365,-10,0,0,0,0.61566147532565196,-0.78801075360671291,-10,0,0,4.2163233163715121,null,null,null,null,null,null,null,null,null,null,null,1.8650333794464495,277.53124628713812,42.225113221638836]
[239,{"$f":"OFFSET(Calculations!AS$43,$A318,0)-U$3-B$10","v":0.24851636916304498},{"$f":"OFFSET(Calculations!AT$43,$A318,0)-V$3-B$11","v":226.73548486487056},{"$f":"OFFSET(Calculations!AU$43,$A318,0)-W$3-B$12","v":33.921615980701631},0.24851636916304498,226.73548486487056,33.921615980701631,0.24851636916304498,226.73548486487056,33.921615980701631,0.24851636916304498,226.73548486487056,33.921615980701631,null,null,null,{"$f":"IF(P317=1,K318*B$1/(B$1+B$2+L318),99999)","v":2.0995278279037802E-2},2.865782119656815,null,null,{"$f":"(7*U315+3*U325)/10","v":0},189.47903341284035,98.083687558094624,-10,0,0,0,0.61566147532568039,-0.78801075360672712,-10,0,0,4.2468043310056007,null,null,null,null,null,null,null,null,null,null,null,6.388363341365273,275.25266262896218,45.170356601786025]
[238,{"$f":"OFFSET(Calculations!AS$43,$A319,0)-U$3-B$10","v":-4.8570107667811282},{"$f":"OFFSET(Calculations!AT$43,$A319,0)-V$3-B$11","v":227.94926090841057},{"$f":"OFFSET(Calculations!AU$43,$A319,0)-W$3-B$12","v":36.475917090211553},-4.8570107667811282,227.94926090841057,36.475917090211553,-4.8570107667811282,227.94926090841057,36.475917090211553,-4.8570107667811282,227.94926090841057,36.475917090211553,null,null,null,{"$f":"IF(P317=1,K319*B$1/(B$1+B$2+L319),99999)","v":-0.40823919756999361},3.0658567251655855,null,null,{"$f":"(6*U315+4*U325)/10","v":0},190.09469488816603,97.295676804487897,-10,0,0,0,0.61566147532568039,-0.78801075360672712,-10,0,0,4.2770018389128825,null,null,null,null,null,null,null,null,null,null,null,0.45816593736435063,271.51558727013065,50.157041523855376]
[245,{"$f":"OFFSET(Calculations!AS$43,$A320,0)-U$3-B$10","v":-4.6134171152948529},{"$f":"OFFSET(Calculations!AT$43,$A320,0)-V$3-B$11","v":237.20634026347153},{"$f":"OFFSET(Calculations!AU$43,$A320,0)-W$3-B$12","v":32.480130576227495},-4.6134171152948529,237.20634026347153,32.480130576227495,-4.6134171152948529,237.20634026347153,32.480130576227495,-4.6134171152948529,237.20634026347153,32.480130576227495,null,null,null,{"$f":"IF(P317=1,K320*B$1/(B$1+B$2+L320),99999)","v":-0.37324423883124447},2.6277748816321056,null,null,{"$f":"(5*U315+5*U325)/10","v":0},190.71035636349171,96.507666050881184,-10,0,0,0,0.61566147532565196,-0.78801075360672712,-10,0,0,4.3069236067136609,null,null,null,null,null,null,null,null,null,null,null,-5.4932676763989399,276.33570797482088,43.88433283197562]
[247,{"$f":"OFFSET(Calculations!AS$43,$A321,0)-U$3-B$10","v":5.3655052731445023},{"$f":"OFFSET(Calculations!AT$43,$A321,0)-V$3-B$11","v":237.02727001576076},{"$f":"OFFSET(Calculations!AU$43,$A321,0)-W$3-B$12","v":33.103862739811007},5.3655052731445023,237.02727001576076,33.103862739811007,5.3655052731445023,237.02727001576076,33.103862739811007,5.3655052731445023,237.02727001576076,33.103862739811007,null,null,null,{"$f":"IF(P317=1,K321*B$1/(B$1+B$2+L321),99999)","v":0.43440590772040466},2.6801788108413231,null,null,{"$f":"(4*U315+6*U325)/10","v":0},191.32601783881734,95.719655297274443,-10,0,0,0,0.61566147532565196,-0.78801075360672712,-10,0,0,4.3365770527655698,null,null,null,null,null,null,null,null,null,null,null,-0.66128299208231556,266.72890812391404,56.468502277558621]
[240,{"$f":"OFFSET(Calculations!AS$43,$A322,0)-U$3-B$10","v":5.1334456001250794},{"$f":"OFFSET(Calculations!AT$43,$A322,0)-V$3-B$11","v":227.87333901732217},{"$f":"OFFSET(Calculations!AU$43,$A322,0)-W$3-B$12","v":36.906053635272286},5.1334456001250794,227.87333901732217,36.906053635272286,5.1334456001250794,227.87333901732217,36.906053635272286,5.1334456001250794,227.87333901732217,36.906053635272286,null,null,null,{"$f":"IF(P317=1,K322*B$1/(B$1+B$2+L322),99999)","v":0.43161168219455287},3.1030004276843108,null,null,{"$f":"(3*U315+7*U325)/10","v":0},191.94167931414299,94.931644543667716,-10,0,0,0,0.61566147532568039,-0.78801075360672712,-10,0,0,4.3659692686421625,null,null,null,null,null,null,null,null,null,null,null,8.3686351776593106,275.07215507131923,45.384693896754442]
[239,{"$f":"OFFSET(Calculations!AS$43,$A323,0)-U$3-B$10","v":0.24851636916304498},{"$f":"OFFSET(Calculations!AT$43,$A323,0)-V$3-B$11","v":226.73548486487056},{"$f":"OFFSET(Calculations!AU$43,$A323,0)-W$3-B$12","v":33.921615980701631},0.24851636916304498,226.73548486487056,33.921615980701631,0.24851636916304498,226.73548486487056,33.921615980701631,0.24851636916304498,226.73548486487056,33.921615980701631,null,null,null,{"$f":"IF(P317=1,K323*B$1/(B$1+B$2+L323),99999)","v":2.0995278279037802E-2},2.865782119656815,null,null,{"$f":"(2*U315+8*U325)/10","v":0},192.55734078946867,94.143633790061003,-10,0,0,0,0.61566147532565196,-0.78801075360671291,-10,0,0,4.3951070389378204,null,null,null,null,null,null,null,null,null,null,null,-3.4307124828449216,284.225864187083,50.146544272503995]
[" ",null,null,null,null,null,null,null,null,null,null,null,null,null,null,null,null,null,null,null,{"$f":"(1*U315+9*U325)/10","v":0},193.17300226479432,93.355623036454276,-10,0,0,0,0.61566147532565196,-0.78801075360672712,-10,0,0,4.42399685955563,null,null,null,null,null,null,null,null,null,null,null,1.9845284664017915,285.96281724111083,48.710367405210462]
[{"$f":"A317+7","v":253},{"$f":"OFFSET(Calculations!AS$43,$A325,0)-U$3-B$10","v":0.91151836841163536},{"$f":"OFFSET(Calculations!AT$43,$A325,0)-V$3-B$11","v":246.9838585791274},{"$f":"OFFSET(Calculations!AU$43,$A325,0)-W$3-B$12","v":27.885511279687321},{"$f":"B325*F$5+C325*F$4","v":0.91151836841163536},{"$f":"C325*F$5-B325*F$4","v":246.9838585791274},{"$f":"D325","v":27.885511279687321},0.91151836841163536,{"$f":"F325*F$7+G325*F$6","v":246.9838585791274},{"$f":"G325*F$7-F325*F$6","v":27.885511279687321},{"$f":"H325*F$9+J325*F$8","v":0.91151836841163536},{"$f":"I325","v":246.9838585791274},{"$f":"J325*F$9-H325*F$8","v":27.885511279687321},null,null,{"$f":"IF(MIN(L325:L331)+B$2+B$1>0,1,0)","v":1},{"$f":"IF(P325=1,K325*B$1/(B$1+B$2+L325),99999)","v":7.0939737106560055E-2},{"$f":"M325*B$1/(B$1+B$2+L325)","v":2.1702150036867893},null,{"$f":"T315+7","v":196},{"$f":"OFFSET(Calculations!AS$46,$T325,0)","v":0},{"$f":"OFFSET(Calculations!AT$46,$T325,0)","v":193.78866374011997},{"$f":"OFFSET(Calculations!AU$46,$T325,0)","v":92.567612282847548},{"$f":"OFFSET(Calculations!AS$43,$T325,0)-OFFSET(Calculations!AS$45,$T325,0)","v":-10},{"$f":"OFFSET(Calculations!AT$43,$T325,0)-OFFSET(Calculations!AT$45,$T325,0)","v":0},{"$f":"OFFSET(Calculations!AU$43,$T325,0)-OFFSET(Calculations!AU$45,$T325,0)","v":0},0,0.61566147532565196,-0.78801075360672712,-10,0,0,4.4526449546179077,null,null,null,null,null,null,null,null,null,null,null,6.4477081162670897,283.10493339884033,51.223726074712374]
[246,{"$f":"OFFSET(Calculations!AS$43,$A326,0)-U$3-B$10","v":0.55049623557387428},{"$f":"OFFSET(Calculations!AT$43,$A326,0)-V$3-B$11","v":236.54154640007198},{"$f":"OFFSET(Calculations!AU$43,$A326,0)-W$3-B$12","v":29.835829950034679},0.55049623557387428,236.54154640007198,29.835829950034679,0.55049623557387428,236.54154640007198,29.835829950034679,0.55049623557387428,236.54154640007198,29.835829950034679,null,null,null,{"$f":"IF(P325=1,K326*B$1/(B$1+B$2+L326),99999)","v":4.4657482165749371E-2},2.4203490556207501,null,null,{"$f":"(9*U325+U335)/10","v":0},194.40432521544565,91.779601529240836,-10,0,0,0,0.61566147532568039,-0.7880107536066987,-10,0,0,4.4810572921240723,null,null,null,null,null,null,null,null,null,null,null,0.42190611633012365,278.42129146566435,55.19275725364664]
[245,{"$f":"OFFSET(Calculations!AS$43,$A327,0)-U$3-B$10","v":-4.6134171152948529},{"$f":"OFFSET(Calculations!AT$43,$A327,0)-V$3-B$11","v":237.20634026347153},{"$f":"OFFSET(Calculations!AU$43,$A327,0)-W$3-B$12","v":32.480130576227495},-4.6134171152948529,237.20634026347153,32.480130576227495,-4.6134171152948529,237.20634026347153,32.480130576227495,-4.6134171152948529,237.20634026347153,32.480130576227495,null,null,null,{"$f":"IF(P325=1,K327*B$1/(B$1+B$2+L327),99999)","v":-0.37324423883124447},2.6277748816321056,null,null,{"$f":"(8*U325+2*U335)/10","v":0},195.0199866907713,90.991590775634108,-10,0,0,0,0.61566147532568039,-0.78801075360671291,-10,0,0,4.5092395984674312,null,null,null,null,null,null,null,null,null,null,null,-5.4063966026673231,284.45005034473155,49.931107912062288]
[252,{"$f":"OFFSET(Calculations!AS$43,$A328,0)-U$3-B$10","v":-4.311283186950849},{"$f":"OFFSET(Calculations!AT$43,$A328,0)-V$3-B$11","v":247.09177782694886},{"$f":"OFFSET(Calculations!AU$43,$A328,0)-W$3-B$12","v":30.503768973126377},-4.311283186950849,247.09177782694886,30.503768973126377,-4.311283186950849,247.09177782694886,30.503768973126377,-4.311283186950849,247.09177782694886,30.503768973126377,null,null,null,{"$f":"IF(P325=1,K328*B$1/(B$1+B$2+L328),99999)","v":-0.33538864785110467},2.3729867388959272,null,null,{"$f":"(7*U325+3*U335)/10","v":0},195.63564816609696,90.203580022027381,-10,0,0,0,0.61566147532568039,-0.78801075360671291,-10,0,0,4.5371973719109224,null,null,null,null,null,null,null,null,null,null,null,-0.81991296981954587,272.4280259487532,60.344325345119202]
[254,{"$f":"OFFSET(Calculations!AS$43,$A329,0)-U$3-B$10","v":5.6522125931384428},{"$f":"OFFSET(Calculations!AT$43,$A329,0)-V$3-B$11","v":246.77155813231076},{"$f":"OFFSET(Calculations!AU$43,$A329,0)-W$3-B$12","v":31.295104039522968},5.6522125931384428,246.77155813231076,31.295104039522968,5.6522125931384428,246.77155813231076,31.295104039522968,5.6522125931384428,246.77155813231076,31.295104039522968,null,null,null,{"$f":"IF(P325=1,K329*B$1/(B$1+B$2+L329),99999)","v":0.44025223309397354},2.4375833731084069,null,null,{"$f":"(6*U325+4*U335)/10","v":0},196.25130964142264,89.415569268420668,-10,0,0,0,0.61566147532562354,-0.78801075360671291,-10,0,0,4.5649358951116099,null,null,null,null,null,null,null,null,null,null,null,8.4233922360894944,282.88074724119173,51.439162435154103]
[247,{"$f":"OFFSET(Calculations!AS$43,$A330,0)-U$3-B$10","v":5.3655052731445023},{"$f":"OFFSET(Calculations!AT$43,$A330,0)-V$3-B$11","v":237.02727001576076},{"$f":"OFFSET(Calculations!AU$43,$A330,0)-W$3-B$12","v":33.103862739811007},5.3655052731445023,237.02727001576076,33.103862739811007,5.3655052731445023,237.02727001576076,33.103862739811007,5.3655052731445023,237.02727001576076,33.103862739811007,null,null,null,{"$f":"IF(P325=1,K330*B$1/(B$1+B$2+L330),99999)","v":0.43440590772040466},2.6801788108413231,null,null,{"$f":"(5*U325+5*U335)/10","v":0},196.86697111674829,88.627558514813956,-10,0,0,0,0.61566147532565196,-0.78801075360671291,-10,0,0,4.5924602467747491,null,null,null,null,null,null,null,null,null,null,null,-3.5046808365137285,290.86160304733409,57.741323030274756]
[246,{"$f":"OFFSET(Calculations!AS$43,$A331,0)-U$3-B$10","v":0.55049623557387428},{"$f":"OFFSET(Calculations!AT$43,$A331,0)-V$3-B$11","v":236.54154640007198},{"$f":"OFFSET(Calculations!AU$43,$A331,0)-W$3-B$12","v":29.835829950034679},0.55049623557387428,236.54154640007198,29.835829950034679,0.55049623557387428,236.54154640007198,29.835829950034679,0.55049623557387428,236.54154640007198,29.835829950034679,null,null,null,{"$f":"IF(P325=1,K331*B$1/(B$1+B$2+L331),99999)","v":4.4657482165749371E-2},2.4203490556207501,null,null,{"$f":"(4*U325+6*U335)/10","v":0},197.48263259207397,87.839547761207228,-10,0,0,0,0.61566147532565196,-0.78801075360674133,-10,0,0,4.6197753125102361,null,null,null,null,null,null,null,null,null,null,null,1.933065214311084,292.84005138257493,56.822859056282212]
[" ",null,null,null,null,null,null,null,null,null,null,null,null,null,null,null,null,null,null,null,{"$f":"(3*U325+7*U335)/10","v":0},198.09829406739959,87.051537007600501,-10,0,0,0,0.61566147532568039,-0.78801075360671291,-10,0,0,4.6468857949571518,null,null,null,null,null,null,null,null,null,null,null,6.3513551526460379,289.5259498570307,58.777945013265565]
[{"$f":"A325+7","v":260},{"$f":"OFFSET(Calculations!AS$43,$A333,0)-U$3-B$10","v":1.2832299252107959},{"$f":"OFFSET(Calculations!AT$43,$A333,0)-V$3-B$11","v":257.6046897820404},{"$f":"OFFSET(Calculations!AU$43,$A333,0)-W$3-B$12","v":28.157406494451926},{"$f":"B333*F$5+C333*F$4","v":1.2832299252107959},{"$f":"C333*F$5-B333*F$4","v":257.6046897820404},{"$f":"D333","v":28.157406494451926},1.2832299252107959,{"$f":"F333*F$7+G333*F$6","v":257.6046897820404},{"$f":"G333*F$7-F333*F$6","v":28.157406494451926},{"$f":"H333*F$9+J333*F$8","v":1.2832299252107959},{"$f":"I333","v":257.6046897820404},{"$f":"J333*F$9-H333*F$8","v":28.157406494451926},null,null,{"$f":"IF(MIN(L333:L339)+B$2+B$1>0,1,0)","v":1},{"$f":"IF(P333=1,K333*B$1/(B$1+B$2+L333),99999)","v":9.5904890624746927E-2},{"$f":"M333*B$1/(B$1+B$2+L333)","v":2.1044030668809031},null,null,{"$f":"(2*U325+8*U335)/10","v":0},198.71395554272527,86.263526253993788,-10,0,0,0,0.61566147532565196,-0.78801075360672712,-10,0,0,4.6737962232358417,null,null,null,null,null,null,null,null,null,null,null,0.25500173117863156,284.12831328494349,61.552831388638367]
[253,{"$f":"OFFSET(Calculations!AS$43,$A334,0)-U$3-B$10","v":0.91151836841163536},{"$f":"OFFSET(Calculations!AT$43,$A334,0)-V$3-B$11","v":246.9838585791274},{"$f":"OFFSET(Calculations!AU$43,$A334,0)-W$3-B$12","v":27.885511279687321},0.91151836841163536,246.9838585791274,27.885511279687321,0.91151836841163536,246.9838585791274,27.885511279687321,0.91151836841163536,246.9838585791274,27.885511279687321,null,null,null,{"$f":"IF(P333=1,K334*B$1/(B$1+B$2+L334),99999)","v":7.0939737106560055E-2},2.1702150036867893,null,null,{"$f":"(1*U325+9*U335)/10","v":0},199.32961701805095,85.475515500387075,-10,0,0,0,0.61566147532568039,-0.78801075360672712,-10,0,0,4.7005109617813075,null,null,null,null,null,null,null,null,null,null,null,-5.4758880343456813,291.12873368539482,57.533998633676589]
[252,{"$f":"OFFSET(Calculations!AS$43,$A335,0)-U$3-B$10","v":-4.311283186950849},{"$f":"OFFSET(Calculations!AT$43,$A335,0)-V$3-B$11","v":247.09177782694886},{"$f":"OFFSET(Calculations!AU$43,$A335,0)-W$3-B$12","v":30.503768973126377},-4.311283186950849,247.09177782694886,30.503768973126377,-4.311283186950849,247.09177782694886,30.503768973126377,-4.311283186950849,247.09177782694886,30.503768973126377,null,null,null,{"$f":"IF(P333=1,K335*B$1/(B$1+B$2+L335),99999)","v":-0.33538864785110467},2.3729867388959272,null,{"$f":"T325+7","v":203},{"$f":"OFFSET(Calculations!AS$46,$T335,0)","v":0},{"$f":"OFFSET(Calculations!AT$46,$T335,0)","v":199.94527849337661},{"$f":"OFFSET(Calculations!AU$46,$T335,0)","v":84.687504746780348},{"$f":"OFFSET(Calculations!AS$43,$T335,0)-OFFSET(Calculations!AS$45,$T335,0)","v":-10},{"$f":"OFFSET(Calculations!AT$43,$T335,0)-OFFSET(Calculations!AT$45,$T335,0)","v":0},{"$f":"OFFSET(Calculations!AU$43,$T335,0)-OFFSET(Calculations!AU$45,$T335,0)","v":0},0,0.61566147532565196,-0.78801075360672712,-10,0,0,4.7270342186067058,null,null,null,null,null,null,null,null,null,null,null,-1.0802387566928242,277.19635537952763,65.316485522202143]
[259,{"$f":"OFFSET(Calculations!AS$43,$A336,0)-U$3-B$10","v":-3.9964694768128162},{"$f":"OFFSET(Calculations!AT$43,$A336,0)-V$3-B$11","v":257.1716120335887},{"$f":"OFFSET(Calculations!AU$43,$A336,0)-W$3-B$12","v":30.634155371342501},-3.9964694768128162,257.1716120335887,30.634155371342501,-3.9964694768128162,257.1716120335887,30.634155371342501,-3.9964694768128162,257.1716120335887,30.634155371342501,null,null,null,{"$f":"IF(P333=1,K336*B$1/(B$1+B$2+L336),99999)","v":-0.2991687212869294},2.2932193385494255,null,null,{"$f":"(9*U335+U345)/10","v":0},200.56093996870226,83.899493993173635,-10,0,0,0,0.61566147532565196,-0.78801075360672712,-10,0,0,4.7533700530412633,null,null,null,null,null,null,null,null,null,null,null,8.3225623504779946,289.2588192189699,58.985269409863697]
[261,{"$f":"OFFSET(Calculations!AS$43,$A337,0)-U$3-B$10","v":5.9483896000752825},{"$f":"OFFSET(Calculations!AT$43,$A337,0)-V$3-B$11","v":256.67848681942439},{"$f":"OFFSET(Calculations!AU$43,$A337,0)-W$3-B$12","v":31.559685200138894},5.9483896000752825,256.67848681942439,31.559685200138894,5.9483896000752825,256.67848681942439,31.559685200138894,5.9483896000752825,256.67848681942439,31.559685200138894,null,null,null,{"$f":"IF(P333=1,K337*B$1/(B$1+B$2+L337),99999)","v":0.4461094459489045},2.3668714770763533,null,null,{"$f":"(8*U335+2*U345)/10","v":0},201.17660144402791,83.111483239566923,-10,0,0,0,0.61566147532565196,-0.78801075360671291,-10,0,0,4.7795223829828881,null,null,null,null,null,null,null,null,null,null,null,-3.7641211226103479,295.77223513838663,66.546863849699463]
[254,{"$f":"OFFSET(Calculations!AS$43,$A338,0)-U$3-B$10","v":5.6522125931384428},{"$f":"OFFSET(Calculations!AT$43,$A338,0)-V$3-B$11","v":246.77155813231076},{"$f":"OFFSET(Calculations!AU$43,$A338,0)-W$3-B$12","v":31.295104039522968},5.6522125931384428,246.77155813231076,31.295104039522968,5.6522125931384428,246.77155813231076,31.295104039522968,5.6522125931384428,246.77155813231076,31.295104039522968,null,null,null,{"$f":"IF(P333=1,K338*B$1/(B$1+B$2+L338),99999)","v":0.44025223309397354},2.4375833731084069,null,null,{"$f":"(7*U335+3*U345)/10","v":0},201.79226291935356,82.323472485960195,-10,0,0,0,0.61566147532565196,-0.78801075360672712,-10,0,0,4.805494991702175,null,null,null,null,null,null,null,null,null,null,null,1.6842622618154377,297.87941856181089,66.18256045854929]
[253,{"$f":"OFFSET(Calculations!AS$43,$A339,0)-U$3-B$10","v":0.91151836841163536},{"$f":"OFFSET(Calculations!AT$43,$A339,0)-V$3-B$11","v":246.9838585791274},{"$f":"OFFSET(Calculations!AU$43,$A339,0)-W$3-B$12","v":27.885511279687321},0.91151836841163536,246.9838585791274,27.885511279687321,0.91151836841163536,246.9838585791274,27.885511279687321,0.91151836841163536,246.9838585791274,27.885511279687321,null,null,null,{"$f":"IF(P333=1,K339*B$1/(B$1+B$2+L339),99999)","v":7.0939737106560055E-2},2.1702150036867893,null,null,{"$f":"(6*U335+4*U345)/10","v":0},202.40792439467924,81.535461732353468,-10,0,0,0,0.61566147532568039,-0.78801075360671291,-10,0,0,4.8312915342312461,null,null,null,null,null,null,null,null,null,null,null,6.0710746139357541,294.23503032434337,67.498665395982783]
[" ",null,null,null,null,null,null,null,null,null,null,null,null,null,null,null,null,null,null,null,{"$f":"(5*U335+5*U345)/10","v":0},203.02358587000489,80.74745097874677,-10,0,0,0,0.61318272930120088,-0.78510851489949118,-10,0,0,4.856915543368002,null,null,null,null,null,null,null,null,null,null,null,-6.7655576774566351E-2,288.38756103555374,68.955749663389753]
[{"$f":"A333+7","v":267},{"$f":"OFFSET(Calculations!AS$43,$A341,0)-U$3-B$10","v":1.6167922334897997},{"$f":"OFFSET(Calculations!AT$43,$A341,0)-V$3-B$11","v":267.93825545100651},{"$f":"OFFSET(Calculations!AU$43,$A341,0)-W$3-B$12","v":30.640228859171259},{"$f":"B341*F$5+C341*F$4","v":1.6167922334897997},{"$f":"C341*F$5-B341*F$4","v":267.93825545100651},{"$f":"D341","v":30.640228859171259},1.6167922334897997,{"$f":"F341*F$7+G341*F$6","v":267.93825545100651},{"$f":"G341*F$7-F341*F$6","v":30.640228859171259},{"$f":"H341*F$9+J341*F$8","v":1.6167922334897997},{"$f":"I341","v":267.93825545100651},{"$f":"J341*F$9-H341*F$8","v":30.640228859171259},null,null,{"$f":"IF(MIN(L341:L347)+B$2+B$1>0,1,0)","v":1},{"$f":"IF(P341=1,K341*B$1/(B$1+B$2+L341),99999)","v":0.11634182785426596},{"$f":"M341*B$1/(B$1+B$2+L341)","v":2.2048227085150107},null,null,{"$f":"(4*U335+6*U345)/10","v":0},203.63924734533057,79.959440225140042,-10,0,0,0,0.6107039832767498,-0.78220627619225525,-10,0,0,4.8823704353236792,null,null,null,null,null,null,null,null,null,null,null,-5.7311602699195685,296.07967610119522,66.35650354044266]
[260,{"$f":"OFFSET(Calculations!AS$43,$A342,0)-U$3-B$10","v":1.2832299252107959},{"$f":"OFFSET(Calculations!AT$43,$A342,0)-V$3-B$11","v":257.6046897820404},{"$f":"OFFSET(Calculations!AU$43,$A342,0)-W$3-B$12","v":28.157406494451926},1.2832299252107959,257.6046897820404,28.157406494451926,1.2832299252107959,257.6046897820404,28.157406494451926,1.2832299252107959,257.6046897820404,28.157406494451926,null,null,null,{"$f":"IF(P341=1,K342*B$1/(B$1+B$2+L342),99999)","v":9.5904890624746927E-2},2.1044030668809031,null,null,{"$f":"(3*U335+7*U345)/10","v":0},204.25490882065623,79.171429471533344,-10,0,0,0,0.60822523725227029,-0.77930403748501931,-10,0,0,4.907659515039283,null,null,null,null,null,null,null,null,null,null,null,-1.4632353738457331,280.82633624034099,71.164875424016856]
[259,{"$f":"OFFSET(Calculations!AS$43,$A343,0)-U$3-B$10","v":-3.9964694768128162},{"$f":"OFFSET(Calculations!AT$43,$A343,0)-V$3-B$11","v":257.1716120335887},{"$f":"OFFSET(Calculations!AU$43,$A343,0)-W$3-B$12","v":30.634155371342501},-3.9964694768128162,257.1716120335887,30.634155371342501,-3.9964694768128162,257.1716120335887,30.634155371342501,-3.9964694768128162,257.1716120335887,30.634155371342501,null,null,null,{"$f":"IF(P341=1,K343*B$1/(B$1+B$2+L343),99999)","v":-0.2991687212869294},2.2932193385494255,null,null,{"$f":"(2*U335+8*U345)/10","v":0},204.87057029598185,78.383418717926617,-10,0,0,0,0.60574649122784763,-0.77640179877778337,-10,0,0,4.9327859811943409,null,null,null,null,null,null,null,null,null,null,null,8.0381137612449791,293.92758936153461,67.68902570523943]
[266,{"$f":"OFFSET(Calculations!AS$43,$A344,0)-U$3-B$10","v":-3.7153974843517239},{"$f":"OFFSET(Calculations!AT$43,$A344,0)-V$3-B$11","v":267.00328043088666},{"$f":"OFFSET(Calculations!AU$43,$A344,0)-W$3-B$12","v":32.865401879217416},-3.7153974843517239,267.00328043088666,32.865401879217416,-3.7153974843517239,267.00328043088666,32.865401879217416,-3.7153974843517239,267.00328043088666,32.865401879217416,null,null,null,{"$f":"IF(P341=1,K344*B$1/(B$1+B$2+L344),99999)","v":-0.26825656927761399},2.3729251024099303,null,null,{"$f":"(1*U335+9*U345)/10","v":0},205.48623177130753,77.59540796431989,-10,0,0,0,0.60326774520339654,-0.77349956007053322,-10,0,0,4.9577529309294199,null,null,null,null,null,null,null,null,null,null,null,-4.2300475403846116,298.74390424385399,76.17345521004637]
[268,{"$f":"OFFSET(Calculations!AS$43,$A345,0)-U$3-B$10","v":6.2084393569885714},{"$f":"OFFSET(Calculations!AT$43,$A345,0)-V$3-B$11","v":266.3131436583335},{"$f":"OFFSET(Calculations!AU$43,$A345,0)-W$3-B$12","v":33.885781015434532},6.2084393569885714,266.3131436583335,33.885781015434532,6.2084393569885714,266.3131436583335,33.885781015434532,6.2084393569885714,266.3131436583335,33.885781015434532,null,null,null,{"$f":"IF(P341=1,K345*B$1/(B$1+B$2+L345),99999)","v":0.44937705639261416},2.452708587567948,null,{"$f":"T335+7","v":210},{"$f":"OFFSET(Calculations!AS$46,$T345,0)","v":0},{"$f":"OFFSET(Calculations!AT$46,$T345,0)","v":206.10189324663318},{"$f":"OFFSET(Calculations!AU$46,$T345,0)","v":76.807397210713177},{"$f":"OFFSET(Calculations!AS$43,$T345,0)-OFFSET(Calculations!AS$45,$T345,0)","v":-10},{"$f":"OFFSET(Calculations!AT$43,$T345,0)-OFFSET(Calculations!AT$45,$T345,0)","v":0},{"$f":"OFFSET(Calculations!AU$43,$T345,0)-OFFSET(Calculations!AU$45,$T345,0)","v":0},0,0.60078899917891704,-0.77059732136331149,-10,0,0,4.9825633643022043,null,null,null,null,null,null,null,null,null,null,null,1.216725185412906,300.86259681088274,76.375632832538429]
[261,{"$f":"OFFSET(Calculations!AS$43,$A346,0)-U$3-B$10","v":5.9483896000752825},{"$f":"OFFSET(Calculations!AT$43,$A346,0)-V$3-B$11","v":256.67848681942439},{"$f":"OFFSET(Calculations!AU$43,$A346,0)-W$3-B$12","v":31.559685200138894},5.9483896000752825,256.67848681942439,31.559685200138894,5.9483896000752825,256.67848681942439,31.559685200138894,5.9483896000752825,256.67848681942439,31.559685200138894,null,null,null,{"$f":"IF(P341=1,K346*B$1/(B$1+B$2+L346),99999)","v":0.4461094459489045},2.3668714770763533,null,null,{"$f":"(9*U345+U355)/10","v":0},206.71755472195883,76.019386457106435,-10,0,0,0,0.59831025315449438,-0.76769508265606135,-10,0,0,5.0072201884952339,null,null,null,null,null,null,null,null,null,null,null,5.5867743572557336,297.02723603668278,76.999928498481481]
[260,{"$f":"OFFSET(Calculations!AS$43,$A347,0)-U$3-B$10","v":1.2832299252107959},{"$f":"OFFSET(Calculations!AT$43,$A347,0)-V$3-B$11","v":257.6046897820404},{"$f":"OFFSET(Calculations!AU$43,$A347,0)-W$3-B$12","v":28.157406494451926},1.2832299252107959,257.6046897820404,28.157406494451926,1.2832299252107959,257.6046897820404,28.157406494451926,1.2832299252107959,257.6046897820404,28.157406494451926,null,null,null,{"$f":"IF(P341=1,K347*B$1/(B$1+B$2+L347),99999)","v":9.5904890624746927E-2},2.1044030668809031,null,null,{"$f":"(8*U345+2*U355)/10","v":0},207.33321619728449,75.231375703499722,-10,0,0,0,0.59583150713001487,-0.76479284394882541,-10,0,0,5.0317262217920318,null,null,null,null,null,null,null,null,null,null,null,-0.56428303215844078,291.01399835714005,77.073858204696563]
[" ",null,null,null,null,null,null,null,null,null,null,null,null,null,null,null,null,null,null,null,{"$f":"(7*U345+3*U355)/10","v":0},207.94887767261017,74.443364949892995,-10,0,0,0,0.59335276110556379,-0.76189060524160368,-10,0,0,5.0560841973370243,null,null,null,null,null,null,null,null,null,null,null,-6.1934119199126805,299.08723788528835,76.008160552359399]
[{"$f":"A341+7","v":274},{"$f":"OFFSET(Calculations!AS$43,$A349,0)-U$3-B$10","v":1.8650333794464495},{"$f":"OFFSET(Calculations!AT$43,$A349,0)-V$3-B$11","v":277.53124628713812},{"$f":"OFFSET(Calculations!AU$43,$A349,0)-W$3-B$12","v":35.225113221638836},{"$f":"B349*F$5+C349*F$4","v":1.8650333794464495},{"$f":"C349*F$5-B349*F$4","v":277.53124628713812},{"$f":"D349","v":35.225113221638836},1.8650333794464495,{"$f":"F349*F$7+G349*F$6","v":277.53124628713812},{"$f":"G349*F$7-F349*F$6","v":35.225113221638836},{"$f":"H349*F$9+J349*F$8","v":1.8650333794464495},{"$f":"I349","v":277.53124628713812},{"$f":"J349*F$9-H349*F$8","v":35.225113221638836},null,null,{"$f":"IF(MIN(L349:L355)+B$2+B$1>0,1,0)","v":1},{"$f":"IF(P349=1,K349*B$1/(B$1+B$2+L349),99999)","v":0.12972735335929134},{"$f":"M349*B$1/(B$1+B$2+L349)","v":2.4501763670207781},null,null,{"$f":"(6*U345+4*U355)/10","v":0},208.56453914793582,73.655354196286254,-10,0,0,0,0.59087401508108428,-0.75898836653435353,-10,0,0,5.0802967666934249,null,null,null,null,null,null,null,null,null,null,null,-1.9844503928373034,283.16077346213621,77.630619748048176]
[267,{"$f":"OFFSET(Calculations!AS$43,$A350,0)-U$3-B$10","v":1.6167922334897997},{"$f":"OFFSET(Calculations!AT$43,$A350,0)-V$3-B$11","v":267.93825545100651},{"$f":"OFFSET(Calculations!AU$43,$A350,0)-W$3-B$12","v":30.640228859171259},1.6167922334897997,267.93825545100651,30.640228859171259,1.6167922334897997,267.93825545100651,30.640228859171259,1.6167922334897997,267.93825545100651,30.640228859171259,null,null,null,{"$f":"IF(P349=1,K350*B$1/(B$1+B$2+L350),99999)","v":0.11634182785426596},2.2048227085150107,null,null,{"$f":"(5*U345+5*U355)/10","v":0},209.1802006232615,72.867343442679527,-10,0,0,-7.4685753991012905E-4,0.58811254825789661,-0.74945127217935692,-10,0,0,5.1043665032122192,null,null,null,null,null,null,null,null,null,null,null,7.5501387367838078,296.68390239524859,77.165223156168537]
[266,{"$f":"OFFSET(Calculations!AS$43,$A351,0)-U$3-B$10","v":-3.7153974843517239},{"$f":"OFFSET(Calculations!AT$43,$A351,0)-V$3-B$11","v":267.00328043088666},{"$f":"OFFSET(Calculations!AU$43,$A351,0)-W$3-B$12","v":32.865401879217416},-3.7153974843517239,267.00328043088666,32.865401879217416,-3.7153974843517239,267.00328043088666,32.865401879217416,-3.7153974843517239,267.00328043088666,32.865401879217416,null,null,null,{"$f":"IF(P349=1,K351*B$1/(B$1+B$2+L351),99999)","v":-0.26825656927761399},2.3729251024099303,null,null,{"$f":"(4*U345+6*U355)/10","v":0},209.79586209858718,72.0793326890728,-10,0,0,-1.4937150798202583E-3,0.58535108143470893,-0.73991417782436031,-9.9999849212876111,9.5864511331811286E-5,-1.3694603595977295E-3,5.1282959052243555,null,null,null,null,null,null,null,null,null,null,null,-4.9143385143709217,299.64854164733305,86.195059021284635]
[273,{"$f":"OFFSET(Calculations!AS$43,$A352,0)-U$3-B$10","v":-3.5129958401049057},{"$f":"OFFSET(Calculations!AT$43,$A352,0)-V$3-B$11","v":276.15520041717775},{"$f":"OFFSET(Calculations!AU$43,$A352,0)-W$3-B$12","v":37.098670126943993},-3.5129958401049057,276.15520041717775,37.098670126943993,-3.5129958401049057,276.15520041717775,37.098670126943993,-3.5129958401049057,276.15520041717775,37.098670126943993,null,null,null,{"$f":"IF(P349=1,K352*B$1/(B$1+B$2+L352),99999)","v":-0.24553080531008392},2.5929055332811615,null,null,{"$f":"(3*U345+7*U355)/10","v":0},210.41152357391283,71.291321935466073,-10,0,0,-2.2405726197303874E-3,0.58258961461146441,-0.73037708346934949,-9.9999547638628332,2.8759353399543386E-4,-4.1083810787931885E-3,5.1520873990673497,null,null,null,null,null,null,null,null,null,null,null,0.5187171813418523,301.66201477543899,86.951635368838566]
[275,{"$f":"OFFSET(Calculations!AS$43,$A353,0)-U$3-B$10","v":6.388363341365273},{"$f":"OFFSET(Calculations!AT$43,$A353,0)-V$3-B$11","v":275.25266262896218},{"$f":"OFFSET(Calculations!AU$43,$A353,0)-W$3-B$12","v":38.170356601786025},6.388363341365273,275.25266262896218,38.170356601786025,6.388363341365273,275.25266262896218,38.170356601786025,6.388363341365273,275.25266262896218,38.170356601786025,null,null,null,{"$f":"IF(P349=1,K353*B$1/(B$1+B$2+L353),99999)","v":0.44790911204743661},2.6762489261273261,null,null,{"$f":"(2*U345+8*U355)/10","v":0},211.02718504923851,70.503311181859345,-10,0,0,-2.9874301596405162E-3,0.57982814778830516,-0.72083998911436709,-9.9999095277256664,5.7518706799086772E-4,-8.216762157586377E-3,5.1757433419566805,null,null,null,null,null,null,null,null,null,null,null,4.8873888904052709,297.78243845801535,86.861241255570064]
[268,{"$f":"OFFSET(Calculations!AS$43,$A354,0)-U$3-B$10","v":6.2084393569885714},{"$f":"OFFSET(Calculations!AT$43,$A354,0)-V$3-B$11","v":266.3131436583335},{"$f":"OFFSET(Calculations!AU$43,$A354,0)-W$3-B$12","v":33.885781015434532},6.2084393569885714,266.3131436583335,33.885781015434532,6.2084393569885714,266.3131436583335,33.885781015434532,6.2084393569885714,266.3131436583335,33.885781015434532,null,null,null,{"$f":"IF(P349=1,K354*B$1/(B$1+B$2+L354),99999)","v":0.44937705639261416},2.452708587567948,null,null,{"$f":"(1*U345+9*U355)/10","v":0},211.64284652456416,69.715300428252618,-10,0,0,-3.734287699550645E-3,0.57706668096506064,-0.71130289475934205,-9.9998492128761107,9.5864511331811286E-4,-1.3694603595977295E-2,5.1992660247116076,null,null,null,null,null,null,null,null,null,null,null,-1.2454007224566073,291.8948309722,85.547860253216015]
[267,{"$f":"OFFSET(Calculations!AS$43,$A355,0)-U$3-B$10","v":1.6167922334897997},{"$f":"OFFSET(Calculations!AT$43,$A355,0)-V$3-B$11","v":267.93825545100651},{"$f":"OFFSET(Calculations!AU$43,$A355,0)-W$3-B$12","v":30.640228859171259},1.6167922334897997,267.93825545100651,30.640228859171259,1.6167922334897997,267.93825545100651,30.640228859171259,1.6167922334897997,267.93825545100651,30.640228859171259,null,null,null,{"$f":"IF(P349=1,K355*B$1/(B$1+B$2+L355),99999)","v":0.11634182785426596},2.2048227085150107,null,{"$f":"T345+7","v":217},{"$f":"OFFSET(Calculations!AS$46,$T355,0)","v":0},{"$f":"OFFSET(Calculations!AT$46,$T355,0)","v":212.25850799988984},{"$f":"OFFSET(Calculations!AU$46,$T355,0)","v":68.927289674645891},{"$f":"OFFSET(Calculations!AS$43,$T355,0)-OFFSET(Calculations!AS$45,$T355,0)","v":-10},{"$f":"OFFSET(Calculations!AT$43,$T355,0)-OFFSET(Calculations!AT$45,$T355,0)","v":0},{"$f":"OFFSET(Calculations!AU$43,$T355,0)-OFFSET(Calculations!AU$45,$T355,0)","v":0},-4.4811452394607747E-3,0.57430521414187297,-0.70176580040435255,-9.9997738193141661,1.4379676699771693E-3,-2.0541905393965942E-2,5.2226576743443118,null,null,null,null,null,null,null,null,null,null,null,-6.8746839953261603,300.02176228519664,86.061822574427509]
[" ",null,null,null,null,null,null,null,null,null,null,null,null,null,null,null,null,null,null,null,{"$f":"(9*U355+U365)/10","v":0},212.83450953882419,68.185714740354953,-10,0,0,-5.2280027793709036E-3,0.57402249334313638,-0.69513094475659187,-9.9996833470398325,2.013154737968037E-3,-2.8758667551552319E-2,5.2445531647361472,null,null,null,null,null,null,null,null,null,null,null,-2.6533160487123628,284.09979202308654,84.427528955831704]
[{"$f":"A349+7","v":281},{"$f":"OFFSET(Calculations!AS$43,$A357,0)-U$3-B$10","v":1.9845284664017915},{"$f":"OFFSET(Calculations!AT$43,$A357,0)-V$3-B$11","v":285.96281724111083},{"$f":"OFFSET(Calculations!AU$43,$A357,0)-W$3-B$12","v":41.710367405210462},{"$f":"B357*F$5+C357*F$4","v":1.9845284664017915},{"$f":"C357*F$5-B357*F$4","v":285.96281724111083},{"$f":"D357","v":41.710367405210462},1.9845284664017915,{"$f":"F357*F$7+G357*F$6","v":285.96281724111083},{"$f":"G357*F$7-F357*F$6","v":41.710367405210462},{"$f":"H357*F$9+J357*F$8","v":1.9845284664017915},{"$f":"I357","v":285.96281724111083},{"$f":"J357*F$9-H357*F$8","v":41.710367405210462},null,null,{"$f":"IF(MIN(L357:L363)+B$2+B$1>0,1,0)","v":1},{"$f":"IF(P357=1,K357*B$1/(B$1+B$2+L357),99999)","v":0.13410660737055113},{"$f":"M357*B$1/(B$1+B$2+L357)","v":2.8186221359847679},null,null,{"$f":"(8*U355+2*U365)/10","v":0},213.41051107775857,67.44413980606403,-10,0,0,-5.9748603192810307E-3,0.57373977254442821,-0.68849608910883831,-9.99957779605311,2.684206317290716E-3,-3.8344890068736426E-2,5.2663362856020122,null,null,null,null,null,null,null,null,null,null,null,6.8477343713605157,297.40921782015181,86.994477702427105]
[274,{"$f":"OFFSET(Calculations!AS$43,$A358,0)-U$3-B$10","v":1.8650333794464495},{"$f":"OFFSET(Calculations!AT$43,$A358,0)-V$3-B$11","v":277.53124628713812},{"$f":"OFFSET(Calculations!AU$43,$A358,0)-W$3-B$12","v":35.225113221638836},1.8650333794464495,277.53124628713812,35.225113221638836,1.8650333794464495,277.53124628713812,35.225113221638836,1.8650333794464495,277.53124628713812,35.225113221638836,null,null,null,{"$f":"IF(P357=1,K358*B$1/(B$1+B$2+L358),99999)","v":0.12972735335929134},2.4501763670207781,null,null,{"$f":"(7*U355+3*U365)/10","v":0},213.98651261669292,66.702564871773092,-10,0,0,-6.7217178591911578E-3,0.57345705174563477,-0.68186123346106342,-9.9994571663539986,3.4511224079452063E-3,-4.9300572945518262E-2,5.2880087494566883,null,null,null,null,null,null,null,null,null,null,null,-5.8192111452405237,298.4495324061225,96.168160258095213]
[273,{"$f":"OFFSET(Calculations!AS$43,$A359,0)-U$3-B$10","v":-3.5129958401049057},{"$f":"OFFSET(Calculations!AT$43,$A359,0)-V$3-B$11","v":276.15520041717775},{"$f":"OFFSET(Calculations!AU$43,$A359,0)-W$3-B$12","v":37.098670126943993},-3.5129958401049057,276.15520041717775,37.098670126943993,-3.5129958401049057,276.15520041717775,37.098670126943993,-3.5129958401049057,276.15520041717775,37.098670126943993,null,null,null,{"$f":"IF(P357=1,K359*B$1/(B$1+B$2+L359),99999)","v":-0.24553080531008392},2.5929055332811615,null,null,{"$f":"(6*U355+4*U365)/10","v":0},214.5625141556273,65.960989937482154,-10,0,0,-7.4685753991012918E-3,0.57317433094689818,-0.67522637781330275,-9.9993214579424983,4.3139030099315079E-3,-6.1625716181897827E-2,5.309572225753949,null,null,null,null,null,null,null,null,null,null,null,-0.4113269189251918,300.24644308161913,97.443377101159243]
[280,{"$f":"OFFSET(Calculations!AS$43,$A360,0)-U$3-B$10","v":-3.4307124828449216},{"$f":"OFFSET(Calculations!AT$43,$A360,0)-V$3-B$11","v":284.225864187083},{"$f":"OFFSET(Calculations!AU$43,$A360,0)-W$3-B$12","v":43.146544272503995},-3.4307124828449216,284.225864187083,43.146544272503995,-3.4307124828449216,284.225864187083,43.146544272503995,-3.4307124828449216,284.225864187083,43.146544272503995,null,null,null,{"$f":"IF(P357=1,K360*B$1/(B$1+B$2+L360),99999)","v":-0.23320264466372739},2.9328858896693966,null,null,{"$f":"(5*U355+5*U365)/10","v":0},215.13851569456165,65.219415003191216,-10,0,0,-7.4606864534471143E-3,0.58037326429405312,-0.66029928658247172,-9.999170670818609,5.2725481232496207E-3,-7.5320319777875122E-2,5.3310283423873575,null,null,null,null,null,null,null,null,null,null,null,3.9713689536239372,296.47063424865809,96.646180561119024]
[282,{"$f":"OFFSET(Calculations!AS$43,$A361,0)-U$3-B$10","v":6.4477081162670897},{"$f":"OFFSET(Calculations!AT$43,$A361,0)-V$3-B$11","v":283.10493339884033},{"$f":"OFFSET(Calculations!AU$43,$A361,0)-W$3-B$12","v":44.223726074712374},6.4477081162670897,283.10493339884033,44.223726074712374,6.4477081162670897,283.10493339884033,44.223726074712374,6.4477081162670897,283.10493339884033,44.223726074712374,null,null,null,{"$f":"IF(P357=1,K361*B$1/(B$1+B$2+L361),99999)","v":0.43995903047414214},3.0176036658199314,null,null,{"$f":"(4*U355+6*U365)/10","v":0},215.714517233496,64.477840068900292,-10,0,0,-7.4527975077929437E-3,0.58757219764109436,-0.64537219535163359,-9.9989753147002727,6.6098405445384149E-3,-9.0333816420884269E-2,5.3523786871244683,null,null,null,null,null,null,null,null,null,null,null,-2.1133661471392395,290.99449715735665,94.002712893298295]
[275,{"$f":"OFFSET(Calculations!AS$43,$A362,0)-U$3-B$10","v":6.388363341365273},{"$f":"OFFSET(Calculations!AT$43,$A362,0)-V$3-B$11","v":275.25266262896218},{"$f":"OFFSET(Calculations!AU$43,$A362,0)-W$3-B$12","v":38.170356601786025},6.388363341365273,275.25266262896218,38.170356601786025,6.388363341365273,275.25266262896218,38.170356601786025,6.388363341365273,275.25266262896218,38.170356601786025,null,null,null,{"$f":"IF(P357=1,K362*B$1/(B$1+B$2+L362),99999)","v":0.44790911204743661},2.6762489261273261,null,null,{"$f":"(3*U355+7*U365)/10","v":0},216.29051877243037,63.736265134609347,-10,0,0,-7.4449085621387592E-3,0.59477113098816403,-0.63044510412080257,-9.9987353895874893,8.3257802737978902E-3,-0.10666620611092528,5.3736248089780227,null,null,null,null,null,null,null,null,null,null,null,-7.777327165013415,298.84531203761543,96.072556197490371]
[274,{"$f":"OFFSET(Calculations!AS$43,$A363,0)-U$3-B$10","v":1.8650333794464495},{"$f":"OFFSET(Calculations!AT$43,$A363,0)-V$3-B$11","v":277.53124628713812},{"$f":"OFFSET(Calculations!AU$43,$A363,0)-W$3-B$12","v":35.225113221638836},1.8650333794464495,277.53124628713812,35.225113221638836,1.8650333794464495,277.53124628713812,35.225113221638836,1.8650333794464495,277.53124628713812,35.225113221638836,null,null,null,{"$f":"IF(P357=1,K363*B$1/(B$1+B$2+L363),99999)","v":0.12972735335929134},2.4501763670207781,null,null,{"$f":"(2*U355+8*U365)/10","v":0},216.86652031136472,62.994690200318416,-10,0,0,-7.4370196164845886E-3,0.60197006433526212,-0.61551801288996444,-9.9984508954802607,1.0420367311028047E-2,-0.12431748884799815,5.3947682195174727,null,null,null,null,null,null,null,null,null,null,null,-3.4727319200888997,283.60525582017533,91.254761446088352]
[" ",null,null,null,null,null,null,null,null,null,null,null,null,null,null,null,null,null,null,null,{"$f":"(1*U355+9*U365)/10","v":0},217.4425218502991,62.253115266027478,-10,0,0,-7.4291306708304111E-3,0.60916899768233179,-0.60059092165912631,-9.9981218323785832,1.2893601656228883E-2,-0.14328766463210285,5.4158103941239952,null,null,null,null,null,null,null,null,null,null,null,5.9294849733968364,296.07485461716522,96.741784621723752]
[{"$f":"A357+7","v":288},{"$f":"OFFSET(Calculations!AS$43,$A365,0)-U$3-B$10","v":1.933065214311084},{"$f":"OFFSET(Calculations!AT$43,$A365,0)-V$3-B$11","v":292.84005138257493},{"$f":"OFFSET(Calculations!AU$43,$A365,0)-W$3-B$12","v":49.822859056282212},{"$f":"B365*F$5+C365*F$4","v":1.933065214311084},{"$f":"C365*F$5-B365*F$4","v":292.84005138257493},{"$f":"D365","v":49.822859056282212},1.933065214311084,{"$f":"F365*F$7+G365*F$6","v":292.84005138257493},{"$f":"G365*F$7-F365*F$6","v":49.822859056282212},{"$f":"H365*F$9+J365*F$8","v":1.933065214311084},{"$f":"I365","v":292.84005138257493},{"$f":"J365*F$9-H365*F$8","v":49.822859056282212},null,null,{"$f":"IF(MIN(L365:L371)+B$2+B$1>0,1,0)","v":1},{"$f":"IF(P365=1,K365*B$1/(B$1+B$2+L365),99999)","v":0.12766245451920499},{"$f":"M365*B$1/(B$1+B$2+L365)","v":3.2903744949733529},null,{"$f":"T355+7","v":224},{"$f":"OFFSET(Calculations!AS$46,$T365,0)","v":0},{"$f":"OFFSET(Calculations!AT$46,$T365,0)","v":218.01852338923348},{"$f":"OFFSET(Calculations!AU$46,$T365,0)","v":61.511540331736548},{"$f":"OFFSET(Calculations!AS$43,$T365,0)-OFFSET(Calculations!AS$45,$T365,0)","v":-10},{"$f":"OFFSET(Calculations!AT$43,$T365,0)-OFFSET(Calculations!AT$45,$T365,0)","v":0},{"$f":"OFFSET(Calculations!AU$43,$T365,0)-OFFSET(Calculations!AU$45,$T365,0)","v":0},{"$f":"(SUM(U366:U381)-SUM(U365:U380))/16","v":-7.4212417251762475E-3},{"$f":"(SUM(V366:V381)-SUM(V365:V380))/16","v":0.61636793102940146},{"$f":"(SUM(W366:W381)-SUM(W365:W380))/16","v":-0.58566383042828818},{"$f":"SUM(X365:X380)/16","v":-9.9977482002824587},{"$f":"SUM(Y365:Y380)/16","v":1.5745483309400399E-2},{"$f":"SUM(Z365:Z380)/16","v":-0.16357673346323942},5.4367527731919267,null,null,null,null,null,null,null,null,null,null,null,-6.9371231163746518,295.20333534315654,105.65138984360375]
[281,{"$f":"OFFSET(Calculations!AS$43,$A366,0)-U$3-B$10","v":1.9845284664017915},{"$f":"OFFSET(Calculations!AT$43,$A366,0)-V$3-B$11","v":285.96281724111083},{"$f":"OFFSET(Calculations!AU$43,$A366,0)-W$3-B$12","v":41.710367405210462},1.9845284664017915,285.96281724111083,41.710367405210462,1.9845284664017915,285.96281724111083,41.710367405210462,1.9845284664017915,285.96281724111083,41.710367405210462,null,null,null,{"$f":"IF(P365=1,K366*B$1/(B$1+B$2+L366),99999)","v":0.13410660737055113},2.8186221359847679,null,null,{"$f":"(9*U365+U375)/10","v":-1.1949720638562065E-2},218.5900013953879,60.876123087809823,-9.9997587406017789,1.5338321813089806E-3,-2.1911365753563672E-2,-6.6664952396119498E-3,0.62384958517523614,-0.57737159484521783,-9.9973299991918854,1.8976012270542596E-2,-0.18518469534140786,5.4546188929478499,null,null,null,null,null,null,null,null,null,null,null,-1.5647342804526401,296.68234556814394,107.38750064877169]
[280,{"$f":"OFFSET(Calculations!AS$43,$A367,0)-U$3-B$10","v":-3.4307124828449216},{"$f":"OFFSET(Calculations!AT$43,$A367,0)-V$3-B$11","v":284.225864187083},{"$f":"OFFSET(Calculations!AU$43,$A367,0)-W$3-B$12","v":43.146544272503995},-3.4307124828449216,284.225864187083,43.146544272503995,-3.4307124828449216,284.225864187083,43.146544272503995,-3.4307124828449216,284.225864187083,43.146544272503995,null,null,null,{"$f":"IF(P365=1,K367*B$1/(B$1+B$2+L367),99999)","v":-0.23320264466372739},2.9328858896693966,null,null,{"$f":"(8*U365+2*U375)/10","v":-2.389944127712413E-2},219.16147940154232,60.240705843883099,-9.9995174812035561,3.0676643626179612E-3,-4.3822731507127344E-2,-5.9117487540476382E-3,0.63133123932109925,-0.56907935926214748,-9.9968823078192557,2.2489324028323664E-2,-0.2067420899070104,5.4724136428096193,null,null,null,null,null,null,null,null,null,null,null,2.8467500650577175,293.15327273337545,105.92170237684169]
[287,{"$f":"OFFSET(Calculations!AS$43,$A368,0)-U$3-B$10","v":-3.5046808365137285},{"$f":"OFFSET(Calculations!AT$43,$A368,0)-V$3-B$11","v":290.86160304733409},{"$f":"OFFSET(Calculations!AU$43,$A368,0)-W$3-B$12","v":50.741323030274756},-3.5046808365137285,290.86160304733409,50.741323030274756,-3.5046808365137285,290.86160304733409,50.741323030274756,-3.5046808365137285,290.86160304733409,50.741323030274756,null,null,null,{"$f":"IF(P365=1,K368*B$1/(B$1+B$2+L368),99999)","v":-0.23297627886150316},3.3730673848926949,null,null,{"$f":"(7*U365+3*U375)/10","v":-3.5849161915686191E-2},219.73295740769672,59.60528859995636,-9.999276221805335,4.6014965439269417E-3,-6.5734097260691016E-2,-5.1570022684833267E-3,0.63881289346696235,-0.56078712367906292,-9.9964051261645643,2.6285418582743605E-2,-0.22824891716004708,5.4901378713098881,null,null,null,null,null,null,null,null,null,null,null,-3.1622699124301907,288.35624113664534,102.06422045593456]
[289,{"$f":"OFFSET(Calculations!AS$43,$A369,0)-U$3-B$10","v":6.3513551526460379},{"$f":"OFFSET(Calculations!AT$43,$A369,0)-V$3-B$11","v":289.5259498570307},{"$f":"OFFSET(Calculations!AU$43,$A369,0)-W$3-B$12","v":51.777945013265565},6.3513551526460379,289.5259498570307,51.777945013265565,6.3513551526460379,289.5259498570307,51.777945013265565,6.3513551526460379,289.5259498570307,51.777945013265565,null,null,null,{"$f":"IF(P365=1,K369*B$1/(B$1+B$2+L369),99999)","v":0.42409381595669138},3.4573261540764761,null,null,{"$f":"(6*U365+4*U375)/10","v":-4.7798882554248259E-2},220.30443541385117,58.96987135602965,-9.9990349624071122,6.1353287252359223E-3,-8.7645463014254688E-2,-4.4022557829190151E-3,0.64629454761279703,-0.55249488809599967,-9.9958984542278166,3.036429593380241E-2,-0.24970517710051787,5.5077924102994107,null,null,null,null,null,null,null,null,null,null,null,-8.8938977526611236,295.61334786511287,105.59732733695603]
[282,{"$f":"OFFSET(Calculations!AS$43,$A370,0)-U$3-B$10","v":6.4477081162670897},{"$f":"OFFSET(Calculations!AT$43,$A370,0)-V$3-B$11","v":283.10493339884033},{"$f":"OFFSET(Calculations!AU$43,$A370,0)-W$3-B$12","v":44.223726074712374},6.4477081162670897,283.10493339884033,44.223726074712374,6.4477081162670897,283.10493339884033,44.223726074712374,6.4477081162670897,283.10493339884033,44.223726074712374,null,null,null,{"$f":"IF(P365=1,K370*B$1/(B$1+B$2+L370),99999)","v":0.43995903047414214},3.0176036658199314,null,null,{"$f":"(5*U365+5*U375)/10","v":-5.9748603192810321E-2},220.87591342000559,58.334454112102911,-9.9987937030088894,7.6691609065449029E-3,-0.10955682876781836,-3.0961923389189322E-3,0.65936786908881118,-0.53452095493138785,-9.9953622920090108,3.4725956081500087E-2,-0.2711108697284228,5.5253780754026129,null,null,null,null,null,null,null,null,null,null,null,-4.4389366401693131,281.70245496336457,97.810133993891043]
[281,{"$f":"OFFSET(Calculations!AS$43,$A371,0)-U$3-B$10","v":1.9845284664017915},{"$f":"OFFSET(Calculations!AT$43,$A371,0)-V$3-B$11","v":285.96281724111083},{"$f":"OFFSET(Calculations!AU$43,$A371,0)-W$3-B$12","v":41.710367405210462},1.9845284664017915,285.96281724111083,41.710367405210462,1.9845284664017915,285.96281724111083,41.710367405210462,1.9845284664017915,285.96281724111083,41.710367405210462,null,null,null,{"$f":"IF(P365=1,K371*B$1/(B$1+B$2+L371),99999)","v":0.13410660737055113},2.8186221359847679,null,null,{"$f":"(4*U365+6*U375)/10","v":-7.1698323831372382E-2},221.44739142615998,57.699036868176186,-9.9985524436106683,9.2029930878538835E-3,-0.13146819452138203,-1.7901288949188354E-3,0.67244119056485374,-0.51654702176679024,-9.9947691211371765,3.9636428946755765E-2,-0.29235707461249738,5.5428956664572802,null,null,null,null,null,null,null,null,null,null,null,4.8035247013442008,292.74326021141917,105.97576488348918]
[" ",null,null,null,null,null,null,null,null,null,null,null,null,null,null,null,null,null,null,null,{"$f":"(3*U365+7*U375)/10","v":-8.3648044469934443E-2},222.01886943231443,57.063619624249462,-9.9983111842124455,1.0736825269162864E-2,-0.1533795602749457,-4.8406545091875253E-4,0.68551451204083946,-0.49857308860217842,-9.9941189416123102,4.5095714529569446E-2,-0.31344379175274156,5.5603459679390577,null,null,null,null,null,null,null,null,null,null,null,-8.2511063962052251,290.05698508221269,114.22505258774555]
[{"$f":"A365+7","v":295},{"$f":"OFFSET(Calculations!AS$43,$A373,0)-U$3-B$10","v":1.6842622618154377},{"$f":"OFFSET(Calculations!AT$43,$A373,0)-V$3-B$11","v":297.87941856181089},{"$f":"OFFSET(Calculations!AU$43,$A373,0)-W$3-B$12","v":59.18256045854929},{"$f":"B373*F$5+C373*F$4","v":1.6842622618154377},{"$f":"C373*F$5-B373*F$4","v":297.87941856181089},{"$f":"D373","v":59.18256045854929},1.6842622618154377,{"$f":"F373*F$7+G373*F$6","v":297.87941856181089},{"$f":"G373*F$7-F373*F$6","v":59.18256045854929},{"$f":"H373*F$9+J373*F$8","v":1.6842622618154377},{"$f":"I373","v":297.87941856181089},{"$f":"J373*F$9-H373*F$8","v":59.18256045854929},null,null,{"$f":"IF(MIN(L373:L379)+B$2+B$1>0,1,0)","v":1},{"$f":"IF(P373=1,K373*B$1/(B$1+B$2+L373),99999)","v":0.10941051335507181},{"$f":"M373*B$1/(B$1+B$2+L373)","v":3.8445285323070468},null,null,{"$f":"(2*U365+8*U375)/10","v":-9.5597765108496519E-2},222.59034743846888,56.428202380322737,-9.9980699248142244,1.2270657450471845E-2,-0.17529092602850938,8.21997993081372E-4,0.69858783351693887,-0.48059915543755949,-9.9934117534344171,5.1103812829941121E-2,-0.3343710211491554,5.5777297493713736,null,null,null,null,null,null,null,null,null,null,null,-2.9229781686153866,291.13093187315854,116.34489311961991]
[288,{"$f":"OFFSET(Calculations!AS$43,$A374,0)-U$3-B$10","v":1.933065214311084},{"$f":"OFFSET(Calculations!AT$43,$A374,0)-V$3-B$11","v":292.84005138257493},{"$f":"OFFSET(Calculations!AU$43,$A374,0)-W$3-B$12","v":49.822859056282212},1.933065214311084,292.84005138257493,49.822859056282212,1.933065214311084,292.84005138257493,49.822859056282212,1.933065214311084,292.84005138257493,49.822859056282212,null,null,null,{"$f":"IF(P373=1,K374*B$1/(B$1+B$2+L374),99999)","v":0.12766245451920499},3.2903744949733529,null,null,{"$f":"(1*U365+9*U375)/10","v":-0.10754748574705857},223.16182544462328,55.792785136396006,-9.9978286654160033,1.3804489631780825E-2,-0.19720229178207305,2.1280614370814549E-3,0.71166115499295302,-0.46262522227296898,-9.9926475566034956,5.7660723847870798E-2,-0.35513876280173884,{"$f":"AG$245+SIGN(W$245-W374)*SQRT(2*ABS(W$245-W374)/Z$5)","v":5.595047765721417},null,null,null,null,null,null,null,null,null,null,null,1.5307969972044457,287.98053713676757,114.27730133755892]
[287,{"$f":"OFFSET(Calculations!AS$43,$A375,0)-U$3-B$10","v":-3.5046808365137285},{"$f":"OFFSET(Calculations!AT$43,$A375,0)-V$3-B$11","v":290.86160304733409},{"$f":"OFFSET(Calculations!AU$43,$A375,0)-W$3-B$12","v":50.741323030274756},-3.5046808365137285,290.86160304733409,50.741323030274756,-3.5046808365137285,290.86160304733409,50.741323030274756,-3.5046808365137285,290.86160304733409,50.741323030274756,null,null,null,{"$f":"IF(P373=1,K375*B$1/(B$1+B$2+L375),99999)","v":-0.23297627886150316},3.3730673848926949,null,{"$f":"T365+7","v":231},{"$f":"OFFSET(Calculations!AS$46,$T375,0)","v":-0.11949720638562064},{"$f":"OFFSET(Calculations!AT$46,$T375,0)","v":223.7333034507777},{"$f":"OFFSET(Calculations!AU$46,$T375,0)","v":55.157367892469281},{"$f":"OFFSET(Calculations!AS$43,$T375,0)-OFFSET(Calculations!AS$45,$T375,0)","v":-9.9975874060177805},{"$f":"OFFSET(Calculations!AT$43,$T375,0)-OFFSET(Calculations!AT$45,$T375,0)","v":1.5338321813089806E-2},{"$f":"OFFSET(Calculations!AU$43,$T375,0)-OFFSET(Calculations!AU$45,$T375,0)","v":-0.21911365753563672},3.4341248810815378E-3,0.72473447646896716,-0.44465128910835006,-9.9918263511195455,6.4766447583358477E-2,-0.37574701671049193,5.6123007577827213,null,null,null,null,null,null,null,null,null,null,null,-4.378197186591203,284.10019978358224,109.37559043611402]
[294,{"$f":"OFFSET(Calculations!AS$43,$A376,0)-U$3-B$10","v":-3.7641211226103479},{"$f":"OFFSET(Calculations!AT$43,$A376,0)-V$3-B$11","v":295.77223513838663},{"$f":"OFFSET(Calculations!AU$43,$A376,0)-W$3-B$12","v":59.546863849699463},-3.7641211226103479,295.77223513838663,59.546863849699463,-3.7641211226103479,295.77223513838663,59.546863849699463,-3.7641211226103479,295.77223513838663,59.546863849699463,null,null,null,{"$f":"IF(P373=1,K376*B$1/(B$1+B$2+L376),99999)","v":-0.24620424551671796},3.8948509384934633,null,null,{"$f":"(9*U375+U385)/10","v":-0.11937098325515383},224.4244879232655,54.654626417871711,-9.9968743021066242,2.1396678740620699E-2,-0.24021594628814641,3.985441839517323E-3,0.73032614379920346,-0.43496959152683701,-9.9909481369825635,7.2420984036404151E-2,-0.39619578287541468,5.6259057111978032,null,null,null,null,null,null,null,null,null,null,null,-10.207487074887156,290.47227467130182,114.21460283778286]
[296,{"$f":"OFFSET(Calculations!AS$43,$A377,0)-U$3-B$10","v":6.0710746139357541},{"$f":"OFFSET(Calculations!AT$43,$A377,0)-V$3-B$11","v":294.23503032434337},{"$f":"OFFSET(Calculations!AU$43,$A377,0)-W$3-B$12","v":60.498665395982783},6.0710746139357541,294.23503032434337,60.498665395982783,6.0710746139357541,294.23503032434337,60.498665395982783,6.0710746139357541,294.23503032434337,60.498665395982783,null,null,null,{"$f":"IF(P373=1,K377*B$1/(B$1+B$2+L377),99999)","v":0.39910424565267272},3.977100554889125,null,null,{"$f":"(8*U375+2*U385)/10","v":-0.11924476012468706},225.11567239575328,54.151884943274162,-9.9961611981954661,2.7455035668151596E-2,-0.2613182350406561,4.536758797953136E-3,0.73591781112938293,-0.42528789394528843,-9.9900424044746146,8.0341550410368973E-2,-0.41653562860907289,5.6394707691224699,null,null,null,null,null,null,null,null,null,null,null,-5.541674314695002,278.47898683968748,103.80349154864182]
[289,{"$f":"OFFSET(Calculations!AS$43,$A378,0)-U$3-B$10","v":6.3513551526460379},{"$f":"OFFSET(Calculations!AT$43,$A378,0)-V$3-B$11","v":289.5259498570307},{"$f":"OFFSET(Calculations!AU$43,$A378,0)-W$3-B$12","v":51.777945013265565},6.3513551526460379,289.5259498570307,51.777945013265565,6.3513551526460379,289.5259498570307,51.777945013265565,6.3513551526460379,289.5259498570307,51.777945013265565,null,null,null,{"$f":"IF(P373=1,K378*B$1/(B$1+B$2+L378),99999)","v":0.42409381595669138},3.4573261540764761,null,null,{"$f":"(7*U375+3*U385)/10","v":-0.11911853699422026},225.80685686824108,53.649143468676598,-9.995448094284308,3.3513392595682492E-2,-0.28242052379316573,5.0880757563889212E-3,0.74150947845956239,-0.41560619636375407,-9.9891091535956917,8.85281467052529E-2,-0.43676655391146663,5.6529962804832792,null,null,null,null,null,null,null,null,null,null,null,3.4871776758863908,287.56524754767867,114.28775108752163]
[288,{"$f":"OFFSET(Calculations!AS$43,$A379,0)-U$3-B$10","v":1.933065214311084},{"$f":"OFFSET(Calculations!AT$43,$A379,0)-V$3-B$11","v":292.84005138257493},{"$f":"OFFSET(Calculations!AU$43,$A379,0)-W$3-B$12","v":49.822859056282212},1.933065214311084,292.84005138257493,49.822859056282212,1.933065214311084,292.84005138257493,49.822859056282212,1.933065214311084,292.84005138257493,49.822859056282212,null,null,null,{"$f":"IF(P373=1,K379*B$1/(B$1+B$2+L379),99999)","v":0.12766245451920499},3.2903744949733529,null,null,{"$f":"(6*U375+4*U385)/10","v":-0.11899231386375345},226.49804134072883,53.146401994079042,-9.9947349903731517,3.9571749523213386E-2,-0.30352281254567542,5.6393927148247064E-3,0.74710114578974185,-0.40592449878221259,-9.9881483843458003,9.6980772921055988E-2,-0.45688855878259588,5.6664825891500579,null,null,null,null,null,null,null,null,null,null,null,-9.7355179719929978,283.24158664637554,121.50969618594118]
[" ",null,null,null,null,null,null,null,null,null,null,null,null,null,null,null,null,null,null,null,{"$f":"(5*U375+5*U385)/10","v":-0.11886609073328666},227.18922581321667,52.643660519481479,-9.9940218864619936,4.5630106450744279E-2,-0.32462510129818511,6.5142046309031171E-3,0.7561470958427492,-0.38559999875659656,-9.9871600967249385,0.10569942905777818,-0.47690164322246065,5.6799300340379038,null,null,null,null,null,null,null,null,null,null,null,-4.4584955763052028,283.8410415577431,123.92002719137555]
[{"$f":"A373+7","v":302},{"$f":"OFFSET(Calculations!AS$43,$A381,0)-U$3-B$10","v":1.216725185412906},{"$f":"OFFSET(Calculations!AT$43,$A381,0)-V$3-B$11","v":300.86259681088274},{"$f":"OFFSET(Calculations!AU$43,$A381,0)-W$3-B$12","v":69.375632832538429},{"$f":"B381*F$5+C381*F$4","v":1.216725185412906},{"$f":"C381*F$5-B381*F$4","v":300.86259681088274},{"$f":"D381","v":69.375632832538429},1.216725185412906,{"$f":"F381*F$7+G381*F$6","v":300.86259681088274},{"$f":"G381*F$7-F381*F$6","v":69.375632832538429},{"$f":"H381*F$9+J381*F$8","v":1.216725185412906},{"$f":"I381","v":300.86259681088274},{"$f":"J381*F$9-H381*F$8","v":69.375632832538429},null,null,{"$f":"IF(MIN(L381:L387)+B$2+B$1>0,1,0)","v":1},{"$f":"IF(P381=1,K381*B$1/(B$1+B$2+L381),99999)","v":7.8280577843407542E-2},{"$f":"M381*B$1/(B$1+B$2+L381)","v":4.4634274785231876},null,null,{"$f":"(4*U375+6*U385)/10","v":-0.11873986760281988},227.88041028570441,52.140919044883915,-9.9933087825508373,5.1688463378275172E-2,-0.34572739005069481,7.3890165469815278E-3,0.76519304589572812,-0.36527549873095211,-9.9861199617963354,0.11492162192982551,-0.4966433527578753,5.6933389492065674,null,null,null,null,null,null,null,null,null,null,null,4.9239914126636863E-2,281.18469987500504,121.34317315515986]
[295,{"$f":"OFFSET(Calculations!AS$43,$A382,0)-U$3-B$10","v":1.6842622618154377},{"$f":"OFFSET(Calculations!AT$43,$A382,0)-V$3-B$11","v":297.87941856181089},{"$f":"OFFSET(Calculations!AU$43,$A382,0)-W$3-B$12","v":59.18256045854929},1.6842622618154377,297.87941856181089,59.18256045854929,1.6842622618154377,297.87941856181089,59.18256045854929,1.6842622618154377,297.87941856181089,59.18256045854929,null,null,null,{"$f":"IF(P381=1,K382*B$1/(B$1+B$2+L382),99999)","v":0.10941051335507181},3.8445285323070468,null,null,{"$f":"(3*U375+7*U385)/10","v":-0.11861364447235305},228.57159475819222,51.638177570286345,-9.9925956786396792,5.7746820305806065E-2,-0.3668296788032045,8.2638284630599107E-3,0.77423899594870704,-0.34495099870532187,-9.9850279795599928,0.12464735153719797,-0.51611368738883989,5.7067096639572741,null,null,null,null,null,null,null,null,null,null,null,-5.7398433478927018,278.41808728399104,115.61321942439989]
[294,{"$f":"OFFSET(Calculations!AS$43,$A383,0)-U$3-B$10","v":-3.7641211226103479},{"$f":"OFFSET(Calculations!AT$43,$A383,0)-V$3-B$11","v":295.77223513838663},{"$f":"OFFSET(Calculations!AU$43,$A383,0)-W$3-B$12","v":59.546863849699463},-3.7641211226103479,295.77223513838663,59.546863849699463,-3.7641211226103479,295.77223513838663,59.546863849699463,-3.7641211226103479,295.77223513838663,59.546863849699463,null,null,null,{"$f":"IF(P381=1,K383*B$1/(B$1+B$2+L383),99999)","v":-0.24620424551671796},3.8948509384934633,null,null,{"$f":"(2*U375+8*U385)/10","v":-0.11848742134188625},229.26277923068,51.135436095688782,-9.9918825747285229,6.3805177233336965E-2,-0.38793196755571413,9.1386403791383422E-3,0.78328494600165754,-0.32462649867969162,-9.983884150015907,0.13487661787989555,-0.5353126471153542,5.720042502927086,null,null,null,null,null,null,null,null,null,null,null,-11.692469549216922,283.6529640006496,121.54300079209743]
[301,{"$f":"OFFSET(Calculations!AS$43,$A384,0)-U$3-B$10","v":-4.2300475403846116},{"$f":"OFFSET(Calculations!AT$43,$A384,0)-V$3-B$11","v":298.74390424385399},{"$f":"OFFSET(Calculations!AU$43,$A384,0)-W$3-B$12","v":69.17345521004637},-4.2300475403846116,298.74390424385399,69.17345521004637,-4.2300475403846116,298.74390424385399,69.17345521004637,-4.2300475403846116,298.74390424385399,69.17345521004637,null,null,null,{"$f":"IF(P381=1,K384*B$1/(B$1+B$2+L384),99999)","v":-0.27401658670764295},4.4809600616704888,null,null,{"$f":"(1*U375+9*U385)/10","v":-0.11836119821141947},229.9539637031678,50.632694621091225,-9.9911694708173666,6.9863534160867852E-2,-0.40903425630822382,1.0013452295216739E-2,0.79233089605463647,-0.30430199865406848,-9.9826884731640817,0.14560942095791826,-0.55424023193741867,5.7333377861808659,null,null,null,null,null,null,null,null,null,null,null,-6.7646482838464559,274.08088045347745,108.96954485737059]
[303,{"$f":"OFFSET(Calculations!AS$43,$A385,0)-U$3-B$10","v":5.5867743572557336},{"$f":"OFFSET(Calculations!AT$43,$A385,0)-V$3-B$11","v":297.02723603668278},{"$f":"OFFSET(Calculations!AU$43,$A385,0)-W$3-B$12","v":69.999928498481481},5.5867743572557336,297.02723603668278,69.999928498481481,5.5867743572557336,297.02723603668278,69.999928498481481,5.5867743572557336,297.02723603668278,69.999928498481481,null,null,null,{"$f":"IF(P381=1,K385*B$1/(B$1+B$2+L385),99999)","v":0.36392695510493678},4.5598513931264444,null,{"$f":"T375+7","v":238},{"$f":"OFFSET(Calculations!AS$46,$T385,0)","v":-0.11823497508095267},{"$f":"OFFSET(Calculations!AT$46,$T385,0)","v":230.64514817565558},{"$f":"OFFSET(Calculations!AU$46,$T385,0)","v":50.129953146493662},{"$f":"OFFSET(Calculations!AS$43,$T385,0)-OFFSET(Calculations!AS$45,$T385,0)","v":-9.9904563669062085},{"$f":"OFFSET(Calculations!AT$43,$T385,0)-OFFSET(Calculations!AT$45,$T385,0)","v":7.5921891088398752E-2},{"$f":"OFFSET(Calculations!AU$43,$T385,0)-OFFSET(Calculations!AU$45,$T385,0)","v":-0.43013654506073351},1.0888264211295136E-2,0.80137684610758697,-0.28397749862842403,-9.9814409490045186,0.15684576077126608,-0.57289644185503286,5.7465958293009285,null,null,null,null,null,null,null,null,null,null,null,2.0061914913505756,280.77332252073091,121.30986854900357]
[296,{"$f":"OFFSET(Calculations!AS$43,$A386,0)-U$3-B$10","v":6.0710746139357541},{"$f":"OFFSET(Calculations!AT$43,$A386,0)-V$3-B$11","v":294.23503032434337},{"$f":"OFFSET(Calculations!AU$43,$A386,0)-W$3-B$12","v":60.498665395982783},6.0710746139357541,294.23503032434337,60.498665395982783,6.0710746139357541,294.23503032434337,60.498665395982783,6.0710746139357541,294.23503032434337,60.498665395982783,null,null,null,{"$f":"IF(P381=1,K386*B$1/(B$1+B$2+L386),99999)","v":0.39910424565267272},3.977100554889125,null,null,{"$f":"(9*U385+U395)/10","v":-0.10928768061551322},231.42579932542654,49.782118833200649,-9.9893029690595245,8.6236726750635734E-2,-0.44949610691301134,1.1211759168937754E-2,0.80483112883038643,-0.27333469618433526,-9.9801415775372142,0.16858563731993909,-0.59128127686819698,5.7557471069286494,null,null,null,null,null,null,null,null,null,null,null,-11.357174399569505,275.06209044481523,127.18289971109662]
[295,{"$f":"OFFSET(Calculations!AS$43,$A387,0)-U$3-B$10","v":1.6842622618154377},{"$f":"OFFSET(Calculations!AT$43,$A387,0)-V$3-B$11","v":297.87941856181089},{"$f":"OFFSET(Calculations!AU$43,$A387,0)-W$3-B$12","v":59.18256045854929},1.6842622618154377,297.87941856181089,59.18256045854929,1.6842622618154377,297.87941856181089,59.18256045854929,1.6842622618154377,297.87941856181089,59.18256045854929,null,null,null,{"$f":"IF(P381=1,K387*B$1/(B$1+B$2+L387),99999)","v":0.10941051335507181},3.8445285323070468,null,null,{"$f":"(8*U385+2*U395)/10","v":-0.10034038615007375},232.20645047519753,49.434284519907635,-9.9881495712128388,9.655156241287273E-2,-0.46885566876528911,1.1535254126580368E-2,0.80828541155315747,-0.26269189374023938,-9.9788178771331353,0.18056302068301805,-0.60950365740817547,5.7648808089377717,null,null,null,null,null,null,null,null,null,null,null,-6.1359023977715497,275.13817291365154,129.77838243799368]
[" ",null,null,null,null,null,null,null,null,null,null,null,null,null,null,null,null,null,null,null,{"$f":"(7*U385+3*U395)/10","v":-9.1393091684634289E-2},232.98710162496846,49.086450206614614,-9.9869961733661512,0.10686639807510971,-0.48821523061756694,1.1858749084222981E-2,0.81173969427592851,-0.2520490912961364,-9.9774698477922907,0.192777910860503,-0.62756358347496843,5.7739970362063202,null,null,null,null,null,null,null,null,null,null,null,-1.5648640342145765,273.0698458924536,126.80657624365378]
[{"$f":"A381+7","v":309},{"$f":"OFFSET(Calculations!AS$43,$A389,0)-U$3-B$10","v":0.5187171813418523},{"$f":"OFFSET(Calculations!AT$43,$A389,0)-V$3-B$11","v":301.66201477543899},{"$f":"OFFSET(Calculations!AU$43,$A389,0)-W$3-B$12","v":79.951635368838566},{"$f":"B389*F$5+C389*F$4","v":0.5187171813418523},{"$f":"C389*F$5-B389*F$4","v":301.66201477543899},{"$f":"D389","v":79.951635368838566},0.5187171813418523,{"$f":"F389*F$7+G389*F$6","v":301.66201477543899},{"$f":"G389*F$7-F389*F$6","v":79.951635368838566},{"$f":"H389*F$9+J389*F$8","v":0.5187171813418523},{"$f":"I389","v":301.66201477543899},{"$f":"J389*F$9-H389*F$8","v":79.951635368838566},null,null,{"$f":"IF(MIN(L389:L395)+B$2+B$1>0,1,0)","v":1},{"$f":"IF(P389=1,K389*B$1/(B$1+B$2+L389),99999)","v":3.3287160882637702E-2},{"$f":"M389*B$1/(B$1+B$2+L389)","v":5.1306628064023716},null,null,{"$f":"(6*U385+4*U395)/10","v":-8.2445797219194844E-2},233.76775277473945,48.738615893321601,-9.9858427755194672,0.11718123373734671,-0.50757479246984472,1.21822440418656E-2,0.81519397699869955,-0.24140628885205473,-9.9760974895146752,0.20523030785239396,-0.64546105506857565,5.7830958886509878,null,null,null,null,null,null,null,null,null,null,null,-7.2194565865354701,271.56471293142505,120.50101061978923]
[302,{"$f":"OFFSET(Calculations!AS$43,$A390,0)-U$3-B$10","v":1.216725185412906},{"$f":"OFFSET(Calculations!AT$43,$A390,0)-V$3-B$11","v":300.86259681088274},{"$f":"OFFSET(Calculations!AU$43,$A390,0)-W$3-B$12","v":69.375632832538429},1.216725185412906,300.86259681088274,69.375632832538429,1.216725185412906,300.86259681088274,69.375632832538429,1.216725185412906,300.86259681088274,69.375632832538429,null,null,null,{"$f":"IF(P389=1,K390*B$1/(B$1+B$2+L390),99999)","v":7.8280577843407542E-2},4.4634274785231876,null,null,{"$f":"(5*U385+5*U395)/10","v":-7.3498502753755385E-2},234.54840392451041,48.390781580028587,-9.9846893776727832,0.12749606939958369,-0.52693435432212254,1.2587099241839785E-2,0.81981232651344271,-0.21963045937144443,-9.9747008023002888,0.21792021165869091,-0.66319607218899734,5.7921774652399129,null,null,null,null,null,null,null,null,null,null,null,-13.31563647264049,275.46053935528749,127.25816440458524]
[301,{"$f":"OFFSET(Calculations!AS$43,$A391,0)-U$3-B$10","v":-4.2300475403846116},{"$f":"OFFSET(Calculations!AT$43,$A391,0)-V$3-B$11","v":298.74390424385399},{"$f":"OFFSET(Calculations!AU$43,$A391,0)-W$3-B$12","v":69.17345521004637},-4.2300475403846116,298.74390424385399,69.17345521004637,-4.2300475403846116,298.74390424385399,69.17345521004637,-4.2300475403846116,298.74390424385399,69.17345521004637,null,null,null,{"$f":"IF(P389=1,K391*B$1/(B$1+B$2+L391),99999)","v":-0.27401658670764295},4.4809600616704888,null,null,{"$f":"(4*U385+6*U395)/10","v":-6.4551208288315925E-2},235.32905507428137,48.042947266735567,-9.9835359798260956,0.13781090506182067,-0.54629391617440037,1.2991954441813967E-2,0.82443067602824271,-0.19785462989086255,-9.9732597230563123,0.23104609773313686,-0.68055983395865038,5.8012418640052381,null,null,null,null,null,null,null,null,null,null,null,-8.0862421518422636,268.70613551747135,113.07960792540521]
[308,{"$f":"OFFSET(Calculations!AS$43,$A392,0)-U$3-B$10","v":-4.9143385143709217},{"$f":"OFFSET(Calculations!AT$43,$A392,0)-V$3-B$11","v":299.64854164733305},{"$f":"OFFSET(Calculations!AU$43,$A392,0)-W$3-B$12","v":79.195059021284635},-4.9143385143709217,299.64854164733305,79.195059021284635,-4.9143385143709217,299.64854164733305,79.195059021284635,-4.9143385143709217,299.64854164733305,79.195059021284635,null,null,null,{"$f":"IF(P389=1,K392*B$1/(B$1+B$2+L392),99999)","v":-0.31741396153371798},5.1151578883573103,null,null,{"$f":"(3*U385+7*U395)/10","v":-5.5603913822876459E-2},236.1097062240523,47.695112953442553,-9.9823825819794116,0.14812574072405765,-0.5656534780266782,1.339680964178816E-2,0.82904902554304272,-0.17607880041028068,-9.9717742517827475,0.24460796607573182,-0.69755234037753477,5.8102891820554552,null,null,null,null,null,null,null,null,null,null,null,0.39359803885642242,272.67139698198139,126.73131155016523]
[310,{"$f":"OFFSET(Calculations!AS$43,$A393,0)-U$3-B$10","v":4.8873888904052709},{"$f":"OFFSET(Calculations!AT$43,$A393,0)-V$3-B$11","v":297.78243845801535},{"$f":"OFFSET(Calculations!AU$43,$A393,0)-W$3-B$12","v":79.861241255570064},4.8873888904052709,297.78243845801535,79.861241255570064,4.8873888904052709,297.78243845801535,79.861241255570064,4.8873888904052709,297.78243845801535,79.861241255570064,null,null,null,{"$f":"IF(P389=1,K393*B$1/(B$1+B$2+L393),99999)","v":0.31758724863517251},5.1894605589372471,null,null,{"$f":"(2*U385+8*U395)/10","v":-4.6656619357437E-2},236.89035737382329,47.347278640149547,-9.9812291841327259,0.15844057638629466,-0.58501303987895592,1.3801664841762332E-2,0.83366737505778588,-0.15430297092968459,-9.9702443884795926,0.25860581668647575,-0.71417359144565074,5.8193195155875479,null,null,null,null,null,null,null,null,null,null,null,-13.076819972011361,265.88380004347891,130.99353880870177]
[303,{"$f":"OFFSET(Calculations!AS$43,$A394,0)-U$3-B$10","v":5.5867743572557336},{"$f":"OFFSET(Calculations!AT$43,$A394,0)-V$3-B$11","v":297.02723603668278},{"$f":"OFFSET(Calculations!AU$43,$A394,0)-W$3-B$12","v":69.999928498481481},5.5867743572557336,297.02723603668278,69.999928498481481,5.5867743572557336,297.02723603668278,69.999928498481481,5.5867743572557336,297.02723603668278,69.999928498481481,null,null,null,{"$f":"IF(P389=1,K394*B$1/(B$1+B$2+L394),99999)","v":0.36392695510493678},4.5598513931264444,null,null,{"$f":"(1*U385+9*U395)/10","v":-3.7709324891997548E-2},237.67100852359425,46.999444326856533,-9.9800757862860401,0.16875541204853164,-0.60437260173123375,1.4206520041736517E-2,0.83828572457252903,-0.1325271414490885,-9.9686701331468477,0.27303964956536875,-0.73042358716299793,5.8283329598989182,null,null,null,null,null,null,null,null,null,null,null,-7.9135527223305839,265.41013883022663,133.66118128164194]
[302,{"$f":"OFFSET(Calculations!AS$43,$A395,0)-U$3-B$10","v":1.216725185412906},{"$f":"OFFSET(Calculations!AT$43,$A395,0)-V$3-B$11","v":300.86259681088274},{"$f":"OFFSET(Calculations!AU$43,$A395,0)-W$3-B$12","v":69.375632832538429},1.216725185412906,300.86259681088274,69.375632832538429,1.216725185412906,300.86259681088274,69.375632832538429,1.216725185412906,300.86259681088274,69.375632832538429,null,null,null,{"$f":"IF(P389=1,K395*B$1/(B$1+B$2+L395),99999)","v":7.8280577843407542E-2},4.4634274785231876,null,{"$f":"T385+7","v":245},{"$f":"OFFSET(Calculations!AS$46,$T395,0)","v":-2.8762030426558088E-2},{"$f":"OFFSET(Calculations!AT$46,$T395,0)","v":238.45165967336519},{"$f":"OFFSET(Calculations!AU$46,$T395,0)","v":46.651610013563513},{"$f":"OFFSET(Calculations!AS$43,$T395,0)-OFFSET(Calculations!AS$45,$T395,0)","v":-9.9789223884393543},{"$f":"OFFSET(Calculations!AT$43,$T395,0)-OFFSET(Calculations!AT$45,$T395,0)","v":0.17907024771076863},{"$f":"OFFSET(Calculations!AU$43,$T395,0)-OFFSET(Calculations!AU$45,$T395,0)","v":-0.62373216358351158},1.4611375241710717E-2,0.84290407408730061,-0.11075131196849952,-9.9670514857845127,0.28790946471241075,-0.74630232752957659,5.8373296093991263,null,null,null,null,null,null,null,null,null,null,null,-3.2725932928714192,263.99841872400111,130.42566866139262]
[" ",null,null,null,null,null,null,null,null,null,null,null,null,null,null,null,null,null,null,null,{"$f":"(9*U395+U405)/10","v":-1.4638816638836811E-2},239.28757934670057,46.474060539376055,-9.9773797276043474,0.19318519240350157,-0.64049245386481957,1.4692735484042291E-2,0.84406814087930115,-9.9618284932013523E-2,-9.9653884463925895,0.30321526212760175,-0.7618098125453866,5.8419154390092745,null,null,null,null,null,null,null,null,null,null,null,-8.7840657560332627,263.84670734193816,123.82258945965944]
[{"$f":"A389+7","v":316},{"$f":"OFFSET(Calculations!AS$43,$A397,0)-U$3-B$10","v":-0.4113269189251918},{"$f":"OFFSET(Calculations!AT$43,$A397,0)-V$3-B$11","v":300.24644308161913},{"$f":"OFFSET(Calculations!AU$43,$A397,0)-W$3-B$12","v":90.443377101159243},{"$f":"B397*F$5+C397*F$4","v":-0.4113269189251918},{"$f":"C397*F$5-B397*F$4","v":300.24644308161913},{"$f":"D397","v":90.443377101159243},-0.4113269189251918,{"$f":"F397*F$7+G397*F$6","v":300.24644308161913},{"$f":"G397*F$7-F397*F$6","v":90.443377101159243},{"$f":"H397*F$9+J397*F$8","v":-0.4113269189251918},{"$f":"I397","v":300.24644308161913},{"$f":"J397*F$9-H397*F$8","v":90.443377101159243},null,null,{"$f":"IF(MIN(L397:L403)+B$2+B$1>0,1,0)","v":1},{"$f":"IF(P397=1,K397*B$1/(B$1+B$2+L397),99999)","v":-2.6516140835624702E-2},{"$f":"M397*B$1/(B$1+B$2+L397)","v":5.830421532173089},null,null,{"$f":"(8*U395+2*U405)/10","v":-5.1560285111552635E-4},240.12349902003589,46.296511065188589,-9.9758370667693406,0.20730013709623449,-0.65725274414612755,1.4774095726373851E-2,0.84523220767130169,-8.8485257895513314E-2,-9.9637053439078453,0.31871953499653571,-0.77710849668361359,5.8464969294391631,null,null,null,null,null,null,null,null,null,null,null,-15.037665307839349,266.26087630737436,131.10711283816357]
[309,{"$f":"OFFSET(Calculations!AS$43,$A398,0)-U$3-B$10","v":0.5187171813418523},{"$f":"OFFSET(Calculations!AT$43,$A398,0)-V$3-B$11","v":301.66201477543899},{"$f":"OFFSET(Calculations!AU$43,$A398,0)-W$3-B$12","v":79.951635368838566},0.5187171813418523,301.66201477543899,79.951635368838566,0.5187171813418523,301.66201477543899,79.951635368838566,0.5187171813418523,301.66201477543899,79.951635368838566,null,null,null,{"$f":"IF(P397=1,K398*B$1/(B$1+B$2+L398),99999)","v":3.3287160882637702E-2},5.1306628064023716,null,null,{"$f":"(7*U395+3*U405)/10","v":1.3607610936605754E-2},240.95941869337125,46.118961591001124,-9.9742944059343355,0.22141508178896743,-0.67401303442743554,1.4855455968705425E-2,0.84639627446330223,-7.735223085902021E-2,-9.9620021783302839,0.33442228331921275,-0.79219837994425768,5.8510740929829241,null,null,null,null,null,null,null,null,null,null,null,-9.4804761829954209,262.59596215130722,115.95171600207337]
[308,{"$f":"OFFSET(Calculations!AS$43,$A399,0)-U$3-B$10","v":-4.9143385143709217},{"$f":"OFFSET(Calculations!AT$43,$A399,0)-V$3-B$11","v":299.64854164733305},{"$f":"OFFSET(Calculations!AU$43,$A399,0)-W$3-B$12","v":79.195059021284635},-4.9143385143709217,299.64854164733305,79.195059021284635,-4.9143385143709217,299.64854164733305,79.195059021284635,-4.9143385143709217,299.64854164733305,79.195059021284635,null,null,null,{"$f":"IF(P397=1,K399*B$1/(B$1+B$2+L399),99999)","v":-0.31741396153371798},5.1151578883573103,null,null,{"$f":"(6*U395+4*U405)/10","v":2.7730824724327037E-2},241.79533836670663,45.941412116813659,-9.9727517450993304,0.23553002648170035,-0.69077332470874353,1.4936816211036985E-2,0.84756034125527435,-6.6219203822527106E-2,-9.9602789496598998,0.3503235070956327,-0.80707946232731875,5.855646941876743,null,null,null,null,null,null,null,null,null,null,null,-1.3117479570434165,263.62134246010555,130.31209463193073]
[315,{"$f":"OFFSET(Calculations!AS$43,$A400,0)-U$3-B$10","v":-5.8192111452405237},{"$f":"OFFSET(Calculations!AT$43,$A400,0)-V$3-B$11","v":298.4495324061225},{"$f":"OFFSET(Calculations!AU$43,$A400,0)-W$3-B$12","v":89.168160258095213},-5.8192111452405237,298.4495324061225,89.168160258095213,-5.8192111452405237,298.4495324061225,89.168160258095213,-5.8192111452405237,298.4495324061225,89.168160258095213,null,null,null,{"$f":"IF(P397=1,K400*B$1/(B$1+B$2+L400),99999)","v":-0.37732014698460387},5.7817017625230989,null,null,{"$f":"(5*U395+5*U405)/10","v":4.185403851204831E-2},242.63125804004193,45.763862642626201,-9.9712090842643235,0.24964497117443329,-0.70753361499005152,1.4853802276918959E-2,0.84754675592432704,-4.3955494929655003E-2,-9.9585356578966984,0.36642320632579573,-0.82175174383279681,5.8602154882992412,null,null,null,null,null,null,null,null,null,null,null,-14.850863549575674,256.1162096700408,132.77289644557499]
[317,{"$f":"OFFSET(Calculations!AS$43,$A401,0)-U$3-B$10","v":3.9713689536239372},{"$f":"OFFSET(Calculations!AT$43,$A401,0)-V$3-B$11","v":296.47063424865809},{"$f":"OFFSET(Calculations!AU$43,$A401,0)-W$3-B$12","v":89.646180561119024},3.9713689536239372,296.47063424865809,89.646180561119024,3.9713689536239372,296.47063424865809,89.646180561119024,3.9713689536239372,296.47063424865809,89.646180561119024,null,null,null,{"$f":"IF(P397=1,K401*B$1/(B$1+B$2+L401),99999)","v":0.25916799261111106},5.8502297148890081,null,null,{"$f":"(4*U395+6*U405)/10","v":5.5977252299769596E-2},243.46717771337731,45.586313168438735,-9.9696664234293166,0.26375991586716624,-0.72429390527135951,1.4770788342800933E-2,0.84753317059337974,-2.169178603676869E-2,-9.9567573934635103,0.38287204375259326,-0.83596931536707264,5.8647797443718561,null,null,null,null,null,null,null,null,null,null,null,-9.7453737136322296,255.08998017384204,135.39679183233383]
[310,{"$f":"OFFSET(Calculations!AS$43,$A402,0)-U$3-B$10","v":4.8873888904052709},{"$f":"OFFSET(Calculations!AT$43,$A402,0)-V$3-B$11","v":297.78243845801535},{"$f":"OFFSET(Calculations!AU$43,$A402,0)-W$3-B$12","v":79.861241255570064},4.8873888904052709,297.78243845801535,79.861241255570064,4.8873888904052709,297.78243845801535,79.861241255570064,4.8873888904052709,297.78243845801535,79.861241255570064,null,null,null,{"$f":"IF(P397=1,K402*B$1/(B$1+B$2+L402),99999)","v":0.31758724863517251},5.1894605589372471,null,null,{"$f":"(3*U395+7*U405)/10","v":7.010046608749089E-2},244.30309738671264,45.408763694251277,-9.9681237625943115,0.27787486055989918,-0.74105419555266749,1.4687774408682908E-2,0.84751958526251769,5.7192285610341287E-4,-9.9549441563603374,0.39967001937602531,-0.84973217693014624,5.8693397221592134,null,null,null,null,null,null,null,null,null,null,null,-5.0308839476211542,254.37518453925276,132.04020816863749]
[309,{"$f":"OFFSET(Calculations!AS$43,$A403,0)-U$3-B$10","v":0.5187171813418523},{"$f":"OFFSET(Calculations!AT$43,$A403,0)-V$3-B$11","v":301.66201477543899},{"$f":"OFFSET(Calculations!AU$43,$A403,0)-W$3-B$12","v":79.951635368838566},0.5187171813418523,301.66201477543899,79.951635368838566,0.5187171813418523,301.66201477543899,79.951635368838566,0.5187171813418523,301.66201477543899,79.951635368838566,null,null,null,{"$f":"IF(P397=1,K403*B$1/(B$1+B$2+L403),99999)","v":3.3287160882637702E-2},5.1306628064023716,null,null,{"$f":"(2*U395+8*U405)/10","v":8.4223679875212148E-2},245.13901706004799,45.231214220063819,-9.9665811017593064,0.29198980525263207,-0.75781448583397548,1.4604760474564854E-2,0.84750599993154196,2.2835631748982621E-2,-9.9530959465871778,0.41681713319609182,-0.86304032852201762,5.8738954336695031,null,null,null,null,null,null,null,null,null,null,null,-10.396939148986078,255.6089558856842,125.43087689833268]
[" ",null,null,null,null,null,null,null,null,null,null,null,null,null,null,null,null,null,null,null,{"$f":"(1*U395+9*U405)/10","v":9.8346893662933435E-2},245.97493673338334,45.053664745876354,-9.9650384409242996,0.30610474994536502,-0.77457477611528347,1.4521746540446856E-2,0.84749241460059466,4.5099340641854724E-2,-9.9512127641440316,0.43431338521279289,-0.87589377014268677,5.8784468908548444,null,null,null,null,null,null,null,null,null,null,null,-16.814859469966578,256.46441469619833,132.91943410096249]
[{"$f":"A397+7","v":323},{"$f":"OFFSET(Calculations!AS$43,$A405,0)-U$3-B$10","v":-1.5647342804526401},{"$f":"OFFSET(Calculations!AT$43,$A405,0)-V$3-B$11","v":296.68234556814394},{"$f":"OFFSET(Calculations!AU$43,$A405,0)-W$3-B$12","v":100.38750064877169},{"$f":"B405*F$5+C405*F$4","v":-1.5647342804526401},{"$f":"C405*F$5-B405*F$4","v":296.68234556814394},{"$f":"D405","v":100.38750064877169},-1.5647342804526401,{"$f":"F405*F$7+G405*F$6","v":296.68234556814394},{"$f":"G405*F$7-F405*F$6","v":100.38750064877169},{"$f":"H405*F$9+J405*F$8","v":-1.5647342804526401},{"$f":"I405","v":296.68234556814394},{"$f":"J405*F$9-H405*F$8","v":100.38750064877169},null,null,{"$f":"IF(MIN(L405:L411)+B$2+B$1>0,1,0)","v":1},{"$f":"IF(P405=1,K405*B$1/(B$1+B$2+L405),99999)","v":-0.10204267073501697},{"$f":"M405*B$1/(B$1+B$2+L405)","v":6.5466762009269868},null,{"$f":"T395+7","v":252},{"$f":"OFFSET(Calculations!AS$46,$T405,0)","v":0.11247010745065472},{"$f":"OFFSET(Calculations!AT$46,$T405,0)","v":246.8108564067187},{"$f":"OFFSET(Calculations!AU$46,$T405,0)","v":44.876115271688889},{"$f":"OFFSET(Calculations!AS$43,$T405,0)-OFFSET(Calculations!AS$45,$T405,0)","v":-9.9634957800892927},{"$f":"OFFSET(Calculations!AT$43,$T405,0)-OFFSET(Calculations!AT$45,$T405,0)","v":0.32021969463809796},{"$f":"OFFSET(Calculations!AU$43,$T405,0)-OFFSET(Calculations!AU$45,$T405,0)","v":-0.79133506639659146},1.4438732606328775E-2,0.84747882926964735,6.7363049534748143E-2,-9.9492946090309005,0.45215877542612848,-0.88829250179215369,5.8829941056116546,null,null,null,null,null,null,null,null,null,null,null,-10.918156749429141,256.0241087782984,117.45867643116284]
[316,{"$f":"OFFSET(Calculations!AS$43,$A406,0)-U$3-B$10","v":-0.4113269189251918},{"$f":"OFFSET(Calculations!AT$43,$A406,0)-V$3-B$11","v":300.24644308161913},{"$f":"OFFSET(Calculations!AU$43,$A406,0)-W$3-B$12","v":90.443377101159243},-0.4113269189251918,300.24644308161913,90.443377101159243,-0.4113269189251918,300.24644308161913,90.443377101159243,-0.4113269189251918,300.24644308161913,90.443377101159243,null,null,null,{"$f":"IF(P405=1,K406*B$1/(B$1+B$2+L406),99999)","v":-2.6516140835624702E-2},5.830421532173089,null,null,{"$f":"(9*U405+U415)/10","v":0.12789508511568112},247.66540114872595,44.876694230085327,-9.9616321097691731,0.33751024659071904,-0.80475454263657153,1.427435842987923E-2,0.84630117714672792,7.8493731391105825E-2,-9.9473414812477827,0.47035330383609858,-0.90023652347041838,5.8829792848054412,null,null,null,null,null,null,null,null,null,null,null,-3.0668880272302355,254.02697951309514,131.89367051325002]
[315,{"$f":"OFFSET(Calculations!AS$43,$A407,0)-U$3-B$10","v":-5.8192111452405237},{"$f":"OFFSET(Calculations!AT$43,$A407,0)-V$3-B$11","v":298.4495324061225},{"$f":"OFFSET(Calculations!AU$43,$A407,0)-W$3-B$12","v":89.168160258095213},-5.8192111452405237,298.4495324061225,89.168160258095213,-5.8192111452405237,298.4495324061225,89.168160258095213,-5.8192111452405237,298.4495324061225,89.168160258095213,null,null,null,{"$f":"IF(P405=1,K407*B$1/(B$1+B$2+L407),99999)","v":-0.37732014698460387},5.7817017625230989,null,null,{"$f":"(8*U405+2*U415)/10","v":0.14332006278070758},248.5199458907332,44.877273188481766,-9.9597684394490535,0.35480079854334007,-0.81817401887655161,1.410998425342963E-2,0.8451235250238085,8.9624413247506141E-2,-9.945373443887501,0.48869849498896017,-0.91193463605506386,5.8829644639542424,null,null,null,null,null,null,null,null,null,null,null,-16.633307206573544,246.19488654672023,132.44212762816346]
[322,{"$f":"OFFSET(Calculations!AS$43,$A408,0)-U$3-B$10","v":-6.9371231163746518},{"$f":"OFFSET(Calculations!AT$43,$A408,0)-V$3-B$11","v":295.20333534315654},{"$f":"OFFSET(Calculations!AU$43,$A408,0)-W$3-B$12","v":98.651389843603752},-6.9371231163746518,295.20333534315654,98.651389843603752,-6.9371231163746518,295.20333534315654,98.651389843603752,-6.9371231163746518,295.20333534315654,98.651389843603752,null,null,null,{"$f":"IF(P405=1,K408*B$1/(B$1+B$2+L408),99999)","v":-0.4545902559403468},6.4646337978374113,null,null,{"$f":"(7*U405+3*U415)/10","v":0.15874504044573401},249.37449063274045,44.877852146878197,-9.957904769128934,0.37209135049596115,-0.8315934951165318,1.3945610076979975E-2,0.84394587290088907,0.10075509510387803,-9.9433904969500517,0.50719434888471326,-0.92338683954609002,5.8829496430580601,null,null,null,null,null,null,null,null,null,null,null,-11.582895436810164,244.63688757649311,134.90829616979192]
[324,{"$f":"OFFSET(Calculations!AS$43,$A409,0)-U$3-B$10","v":2.8467500650577175},{"$f":"OFFSET(Calculations!AT$43,$A409,0)-V$3-B$11","v":293.15327273337545},{"$f":"OFFSET(Calculations!AU$43,$A409,0)-W$3-B$12","v":98.921702376841694},2.8467500650577175,293.15327273337545,98.921702376841694,2.8467500650577175,293.15327273337545,98.921702376841694,2.8467500650577175,293.15327273337545,98.921702376841694,null,null,null,{"$f":"IF(P405=1,K409*B$1/(B$1+B$2+L409),99999)","v":0.18780929127962581},6.5261840312602359,null,null,{"$f":"(6*U405+4*U415)/10","v":0.17417001811076044},250.22903537474767,44.878431105274629,-9.9560410988088144,0.38938190244858217,-0.84501297135651188,1.3781235900530375E-2,0.84276822077794122,0.11188577696026414,-9.9413926404354349,0.52584086552335785,-0.93459313394349708,5.8829348221168924,null,null,null,null,null,null,null,null,null,null,null,-6.7944350452677771,244.62932366360369,131.57864198700321]
[317,{"$f":"OFFSET(Calculations!AS$43,$A410,0)-U$3-B$10","v":3.9713689536239372},{"$f":"OFFSET(Calculations!AT$43,$A410,0)-V$3-B$11","v":296.47063424865809},{"$f":"OFFSET(Calculations!AU$43,$A410,0)-W$3-B$12","v":89.646180561119024},3.9713689536239372,296.47063424865809,89.646180561119024,3.9713689536239372,296.47063424865809,89.646180561119024,3.9713689536239372,296.47063424865809,89.646180561119024,null,null,null,{"$f":"IF(P405=1,K410*B$1/(B$1+B$2+L410),99999)","v":0.25916799261111106},5.8502297148890081,null,null,{"$f":"(5*U405+5*U415)/10","v":0.18959499577578681},251.08358011675492,44.879010063671068,-9.9541774284886948,0.40667245440120325,-0.85843244759649195,1.3214025701748122E-2,0.83812330167086202,0.13365232948059003,-9.9393798743436523,0.54463804490489398,-0.94555351924728481,5.8829200011307385,null,null,null,null,null,null,null,null,null,null,null,-12.019209655152483,247.21933957474991,125.25459677401535]
[316,{"$f":"OFFSET(Calculations!AS$43,$A411,0)-U$3-B$10","v":-0.4113269189251918},{"$f":"OFFSET(Calculations!AT$43,$A411,0)-V$3-B$11","v":300.24644308161913},{"$f":"OFFSET(Calculations!AU$43,$A411,0)-W$3-B$12","v":90.443377101159243},-0.4113269189251918,300.24644308161913,90.443377101159243,-0.4113269189251918,300.24644308161913,90.443377101159243,-0.4113269189251918,300.24644308161913,90.443377101159243,null,null,null,{"$f":"IF(P405=1,K411*B$1/(B$1+B$2+L411),99999)","v":-2.6516140835624702E-2},5.830421532173089,null,null,{"$f":"(4*U405+6*U415)/10","v":0.20501997344081327},251.93812485876214,44.879589022067499,-9.9523137581685752,0.42396300635382433,-0.87185192383647203,1.2646815502965869E-2,0.83347838256378282,0.15541888200091591,-9.9373431022726884,0.5636820711372813,-0.95599585815247956,5.8829051800996002,null,null,null,null,null,null,null,null,null,null,null,-18.6010816388347,246.50799912334358,132.61482475639556]
[" ",null,null,null,null,null,null,null,null,null,null,null,null,null,null,null,null,null,null,null,{"$f":"(3*U405+7*U415)/10","v":0.22044495110583967},252.79266960076939,44.880167980463938,-9.9504500878484574,0.44125355830644536,-0.88527140007645211,1.2079605304183672E-2,0.82883346345658993,0.17718543452124891,-9.9352823242225465,0.58297294422051982,-0.96592015065908132,5.8828903590234747,null,null,null,null,null,null,null,null,null,null,null,-12.368167974274586,249.28475039713601,117.53369616422343]
[{"$f":"A405+7","v":330},{"$f":"OFFSET(Calculations!AS$43,$A413,0)-U$3-B$10","v":-2.9229781686153866},{"$f":"OFFSET(Calculations!AT$43,$A413,0)-V$3-B$11","v":291.13093187315854},{"$f":"OFFSET(Calculations!AU$43,$A413,0)-W$3-B$12","v":109.34489311961991},{"$f":"B413*F$5+C413*F$4","v":-2.9229781686153866},{"$f":"C413*F$5-B413*F$4","v":291.13093187315854},{"$f":"D413","v":109.34489311961991},-2.9229781686153866,{"$f":"F413*F$7+G413*F$6","v":291.13093187315854},{"$f":"G413*F$7-F413*F$6","v":109.34489311961991},{"$f":"H413*F$9+J413*F$8","v":-2.9229781686153866},{"$f":"I413","v":291.13093187315854},{"$f":"J413*F$9-H413*F$8","v":109.34489311961991},null,null,{"$f":"IF(MIN(L413:L419)+B$2+B$1>0,1,0)","v":1},{"$f":"IF(P413=1,K413*B$1/(B$1+B$2+L413),99999)","v":-0.19413337251229937},{"$f":"M413*B$1/(B$1+B$2+L413)","v":7.2622823859010159},null,null,{"$f":"(2*U405+8*U415)/10","v":0.2358699287708661},253.64721434277664,44.880746938860376,-9.9485864175283378,0.45854411025906644,-0.8986908763164323,1.1512395105401363E-2,0.82418854434956756,0.1989519870415748,-9.9331975401932215,0.60251066415460974,-0.97532639676708988,5.882875537902363,null,null,null,null,null,null,null,null,null,null,null,-4.8266606130066076,244.3162110869805,131.40594485877116]
[323,{"$f":"OFFSET(Calculations!AS$43,$A414,0)-U$3-B$10","v":-1.5647342804526401},{"$f":"OFFSET(Calculations!AT$43,$A414,0)-V$3-B$11","v":296.68234556814394},{"$f":"OFFSET(Calculations!AU$43,$A414,0)-W$3-B$12","v":100.38750064877169},-1.5647342804526401,296.68234556814394,100.38750064877169,-1.5647342804526401,296.68234556814394,100.38750064877169,-1.5647342804526401,296.68234556814394,100.38750064877169,null,null,null,{"$f":"IF(P413=1,K414*B$1/(B$1+B$2+L414),99999)","v":-0.10204267073501697},6.5466762009269868,null,null,{"$f":"(1*U405+9*U415)/10","v":0.25129490643589253},254.50175908478386,44.881325897256815,-9.9467227472082165,0.47583466221168746,-0.91211035255641237,1.0945184906619165E-2,0.81954362524243152,0.22071853956189358,-9.9310887501847152,0.62229523093955075,-0.98421459647650555,5.8828607167362641,null,null,null,null,null,null,null,null,null,null,null,-18.377781364107829,236.56219964923926,130.01574782131789]
[322,{"$f":"OFFSET(Calculations!AS$43,$A415,0)-U$3-B$10","v":-6.9371231163746518},{"$f":"OFFSET(Calculations!AT$43,$A415,0)-V$3-B$11","v":295.20333534315654},{"$f":"OFFSET(Calculations!AU$43,$A415,0)-W$3-B$12","v":98.651389843603752},-6.9371231163746518,295.20333534315654,98.651389843603752,-6.9371231163746518,295.20333534315654,98.651389843603752,-6.9371231163746518,295.20333534315654,98.651389843603752,null,null,null,{"$f":"IF(P413=1,K415*B$1/(B$1+B$2+L415),99999)","v":-0.4545902559403468},6.4646337978374113,null,{"$f":"T405+7","v":259},{"$f":"OFFSET(Calculations!AS$46,$T415,0)","v":0.26671988410091896},{"$f":"OFFSET(Calculations!AT$46,$T415,0)","v":255.35630382679111},{"$f":"OFFSET(Calculations!AU$46,$T415,0)","v":44.881904855653246},{"$f":"OFFSET(Calculations!AS$43,$T415,0)-OFFSET(Calculations!AS$45,$T415,0)","v":-9.9448590768880987},{"$f":"OFFSET(Calculations!AT$43,$T415,0)-OFFSET(Calculations!AT$45,$T415,0)","v":0.49312521416430855},{"$f":"OFFSET(Calculations!AU$43,$T415,0)-OFFSET(Calculations!AU$45,$T415,0)","v":-0.92552982879639245},1.0377974707836912E-2,0.81489870613529547,0.24248509208221947,-9.9289559541970291,0.64232664457534305,-0.99258474978732814,5.8828458955251772,null,null,null,null,null,null,null,null,null,null,null,-13.377386427083986,234.51597006010329,132.21689092033051]
[329,{"$f":"OFFSET(Calculations!AS$43,$A416,0)-U$3-B$10","v":-8.2511063962052251},{"$f":"OFFSET(Calculations!AT$43,$A416,0)-V$3-B$11","v":290.05698508221269},{"$f":"OFFSET(Calculations!AU$43,$A416,0)-W$3-B$12","v":107.22505258774555},-8.2511063962052251,290.05698508221269,107.22505258774555,-8.2511063962052251,290.05698508221269,107.22505258774555,-8.2511063962052251,290.05698508221269,107.22505258774555,null,null,null,{"$f":"IF(P413=1,K416*B$1/(B$1+B$2+L416),99999)","v":-0.54996929292910823},7.1469792685124078,null,null,{"$f":"(9*U415+U425)/10","v":0.27951487494275173},256.19200613483144,45.060574723751813,-9.9427568533333179,0.51282637000319364,-0.9350147595384648,9.975138685504259E-3,0.81143143915113569,0.25312096274615925,-9.9267991522301617,0.66260490506198655,-1.0004368566995576,5.878269833908579,null,null,null,null,null,null,null,null,null,null,null,-8.5177128895210181,235.19544191913079,129.06127258138332]
[331,{"$f":"OFFSET(Calculations!AS$43,$A417,0)-U$3-B$10","v":1.5307969972044457},{"$f":"OFFSET(Calculations!AT$43,$A417,0)-V$3-B$11","v":287.98053713676757},{"$f":"OFFSET(Calculations!AU$43,$A417,0)-W$3-B$12","v":107.27730133755892},1.5307969972044457,287.98053713676757,107.27730133755892,1.5307969972044457,287.98053713676757,107.27730133755892,1.5307969972044457,287.98053713676757,107.27730133755892,null,null,null,{"$f":"IF(P413=1,K417*B$1/(B$1+B$2+L417),99999)","v":0.1027447639307958},7.2002891442752599,null,null,{"$f":"(8*U415+2*U425)/10","v":0.29230986578458451},257.02770844287187,45.23924459185038,-9.940654629778539,0.53252752584207885,-0.94449969028053715,9.5723026631715502E-3,0.80796417216697591,0.26375683341010614,-9.9246332538612805,0.68297934965658968,-1.0080168263068134,5.8736894756844933,null,null,null,null,null,null,null,null,null,null,null,-13.611594398309105,239.05245853154759,123.30142935209595]
[324,{"$f":"OFFSET(Calculations!AS$43,$A418,0)-U$3-B$10","v":2.8467500650577175},{"$f":"OFFSET(Calculations!AT$43,$A418,0)-V$3-B$11","v":293.15327273337545},{"$f":"OFFSET(Calculations!AU$43,$A418,0)-W$3-B$12","v":98.921702376841694},2.8467500650577175,293.15327273337545,98.921702376841694,2.8467500650577175,293.15327273337545,98.921702376841694,2.8467500650577175,293.15327273337545,98.921702376841694,null,null,null,{"$f":"IF(P413=1,K418*B$1/(B$1+B$2+L418),99999)","v":0.18780929127962581},6.5261840312602359,null,null,{"$f":"(7*U415+3*U425)/10","v":0.30510485662641729},257.86341075091224,45.417914459948939,-9.9385524062237582,0.55222868168096395,-0.9539846210226095,9.1694666408389525E-3,0.80449690518281614,0.27439270407405303,-9.9224582590903836,0.70344997835915268,-1.0153246586090956,5.8691048087274877,null,null,null,null,null,null,null,null,null,null,null,-20.34979505902519,236.8355511952609,130.20664286930477]
[323,{"$f":"OFFSET(Calculations!AS$43,$A419,0)-U$3-B$10","v":-1.5647342804526401},{"$f":"OFFSET(Calculations!AT$43,$A419,0)-V$3-B$11","v":296.68234556814394},{"$f":"OFFSET(Calculations!AU$43,$A419,0)-W$3-B$12","v":100.38750064877169},-1.5647342804526401,296.68234556814394,100.38750064877169,-1.5647342804526401,296.68234556814394,100.38750064877169,-1.5647342804526401,296.68234556814394,100.38750064877169,null,null,null,{"$f":"IF(P413=1,K419*B$1/(B$1+B$2+L419),99999)","v":-0.10204267073501697},6.5466762009269868,null,null,{"$f":"(6*U415+4*U425)/10","v":0.31789984746825006},258.69911305895261,45.596584328047506,-9.9364501826689775,0.57192983751984916,-0.96346955176468185,8.7666306185062437E-3,0.80102963819859951,0.28502857473798571,-9.9202741679174729,0.72401679116967554,-1.0223603536064036,5.864515820854991,null,null,null,null,null,null,null,null,null,null,null,-13.798848422874476,242.67947309996202,116.17333695294781]
[" ",null,null,null,null,null,null,null,null,null,null,null,null,null,null,null,null,null,null,null,{"$f":"(5*U415+5*U425)/10","v":0.33069483831008284},259.53481536699303,45.775254196146079,-9.9343479591141968,0.59163099335873426,-0.9729544825067542,7.7403198094277981E-3,0.79195889516819307,0.30533493129302514,-9.91808098034255,0.74467978808815793,-1.029123911298738,5.8599224998269124,null,null,null,null,null,null,null,null,null,null,null,-6.5456991946036407,234.92209037310906,128.87037753339638]
[{"$f":"A413+7","v":337},{"$f":"OFFSET(Calculations!AS$43,$A421,0)-U$3-B$10","v":-4.4584955763052028},{"$f":"OFFSET(Calculations!AT$43,$A421,0)-V$3-B$11","v":283.8410415577431},{"$f":"OFFSET(Calculations!AU$43,$A421,0)-W$3-B$12","v":116.92002719137555},{"$f":"B421*F$5+C421*F$4","v":-4.4584955763052028},{"$f":"C421*F$5-B421*F$4","v":283.8410415577431},{"$f":"D421","v":116.92002719137555},-4.4584955763052028,{"$f":"F421*F$7+G421*F$6","v":283.8410415577431},{"$f":"G421*F$7-F421*F$6","v":116.92002719137555},{"$f":"H421*F$9+J421*F$8","v":-4.4584955763052028},{"$f":"I421","v":283.8410415577431},{"$f":"J421*F$9-H421*F$8","v":116.92002719137555},{"$f":"IF(P421=1,K421*B$1/(B$1+B$2+L421),99999)","v":-0.30346309369646429},{"$f":"M421*B$1/(B$1+B$2+L421)","v":7.9580460626974361},{"$f":"IF(MIN(L421:L427)+B$2+B$1>0,1,0)","v":1},null,null,null,null,{"$f":"(4*U415+6*U425)/10","v":0.34348982915191562},260.37051767503334,45.953924064244646,-9.932245735559416,0.61133214919761936,-0.98243941324882655,6.714009000349408E-3,0.78288815213778662,0.32564128784806456,-9.9158758156000602,0.76547641901687946,-1.0353290066157326,5.8553248333452643,null,null,null,null,null,null,null,null,null,null,null,-20.039596366239586,227.64774752892046,125.60099072590347]
[330,{"$f":"OFFSET(Calculations!AS$43,$A422,0)-U$3-B$10","v":-2.9229781686153866},{"$f":"OFFSET(Calculations!AT$43,$A422,0)-V$3-B$11","v":291.13093187315854},{"$f":"OFFSET(Calculations!AU$43,$A422,0)-W$3-B$12","v":109.34489311961991},-2.9229781686153866,291.13093187315854,109.34489311961991,-2.9229781686153866,291.13093187315854,109.34489311961991,-2.9229781686153866,291.13093187315854,109.34489311961991,{"$f":"IF(P421=1,K422*B$1/(B$1+B$2+L422),99999)","v":-0.19413337251229937},7.2622823859010159,null,null,null,null,null,{"$f":"(3*U415+7*U425)/10","v":0.35628481999374839},261.20621998307377,46.132593932343205,-9.9301435120046371,0.63103330503650457,-0.9919243439908989,5.6876981912708513E-3,0.77381740910732333,0.34594764440309689,-9.913658673690005,0.78640668395584012,-1.0409756395573873,5.8507228090537788,null,null,null,null,null,null,null,null,null,null,null,-15.082001135146964,225.17775970038957,127.44096991853988]
[329,{"$f":"OFFSET(Calculations!AS$43,$A423,0)-U$3-B$10","v":-8.2511063962052251},{"$f":"OFFSET(Calculations!AT$43,$A423,0)-V$3-B$11","v":290.05698508221269},{"$f":"OFFSET(Calculations!AU$43,$A423,0)-W$3-B$12","v":107.22505258774555},-8.2511063962052251,290.05698508221269,107.22505258774555,-8.2511063962052251,290.05698508221269,107.22505258774555,-8.2511063962052251,290.05698508221269,107.22505258774555,{"$f":"IF(P421=1,K423*B$1/(B$1+B$2+L423),99999)","v":-0.54996929292910823},7.1469792685124078,null,null,null,null,null,{"$f":"(2*U415+8*U425)/10","v":0.36907981083558117},262.04192229111413,46.311263800441772,-9.9280412884498563,0.65073446087538966,-1.0014092747329713,4.6613873821924612E-3,0.76474666607686004,0.36625400095812921,-9.9114295546123863,0.80747058290503981,-1.0460638101237021,5.8461164145375157,null,null,null,null,null,null,null,null,null,null,null,-10.156965634363409,226.49434191974734,124.59935939746728]
[336,{"$f":"OFFSET(Calculations!AS$43,$A424,0)-U$3-B$10","v":-9.7355179719929978},{"$f":"OFFSET(Calculations!AT$43,$A424,0)-V$3-B$11","v":283.24158664637554},{"$f":"OFFSET(Calculations!AU$43,$A424,0)-W$3-B$12","v":114.50969618594118},-9.7355179719929978,283.24158664637554,114.50969618594118,-9.7355179719929978,283.24158664637554,114.50969618594118,-9.7355179719929978,283.24158664637554,114.50969618594118,{"$f":"IF(P421=1,K424*B$1/(B$1+B$2+L424),99999)","v":-0.66399299521818544},7.8099220165542311,null,null,null,null,null,{"$f":"(1*U415+9*U425)/10","v":0.38187480167741394},262.8776245991545,46.489933668540338,-9.9259390648950738,0.67043561671427487,-1.0108942054750436,3.63507657311396E-3,0.75567592304639675,0.38656035751316864,-9.9091884583672023,0.82866811586447853,-1.0505935183146771,5.8415056373224745,null,null,null,null,null,null,null,null,null,null,null,-15.136132768264858,231.47305817681746,119.65767151939755]
[338,{"$f":"OFFSET(Calculations!AS$43,$A425,0)-U$3-B$10","v":4.9239914126636863E-2},{"$f":"OFFSET(Calculations!AT$43,$A425,0)-V$3-B$11","v":281.18469987500504},{"$f":"OFFSET(Calculations!AU$43,$A425,0)-W$3-B$12","v":114.34317315515986},4.9239914126636863E-2,281.18469987500504,114.34317315515986,4.9239914126636863E-2,281.18469987500504,114.34317315515986,4.9239914126636863E-2,281.18469987500504,114.34317315515986,{"$f":"IF(P421=1,K425*B$1/(B$1+B$2+L425),99999)","v":3.3820399318902237E-3},7.8536525582726853,null,null,null,null,{"$f":"T415+7","v":266},{"$f":"OFFSET(Calculations!AS$46,$T425,0)","v":0.39466979251924672},{"$f":"OFFSET(Calculations!AT$46,$T425,0)","v":263.71332690719487},{"$f":"OFFSET(Calculations!AU$46,$T425,0)","v":46.668603536638905},{"$f":"OFFSET(Calculations!AS$43,$T425,0)-OFFSET(Calculations!AS$45,$T425,0)","v":-9.9238368413402949},{"$f":"OFFSET(Calculations!AT$43,$T425,0)-OFFSET(Calculations!AT$45,$T425,0)","v":0.69013677255315997},{"$f":"OFFSET(Calculations!AU$43,$T425,0)-OFFSET(Calculations!AU$45,$T425,0)","v":-1.020379136217116},2.6087657640354589E-3,0.74660518001604714,0.40686671406820096,-9.9069353849544548,0.84999928283415649,-1.0545647641303122,5.8368904648752036,null,null,null,null,null,null,null,null,null,null,null,-22.016122512614817,227.8784286507551,125.80131699159065]
[331,{"$f":"OFFSET(Calculations!AS$43,$A426,0)-U$3-B$10","v":1.5307969972044457},{"$f":"OFFSET(Calculations!AT$43,$A426,0)-V$3-B$11","v":287.98053713676757},{"$f":"OFFSET(Calculations!AU$43,$A426,0)-W$3-B$12","v":107.27730133755892},1.5307969972044457,287.98053713676757,107.27730133755892,1.5307969972044457,287.98053713676757,107.27730133755892,1.5307969972044457,287.98053713676757,107.27730133755892,{"$f":"IF(P421=1,K426*B$1/(B$1+B$2+L426),99999)","v":0.1027447639307958},7.2002891442752599,null,null,null,null,null,{"$f":"(9*U425+U435)/10","v":0.40101940700375704},264.49355294348845,47.017447335360551,-9.9215890753532836,0.71137687411940076,-1.0255098700796075,1.9852909772896665E-3,0.74100170396974363,0.4165371999592935,-9.904670334374142,0.87146408381407348,-1.0579775475706075,5.8278668601692249,null,null,null,null,null,null,null,null,null,null,null,-15.179391931651576,236.50393069394158,113.43766747106847]
[330,{"$f":"OFFSET(Calculations!AS$43,$A427,0)-U$3-B$10","v":-2.9229781686153866},{"$f":"OFFSET(Calculations!AT$43,$A427,0)-V$3-B$11","v":291.13093187315854},{"$f":"OFFSET(Calculations!AU$43,$A427,0)-W$3-B$12","v":109.34489311961991},-2.9229781686153866,291.13093187315854,109.34489311961991,-2.9229781686153866,291.13093187315854,109.34489311961991,-2.9229781686153866,291.13093187315854,109.34489311961991,{"$f":"IF(P421=1,K427*B$1/(B$1+B$2+L427),99999)","v":-0.19413337251229937},7.2622823859010159,null,null,null,null,null,{"$f":"(8*U425+2*U435)/10","v":0.40736902148826754},265.27377897978204,47.366291134082203,-9.9193413093662706,0.73261697568564155,-1.0306406039420992,1.3618161905438186E-3,0.73539822792344012,0.42620768585038604,-9.9024024030282796,0.89296633469626985,-1.0611040059405368,5.8188263581332578,null,null,null,null,null,null,null,null,null,null,null,-8.1804394879881599,226.26366079791282,124.39903313178007]
[" ",null,null,null,null,null,null,null,null,null,null,null,null,null,null,null,null,null,null,null,{"$f":"(7*U425+3*U435)/10","v":0.41371863597277792},266.05400501607562,47.715134932803849,-9.9170935433792611,0.75385707725188245,-1.0357713378045907,7.3834140379802626E-4,0.72979475187725029,0.43587817174147858,-9.9001315909168657,0.91450603548074549,-1.0639441392400997,5.8097688634860019,null,null,null,null,null,null,null,null,null,null,null,-21.57771972962442,219.84935114958697,119.39306382974198]
[{"$f":"A421+7","v":344},{"$f":"OFFSET(Calculations!AS$43,$A429,0)-U$3-B$10","v":-6.1359023977715497},{"$f":"OFFSET(Calculations!AT$43,$A429,0)-V$3-B$11","v":275.13817291365154},{"$f":"OFFSET(Calculations!AU$43,$A429,0)-W$3-B$12","v":122.77838243799368},{"$f":"B429*F$5+C429*F$4","v":-6.1359023977715497},{"$f":"C429*F$5-B429*F$4","v":275.13817291365154},{"$f":"D429","v":122.77838243799368},-6.1359023977715497,{"$f":"F429*F$7+G429*F$6","v":275.13817291365154},{"$f":"G429*F$7-F429*F$6","v":122.77838243799368},{"$f":"H429*F$9+J429*F$8","v":-6.1359023977715497},{"$f":"I429","v":275.13817291365154},{"$f":"J429*F$9-H429*F$8","v":122.77838243799368},{"$f":"IF(P429=1,K429*B$1/(B$1+B$2+L429),99999)","v":-0.43038098582680379},{"$f":"M429*B$1/(B$1+B$2+L429)","v":8.6118516635915103},{"$f":"IF(MIN(L429:L435)+B$2+B$1>0,1,0)","v":1},null,null,null,null,{"$f":"(6*U425+4*U435)/10","v":0.42006825045728835},266.83423105236915,48.063978731525495,-9.914845777392248,0.77509717881812323,-1.0409020716670825,{"$f":"(SUM(U430:U445)-SUM(U429:U444))/16","v":1.1486661705217838E-4},{"$f":"(SUM(V430:V445)-SUM(V429:V444))/16","v":0.72419127583088994},{"$f":"(SUM(W430:W445)-SUM(W429:W444))/16","v":0.44554865763257112},{"$f":"SUM(X429:X444)/16","v":-9.8978578980399003},{"$f":"SUM(Y429:Y444)/16","v":0.93608318616750064},{"$f":"SUM(Z429:Z444)/16","v":-1.0664979474692968},5.8006942800473151,null,null,null,null,null,null,null,null,null,null,null,-16.65384484188677,217.03835332620855,120.79092830981369]
[337,{"$f":"OFFSET(Calculations!AS$43,$A430,0)-U$3-B$10","v":-4.4584955763052028},{"$f":"OFFSET(Calculations!AT$43,$A430,0)-V$3-B$11","v":283.8410415577431},{"$f":"OFFSET(Calculations!AU$43,$A430,0)-W$3-B$12","v":116.92002719137555},-4.4584955763052028,283.8410415577431,116.92002719137555,-4.4584955763052028,283.8410415577431,116.92002719137555,-4.4584955763052028,283.8410415577431,116.92002719137555,{"$f":"IF(P429=1,K430*B$1/(B$1+B$2+L430),99999)","v":-0.30346309369646429},7.9580460626974361,null,null,null,null,null,{"$f":"(5*U425+5*U435)/10","v":0.42641786494179873},267.61445708866279,48.412822530247141,-9.9125980114052368,0.79633728038436402,-1.046032805529574,-1.3251366954265542E-3,0.71109603493312079,0.46349638355616918,-9.8955813243973854,0.95769778675653505,-1.068765430628128,5.7916025107263014,null,null,null,null,null,null,null,null,null,null,null,-11.67215904121398,218.91440507565574,118.39019629758306]
[336,{"$f":"OFFSET(Calculations!AS$43,$A431,0)-U$3-B$10","v":-9.7355179719929978},{"$f":"OFFSET(Calculations!AT$43,$A431,0)-V$3-B$11","v":283.24158664637554},{"$f":"OFFSET(Calculations!AU$43,$A431,0)-W$3-B$12","v":114.50969618594118},-9.7355179719929978,283.24158664637554,114.50969618594118,-9.7355179719929978,283.24158664637554,114.50969618594118,-9.7355179719929978,283.24158664637554,114.50969618594118,{"$f":"IF(P429=1,K431*B$1/(B$1+B$2+L431),99999)","v":-0.66399299521818544},7.8099220165542311,null,null,null,null,null,{"$f":"(4*U425+6*U435)/10","v":0.43276747942630911},268.39468312495632,48.761666328968786,-9.9103502454182255,0.81757738195060481,-1.0511635393920655,-2.7651400079052313E-3,0.69800079403523796,0.48144410947976013,-9.8933053323168565,0.97932689601055889,-1.0704587440504436,5.7824934575091884,null,null,null,null,null,null,null,null,null,null,null,-16.557865950522078,224.81989142915936,114.48441866375371]
[343,{"$f":"OFFSET(Calculations!AS$43,$A432,0)-U$3-B$10","v":-11.357174399569505},{"$f":"OFFSET(Calculations!AT$43,$A432,0)-V$3-B$11","v":275.06209044481523},{"$f":"OFFSET(Calculations!AU$43,$A432,0)-W$3-B$12","v":120.18289971109662},-11.357174399569505,275.06209044481523,120.18289971109662,-11.357174399569505,275.06209044481523,120.18289971109662,-11.357174399569505,275.06209044481523,120.18289971109662,{"$f":"IF(P429=1,K432*B$1/(B$1+B$2+L432),99999)","v":-0.79682109829810033},8.4320506822609342,null,null,null,null,null,{"$f":"(3*U425+7*U435)/10","v":0.43911709391081943},269.1749091612499,49.110510127690439,-9.9081024794312125,0.8388174835168456,-1.0562942732545573,-4.2051433203840194E-3,0.68490555313741197,0.49939183540335819,-9.8910299217983138,1.0009705139295721,-1.0715778877362434,5.7733670214469965,null,null,null,null,null,null,null,null,null,null,null,-23.558831867306502,220.03634036437319,119.59363733617376]
[345,{"$f":"OFFSET(Calculations!AS$43,$A433,0)-U$3-B$10","v":-1.5648640342145765},{"$f":"OFFSET(Calculations!AT$43,$A433,0)-V$3-B$11","v":273.0698458924536},{"$f":"OFFSET(Calculations!AU$43,$A433,0)-W$3-B$12","v":119.80657624365378},-1.5648640342145765,273.0698458924536,119.80657624365378,-1.5648640342145765,273.0698458924536,119.80657624365378,-1.5648640342145765,273.0698458924536,119.80657624365378,{"$f":"IF(P429=1,K433*B$1/(B$1+B$2+L433),99999)","v":-0.11056381009294175},8.4648066886765303,null,null,null,null,null,{"$f":"(2*U425+8*U435)/10","v":0.44546670839532981},269.95513519754348,49.459353926412078,-9.905854713444203,0.8600575850830865,-1.0614250071170488,-5.6451466328626965E-3,0.6718103122394723,0.51733956132695624,-9.8887550928417589,1.0226286405135747,-1.0721228616855281,5.7642231026430073,null,null,null,null,null,null,null,null,null,null,null,-16.481210596353957,231.03476379091711,109.44760563528638]
[338,{"$f":"OFFSET(Calculations!AS$43,$A434,0)-U$3-B$10","v":4.9239914126636863E-2},{"$f":"OFFSET(Calculations!AT$43,$A434,0)-V$3-B$11","v":281.18469987500504},{"$f":"OFFSET(Calculations!AU$43,$A434,0)-W$3-B$12","v":114.34317315515986},4.9239914126636863E-2,281.18469987500504,114.34317315515986,4.9239914126636863E-2,281.18469987500504,114.34317315515986,4.9239914126636863E-2,281.18469987500504,114.34317315515986,{"$f":"IF(P429=1,K434*B$1/(B$1+B$2+L434),99999)","v":3.3820399318902237E-3},7.8536525582726853,null,null,null,null,null,{"$f":"(1*U425+9*U435)/10","v":0.4518163228798403},270.73536123383712,49.808197725133724,-9.9036069474571899,0.88129768664932728,-1.0665557409795405,-7.0851499453413735E-3,0.65871507134175999,0.53528728725054719,-9.886480845447192,1.0443012757625669,-1.0720936658982967,5.7550616002399959,null,null,null,null,null,null,null,null,null,null,null,-9.6910469035318805,218.72741586086951,118.18962279115131]
[337,{"$f":"OFFSET(Calculations!AS$43,$A435,0)-U$3-B$10","v":-4.4584955763052028},{"$f":"OFFSET(Calculations!AT$43,$A435,0)-V$3-B$11","v":283.8410415577431},{"$f":"OFFSET(Calculations!AU$43,$A435,0)-W$3-B$12","v":116.92002719137555},-4.4584955763052028,283.8410415577431,116.92002719137555,-4.4584955763052028,283.8410415577431,116.92002719137555,-4.4584955763052028,283.8410415577431,116.92002719137555,{"$f":"IF(P429=1,K435*B$1/(B$1+B$2+L435),99999)","v":-0.30346309369646429},7.9580460626974361,null,null,null,null,{"$f":"T425+7","v":273},{"$f":"OFFSET(Calculations!AS$46,$T435,0)","v":0.45816593736435063},{"$f":"OFFSET(Calculations!AT$46,$T435,0)","v":271.51558727013065},{"$f":"OFFSET(Calculations!AU$46,$T435,0)","v":50.157041523855376},{"$f":"OFFSET(Calculations!AS$43,$T435,0)-OFFSET(Calculations!AS$45,$T435,0)","v":-9.9013591814701787},{"$f":"OFFSET(Calculations!AT$43,$T435,0)-OFFSET(Calculations!AT$45,$T435,0)","v":0.90253778821556807},{"$f":"OFFSET(Calculations!AU$43,$T435,0)-OFFSET(Calculations!AU$45,$T435,0)","v":-1.0716864748420321},-8.5251532578201616E-3,0.64561983044382032,0.55323501317414525,-9.8842071796146094,1.0659884196765486,-1.0714903003745502,5.7458824124072585,null,null,null,null,null,null,null,null,null,null,null,-22.956591585163714,213.51545269239631,111.66651164534063]
[" ",null,null,null,null,null,null,null,null,null,null,null,null,null,null,null,null,null,null,null,{"$f":"(9*U435+U445)/10","v":0.45453995526092789},272.20615768968401,50.660613096834496,-9.8990653232343622,0.92437708821827869,-1.0722360075786668,-9.3416817835529908E-3,0.638128065592241,0.56151225320665077,-9.8819340953440147,1.0876900722555196,-1.0703127651142881,5.7326004457540849,null,null,null,null,null,null,null,null,null,null,null,-18.055865232598993,210.46106452955812,112.55991534355984]
[{"$f":"A429+7","v":351},{"$f":"OFFSET(Calculations!AS$43,$A437,0)-U$3-B$10","v":-7.9135527223305839},{"$f":"OFFSET(Calculations!AT$43,$A437,0)-V$3-B$11","v":265.41013883022663},{"$f":"OFFSET(Calculations!AU$43,$A437,0)-W$3-B$12","v":126.66118128164194},{"$f":"B437*F$5+C437*F$4","v":-7.9135527223305839},{"$f":"C437*F$5-B437*F$4","v":265.41013883022663},{"$f":"D437","v":126.66118128164194},-7.9135527223305839,{"$f":"F437*F$7+G437*F$6","v":265.41013883022663},{"$f":"G437*F$7-F437*F$6","v":126.66118128164194},{"$f":"H437*F$9+J437*F$8","v":-7.9135527223305839},{"$f":"I437","v":265.41013883022663},{"$f":"J437*F$9-H437*F$8","v":126.66118128164194},{"$f":"IF(P437=1,K437*B$1/(B$1+B$2+L437),99999)","v":-0.57467403022579366},{"$f":"M437*B$1/(B$1+B$2+L437)","v":9.1980042433892208},{"$f":"IF(MIN(L437:L443)+B$2+B$1>0,1,0)","v":1},null,null,null,null,{"$f":"(8*U435+2*U445)/10","v":0.45091397315750525},272.89672810923742,51.164184669813629,-9.8967714649985457,0.9462163882209893,-1.0727855403153015,-1.0158210309285987E-2,0.63063630074066168,0.56978949323914918,-9.8796644734009575,1.1093687835972006,-1.0688473851878764,5.7192810984202858,null,null,null,null,null,null,null,null,null,null,null,-13.028747754227041,212.79440804189699,110.70838248884913]
[344,{"$f":"OFFSET(Calculations!AS$43,$A438,0)-U$3-B$10","v":-6.1359023977715497},{"$f":"OFFSET(Calculations!AT$43,$A438,0)-V$3-B$11","v":275.13817291365154},{"$f":"OFFSET(Calculations!AU$43,$A438,0)-W$3-B$12","v":122.77838243799368},-6.1359023977715497,275.13817291365154,122.77838243799368,-6.1359023977715497,275.13817291365154,122.77838243799368,-6.1359023977715497,275.13817291365154,122.77838243799368,{"$f":"IF(P437=1,K438*B$1/(B$1+B$2+L438),99999)","v":-0.43038098582680379},8.6118516635915103,null,null,null,null,null,{"$f":"(7*U435+3*U445)/10","v":0.44728799105408257},273.58729852879077,51.667756242792755,-9.8944776067627291,0.96805568822369992,-1.0733350730519362,-1.0974738835018871E-2,0.62314453588902552,0.5780667332716618,-9.8773983137854362,1.1310245537015917,-1.0670941605953153,{"$f":"AG$245+SIGN(W$245-W438)*SQRT(2*ABS(W$245-W438)/Z$5)","v":5.7059240530061883},null,null,null,null,null,null,null,null,null,null,null,-17.846383644455496,219.39073091712021,108.01043716787058]
[343,{"$f":"OFFSET(Calculations!AS$43,$A439,0)-U$3-B$10","v":-11.357174399569505},{"$f":"OFFSET(Calculations!AT$43,$A439,0)-V$3-B$11","v":275.06209044481523},{"$f":"OFFSET(Calculations!AU$43,$A439,0)-W$3-B$12","v":120.18289971109662},-11.357174399569505,275.06209044481523,120.18289971109662,-11.357174399569505,275.06209044481523,120.18289971109662,-11.357174399569505,275.06209044481523,120.18289971109662,{"$f":"IF(P437=1,K439*B$1/(B$1+B$2+L439),99999)","v":-0.79682109829810033},8.4320506822609342,null,null,null,null,null,{"$f":"(6*U435+4*U445)/10","v":0.44366200895065983},274.27786894834412,52.171327815771882,-9.8921837485269126,0.98989498822641053,-1.0738846057885709,-1.1791267360751756E-2,0.6156527710374462,0.58634397330415311,-9.8751356164974524,1.1526573825686925,-1.0650530913366043,5.6925289875947929,null,null,null,null,null,null,null,null,null,null,null,-24.942160351351042,213.65966162249617,111.85813747663896]
[350,{"$f":"OFFSET(Calculations!AS$43,$A440,0)-U$3-B$10","v":-13.076819972011361},{"$f":"OFFSET(Calculations!AT$43,$A440,0)-V$3-B$11","v":265.88380004347891},{"$f":"OFFSET(Calculations!AU$43,$A440,0)-W$3-B$12","v":123.99353880870177},-13.076819972011361,265.88380004347891,123.99353880870177,-13.076819972011361,265.88380004347891,123.99353880870177,-13.076819972011361,265.88380004347891,123.99353880870177,{"$f":"IF(P437=1,K440*B$1/(B$1+B$2+L440),99999)","v":-0.9479947695334392},8.9888234676454761,null,null,null,null,null,{"$f":"(5*U435+5*U445)/10","v":0.44003602684723714},274.96843936789753,52.674899388751008,-9.8898898902910961,1.0117342882291211,-1.0744341385252056,-1.3581251653995319E-2,0.59911241825670913,0.60113898921014908,-9.8728763815370062,1.1742672701985037,-1.0627241774117444,5.6790955756612442,null,null,null,null,null,null,null,null,null,null,null,-17.679199615609932,226.51736011708994,104.37956871161411]
[352,{"$f":"OFFSET(Calculations!AS$43,$A441,0)-U$3-B$10","v":-3.2725932928714192},{"$f":"OFFSET(Calculations!AT$43,$A441,0)-V$3-B$11","v":263.99841872400111},{"$f":"OFFSET(Calculations!AU$43,$A441,0)-W$3-B$12","v":123.42566866139262},-3.2725932928714192,263.99841872400111,123.42566866139262,-3.2725932928714192,263.99841872400111,123.42566866139262,-3.2725932928714192,263.99841872400111,123.42566866139262,{"$f":"IF(P437=1,K441*B$1/(B$1+B$2+L441),99999)","v":-0.23887680141452977},9.0092248879523211,null,null,null,null,null,{"$f":"(4*U435+6*U445)/10","v":0.4364100447438144},275.65900978745083,53.178470961730135,-9.8875960320552796,1.0335735882318318,-1.0749836712618404,-1.5371235947238826E-2,0.58257206547585838,0.61593400511616636,-9.8706302611374639,1.1957718992265201,-1.0598307899614228,5.6656234859799657,null,null,null,null,null,null,null,null,null,null,null,-11.043178988039692,212.65019911179718,110.51675665755086]
[345,{"$f":"OFFSET(Calculations!AS$43,$A442,0)-U$3-B$10","v":-1.5648640342145765},{"$f":"OFFSET(Calculations!AT$43,$A442,0)-V$3-B$11","v":273.0698458924536},{"$f":"OFFSET(Calculations!AU$43,$A442,0)-W$3-B$12","v":119.80657624365378},-1.5648640342145765,273.0698458924536,119.80657624365378,-1.5648640342145765,273.0698458924536,119.80657624365378,-1.5648640342145765,273.0698458924536,119.80657624365378,{"$f":"IF(P437=1,K442*B$1/(B$1+B$2+L442),99999)","v":-0.11056381009294175},8.4648066886765303,null,null,null,null,null,{"$f":"(3*U435+7*U445)/10","v":0.43278406264039171},276.34958020700424,53.682042534709261,-9.8853021738194613,1.0554128882345424,-1.0755332039984751,-1.7161220240482444E-2,0.56603171269517816,0.63072902102214812,-9.8683972552988219,1.2171712696527408,-1.0563729289856396,5.6521123825293671,null,null,null,null,null,null,null,null,null,null,null,-24.147697989250066,208.92969907608727,102.76306875941553]
[344,{"$f":"OFFSET(Calculations!AS$43,$A443,0)-U$3-B$10","v":-6.1359023977715497},{"$f":"OFFSET(Calculations!AT$43,$A443,0)-V$3-B$11","v":275.13817291365154},{"$f":"OFFSET(Calculations!AU$43,$A443,0)-W$3-B$12","v":122.77838243799368},-6.1359023977715497,275.13817291365154,122.77838243799368,-6.1359023977715497,275.13817291365154,122.77838243799368,-6.1359023977715497,275.13817291365154,122.77838243799368,{"$f":"IF(P437=1,K443*B$1/(B$1+B$2+L443),99999)","v":-0.43038098582680379},8.6118516635915103,null,null,null,null,null,{"$f":"(2*U435+8*U445)/10","v":0.42915808053696908},277.04015062655765,54.185614107688387,-9.8830083155836448,1.077252188237253,-1.0760827367351098,-1.8951204533726063E-2,0.5494913599143274,0.64552403692815119,-9.8661773640210839,1.2384653814771664,-1.0523505944843952,5.6385619243940557,null,null,null,null,null,null,null,null,null,null,null,-19.258487402678039,205.74039322870817,103.11094109682773]
[" ",null,null,null,null,null,null,null,null,null,null,null,null,null,null,null,null,null,null,null,{"$f":"(1*U435+9*U445)/10","v":0.42553209843354634},277.730721046111,54.689185680667514,-9.88071445734783,1.0990914882399636,-1.0766322694717445,-2.0741188826969625E-2,0.53295100713364718,0.66031905283416847,-9.8639705873042516,1.2596542346997968,-1.0477637864576892,5.6249717656644673,null,null,null,null,null,null,null,null,null,null,null,-14.19920372540191,208.40853388024337,101.89367315278902]
[{"$f":"A437+7","v":358},{"$f":"OFFSET(Calculations!AS$43,$A445,0)-U$3-B$10","v":-9.7453737136322296},{"$f":"OFFSET(Calculations!AT$43,$A445,0)-V$3-B$11","v":255.08998017384204},{"$f":"OFFSET(Calculations!AU$43,$A445,0)-W$3-B$12","v":128.39679183233383},{"$f":"B445*F$5+C445*F$4","v":-9.7453737136322296},{"$f":"C445*F$5-B445*F$4","v":255.08998017384204},{"$f":"D445","v":128.39679183233383},-9.7453737136322296,{"$f":"F445*F$7+G445*F$6","v":255.08998017384204},{"$f":"G445*F$7-F445*F$6","v":128.39679183233383},{"$f":"H445*F$9+J445*F$8","v":-9.7453737136322296},{"$f":"I445","v":255.08998017384204},{"$f":"J445*F$9-H445*F$8","v":128.39679183233383},{"$f":"IF(P445=1,K445*B$1/(B$1+B$2+L445),99999)","v":-0.73525025029172064},{"$f":"M445*B$1/(B$1+B$2+L445)","v":9.6870347003031299},{"$f":"IF(MIN(L445:L451)+B$2+B$1>0,1,0)","v":1},null,null,null,{"$f":"T435+7","v":280},{"$f":"OFFSET(Calculations!AS$46,$T445,0)","v":0.42190611633012365},{"$f":"OFFSET(Calculations!AT$46,$T445,0)","v":278.42129146566435},{"$f":"OFFSET(Calculations!AU$46,$T445,0)","v":55.19275725364664},{"$f":"OFFSET(Calculations!AS$43,$T445,0)-OFFSET(Calculations!AS$45,$T445,0)","v":-9.8784205991120118},{"$f":"OFFSET(Calculations!AT$43,$T445,0)-OFFSET(Calculations!AT$45,$T445,0)","v":1.1209307882426742},{"$f":"OFFSET(Calculations!AU$43,$T445,0)-OFFSET(Calculations!AU$45,$T445,0)","v":-1.0771818022083792},-2.2531173120213244E-2,0.51641065435285327,0.67511406874015734,-9.8617769251483196,1.280737829320632,-1.0426125049055217,5.6113415553338406,null,null,null,null,null,null,null,null,null,null,null,-18.977169536992626,215.42919432369177,100.52204286693606]
[351,{"$f":"OFFSET(Calculations!AS$43,$A446,0)-U$3-B$10","v":-7.9135527223305839},{"$f":"OFFSET(Calculations!AT$43,$A446,0)-V$3-B$11","v":265.41013883022663},{"$f":"OFFSET(Calculations!AU$43,$A446,0)-W$3-B$12","v":126.66118128164194},-7.9135527223305839,265.41013883022663,126.66118128164194,-7.9135527223305839,265.41013883022663,126.66118128164194,-7.9135527223305839,265.41013883022663,126.66118128164194,{"$f":"IF(P445=1,K446*B$1/(B$1+B$2+L446),99999)","v":-0.57467403022579366},9.1980042433892208,null,null,null,null,null,{"$f":"(9*U445+U455)/10","v":0.40521567781497447},278.99199364759227,55.828764667145812,-9.8761821381167874,1.1424030284487459,-1.0731258202866223,-2.3504628887723811E-2,0.50736206642363868,0.68163184461365489,-9.8595963775532915,1.3017161653396718,-1.0368967498278927,5.5940689031156179,null,null,null,null,null,null,null,null,null,null,null,-26.13739684201969,209.03393211525611,102.93694788074083]
[350,{"$f":"OFFSET(Calculations!AS$43,$A447,0)-U$3-B$10","v":-13.076819972011361},{"$f":"OFFSET(Calculations!AT$43,$A447,0)-V$3-B$11","v":265.88380004347891},{"$f":"OFFSET(Calculations!AU$43,$A447,0)-W$3-B$12","v":123.99353880870177},-13.076819972011361,265.88380004347891,123.99353880870177,-13.076819972011361,265.88380004347891,123.99353880870177,-13.076819972011361,265.88380004347891,123.99353880870177,{"$f":"IF(P445=1,K447*B$1/(B$1+B$2+L447),99999)","v":-0.9479947695334392},8.9888234676454761,null,null,null,null,null,{"$f":"(8*U445+2*U455)/10","v":0.38852523929982519},279.56269582952018,56.464772080644977,-9.873943677121563,1.1638752686548173,-1.0690698383648651,-2.4478084655234489E-2,0.49831347849448093,0.68814962048715955,-9.8574254821916298,1.3226121839942067,-1.0309043658909518,5.5767310641110583,null,null,null,null,null,null,null,null,null,null,null,-18.752848028040233,223.15499757572201,98.457667907888933]
[357,{"$f":"OFFSET(Calculations!AS$43,$A448,0)-U$3-B$10","v":-14.850863549575674},{"$f":"OFFSET(Calculations!AT$43,$A448,0)-V$3-B$11","v":256.1162096700408},{"$f":"OFFSET(Calculations!AU$43,$A448,0)-W$3-B$12","v":125.77289644557499},-14.850863549575674,256.1162096700408,125.77289644557499,-14.850863549575674,256.1162096700408,125.77289644557499,-14.850863549575674,256.1162096700408,125.77289644557499,{"$f":"IF(P445=1,K448*B$1/(B$1+B$2+L448),99999)","v":-1.1161186737169717},9.4524791707744242,null,null,null,null,null,{"$f":"(7*U445+3*U455)/10","v":0.37183480078467601},280.13339801144809,57.100779494144163,-9.8717052161263386,1.1853475088608889,-1.0650138564431082,-2.5451540422745167E-2,0.48926489056532319,0.69466739636066421,-9.8552642390633327,1.3434258852842365,-1.024635353094699,5.5593272946591963,null,null,null,null,null,null,null,null,null,null,null,-12.209504872632268,208.30430084107456,101.71979403146379]
[359,{"$f":"OFFSET(Calculations!AS$43,$A449,0)-U$3-B$10","v":-5.0308839476211542},{"$f":"OFFSET(Calculations!AT$43,$A449,0)-V$3-B$11","v":254.37518453925276},{"$f":"OFFSET(Calculations!AU$43,$A449,0)-W$3-B$12","v":125.04020816863749},-5.0308839476211542,254.37518453925276,125.04020816863749,-5.0308839476211542,254.37518453925276,125.04020816863749,-5.0308839476211542,254.37518453925276,125.04020816863749,{"$f":"IF(P445=1,K449*B$1/(B$1+B$2+L449),99999)","v":-0.38058669964723568},9.4592999253356407,null,null,null,null,null,{"$f":"(6*U445+4*U455)/10","v":0.35514436226952684},280.70410019337601,57.736786907643328,-9.8694667551311142,1.2068197490669603,-1.060957874521351,-2.6424996190255845E-2,0.48021630263610859,0.70118517223414756,-9.8531126481684055,1.3641572692097603,-1.0180897114391338,5.5418568368509318,null,null,null,null,null,null,null,null,null,null,null,-25.130832495006619,206.29839227954,93.076540124021321]
[352,{"$f":"OFFSET(Calculations!AS$43,$A450,0)-U$3-B$10","v":-3.2725932928714192},{"$f":"OFFSET(Calculations!AT$43,$A450,0)-V$3-B$11","v":263.99841872400111},{"$f":"OFFSET(Calculations!AU$43,$A450,0)-W$3-B$12","v":123.42566866139262},-3.2725932928714192,263.99841872400111,123.42566866139262,-3.2725932928714192,263.99841872400111,123.42566866139262,-3.2725932928714192,263.99841872400111,123.42566866139262,{"$f":"IF(P445=1,K450*B$1/(B$1+B$2+L450),99999)","v":-0.23887680141452977},9.0092248879523211,null,null,null,null,null,{"$f":"(5*U445+5*U455)/10","v":0.33845392375437761},281.27480237530392,58.372794321142507,-9.867228294135888,1.228291989273032,-1.0569018925995941,-2.8485765379208189E-2,0.46096264952547017,0.71217288727361705,-9.8509707095068428,1.3848063357707794,-1.011267440924257,5.5243189181438961,null,null,null,null,null,null,null,null,null,null,null,-20.240920302236091,203.08901855988805,92.86090265268048]
[351,{"$f":"OFFSET(Calculations!AS$43,$A451,0)-U$3-B$10","v":-7.9135527223305839},{"$f":"OFFSET(Calculations!AT$43,$A451,0)-V$3-B$11","v":265.41013883022663},{"$f":"OFFSET(Calculations!AU$43,$A451,0)-W$3-B$12","v":126.66118128164194},-7.9135527223305839,265.41013883022663,126.66118128164194,-7.9135527223305839,265.41013883022663,126.66118128164194,-7.9135527223305839,265.41013883022663,126.66118128164194,{"$f":"IF(P445=1,K451*B$1/(B$1+B$2+L451),99999)","v":-0.57467403022579366},9.1980042433892208,null,null,null,null,null,{"$f":"(4*U445+6*U455)/10","v":0.32176348523922843},281.84550455723183,59.008801734641679,-9.8649898331406654,1.2497642294791036,-1.0528459106778372,-3.0546534568160533E-2,0.44170899641494543,0.72316060231310075,-9.8488538381643203,1.4052350335259685,-1.0039153676679387,5.5067127509638292,null,null,null,null,null,null,null,null,null,null,null,-15.164234165846036,205.95424110075129,92.335947313286439]
[" ",null,null,null,null,null,null,null,null,null,null,null,null,null,null,null,null,null,null,null,{"$f":"(3*U445+7*U455)/10","v":0.3050730467240792},282.41620673915975,59.644809148140851,-9.8627513721454392,1.271236469685175,-1.04878992875608,-3.2607303757113001E-2,0.42245534330442069,0.73414831735254893,-9.8467620341408377,1.4254433624753278,-0.99603349167017874,5.4890375322918796,null,null,null,null,null,null,null,null,null,null,null,-19.932686002643099,213.11396576282428,92.350433287611082]
[{"$f":"A445+7","v":365},{"$f":"OFFSET(Calculations!AS$43,$A453,0)-U$3-B$10","v":-11.582895436810164},{"$f":"OFFSET(Calculations!AT$43,$A453,0)-V$3-B$11","v":244.63688757649311},{"$f":"OFFSET(Calculations!AU$43,$A453,0)-W$3-B$12","v":127.90829616979192},{"$f":"B453*F$5+C453*F$4","v":-11.582895436810164},{"$f":"C453*F$5-B453*F$4","v":244.63688757649311},{"$f":"D453","v":127.90829616979192},-11.582895436810164,{"$f":"F453*F$7+G453*F$6","v":244.63688757649311},{"$f":"G453*F$7-F453*F$6","v":127.90829616979192},{"$f":"H453*F$9+J453*F$8","v":-11.582895436810164},{"$f":"I453","v":244.63688757649311},{"$f":"J453*F$9-H453*F$8","v":127.90829616979192},{"$f":"IF(P453=1,K453*B$1/(B$1+B$2+L453),99999)","v":-0.9097578553563378},{"$f":"M453*B$1/(B$1+B$2+L453)","v":10.046328902867081},{"$f":"IF(MIN(L453:L459)+B$2+B$1>0,1,0)","v":1},null,null,null,null,{"$f":"(2*U445+8*U455)/10","v":0.28838260820892997},282.98690892108766,60.280816561640016,-9.8605129111502148,1.2927087098912466,-1.0447339468343231,-3.4668072946065387E-2,0.40320169019378227,0.74513603239202553,-9.8446952974363953,1.4454313226188573,-0.98762181293097728,5.4712924432372327,null,null,null,null,null,null,null,null,null,null,null,-27.124152160838722,206.36722251529775,93.22465868616824]
[358,{"$f":"OFFSET(Calculations!AS$43,$A454,0)-U$3-B$10","v":-9.7453737136322296},{"$f":"OFFSET(Calculations!AT$43,$A454,0)-V$3-B$11","v":255.08998017384204},{"$f":"OFFSET(Calculations!AU$43,$A454,0)-W$3-B$12","v":128.39679183233383},-9.7453737136322296,255.08998017384204,128.39679183233383,-9.7453737136322296,255.08998017384204,128.39679183233383,-9.7453737136322296,255.08998017384204,128.39679183233383,{"$f":"IF(P453=1,K454*B$1/(B$1+B$2+L454),99999)","v":-0.73525025029172064},9.6870347003031299,null,null,null,null,null,{"$f":"(1*U445+9*U455)/10","v":0.27169216969378074},283.55761110301557,60.916823975139195,-9.8582744501549904,1.3141809500973181,-1.0406779649125659,-3.6728842135017786E-2,0.38394803708320069,0.75612374743150212,-9.8426536280509946,1.4651989139565571,-0.9786803314503344,5.4534766485943971,null,null,null,null,null,null,null,null,null,null,null,-19.68714619946228,221.09985041731406,91.943792794990699]
[357,{"$f":"OFFSET(Calculations!AS$43,$A455,0)-U$3-B$10","v":-14.850863549575674},{"$f":"OFFSET(Calculations!AT$43,$A455,0)-V$3-B$11","v":256.1162096700408},{"$f":"OFFSET(Calculations!AU$43,$A455,0)-W$3-B$12","v":125.77289644557499},-14.850863549575674,256.1162096700408,125.77289644557499,-14.850863549575674,256.1162096700408,125.77289644557499,-14.850863549575674,256.1162096700408,125.77289644557499,{"$f":"IF(P453=1,K455*B$1/(B$1+B$2+L455),99999)","v":-1.1161186737169717},9.4524791707744242,null,null,null,null,{"$f":"T445+7","v":287},{"$f":"OFFSET(Calculations!AS$46,$T455,0)","v":0.25500173117863156},{"$f":"OFFSET(Calculations!AT$46,$T455,0)","v":284.12831328494349},{"$f":"OFFSET(Calculations!AU$46,$T455,0)","v":61.552831388638367},{"$f":"OFFSET(Calculations!AS$43,$T455,0)-OFFSET(Calculations!AS$45,$T455,0)","v":-9.856035989159766},{"$f":"OFFSET(Calculations!AT$43,$T455,0)-OFFSET(Calculations!AT$45,$T455,0)","v":1.3356531903033897},{"$f":"OFFSET(Calculations!AU$43,$T455,0)-OFFSET(Calculations!AU$45,$T455,0)","v":-1.036621982990809},-3.8789611323970158E-2,0.36469438397261911,0.76711146247096451,-9.8406370259846341,1.4847461364884271,-0.96920904722824996,5.4355892963845056,null,null,null,null,null,null,null,null,null,null,null,-13.170914500013911,205.88541086499364,92.187828751139534]
[364,{"$f":"OFFSET(Calculations!AS$43,$A456,0)-U$3-B$10","v":-16.633307206573544},{"$f":"OFFSET(Calculations!AT$43,$A456,0)-V$3-B$11","v":246.19488654672023},{"$f":"OFFSET(Calculations!AU$43,$A456,0)-W$3-B$12","v":125.44212762816346},-16.633307206573544,246.19488654672023,125.44212762816346,-16.633307206573544,246.19488654672023,125.44212762816346,-16.633307206573544,246.19488654672023,125.44212762816346,{"$f":"IF(P453=1,K456*B$1/(B$1+B$2+L456),99999)","v":-1.2984886178468094},9.7927112690664551,null,null,null,null,null,{"$f":"(9*U455+U465)/10","v":0.22273600038331179},284.55423806000454,62.293123216113507,-9.8539519638983997,1.3558083526773772,-1.0281399393200601,-3.9876924745411893E-2,0.35448931879125212,0.77158140163693645,-9.8386454912373136,1.5040729902144672,-0.9592079602647241,5.4146777288191723,null,null,null,null,null,null,null,null,null,null,null,-25.894990166548286,205.74136171471903,83.035377545855496]
[366,{"$f":"OFFSET(Calculations!AS$43,$A457,0)-U$3-B$10","v":-6.7944350452677771},{"$f":"OFFSET(Calculations!AT$43,$A457,0)-V$3-B$11","v":244.62932366360369},{"$f":"OFFSET(Calculations!AU$43,$A457,0)-W$3-B$12","v":124.57864198700321},-6.7944350452677771,244.62932366360369,124.57864198700321,-6.7944350452677771,244.62932366360369,124.57864198700321,-6.7944350452677771,244.62932366360369,124.57864198700321,{"$f":"IF(P453=1,K457*B$1/(B$1+B$2+L457),99999)","v":-0.53367263027757572},9.7850978194158635,null,null,null,null,null,{"$f":"(8*U455+2*U465)/10","v":0.19047026958799199},284.98016283506553,63.03341504358864,-9.8518679386370334,1.3759635150513645,-1.0196578956493112,-4.0964238166853628E-2,0.3442842536097146,0.7760513408029226,-9.8366693715756686,1.5232617924991829,-0.94895369941906871,5.3936666341978228,null,null,null,null,null,null,null,null,null,null,null,-20.992077025623065,202.62838840095165,82.262230806668867]
[359,{"$f":"OFFSET(Calculations!AS$43,$A458,0)-U$3-B$10","v":-5.0308839476211542},{"$f":"OFFSET(Calculations!AT$43,$A458,0)-V$3-B$11","v":254.37518453925276},{"$f":"OFFSET(Calculations!AU$43,$A458,0)-W$3-B$12","v":125.04020816863749},-5.0308839476211542,254.37518453925276,125.04020816863749,-5.0308839476211542,254.37518453925276,125.04020816863749,-5.0308839476211542,254.37518453925276,125.04020816863749,{"$f":"IF(P453=1,K458*B$1/(B$1+B$2+L458),99999)","v":-0.38058669964723568},9.4592999253356407,null,null,null,null,null,{"$f":"(7*U455+3*U465)/10","v":0.15820453879267221},285.40608761012652,63.77370687106378,-9.8497839133756671,1.396118677425352,-1.0111758519785625,-4.2051551588295322E-2,0.33407918842846129,0.78052127996886611,-9.8347086669996973,1.5423125433425739,-0.93844626469128378,5.3725545777719503,null,null,null,null,null,null,null,null,null,null,null,-15.913635136142158,205.54352730523865,82.45795802469938]
[358,{"$f":"OFFSET(Calculations!AS$43,$A459,0)-U$3-B$10","v":-9.7453737136322296},{"$f":"OFFSET(Calculations!AT$43,$A459,0)-V$3-B$11","v":255.08998017384204},{"$f":"OFFSET(Calculations!AU$43,$A459,0)-W$3-B$12","v":128.39679183233383},-9.7453737136322296,255.08998017384204,128.39679183233383,-9.7453737136322296,255.08998017384204,128.39679183233383,-9.7453737136322296,255.08998017384204,128.39679183233383,{"$f":"IF(P453=1,K459*B$1/(B$1+B$2+L459),99999)","v":-0.73525025029172064},9.6870347003031299,null,null,null,null,null,{"$f":"(6*U455+4*U465)/10","v":0.12593880799735241},285.83201238518757,64.513998698538927,-9.8476998881143007,1.4162738397993393,-1.0026938083078136,-4.3138865009737098E-2,0.32387412324703746,0.78499121913485226,-9.8327633775094014,1.5612252427446405,-0.92768565608136921,5.3513400899867216,null,null,null,null,null,null,null,null,null,null,null,-20.70315003839664,212.5508900774937,83.857034140961801]
[" ",null,null,null,null,null,null,null,null,null,null,null,null,null,null,null,null,null,null,null,{"$f":"(5*U455+5*U465)/10","v":9.3673077202032592E-2},286.25793716024862,65.254290526014046,-9.8456158628529327,1.4364290021733268,-0.99421176463706473,-4.5379242399393116E-2,0.30275902864985937,0.79168549272091582,-9.8308335031047793,1.5799998907053823,-0.91667187358932523,5.330021665287239,null,null,null,null,null,null,null,null,null,null,null,-27.891261172629495,205.78092859661513,83.150861450086765]
[{"$f":"A453+7","v":372},{"$f":"OFFSET(Calculations!AS$43,$A461,0)-U$3-B$10","v":-13.377386427083986},{"$f":"OFFSET(Calculations!AT$43,$A461,0)-V$3-B$11","v":234.51597006010329},{"$f":"OFFSET(Calculations!AU$43,$A461,0)-W$3-B$12","v":125.21689092033051},{"$f":"B461*F$5+C461*F$4","v":-13.377386427083986},{"$f":"C461*F$5-B461*F$4","v":234.51597006010329},{"$f":"D461","v":125.21689092033051},-13.377386427083986,{"$f":"F461*F$7+G461*F$6","v":234.51597006010329},{"$f":"G461*F$7-F461*F$6","v":125.21689092033051},{"$f":"H461*F$9+J461*F$8","v":-13.377386427083986},{"$f":"I461","v":234.51597006010329},{"$f":"J461*F$9-H461*F$8","v":125.21689092033051},{"$f":"IF(P461=1,K461*B$1/(B$1+B$2+L461),99999)","v":-1.0941932687501561},{"$f":"M461*B$1/(B$1+B$2+L461)","v":10.24202148346806},{"$f":"IF(MIN(L461:L467)+B$2+B$1>0,1,0)","v":1},null,null,null,null,{"$f":"(4*U455+6*U465)/10","v":6.1407346406712818E-2},286.68386193530966,65.994582353489207,-9.8435318375915664,1.4565841645473143,-0.98572972096631584,-4.7619619789049217E-2,0.28164393405268129,0.79837976630695096,-9.8289395396985917,1.5984488096561655,-0.90518639973826764,5.3085977608716366,null,null,null,null,null,null,null,null,null,null,null,-20.473249909312564,220.44625644036796,85.126024261743922]
[365,{"$f":"OFFSET(Calculations!AS$43,$A462,0)-U$3-B$10","v":-11.582895436810164},{"$f":"OFFSET(Calculations!AT$43,$A462,0)-V$3-B$11","v":244.63688757649311},{"$f":"OFFSET(Calculations!AU$43,$A462,0)-W$3-B$12","v":127.90829616979192},-11.582895436810164,244.63688757649311,127.90829616979192,-11.582895436810164,244.63688757649311,127.90829616979192,-11.582895436810164,244.63688757649311,127.90829616979192,{"$f":"IF(P461=1,K462*B$1/(B$1+B$2+L462),99999)","v":-0.9097578553563378},10.046328902867081,null,null,null,null,null,{"$f":"(3*U455+7*U465)/10","v":2.9141615611393022E-2},287.10978671037066,66.73487418096434,-9.8414478123302018,1.4767393269213016,-0.97724767729556705,-4.9859997178705207E-2,0.26052883945538952,0.8050740398930003,-9.8270814872908385,1.6165719995969903,-0.89322923452819636,5.2870667953881121,null,null,null,null,null,null,null,null,null,null,null,-13.917364130060925,205.50396042334256,82.342474120468239]
[364,{"$f":"OFFSET(Calculations!AS$43,$A463,0)-U$3-B$10","v":-16.633307206573544},{"$f":"OFFSET(Calculations!AT$43,$A463,0)-V$3-B$11","v":246.19488654672023},{"$f":"OFFSET(Calculations!AU$43,$A463,0)-W$3-B$12","v":125.44212762816346},-16.633307206573544,246.19488654672023,125.44212762816346,-16.633307206573544,246.19488654672023,125.44212762816346,-16.633307206573544,246.19488654672023,125.44212762816346,{"$f":"IF(P461=1,K463*B$1/(B$1+B$2+L463),99999)","v":-1.2984886178468094},9.7927112690664551,null,null,null,null,null,{"$f":"(2*U455+8*U465)/10","v":-3.1241151839267677E-3},287.5357114854317,67.475166008439473,-9.8393637870688337,1.4968944892952891,-0.96876563362481816,-5.2100374568361307E-2,0.23941374485832512,0.81176831347906386,-9.8252593458815198,1.6343694605278563,-0.88080037795911126,5.2654271475727397,null,null,null,null,null,null,null,null,null,null,null,-26.438854481487937,207.28666249283268,73.08372325973933]
[371,{"$f":"OFFSET(Calculations!AS$43,$A464,0)-U$3-B$10","v":-18.377781364107829},{"$f":"OFFSET(Calculations!AT$43,$A464,0)-V$3-B$11","v":236.56219964923926},{"$f":"OFFSET(Calculations!AU$43,$A464,0)-W$3-B$12","v":123.01574782131789},-18.377781364107829,236.56219964923926,123.01574782131789,-18.377781364107829,236.56219964923926,123.01574782131789,-18.377781364107829,236.56219964923926,123.01574782131789,{"$f":"IF(P461=1,K464*B$1/(B$1+B$2+L464),99999)","v":-1.490721723788331},9.9784758569091903,null,null,null,null,null,{"$f":"(1*U455+9*U465)/10","v":-3.5389845979246562E-2},287.9616362604927,68.21545783591462,-9.8372797618074674,1.5170496516692764,-0.96028358995406937,-5.4340751958017353E-2,0.21829865026114703,0.818462587065099,-9.8234731154706356,1.6518411924487635,-0.86789983003101256,5.2436771548247787,null,null,null,null,null,null,null,null,null,null,null,-21.511068284144262,204.38332114184846,71.782963236760935]
[373,{"$f":"OFFSET(Calculations!AS$43,$A465,0)-U$3-B$10","v":-8.5177128895210181},{"$f":"OFFSET(Calculations!AT$43,$A465,0)-V$3-B$11","v":235.19544191913079},{"$f":"OFFSET(Calculations!AU$43,$A465,0)-W$3-B$12","v":122.06127258138332},-8.5177128895210181,235.19544191913079,122.06127258138332,-8.5177128895210181,235.19544191913079,122.06127258138332,-8.5177128895210181,235.19544191913079,122.06127258138332,{"$f":"IF(P461=1,K465*B$1/(B$1+B$2+L465),99999)","v":-0.69476926837247577},9.956243201424682,null,null,null,null,{"$f":"T455+7","v":294},{"$f":"OFFSET(Calculations!AS$46,$T465,0)","v":-6.7655576774566351E-2},{"$f":"OFFSET(Calculations!AT$46,$T465,0)","v":288.38756103555374},{"$f":"OFFSET(Calculations!AU$46,$T465,0)","v":68.955749663389753},{"$f":"OFFSET(Calculations!AS$43,$T465,0)-OFFSET(Calculations!AS$45,$T465,0)","v":-9.8351957365461011},{"$f":"OFFSET(Calculations!AT$43,$T465,0)-OFFSET(Calculations!AT$45,$T465,0)","v":1.5372048140432639},{"$f":"OFFSET(Calculations!AU$43,$T465,0)-OFFSET(Calculations!AU$45,$T465,0)","v":-0.95180154628332048},-5.6581129347673287E-2,0.19718355566385526,0.82515686065116256,-9.8217227960581859,1.668987195359712,-0.85452759074389995,5.2218151117159248,null,null,null,null,null,null,null,null,null,null,null,-16.446743009557814,207.19797396413844,72.69662808100307]
[366,{"$f":"OFFSET(Calculations!AS$43,$A466,0)-U$3-B$10","v":-6.7944350452677771},{"$f":"OFFSET(Calculations!AT$43,$A466,0)-V$3-B$11","v":244.62932366360369},{"$f":"OFFSET(Calculations!AU$43,$A466,0)-W$3-B$12","v":124.57864198700321},-6.7944350452677771,244.62932366360369,124.57864198700321,-6.7944350452677771,244.62932366360369,124.57864198700321,-6.7944350452677771,244.62932366360369,124.57864198700321,{"$f":"IF(P461=1,K466*B$1/(B$1+B$2+L466),99999)","v":-0.53367263027757572},9.7850978194158635,null,null,null,null,null,{"$f":"(9*U465+U475)/10","v":-0.11731832231295378},288.65020476771235,69.767560517520423,-9.8333583526555266,1.5551511533560585,-0.93926872049849952,-5.7734193315887805E-2,0.18627352624804416,0.82738119507123997,-9.8200083876441706,1.6858074692607019,-0.84068366009777384,5.1977101048047949,null,null,null,null,null,null,null,null,null,null,null,-21.286966103017523,213.76828983928775,75.417508399264207]
[365,{"$f":"OFFSET(Calculations!AS$43,$A467,0)-U$3-B$10","v":-11.582895436810164},{"$f":"OFFSET(Calculations!AT$43,$A467,0)-V$3-B$11","v":244.63688757649311},{"$f":"OFFSET(Calculations!AU$43,$A467,0)-W$3-B$12","v":127.90829616979192},-11.582895436810164,244.63688757649311,127.90829616979192,-11.582895436810164,244.63688757649311,127.90829616979192,-11.582895436810164,244.63688757649311,127.90829616979192,{"$f":"IF(P461=1,K467*B$1/(B$1+B$2+L467),99999)","v":-0.9097578553563378},10.046328902867081,null,null,null,null,null,{"$f":"(8*U465+2*U475)/10","v":-0.16698106785134123},288.91284849987102,70.579371371651106,-9.8315209687649503,1.5730974926688532,-0.92673589471367845,-5.8887257284102046E-2,0.17536349683228991,0.82960552949130317,-9.8183144751429161,1.7024400655930578,-0.82662121197476357,5.1734658750788425,null,null,null,null,null,null,null,null,null,null,null,-28.437276775873944,207.30440019857156,73.161142295486542]
[" ",null,null,null,null,null,null,null,null,null,null,null,null,null,null,null,null,null,null,null,{"$f":"(7*U465+3*U475)/10","v":-0.21664381338972866},289.17549223202963,71.391182225781805,-9.829683584874374,1.5910438319816478,-0.9142030689288575,-6.0040321252316287E-2,0.16445346741653566,0.83182986391138058,-9.8166410585544188,1.7188849843567793,-0.81234024637486901,5.1490799819857571,null,null,null,null,null,null,null,null,null,null,null,-21.108871654439994,221.22654310877601,78.305888660856226]
[{"$f":"A461+7","v":379},{"$f":"OFFSET(Calculations!AS$43,$A469,0)-U$3-B$10","v":-15.082001135146964},{"$f":"OFFSET(Calculations!AT$43,$A469,0)-V$3-B$11","v":225.17775970038957},{"$f":"OFFSET(Calculations!AU$43,$A469,0)-W$3-B$12","v":120.44096991853988},{"$f":"B469*F$5+C469*F$4","v":-15.082001135146964},{"$f":"C469*F$5-B469*F$4","v":225.17775970038957},{"$f":"D469","v":120.44096991853988},-15.082001135146964,{"$f":"F469*F$7+G469*F$6","v":225.17775970038957},{"$f":"G469*F$7-F469*F$6","v":120.44096991853988},{"$f":"H469*F$9+J469*F$8","v":-15.082001135146964},{"$f":"I469","v":225.17775970038957},{"$f":"J469*F$9-H469*F$8","v":120.44096991853988},null,null,{"$f":"IF(MIN(L469:L475)+B$2+B$1>0,1,0)","v":1},{"$f":"IF(P469=1,K469*B$1/(B$1+B$2+L469),99999)","v":-1.2826043716345497},{"$f":"M469*B$1/(B$1+B$2+L469)","v":10.242547600757705},null,null,{"$f":"(6*U465+4*U475)/10","v":-0.26630655892811611},289.43813596418829,72.202993079912474,-9.8278462009837995,1.6089901712944426,-0.90167024314403643,-6.1193385220530749E-2,0.15354343800078141,0.834054198331458,-9.8149881378786841,1.7351422255518671,-0.79784076329809028,5.124549912824703,null,null,null,null,null,null,null,null,null,null,null,-14.448320715171782,207.18023625839965,72.619209045255815]
[372,{"$f":"OFFSET(Calculations!AS$43,$A470,0)-U$3-B$10","v":-13.377386427083986},{"$f":"OFFSET(Calculations!AT$43,$A470,0)-V$3-B$11","v":234.51597006010329},{"$f":"OFFSET(Calculations!AU$43,$A470,0)-W$3-B$12","v":125.21689092033051},-13.377386427083986,234.51597006010329,125.21689092033051,-13.377386427083986,234.51597006010329,125.21689092033051,-13.377386427083986,234.51597006010329,125.21689092033051,null,null,null,{"$f":"IF(P469=1,K470*B$1/(B$1+B$2+L470),99999)","v":-1.0941932687501561},10.24202148346806,null,null,{"$f":"(5*U465+5*U475)/10","v":-0.31596930446650362},289.7007796963469,73.014803934043158,-9.8260088170932214,1.6269365106072371,-0.88913741735921548,-6.3514247528647982E-2,0.13150111839797773,0.83615884894881276,-9.8133557131157083,1.7512117891783205,-0.78312276274442727,5.0998730797244924,null,null,null,null,null,null,null,null,null,null,null,-26.770855579167584,210.86933415367895,63.661759294621092]
[371,{"$f":"OFFSET(Calculations!AS$43,$A471,0)-U$3-B$10","v":-18.377781364107829},{"$f":"OFFSET(Calculations!AT$43,$A471,0)-V$3-B$11","v":236.56219964923926},{"$f":"OFFSET(Calculations!AU$43,$A471,0)-W$3-B$12","v":123.01574782131789},-18.377781364107829,236.56219964923926,123.01574782131789,-18.377781364107829,236.56219964923926,123.01574782131789,-18.377781364107829,236.56219964923926,123.01574782131789,null,null,null,{"$f":"IF(P469=1,K471*B$1/(B$1+B$2+L471),99999)","v":-1.490721723788331},9.9784758569091903,null,null,{"$f":"(4*U465+6*U475)/10","v":-0.36563205000489096},289.96342342850551,73.826614788173828,-9.8241714332026469,1.6448828499200316,-0.87660459157439452,-6.5835109836764993E-2,0.10945879879540144,0.83826349956618174,-9.8117684541839445,1.7668646751486414,-0.76801205173193055,5.075046816457073,null,null,null,null,null,null,null,null,null,null,null,-21.806939076404898,208.30317225676256,61.900719240444211]
[378,{"$f":"OFFSET(Calculations!AS$43,$A472,0)-U$3-B$10","v":-20.039596366239586},{"$f":"OFFSET(Calculations!AT$43,$A472,0)-V$3-B$11","v":227.64774752892046},{"$f":"OFFSET(Calculations!AU$43,$A472,0)-W$3-B$12","v":118.60099072590347},-20.039596366239586,227.64774752892046,118.60099072590347,-20.039596366239586,227.64774752892046,118.60099072590347,-20.039596366239586,227.64774752892046,118.60099072590347,null,null,null,{"$f":"IF(P469=1,K472*B$1/(B$1+B$2+L472),99999)","v":-1.6864957967927614},9.9812425709164661,null,null,{"$f":"(3*U465+7*U475)/10","v":-0.41529479554327847},290.22606716066417,74.638425642304526,-9.8223340493120723,1.6628291892328264,-0.86407176578957345,-6.8155972144882448E-2,8.7416479192654606E-2,0.84036815018352229,-9.8102263610833944,1.7821008834628296,-0.75250863026060011,5.050068375075198,null,null,null,null,null,null,null,null,null,null,null,-16.772463833553907,210.84779156568078,63.483718798814643]
[380,{"$f":"OFFSET(Calculations!AS$43,$A473,0)-U$3-B$10","v":-10.156965634363409},{"$f":"OFFSET(Calculations!AT$43,$A473,0)-V$3-B$11","v":226.49434191974734},{"$f":"OFFSET(Calculations!AU$43,$A473,0)-W$3-B$12","v":117.59935939746728},-10.156965634363409,226.49434191974734,117.59935939746728,-10.156965634363409,226.49434191974734,117.59935939746728,-10.156965634363409,226.49434191974734,117.59935939746728,null,null,null,{"$f":"IF(P469=1,K473*B$1/(B$1+B$2+L473),99999)","v":-0.85896056133216947},9.9452154705141975,null,null,{"$f":"(2*U465+8*U475)/10","v":-0.46495754108166593},290.48871089282278,75.450236496435195,-9.820496665421496,1.680775528545621,-0.8515389400047525,-7.0476834452999904E-2,6.5374159590021463E-2,0.84247280080084863,-9.8087294338140563,1.796920414120885,-0.73661249833043574,5.0249349223622968,null,null,null,null,null,null,null,null,null,null,null,-21.690796710188792,216.71571224423153,67.405135459263974]
[373,{"$f":"OFFSET(Calculations!AS$43,$A474,0)-U$3-B$10","v":-8.5177128895210181},{"$f":"OFFSET(Calculations!AT$43,$A474,0)-V$3-B$11","v":235.19544191913079},{"$f":"OFFSET(Calculations!AU$43,$A474,0)-W$3-B$12","v":122.06127258138332},-8.5177128895210181,235.19544191913079,122.06127258138332,-8.5177128895210181,235.19544191913079,122.06127258138332,-8.5177128895210181,235.19544191913079,122.06127258138332,null,null,null,{"$f":"IF(P469=1,K474*B$1/(B$1+B$2+L474),99999)","v":-0.69476926837247577},9.956243201424682,null,null,{"$f":"(1*U465+9*U475)/10","v":-0.51462028662005332},290.75135462498139,76.262047350565879,-9.8186592815309215,1.6987218678584157,-0.83900611421993143,-7.2797696761116804E-2,4.3331839987274634E-2,0.8445774514182034,-9.8072776723759318,1.8113232671228077,-0.72032365594143744,4.9996435360815488,null,null,null,null,null,null,null,null,null,null,null,-28.770533928290302,210.87364267127853,63.6973673937824]
[372,{"$f":"OFFSET(Calculations!AS$43,$A475,0)-U$3-B$10","v":-13.377386427083986},{"$f":"OFFSET(Calculations!AT$43,$A475,0)-V$3-B$11","v":234.51597006010329},{"$f":"OFFSET(Calculations!AU$43,$A475,0)-W$3-B$12","v":125.21689092033051},-13.377386427083986,234.51597006010329,125.21689092033051,-13.377386427083986,234.51597006010329,125.21689092033051,-13.377386427083986,234.51597006010329,125.21689092033051,null,null,null,{"$f":"IF(P469=1,K475*B$1/(B$1+B$2+L475),99999)","v":-1.0941932687501561},10.24202148346806,null,{"$f":"T465+7","v":301},{"$f":"OFFSET(Calculations!AS$46,$T475,0)","v":-0.56428303215844078},{"$f":"OFFSET(Calculations!AT$46,$T475,0)","v":291.01399835714005},{"$f":"OFFSET(Calculations!AU$46,$T475,0)","v":77.073858204696563},{"$f":"OFFSET(Calculations!AS$43,$T475,0)-OFFSET(Calculations!AS$45,$T475,0)","v":-9.8168218976403452},{"$f":"OFFSET(Calculations!AT$43,$T475,0)-OFFSET(Calculations!AT$45,$T475,0)","v":1.7166682071712103},{"$f":"OFFSET(Calculations!AU$43,$T475,0)-OFFSET(Calculations!AU$45,$T475,0)","v":-0.82647328843511048},-7.5118559069234037E-2,2.1289520384641492E-2,0.84668210203555816,-9.8058710767690194,1.8253094424685976,-0.70364210309360553,4.9741912010101181,null,null,null,null,null,null,null,null,null,null,null,-21.598381857420851,223.40959725514784,71.785017073602262]
[" ",null,null,null,null,null,null,null,null,null,null,null,null,null,null,null,null,null,null,null,{"$f":"(9*U475+U485)/10","v":-0.63239480118825742},291.10208161864603,77.9212584095485,-9.8153124483539305,1.7316117053858591,-0.81044418302014232,-7.6286357409137251E-2,1.0157230197762601E-2,0.8465624182328213,-9.8045096469933206,1.838878940158255,-0.6865678397869398,4.9474479921809307,null,null,null,null,null,null,null,null,null,null,null,-14.772785484431166,210.84348304808117,63.448110699653398]
[{"$f":"A469+7","v":386},{"$f":"OFFSET(Calculations!AS$43,$A477,0)-U$3-B$10","v":-16.65384484188677},{"$f":"OFFSET(Calculations!AT$43,$A477,0)-V$3-B$11","v":217.03835332620855},{"$f":"OFFSET(Calculations!AU$43,$A477,0)-W$3-B$12","v":113.79092830981369},{"$f":"B477*F$5+C477*F$4","v":-16.65384484188677},{"$f":"C477*F$5-B477*F$4","v":217.03835332620855},{"$f":"D477","v":113.79092830981369},-16.65384484188677,{"$f":"F477*F$7+G477*F$6","v":217.03835332620855},{"$f":"G477*F$7-F477*F$6","v":113.79092830981369},{"$f":"H477*F$9+J477*F$8","v":-16.65384484188677},{"$f":"I477","v":217.03835332620855},{"$f":"J477*F$9-H477*F$8","v":113.79092830981369},null,null,{"$f":"IF(MIN(L477:L483)+B$2+B$1>0,1,0)","v":1},{"$f":"IF(P477=1,K477*B$1/(B$1+B$2+L477),99999)","v":-1.467051235872781},{"$f":"M477*B$1/(B$1+B$2+L477)","v":10.023938831719676},null,null,{"$f":"(8*U475+2*U485)/10","v":-0.70050657021807405},291.19016488015205,78.768658614400451,-9.8138029990675157,1.7465552036005079,-0.79441507760517427,-7.7454155749039799E-2,-9.7505998917313264E-4,0.84644273443008444,-9.803172887136073,1.8522194377604138,-0.66931938349832443,4.920522363124622,null,null,null,null,null,null,null,null,null,null,null,-26.90879727747922,216.33427477697236,55.186232054972706]
[379,{"$f":"OFFSET(Calculations!AS$43,$A478,0)-U$3-B$10","v":-15.082001135146964},{"$f":"OFFSET(Calculations!AT$43,$A478,0)-V$3-B$11","v":225.17775970038957},{"$f":"OFFSET(Calculations!AU$43,$A478,0)-W$3-B$12","v":120.44096991853988},-15.082001135146964,225.17775970038957,120.44096991853988,-15.082001135146964,225.17775970038957,120.44096991853988,-15.082001135146964,225.17775970038957,120.44096991853988,null,null,null,{"$f":"IF(P477=1,K478*B$1/(B$1+B$2+L478),99999)","v":-1.2826043716345497},10.242547600757705,null,null,{"$f":"(7*U475+3*U485)/10","v":-0.76861833924789069},291.27824814165808,79.616058819252402,-9.8122935497810992,1.7614987018151567,-0.77838597219020611,-7.8621954088943014E-2,-1.2107350176052023E-2,0.84632305062734758,-9.8018607971972802,1.865330935275074,-0.65189673422775951,4.8934105291565757,null,null,null,null,null,null,null,null,null,null,null,-21.899958318630436,214.19100187109481,53.047135521457967]
[378,{"$f":"OFFSET(Calculations!AS$43,$A479,0)-U$3-B$10","v":-20.039596366239586},{"$f":"OFFSET(Calculations!AT$43,$A479,0)-V$3-B$11","v":227.64774752892046},{"$f":"OFFSET(Calculations!AU$43,$A479,0)-W$3-B$12","v":118.60099072590347},-20.039596366239586,227.64774752892046,118.60099072590347,-20.039596366239586,227.64774752892046,118.60099072590347,-20.039596366239586,227.64774752892046,118.60099072590347,null,null,null,{"$f":"IF(P477=1,K479*B$1/(B$1+B$2+L479),99999)","v":-1.6864957967927614},9.9812425709164661,null,null,{"$f":"(6*U475+4*U485)/10","v":-0.83673010827770733},291.36633140316405,80.463459024104353,-9.8107841004946827,1.7764422000298055,-0.76235686677523806,-7.978975242884534E-2,-2.3239640362930913E-2,0.84620336682462494,-9.8005733771769368,1.8782134327022355,-0.63429989197524494,4.8661085728849232,null,null,null,null,null,null,null,null,null,null,null,-16.908879290521398,216.33490738383028,55.226727164880472]
[385,{"$f":"OFFSET(Calculations!AS$43,$A480,0)-U$3-B$10","v":-21.57771972962442},{"$f":"OFFSET(Calculations!AT$43,$A480,0)-V$3-B$11","v":219.84935114958697},{"$f":"OFFSET(Calculations!AU$43,$A480,0)-W$3-B$12","v":112.39306382974198},-21.57771972962442,219.84935114958697,112.39306382974198,-21.57771972962442,219.84935114958697,112.39306382974198,-21.57771972962442,219.84935114958697,112.39306382974198,null,null,null,{"$f":"IF(P477=1,K480*B$1/(B$1+B$2+L480),99999)","v":-1.8775532427395494},9.7797155630512158,null,null,{"$f":"(5*U475+5*U485)/10","v":-0.90484187730752408},291.45441466467003,81.310859228956289,-9.8092746512082698,1.7913856982444543,-0.7463277613602699,-8.2088415397550518E-2,-4.5233944336530385E-2,0.84362527628785244,-9.7993106270750499,1.8908669300418983,-0.61652885674078073,4.8386124376031123,null,null,null,null,null,null,null,null,null,null,null,-21.929267652182485,221.26616134721061,60.174295764379053]
[387,{"$f":"OFFSET(Calculations!AS$43,$A481,0)-U$3-B$10","v":-11.67215904121398},{"$f":"OFFSET(Calculations!AT$43,$A481,0)-V$3-B$11","v":218.91440507565574},{"$f":"OFFSET(Calculations!AU$43,$A481,0)-W$3-B$12","v":111.39019629758306},-11.67215904121398,218.91440507565574,111.39019629758306,-11.67215904121398,218.91440507565574,111.39019629758306,-11.67215904121398,218.91440507565574,111.39019629758306,null,null,null,{"$f":"IF(P477=1,K481*B$1/(B$1+B$2+L481),99999)","v":-1.019783708007048},9.7320390353563671,null,null,{"$f":"(4*U475+6*U485)/10","v":-0.97295364633734072},291.542497926176,82.15825943380824,-9.8077652019218533,1.8063291964591031,-0.73029865594530174,-8.4387078366255697E-2,-6.7228248310129857E-2,0.84104718575109416,-9.7981002993196107,1.9030312365701252,-0.59846146703359038,4.8109179202533774,null,null,null,null,null,null,null,null,null,null,null,-28.908780874870764,216.33414825560078,55.178133032991198]
[380,{"$f":"OFFSET(Calculations!AS$43,$A482,0)-U$3-B$10","v":-10.156965634363409},{"$f":"OFFSET(Calculations!AT$43,$A482,0)-V$3-B$11","v":226.49434191974734},{"$f":"OFFSET(Calculations!AU$43,$A482,0)-W$3-B$12","v":117.59935939746728},-10.156965634363409,226.49434191974734,117.59935939746728,-10.156965634363409,226.49434191974734,117.59935939746728,-10.156965634363409,226.49434191974734,117.59935939746728,null,null,null,{"$f":"IF(P477=1,K482*B$1/(B$1+B$2+L482),99999)","v":-0.85896056133216947},9.9452154705141975,null,null,{"$f":"(3*U475+7*U485)/10","v":-1.0410654153671575},291.63058118768203,83.005659638660191,-9.8062557526354404,1.8212726946737519,-0.7142695505303337,-8.6685741334960431E-2,-8.9222552283672485E-2,0.83846909521430746,-9.7969423939106228,1.9147063522869157,-0.58009772285367389,4.7830206639265587,null,null,null,null,null,null,null,null,null,null,null,-21.95261550153354,226.90224165213561,65.851799940896029]
[379,{"$f":"OFFSET(Calculations!AS$43,$A483,0)-U$3-B$10","v":-15.082001135146964},{"$f":"OFFSET(Calculations!AT$43,$A483,0)-V$3-B$11","v":225.17775970038957},{"$f":"OFFSET(Calculations!AU$43,$A483,0)-W$3-B$12","v":120.44096991853988},-15.082001135146964,225.17775970038957,120.44096991853988,-15.082001135146964,225.17775970038957,120.44096991853988,-15.082001135146964,225.17775970038957,120.44096991853988,null,null,null,{"$f":"IF(P477=1,K483*B$1/(B$1+B$2+L483),99999)","v":-1.2826043716345497},10.242547600757705,null,null,{"$f":"(2*U475+8*U485)/10","v":-1.109177184396974},291.718664449188,83.853059843512114,-9.8047463033490239,1.8362161928884007,-0.69824044511536554,-8.8984404303665388E-2,-0.11121685625721511,0.83589100467754918,-9.7958369108480863,1.9258922771922697,-0.56143762420103105,4.7549161498603869,null,null,null,null,null,null,null,null,null,null,null,-14.90889569312983,216.33503390520184,55.234826186862051]
[" ",null,null,null,null,null,null,null,null,null,null,null,null,null,null,null,null,null,null,null,{"$f":"(1*U475+9*U485)/10","v":-1.1772889534267905},291.80674771069397,84.700460048364064,-9.8032368540626074,1.8511596911030495,-0.68221133970039749,-9.1283067272370122E-2,-0.13321116023081458,0.83331291414076247,-9.7947838501319975,1.9365890112861877,-0.54248117107566229,4.7265996888946056,null,null,null,null,null,null,null,null,null,null,null,-26.879069360547199,223.44310331343701,48.032013788217178]
[{"$f":"A477+7","v":393},{"$f":"OFFSET(Calculations!AS$43,$A485,0)-U$3-B$10","v":-18.055865232598993},{"$f":"OFFSET(Calculations!AT$43,$A485,0)-V$3-B$11","v":210.46106452955812},{"$f":"OFFSET(Calculations!AU$43,$A485,0)-W$3-B$12","v":105.55991534355984},{"$f":"B485*F$5+C485*F$4","v":-18.055865232598993},{"$f":"C485*F$5-B485*F$4","v":210.46106452955812},{"$f":"D485","v":105.55991534355984},-18.055865232598993,{"$f":"F485*F$7+G485*F$6","v":210.46106452955812},{"$f":"G485*F$7-F485*F$6","v":105.55991534355984},{"$f":"H485*F$9+J485*F$8","v":-18.055865232598993},{"$f":"I485","v":210.46106452955812},{"$f":"J485*F$9-H485*F$8","v":105.55991534355984},null,null,{"$f":"IF(MIN(L485:L491)+B$2+B$1>0,1,0)","v":1},{"$f":"IF(P485=1,K485*B$1/(B$1+B$2+L485),99999)","v":-1.6380094390933297},{"$f":"M485*B$1/(B$1+B$2+L485)","v":9.5762864584559768},null,{"$f":"T475+7","v":308},{"$f":"OFFSET(Calculations!AS$46,$T485,0)","v":-1.2454007224566073},{"$f":"OFFSET(Calculations!AT$46,$T485,0)","v":291.8948309722},{"$f":"OFFSET(Calculations!AU$46,$T485,0)","v":85.547860253216015},{"$f":"OFFSET(Calculations!AS$43,$T485,0)-OFFSET(Calculations!AS$45,$T485,0)","v":-9.8017274047761926},{"$f":"OFFSET(Calculations!AT$43,$T485,0)-OFFSET(Calculations!AT$45,$T485,0)","v":1.8661031893176983},{"$f":"OFFSET(Calculations!AU$43,$T485,0)-OFFSET(Calculations!AU$45,$T485,0)","v":-0.66618223428542933},-9.35817302410753E-2,-0.15520546420441406,0.83073482360398998,-9.7937832117623618,1.946796554568669,-0.52322836347756718,4.6980664123371803,null,null,null,null,null,null,null,null,null,null,null,-21.818561121714801,221.78947849580805,45.6125410278121]
[386,{"$f":"OFFSET(Calculations!AS$43,$A486,0)-U$3-B$10","v":-16.65384484188677},{"$f":"OFFSET(Calculations!AT$43,$A486,0)-V$3-B$11","v":217.03835332620855},{"$f":"OFFSET(Calculations!AU$43,$A486,0)-W$3-B$12","v":113.79092830981369},-16.65384484188677,217.03835332620855,113.79092830981369,-16.65384484188677,217.03835332620855,113.79092830981369,-16.65384484188677,217.03835332620855,113.79092830981369,null,null,null,{"$f":"IF(P485=1,K486*B$1/(B$1+B$2+L486),99999)","v":-1.467051235872781},10.023938831719676,null,null,{"$f":"(9*U485+U495)/10","v":-1.3321972649248703},291.80479759071568,86.393345517224233,-9.8006126741850181,1.8773826861323699,-0.64736604115926755,-9.4712594869877265E-2,-0.16606747799107779,0.82827641686996856,-9.7928349957391756,1.9565149070397143,-0.50367920140674594,4.6693764966345883,null,null,null,null,null,null,null,null,null,null,null,-16.882446691623727,223.41995924974216,48.29085653484416]
[385,{"$f":"OFFSET(Calculations!AS$43,$A487,0)-U$3-B$10","v":-21.57771972962442},{"$f":"OFFSET(Calculations!AT$43,$A487,0)-V$3-B$11","v":219.84935114958697},{"$f":"OFFSET(Calculations!AU$43,$A487,0)-W$3-B$12","v":112.39306382974198},-21.57771972962442,219.84935114958697,112.39306382974198,-21.57771972962442,219.84935114958697,112.39306382974198,-21.57771972962442,219.84935114958697,112.39306382974198,null,null,null,{"$f":"IF(P485=1,K487*B$1/(B$1+B$2+L487),99999)","v":-1.8775532427395494},9.7797155630512158,null,null,{"$f":"(8*U485+2*U495)/10","v":-1.4189938073931336},291.7147642092313,87.238830781232465,-9.7994979435938454,1.8886621829470414,-0.62854984803310576,-9.5843459498679007E-2,-0.17692949177774153,0.82581801013591871,-9.791914532143986,1.9659730687868218,-0.48400787784514809,4.6404604870884487,null,null,null,null,null,null,null,null,null,null,null,-22.024320896143049,227.22171687198437,54.04479159240455]
[392,{"$f":"OFFSET(Calculations!AS$43,$A488,0)-U$3-B$10","v":-22.956591585163714},{"$f":"OFFSET(Calculations!AT$43,$A488,0)-V$3-B$11","v":213.51545269239631},{"$f":"OFFSET(Calculations!AU$43,$A488,0)-W$3-B$12","v":104.66651164534063},-22.956591585163714,213.51545269239631,104.66651164534063,-22.956591585163714,213.51545269239631,104.66651164534063,-22.956591585163714,213.51545269239631,104.66651164534063,null,null,null,{"$f":"IF(P485=1,K488*B$1/(B$1+B$2+L488),99999)","v":-2.0541391039085566},9.3654832705802669,null,null,{"$f":"(7*U485+3*U495)/10","v":-1.5057903498613971},291.62473082774699,88.084316045240712,-9.7983832130026745,1.899941679761713,-0.60973365490694387,-9.6974324127481637E-2,-0.18779150556440527,0.82335960340188308,-9.7910218209767947,1.9751710398099918,-0.46421439279277377,4.611312952660044,null,null,null,null,null,null,null,null,null,null,null,-28.878393894331875,223.44773212617596,47.98024523889184]
[394,{"$f":"OFFSET(Calculations!AS$43,$A489,0)-U$3-B$10","v":-13.028747754227041},{"$f":"OFFSET(Calculations!AT$43,$A489,0)-V$3-B$11","v":212.79440804189699},{"$f":"OFFSET(Calculations!AU$43,$A489,0)-W$3-B$12","v":103.70838248884913},-13.028747754227041,212.79440804189699,103.70838248884913,-13.028747754227041,212.79440804189699,103.70838248884913,-13.028747754227041,212.79440804189699,103.70838248884913,null,null,null,{"$f":"IF(P485=1,K489*B$1/(B$1+B$2+L489),99999)","v":-1.1695758317037253},9.3097832571584593,null,null,{"$f":"(6*U485+4*U495)/10","v":-1.5925868923296602},291.53469744626261,88.92980130924893,-9.7972684824114999,1.9112211765763845,-0.59091746178078208,-9.8105188756282935E-2,-0.19865351935106901,0.82090119666786165,-9.7901568622376018,1.9841088201092238,-0.44429874624962273,4.5819282413314966,null,null,null,null,null,null,null,null,null,null,null,-22.18839274763743,231.55335754672129,60.768627513403288]
[387,{"$f":"OFFSET(Calculations!AS$43,$A490,0)-U$3-B$10","v":-11.67215904121398},{"$f":"OFFSET(Calculations!AT$43,$A490,0)-V$3-B$11","v":218.91440507565574},{"$f":"OFFSET(Calculations!AU$43,$A490,0)-W$3-B$12","v":111.39019629758306},-11.67215904121398,218.91440507565574,111.39019629758306,-11.67215904121398,218.91440507565574,111.39019629758306,-11.67215904121398,218.91440507565574,111.39019629758306,null,null,null,{"$f":"IF(P485=1,K490*B$1/(B$1+B$2+L490),99999)","v":-1.019783708007048},9.7320390353563671,null,null,{"$f":"(5*U485+5*U495)/10","v":-1.6793834347979235},291.44466406477829,89.775286573257148,-9.7961537518203272,1.9225006733910561,-0.5721012686546203,-0.10027995031552273,-0.21962669146495273,0.81375443004344561,-9.7893196559264055,1.9927864096845183,-0.42426093821569522,4.5523004673093315,null,null,null,null,null,null,null,null,null,null,null,-14.883122157839024,223.41533043700315,48.342625084169597]
[386,{"$f":"OFFSET(Calculations!AS$43,$A491,0)-U$3-B$10","v":-16.65384484188677},{"$f":"OFFSET(Calculations!AT$43,$A491,0)-V$3-B$11","v":217.03835332620855},{"$f":"OFFSET(Calculations!AU$43,$A491,0)-W$3-B$12","v":113.79092830981369},-16.65384484188677,217.03835332620855,113.79092830981369,-16.65384484188677,217.03835332620855,113.79092830981369,-16.65384484188677,217.03835332620855,113.79092830981369,null,null,null,{"$f":"IF(P485=1,K491*B$1/(B$1+B$2+L491),99999)","v":-1.467051235872781},10.023938831719676,null,null,{"$f":"(4*U485+6*U495)/10","v":-1.7661799772661866},291.35463068329398,90.62077183726538,-9.7950390212291527,1.9337801702057278,-0.55328507552845851,-0.10245471187476296,-0.24059986357883645,0.8066076634190722,-9.7885398091020157,2.0009239390567957,-0.40403624360574925,4.5224234972592434,null,null,null,null,null,null,null,null,null,null,null,-26.715479988824814,231.88470651861184,42.515516732828033]
[" ",null,null,null,null,null,null,null,null,null,null,null,null,null,null,null,null,null,null,null,{"$f":"(3*U485+7*U495)/10","v":-1.8529765197344499},291.26459730180966,91.466257101273612,-9.7939242906379782,1.9450596670203992,-0.53446888240229673,-0.10462947343400231,-0.26157303569272017,0.79946089679467036,-9.7878173217644324,2.0085214082260565,-0.38362466241978482,4.4922909354808889,null,null,null,null,null,null,null,null,null,null,null,-21.598859491395029,230.76592645641864,39.924551303162772]
[{"$f":"A485+7","v":400},{"$f":"OFFSET(Calculations!AS$43,$A493,0)-U$3-B$10","v":-19.258487402678039},{"$f":"OFFSET(Calculations!AT$43,$A493,0)-V$3-B$11","v":205.74039322870817},{"$f":"OFFSET(Calculations!AU$43,$A493,0)-W$3-B$12","v":96.11094109682773},{"$f":"B493*F$5+C493*F$4","v":-19.258487402678039},{"$f":"C493*F$5-B493*F$4","v":205.74039322870817},{"$f":"D493","v":96.11094109682773},-19.258487402678039,{"$f":"F493*F$7+G493*F$6","v":205.74039322870817},{"$f":"G493*F$7-F493*F$6","v":96.11094109682773},{"$f":"H493*F$9+J493*F$8","v":-19.258487402678039},{"$f":"I493","v":205.74039322870817},{"$f":"J493*F$9-H493*F$8","v":96.11094109682773},null,null,{"$f":"IF(MIN(L493:L499)+B$2+B$1>0,1,0)","v":1},{"$f":"IF(P493=1,K493*B$1/(B$1+B$2+L493),99999)","v":-1.7853390470334369},{"$f":"M493*B$1/(B$1+B$2+L493)","v":8.9098698355425476},null,null,{"$f":"(2*U485+8*U495)/10","v":-1.9397730622027129},291.17456392032534,92.311742365281845,-9.7928095600468072,1.9563391638350709,-0.51565268927613483,{"$f":"(SUM(U494:U509)-SUM(U493:U508))/16","v":-0.10680423499324299},{"$f":"(SUM(V494:V509)-SUM(V493:V508))/16","v":-0.28254620780660389},{"$f":"(SUM(W494:W509)-SUM(W493:W508))/16","v":0.79231413017029695},{"$f":"SUM(X493:X508)/16","v":-9.7871521939136574},{"$f":"SUM(Y493:Y508)/16","v":2.0155788171923006},{"$f":"SUM(Z493:Z508)/16","v":-0.36302619465780195},4.4618961079211958,null,null,null,null,null,null,null,null,null,null,null,-16.726828399226264,231.79288589423285,42.982858571902341]
[393,{"$f":"OFFSET(Calculations!AS$43,$A494,0)-U$3-B$10","v":-18.055865232598993},{"$f":"OFFSET(Calculations!AT$43,$A494,0)-V$3-B$11","v":210.46106452955812},{"$f":"OFFSET(Calculations!AU$43,$A494,0)-W$3-B$12","v":105.55991534355984},-18.055865232598993,210.46106452955812,105.55991534355984,-18.055865232598993,210.46106452955812,105.55991534355984,-18.055865232598993,210.46106452955812,105.55991534355984,null,null,null,{"$f":"IF(P493=1,K494*B$1/(B$1+B$2+L494),99999)","v":-1.6380094390933297},9.5762864584559768,null,null,{"$f":"(1*U485+9*U495)/10","v":-2.0265696046709762},291.08453053884102,93.157227629290063,-9.7916948294556327,1.9676186606497423,-0.49683649614997305,-0.10897899655248278,-0.30351937992043077,0.78516736354589511,-9.7865444255496872,2.0220961659555279,-0.34224084031980062,4.4312320449130027,null,null,null,null,null,null,null,null,null,null,null,-22.004243783448018,234.32229099809763,49.287697719963347]
[392,{"$f":"OFFSET(Calculations!AS$43,$A495,0)-U$3-B$10","v":-22.956591585163714},{"$f":"OFFSET(Calculations!AT$43,$A495,0)-V$3-B$11","v":213.51545269239631},{"$f":"OFFSET(Calculations!AU$43,$A495,0)-W$3-B$12","v":104.66651164534063},-22.956591585163714,213.51545269239631,104.66651164534063,-22.956591585163714,213.51545269239631,104.66651164534063,-22.956591585163714,213.51545269239631,104.66651164534063,null,null,null,{"$f":"IF(P493=1,K495*B$1/(B$1+B$2+L495),99999)","v":-2.0541391039085566},9.3654832705802669,null,{"$f":"T485+7","v":315},{"$f":"OFFSET(Calculations!AS$46,$T495,0)","v":-2.1133661471392395},{"$f":"OFFSET(Calculations!AT$46,$T495,0)","v":290.99449715735665},{"$f":"OFFSET(Calculations!AU$46,$T495,0)","v":94.002712893298295},{"$f":"OFFSET(Calculations!AS$43,$T495,0)-OFFSET(Calculations!AS$45,$T495,0)","v":-9.79058009886446},{"$f":"OFFSET(Calculations!AT$43,$T495,0)-OFFSET(Calculations!AT$45,$T495,0)","v":1.978898157464414},{"$f":"OFFSET(Calculations!AU$43,$T495,0)-OFFSET(Calculations!AU$45,$T495,0)","v":-0.47802030302381127},-0.11115375811172257,-0.32449255203431449,0.77802059692149328,-9.7859940166725234,2.028073454515738,-0.3212685994057809,4.4002914625125609,null,null,null,null,null,null,null,null,null,null,null,-28.713210306744507,231.90307064348775,42.422048365013111]
[399,{"$f":"OFFSET(Calculations!AS$43,$A496,0)-U$3-B$10","v":-24.147697989250066},{"$f":"OFFSET(Calculations!AT$43,$A496,0)-V$3-B$11","v":208.92969907608727},{"$f":"OFFSET(Calculations!AU$43,$A496,0)-W$3-B$12","v":95.763068759415532},-24.147697989250066,208.92969907608727,95.763068759415532,-24.147697989250066,208.92969907608727,95.763068759415532,-24.147697989250066,208.92969907608727,95.763068759415532,null,null,null,{"$f":"IF(P493=1,K496*B$1/(B$1+B$2+L496),99999)","v":-2.205977360874892},8.7482940106845746,null,null,{"$f":"(9*U495+U505)/10","v":-2.2182565236683347},290.73067155528554,94.808863649561914,-9.789909407121252,1.9860146026960819,-0.45724952604522429,-0.11219765504216062,-0.33460371036153447,0.7733322370311555,-9.785500967282168,2.0335106828729317,-0.30010947191574272,4.3705258255901125,null,null,null,null,null,null,null,null,null,null,null,-22.327774742787994,237.16057076001232,56.760280654361225]
[401,{"$f":"OFFSET(Calculations!AS$43,$A497,0)-U$3-B$10","v":-14.19920372540191},{"$f":"OFFSET(Calculations!AT$43,$A497,0)-V$3-B$11","v":208.40853388024337},{"$f":"OFFSET(Calculations!AU$43,$A497,0)-W$3-B$12","v":94.89367315278902},-14.19920372540191,208.40853388024337,94.89367315278902,-14.19920372540191,208.40853388024337,94.89367315278902,-14.19920372540191,208.40853388024337,94.89367315278902,null,null,null,{"$f":"IF(P493=1,K497*B$1/(B$1+B$2+L497),99999)","v":-1.300242575062341},8.689557268382254,null,null,{"$f":"(8*U495+2*U505)/10","v":-2.3231469001974299},290.46684595321437,95.615014405825548,-9.7892387153780422,1.99313104792775,-0.43647874906663731,-0.11324155197259822,-0.34471486868869761,0.76864387714080351,-9.785037524950619,2.0386680417510465,-0.27888561934046269,4.3404949710939542,null,null,null,null,null,null,null,null,null,null,null,-14.729098081306551,231.77452176935699,43.076326939717276]
[394,{"$f":"OFFSET(Calculations!AS$43,$A498,0)-U$3-B$10","v":-13.028747754227041},{"$f":"OFFSET(Calculations!AT$43,$A498,0)-V$3-B$11","v":212.79440804189699},{"$f":"OFFSET(Calculations!AU$43,$A498,0)-W$3-B$12","v":103.70838248884913},-13.028747754227041,212.79440804189699,103.70838248884913,-13.028747754227041,212.79440804189699,103.70838248884913,-13.028747754227041,212.79440804189699,103.70838248884913,null,null,null,{"$f":"IF(P493=1,K498*B$1/(B$1+B$2+L498),99999)","v":-1.1695758317037253},9.3097832571584593,null,null,{"$f":"(7*U495+3*U505)/10","v":-2.428037276726525},290.20302035114327,96.421165162089181,-9.7885680236348325,2.0002474931594181,-0.41570797208805033,-0.11428544890303627,-0.35482602701591759,0.7639555172504231,-9.7846036896778781,2.0435455311500816,-0.25759704167994074,4.310191680679246,null,null,null,null,null,null,null,null,null,null,null,-26.457759890465702,241.28900385071282,38.880693771717119]
[393,{"$f":"OFFSET(Calculations!AS$43,$A499,0)-U$3-B$10","v":-18.055865232598993},{"$f":"OFFSET(Calculations!AT$43,$A499,0)-V$3-B$11","v":210.46106452955812},{"$f":"OFFSET(Calculations!AU$43,$A499,0)-W$3-B$12","v":105.55991534355984},-18.055865232598993,210.46106452955812,105.55991534355984,-18.055865232598993,210.46106452955812,105.55991534355984,-18.055865232598993,210.46106452955812,105.55991534355984,null,null,null,{"$f":"IF(P493=1,K499*B$1/(B$1+B$2+L499),99999)","v":-1.6380094390933297},9.5762864584559768,null,null,{"$f":"(6*U495+4*U505)/10","v":-2.5329276532556202},289.93919474907216,97.227315918352801,-9.7878973318916245,2.007363938391086,-0.39493719510946335,-0.11532934583347343,-0.36493718534313757,0.7592671573600569,-9.7841994614639489,2.0481431510700383,-0.23624373893417694,4.2796084025035954,null,null,null,null,null,null,null,null,null,null,null,-21.283049343705517,240.72700240627441,36.233657143433362]
[" ",null,null,null,null,null,null,null,null,null,null,null,null,null,null,null,null,null,null,null,{"$f":"(5*U495+5*U505)/10","v":-2.6378180297847154},289.67536914700099,98.03346667461642,-9.7872266401484147,2.0144803836227538,-0.37416641813087637,-0.11728398580854016,-0.3839612883361383,0.74786791627037985,-9.7838248403088262,2.0524609015109156,-0.21482571110317128,4.2487372292486629,null,null,null,null,null,null,null,null,null,null,null,-16.481402468960006,241.08664530203586,39.537461322792787]
[{"$f":"A493+7","v":407},{"$f":"OFFSET(Calculations!AS$43,$A501,0)-U$3-B$10","v":-20.240920302236091},{"$f":"OFFSET(Calculations!AT$43,$A501,0)-V$3-B$11","v":203.08901855988805},{"$f":"OFFSET(Calculations!AU$43,$A501,0)-W$3-B$12","v":85.86090265268048},{"$f":"B501*F$5+C501*F$4","v":-20.240920302236091},{"$f":"C501*F$5-B501*F$4","v":203.08901855988805},{"$f":"D501","v":85.86090265268048},-20.240920302236091,{"$f":"F501*F$7+G501*F$6","v":203.08901855988805},{"$f":"G501*F$7-F501*F$6","v":85.86090265268048},{"$f":"H501*F$9+J501*F$8","v":-20.240920302236091},{"$f":"I501","v":203.08901855988805},{"$f":"J501*F$9-H501*F$8","v":85.86090265268048},null,null,{"$f":"IF(MIN(L501:L507)+B$2+B$1>0,1,0)","v":1},{"$f":"IF(P501=1,K501*B$1/(B$1+B$2+L501),99999)","v":-1.8997619341465444},{"$f":"M501*B$1/(B$1+B$2+L501)","v":8.0586886394194472},null,null,{"$f":"(4*U495+6*U505)/10","v":-2.7427084063138105},289.41154354492983,98.839617430880054,-9.7865559484052049,2.0215968288544217,-0.35339564115228939,-0.11923862578360556,-0.40298539132908218,0.7364686751807028,-9.7835099779670891,2.0562116167868476,-0.19333853320461047,4.2175698742436616,null,null,null,null,null,null,null,null,null,null,null,-21.902417484260276,242.25713568931334,46.113367987062027]
[400,{"$f":"OFFSET(Calculations!AS$43,$A502,0)-U$3-B$10","v":-19.258487402678039},{"$f":"OFFSET(Calculations!AT$43,$A502,0)-V$3-B$11","v":205.74039322870817},{"$f":"OFFSET(Calculations!AU$43,$A502,0)-W$3-B$12","v":96.11094109682773},-19.258487402678039,205.74039322870817,96.11094109682773,-19.258487402678039,205.74039322870817,96.11094109682773,-19.258487402678039,205.74039322870817,96.11094109682773,null,null,null,{"$f":"IF(P501=1,K502*B$1/(B$1+B$2+L502),99999)","v":-1.7853390470334369},8.9098698355425476,null,null,{"$f":"(3*U495+7*U505)/10","v":-2.8475987828429057},289.14771794285872,99.645768187143673,-9.7858852566619952,2.0287132740860896,-0.33262486417370241,-0.1211932657586714,-0.42200949432213974,0.72506943409102576,-9.7832548744387449,2.0593952968978333,-0.17178220523849452,{"$f":"AG$245+SIGN(W$245-W502)*SQRT(2*ABS(W$245-W502)/Z$5)","v":4.186097645486476},null,null,null,null,null,null,null,null,null,null,null,-28.453031374766827,241.3294755604482,38.749340261502013]
[399,{"$f":"OFFSET(Calculations!AS$43,$A503,0)-U$3-B$10","v":-24.147697989250066},{"$f":"OFFSET(Calculations!AT$43,$A503,0)-V$3-B$11","v":208.92969907608727},{"$f":"OFFSET(Calculations!AU$43,$A503,0)-W$3-B$12","v":95.763068759415532},-24.147697989250066,208.92969907608727,95.763068759415532,-24.147697989250066,208.92969907608727,95.763068759415532,-24.147697989250066,208.92969907608727,95.763068759415532,null,null,null,{"$f":"IF(P501=1,K503*B$1/(B$1+B$2+L503),99999)","v":-2.205977360874892},8.7482940106845746,null,null,{"$f":"(2*U495+8*U505)/10","v":-2.9524891593720008},288.88389234078761,100.45191894340731,-9.7852145649187872,2.0358297193177579,-0.31185408719511543,-0.12314790573373813,-0.44103359731508363,0.71367019300129186,-9.7830595297237863,2.062011941843874,-0.15015672720482343,4.1543114173316109,null,null,null,null,null,null,null,null,null,null,null,-22.397087546600176,243.47920553267238,54.003985632555825]
[406,{"$f":"OFFSET(Calculations!AS$43,$A504,0)-U$3-B$10","v":-25.130832495006619},{"$f":"OFFSET(Calculations!AT$43,$A504,0)-V$3-B$11","v":206.29839227954},{"$f":"OFFSET(Calculations!AU$43,$A504,0)-W$3-B$12","v":86.076540124021321},-25.130832495006619,206.29839227954,86.076540124021321,-25.130832495006619,206.29839227954,86.076540124021321,-25.130832495006619,206.29839227954,86.076540124021321,null,null,null,{"$f":"IF(P501=1,K504*B$1/(B$1+B$2+L504),99999)","v":-2.323718843229126},7.9590550088580976,null,null,{"$f":"(1*U495+9*U505)/10","v":-3.0573795359010956},288.62006673871645,101.25806969967093,-9.7845438731755792,2.0429461645494258,-0.29108331021652845,-0.12510254570880353,-0.46005770030814119,0.70227095191164324,-9.7829239438222153,2.0640615516249685,-0.12846209910359718,4.1222015995836419,null,null,null,null,null,null,null,null,null,null,null,-14.486130984658862,241.04617359230048,39.66881483300795]
[408,{"$f":"OFFSET(Calculations!AS$43,$A505,0)-U$3-B$10","v":-15.164234165846036},{"$f":"OFFSET(Calculations!AT$43,$A505,0)-V$3-B$11","v":205.95424110075129},{"$f":"OFFSET(Calculations!AU$43,$A505,0)-W$3-B$12","v":85.335947313286439},-15.164234165846036,205.95424110075129,85.335947313286439,-15.164234165846036,205.95424110075129,85.335947313286439,-15.164234165846036,205.95424110075129,85.335947313286439,null,null,null,{"$f":"IF(P501=1,K505*B$1/(B$1+B$2+L505),99999)","v":-1.4043932722554233},7.9031508599522073,null,{"$f":"T495+7","v":322},{"$f":"OFFSET(Calculations!AS$46,$T505,0)","v":-3.1622699124301907},{"$f":"OFFSET(Calculations!AT$46,$T505,0)","v":288.35624113664534},{"$f":"OFFSET(Calculations!AU$46,$T505,0)","v":102.06422045593456},{"$f":"OFFSET(Calculations!AS$43,$T505,0)-OFFSET(Calculations!AS$45,$T505,0)","v":-9.7838731814323694},{"$f":"OFFSET(Calculations!AT$43,$T505,0)-OFFSET(Calculations!AT$45,$T505,0)","v":2.0500626097810937},{"$f":"OFFSET(Calculations!AU$43,$T505,0)-OFFSET(Calculations!AU$45,$T505,0)","v":-0.27031253323794147},-0.12705718568386981,-0.47908180330114192,0.69087171082193777,-9.7828481167340318,2.0655441262411181,-0.10669832093481579,4.0897581036995021,null,null,null,null,null,null,null,null,null,null,null,-26.14980451454382,251.24332131825506,37.28824497815998]
[401,{"$f":"OFFSET(Calculations!AS$43,$A506,0)-U$3-B$10","v":-14.19920372540191},{"$f":"OFFSET(Calculations!AT$43,$A506,0)-V$3-B$11","v":208.40853388024337},{"$f":"OFFSET(Calculations!AU$43,$A506,0)-W$3-B$12","v":94.89367315278902},-14.19920372540191,208.40853388024337,94.89367315278902,-14.19920372540191,208.40853388024337,94.89367315278902,-14.19920372540191,208.40853388024337,94.89367315278902,null,null,null,{"$f":"IF(P501=1,K506*B$1/(B$1+B$2+L506),99999)","v":-1.300242575062341},8.689557268382254,null,null,{"$f":"(9*U505+U515)/10","v":-3.283862639846292},287.93063700133905,102.79535745395251,-9.7836762026300992,2.0527011433474969,-0.24850615489548461,-0.1279679287284976,-0.48799474796686582,0.6841608296225985,-9.7828320484592375,2.0664596656923218,-8.4865392698479258E-2,4.0600360929035233,null,null,null,null,null,null,null,null,null,null,null,-20.917550257484695,251.23603724755228,34.702210154423391]
[400,{"$f":"OFFSET(Calculations!AS$43,$A507,0)-U$3-B$10","v":-19.258487402678039},{"$f":"OFFSET(Calculations!AT$43,$A507,0)-V$3-B$11","v":205.74039322870817},{"$f":"OFFSET(Calculations!AU$43,$A507,0)-W$3-B$12","v":96.11094109682773},-19.258487402678039,205.74039322870817,96.11094109682773,-19.258487402678039,205.74039322870817,96.11094109682773,-19.258487402678039,205.74039322870817,96.11094109682773,null,null,null,{"$f":"IF(P501=1,K507*B$1/(B$1+B$2+L507),99999)","v":-1.7853390470334369},8.9098698355425476,null,null,{"$f":"(8*U505+2*U515)/10","v":-3.4054553672623933},287.50503286603271,103.52649445197046,-9.783479223827829,2.0553396769139001,-0.22669977655302773,-0.12887867177312451,-0.4969076926327034,0.67744994842325923,-9.7828461319390225,2.0670880394576585,-6.3028039479829448E-2,4.0300225478315781,null,null,null,null,null,null,null,null,null,null,null,-16.189520406588535,250.89345412282324,38.106983907474138]
[" ",null,null,null,null,null,null,null,null,null,null,null,null,null,null,null,null,null,null,null,{"$f":"(7*U505+3*U515)/10","v":-3.5270480946784941},287.07942873072642,104.25763144998841,-9.7832822450255605,2.0579782104803028,-0.20489339821057087,-0.12978941481775408,-0.50582063729848414,0.67073906722393417,-9.7828903671733851,2.0674292475371288,-4.1186261278866362E-2,3.9997087176696478,null,null,null,null,null,null,null,null,null,null,null,-21.755840080662619,250.67859143319708,44.66212839944555]
[{"$f":"A501+7","v":414},{"$f":"OFFSET(Calculations!AS$43,$A509,0)-U$3-B$10","v":-20.992077025623065},{"$f":"OFFSET(Calculations!AT$43,$A509,0)-V$3-B$11","v":202.62838840095165},{"$f":"OFFSET(Calculations!AU$43,$A509,0)-W$3-B$12","v":75.262230806668867},{"$f":"B509*F$5+C509*F$4","v":-20.992077025623065},{"$f":"C509*F$5-B509*F$4","v":202.62838840095165},{"$f":"D509","v":75.262230806668867},-20.992077025623065,{"$f":"F509*F$7+G509*F$6","v":202.62838840095165},{"$f":"G509*F$7-F509*F$6","v":75.262230806668867},{"$f":"H509*F$9+J509*F$8","v":-20.992077025623065},{"$f":"I509","v":202.62838840095165},{"$f":"J509*F$9-H509*F$8","v":75.262230806668867},null,null,{"$f":"IF(MIN(L509:L515)+B$2+B$1>0,1,0)","v":1},{"$f":"IF(P509=1,K509*B$1/(B$1+B$2+L509),99999)","v":-1.974531922429706},{"$f":"M509*B$1/(B$1+B$2+L509)","v":7.0792269435582122},null,null,{"$f":"(6*U505+4*U515)/10","v":-3.6486408220945963},286.65382459542008,104.98876844800634,-9.7830852662232903,2.060616744046706,-0.18308701986811399,-0.13070015786238187,-0.51473358196437857,0.6640281860245949,-9.782964754162327,2.0674832899307325,-1.9340058095589988E-2,3.969085404861032,null,null,null,null,null,null,null,null,null,null,null,-28.141861336134863,251.31329475734145,37.12449719229717]
[407,{"$f":"OFFSET(Calculations!AS$43,$A510,0)-U$3-B$10","v":-20.240920302236091},{"$f":"OFFSET(Calculations!AT$43,$A510,0)-V$3-B$11","v":203.08901855988805},{"$f":"OFFSET(Calculations!AU$43,$A510,0)-W$3-B$12","v":85.86090265268048},-20.240920302236091,203.08901855988805,85.86090265268048,-20.240920302236091,203.08901855988805,85.86090265268048,-20.240920302236091,203.08901855988805,85.86090265268048,null,null,null,{"$f":"IF(P509=1,K510*B$1/(B$1+B$2+L510),99999)","v":-1.8997619341465444},8.0586886394194472,null,null,{"$f":"(5*U505+5*U515)/10","v":-3.7702335495106967},286.22822046011379,105.71990544602428,-9.7828882874210201,2.0632552776131092,-0.16128064152565713,-0.13234819514039309,-0.53096691321115941,0.64888081861965929,-9.78306929290585,2.0672501666384697,2.5105700699996625E-3,3.9381429325092938,null,null,null,null,null,null,null,null,null,null,null,-22.425757360772831,250.23310996194897,52.621572921306722]
[406,{"$f":"OFFSET(Calculations!AS$43,$A511,0)-U$3-B$10","v":-25.130832495006619},{"$f":"OFFSET(Calculations!AT$43,$A511,0)-V$3-B$11","v":206.29839227954},{"$f":"OFFSET(Calculations!AU$43,$A511,0)-W$3-B$12","v":86.076540124021321},-25.130832495006619,206.29839227954,86.076540124021321,-25.130832495006619,206.29839227954,86.076540124021321,-25.130832495006619,206.29839227954,86.076540124021321,null,null,null,{"$f":"IF(P509=1,K511*B$1/(B$1+B$2+L511),99999)","v":-2.323718843229126},7.9590550088580976,null,null,{"$f":"(4*U505+6*U515)/10","v":-3.8918262769267984},285.8026163248075,106.45104244404224,-9.7826913086187499,2.0658938111795124,-0.13947426318320028,-0.13399623241840342,-0.54720024445811077,0.63373345121470948,-9.7832333458197329,2.0664481211295014,2.4309552318320281E-2,3.9068711086578682,null,null,null,null,null,null,null,null,null,null,null,-14.197463584997472,250.82348068373705,38.270731693336941]
[413,{"$f":"OFFSET(Calculations!AS$43,$A512,0)-U$3-B$10","v":-25.894990166548286},{"$f":"OFFSET(Calculations!AT$43,$A512,0)-V$3-B$11","v":205.74136171471903},{"$f":"OFFSET(Calculations!AU$43,$A512,0)-W$3-B$12","v":76.035377545855496},-25.894990166548286,205.74136171471903,76.035377545855496,-25.894990166548286,205.74136171471903,76.035377545855496,-25.894990166548286,205.74136171471903,76.035377545855496,null,null,null,{"$f":"IF(P509=1,K512*B$1/(B$1+B$2+L512),99999)","v":-2.4005587023956929},7.0487529087166187,null,null,{"$f":"(3*U505+7*U515)/10","v":-4.0134190043428992},285.37701218950116,107.18217944206017,-9.7824943298164815,2.0685323447459156,-0.11766788484074339,-0.13564426969641374,-0.5634335757050053,0.61858608380980229,-9.7834569129039792,2.065077153403827,4.6056888649371873E-2,3.8752591870725919,null,null,null,null,null,null,null,null,null,null,null,-25.785975444643924,261.14365068682048,39.173666810897814]
[415,{"$f":"OFFSET(Calculations!AS$43,$A513,0)-U$3-B$10","v":-15.913635136142158},{"$f":"OFFSET(Calculations!AT$43,$A513,0)-V$3-B$11","v":205.54352730523865},{"$f":"OFFSET(Calculations!AU$43,$A513,0)-W$3-B$12","v":75.45795802469938},-15.913635136142158,205.54352730523865,75.45795802469938,-15.913635136142158,205.54352730523865,75.45795802469938,-15.913635136142158,205.54352730523865,75.45795802469938,null,null,null,{"$f":"IF(P509=1,K513*B$1/(B$1+B$2+L513),99999)","v":-1.4766052439706352},7.0016445372391773,null,null,{"$f":"(2*U505+8*U515)/10","v":-4.1350117317590005},284.95140805419487,107.91331644007815,-9.7822973510142113,2.0711708783123184,-9.5861506498286536E-2,-0.13729230697442585,-0.57966690695189982,0.60343871640483826,-9.783739994158589,2.0631372634614471,6.7752579063154433E-2,3.843295824099358,null,null,null,null,null,null,null,null,null,null,null,-21.381105910109849,261.6512560236439,35.382163519884877]
[408,{"$f":"OFFSET(Calculations!AS$43,$A514,0)-U$3-B$10","v":-15.164234165846036},{"$f":"OFFSET(Calculations!AT$43,$A514,0)-V$3-B$11","v":205.95424110075129},{"$f":"OFFSET(Calculations!AU$43,$A514,0)-W$3-B$12","v":85.335947313286439},-15.164234165846036,205.95424110075129,85.335947313286439,-15.164234165846036,205.95424110075129,85.335947313286439,-15.164234165846036,205.95424110075129,85.335947313286439,null,null,null,{"$f":"IF(P509=1,K514*B$1/(B$1+B$2+L514),99999)","v":-1.4043932722554233},7.9031508599522073,null,null,{"$f":"(1*U505+9*U515)/10","v":-4.2566044591751018},284.52580391888853,108.64445343809606,-9.7821003722119393,2.0738094118787216,-7.4055128155829666E-2,-0.13894034425243618,-0.5959002381987375,0.58829134899990265,-9.7840825895835621,2.0606284513023616,8.9396623559667973E-2,3.8109690311058868,null,null,null,null,null,null,null,null,null,null,null,-15.948345599173562,260.94982878823066,37.389438099342428]
[407,{"$f":"OFFSET(Calculations!AS$43,$A515,0)-U$3-B$10","v":-20.240920302236091},{"$f":"OFFSET(Calculations!AT$43,$A515,0)-V$3-B$11","v":203.08901855988805},{"$f":"OFFSET(Calculations!AU$43,$A515,0)-W$3-B$12","v":85.86090265268048},-20.240920302236091,203.08901855988805,85.86090265268048,-20.240920302236091,203.08901855988805,85.86090265268048,-20.240920302236091,203.08901855988805,85.86090265268048,null,null,null,{"$f":"IF(P509=1,K515*B$1/(B$1+B$2+L515),99999)","v":-1.8997619341465444},8.0586886394194472,null,{"$f":"T505+7","v":329},{"$f":"OFFSET(Calculations!AS$46,$T515,0)","v":-4.378197186591203},{"$f":"OFFSET(Calculations!AT$46,$T515,0)","v":284.10019978358224},{"$f":"OFFSET(Calculations!AU$46,$T515,0)","v":109.37559043611402},{"$f":"OFFSET(Calculations!AS$43,$T515,0)-OFFSET(Calculations!AS$45,$T515,0)","v":-9.7819033934096709},{"$f":"OFFSET(Calculations!AT$43,$T515,0)-OFFSET(Calculations!AT$45,$T515,0)","v":2.0764479454451248},{"$f":"OFFSET(Calculations!AU$43,$T515,0)-OFFSET(Calculations!AU$45,$T515,0)","v":-5.2248749813372797E-2},-0.14058838153044828,-0.61213356944568886,0.57314398159495283,-9.7844846991788952,2.0575507169265705,0.11098902213891249,3.7782661219422229,null,null,null,null,null,null,null,null,null,null,null,-19.670348240668641,259.63901718169461,45.033289829254159]
[" ",null,null,null,null,null,null,null,null,null,null,null,null,null,null,null,null,null,null,null,{"$f":"(9*U515+U525)/10","v":-4.5143618027213526},283.53198853362312,109.99935333494261,-9.7821888426806662,2.0744918280376625,-3.0371571753903481E-2,-0.14132567576382993,-0.6194539560267458,0.56470749538937071,-9.7849463229445899,2.0539040603340739,0.13252977480088796,3.7500585302179901,null,null,null,null,null,null,null,null,null,null,null,-27.753501413737983,261.1824150665384,39.530512553209043]
[{"$f":"A509+7","v":421},{"$f":"OFFSET(Calculations!AS$43,$A517,0)-U$3-B$10","v":-21.511068284144262},{"$f":"OFFSET(Calculations!AT$43,$A517,0)-V$3-B$11","v":204.38332114184846},{"$f":"OFFSET(Calculations!AU$43,$A517,0)-W$3-B$12","v":64.782963236760935},{"$f":"B517*F$5+C517*F$4","v":-21.511068284144262},{"$f":"C517*F$5-B517*F$4","v":204.38332114184846},{"$f":"D517","v":64.782963236760935},-21.511068284144262,{"$f":"F517*F$7+G517*F$6","v":204.38332114184846},{"$f":"G517*F$7-F517*F$6","v":64.782963236760935},{"$f":"H517*F$9+J517*F$8","v":-21.511068284144262},{"$f":"I517","v":204.38332114184846},{"$f":"J517*F$9-H517*F$8","v":64.782963236760935},null,null,{"$f":"IF(MIN(L517:L523)+B$2+B$1>0,1,0)","v":1},{"$f":"IF(P517=1,K517*B$1/(B$1+B$2+L517),99999)","v":-2.0067856183561301},{"$f":"M517*B$1/(B$1+B$2+L517)","v":6.0436570244097263},null,null,{"$f":"(8*U515+2*U525)/10","v":-4.650526418851503},282.963777283664,110.6231162337712,-9.7824742919516634,2.0725357106301998,-8.4943936944341658E-3,-0.14206296999721424,-0.62677434260791642,0.55627100918376016,-9.7854373091260705,2.0499756472107378,0.15401445656328114,3.7215585966349476,null,null,null,null,null,null,null,null,null,null,null,-18.302562776394275,258.03019140360209,52.749561113978771]
[414,{"$f":"OFFSET(Calculations!AS$43,$A518,0)-U$3-B$10","v":-20.992077025623065},{"$f":"OFFSET(Calculations!AT$43,$A518,0)-V$3-B$11","v":202.62838840095165},{"$f":"OFFSET(Calculations!AU$43,$A518,0)-W$3-B$12","v":75.262230806668867},-20.992077025623065,202.62838840095165,75.262230806668867,-20.992077025623065,202.62838840095165,75.262230806668867,-20.992077025623065,202.62838840095165,75.262230806668867,null,null,null,{"$f":"IF(P517=1,K518*B$1/(B$1+B$2+L518),99999)","v":-1.974531922429706},7.0792269435582122,null,null,{"$f":"(7*U515+3*U525)/10","v":-4.7866910349816525},282.39556603370488,111.24687913259977,-9.7827597412226606,2.0705795932227375,1.338278436503515E-2,-0.14280026423059589,-0.63409472918897336,0.54783452297816382,-9.7859576577233334,2.045765477556563,0.175443067426092,3.6927570388377857,null,null,null,null,null,null,null,null,null,null,null,-13.980819630079498,260.91106440851274,37.03259235703139]
[413,{"$f":"OFFSET(Calculations!AS$43,$A519,0)-U$3-B$10","v":-25.894990166548286},{"$f":"OFFSET(Calculations!AT$43,$A519,0)-V$3-B$11","v":205.74136171471903},{"$f":"OFFSET(Calculations!AU$43,$A519,0)-W$3-B$12","v":76.035377545855496},-25.894990166548286,205.74136171471903,76.035377545855496,-25.894990166548286,205.74136171471903,76.035377545855496,-25.894990166548286,205.74136171471903,76.035377545855496,null,null,null,{"$f":"IF(P517=1,K519*B$1/(B$1+B$2+L519),99999)","v":-2.4005587023956929},7.0487529087166187,null,null,{"$f":"(6*U515+4*U525)/10","v":-4.9228556511118029},281.82735478374582,111.87064203142836,-9.783045190493656,2.0686234758152748,3.5259962424504465E-2,-0.14353755846397931,-0.6414151157700303,0.53939803677253906,-9.7865073687363786,2.0412735513715488,0.19681560738932058,3.6636440726011603,null,null,null,null,null,null,null,null,null,null,null,-24.85135337370907,270.67388465440564,42.336708194306411]
[420,{"$f":"OFFSET(Calculations!AS$43,$A520,0)-U$3-B$10","v":-26.438854481487937},{"$f":"OFFSET(Calculations!AT$43,$A520,0)-V$3-B$11","v":207.28666249283268},{"$f":"OFFSET(Calculations!AU$43,$A520,0)-W$3-B$12","v":66.08372325973933},-26.438854481487937,207.28666249283268,66.08372325973933,-26.438854481487937,207.28666249283268,66.08372325973933,-26.438854481487937,207.28666249283268,66.08372325973933,null,null,null,{"$f":"IF(P517=1,K520*B$1/(B$1+B$2+L520),99999)","v":-2.4335460058308951},6.082630429460357,null,null,{"$f":"(5*U515+5*U525)/10","v":-5.0590202672419524},281.25914353378664,112.49440493025695,-9.7833306397646531,2.0666673584078126,5.7137140483973781E-2,-0.14480607726520489,-0.6541394475819402,0.52117272334496079,-9.787086442165208,2.0364998686556959,0.21813207645296684,3.6342093729990688,null,null,null,null,null,null,null,null,null,null,null,-21.581809983740147,271.43885579280919,37.567964933275015]
[422,{"$f":"OFFSET(Calculations!AS$43,$A521,0)-U$3-B$10","v":-16.446743009557814},{"$f":"OFFSET(Calculations!AT$43,$A521,0)-V$3-B$11","v":207.19797396413844},{"$f":"OFFSET(Calculations!AU$43,$A521,0)-W$3-B$12","v":65.69662808100307},-16.446743009557814,207.19797396413844,65.69662808100307,-16.446743009557814,207.19797396413844,65.69662808100307,-16.446743009557814,207.19797396413844,65.69662808100307,null,null,null,{"$f":"IF(P517=1,K521*B$1/(B$1+B$2+L521),99999)","v":-1.5144471846936598},6.0494696964208545,null,null,{"$f":"(4*U515+6*U525)/10","v":-5.1951848833721019},280.69093228382752,113.11816782908554,-9.7836160890356503,2.0647112410003503,7.9014318543443096E-2,-0.14607459606643314,-0.66686377939367958,0.5029474099173683,-9.7877221519757551,2.0311805480722853,0.23927838863706069,3.6044420316238566,null,null,null,null,null,null,null,null,null,null,null,-15.791443796207897,271.00716051638523,38.116878144727963]
[415,{"$f":"OFFSET(Calculations!AS$43,$A522,0)-U$3-B$10","v":-15.913635136142158},{"$f":"OFFSET(Calculations!AT$43,$A522,0)-V$3-B$11","v":205.54352730523865},{"$f":"OFFSET(Calculations!AU$43,$A522,0)-W$3-B$12","v":75.45795802469938},-15.913635136142158,205.54352730523865,75.45795802469938,-15.913635136142158,205.54352730523865,75.45795802469938,-15.913635136142158,205.54352730523865,75.45795802469938,null,null,null,{"$f":"IF(P517=1,K522*B$1/(B$1+B$2+L522),99999)","v":-1.4766052439706352},7.0016445372391773,null,null,{"$f":"(3*U515+7*U525)/10","v":-5.3313494995022523},280.1227210338684,113.74193072791414,-9.7839015383066457,2.0627551235928876,0.10089149660291241,-0.14734311486765961,-0.67958811120558948,0.4847220964897474,-9.7884144981680237,2.0253155896213171,0.26025454394160213,3.5743305093522566,null,null,null,null,null,null,null,null,null,null,null,-17.383050519415061,269.44565165336957,46.425216011555811]
[414,{"$f":"OFFSET(Calculations!AS$43,$A523,0)-U$3-B$10","v":-20.992077025623065},{"$f":"OFFSET(Calculations!AT$43,$A523,0)-V$3-B$11","v":202.62838840095165},{"$f":"OFFSET(Calculations!AU$43,$A523,0)-W$3-B$12","v":75.262230806668867},-20.992077025623065,202.62838840095165,75.262230806668867,-20.992077025623065,202.62838840095165,75.262230806668867,-20.992077025623065,202.62838840095165,75.262230806668867,null,null,null,{"$f":"IF(P517=1,K523*B$1/(B$1+B$2+L523),99999)","v":-1.974531922429706},7.0792269435582122,null,null,{"$f":"(2*U515+8*U525)/10","v":-5.4675141156324019},279.55450978390928,114.36569362674273,-9.7841869875776428,2.0607990061854253,0.12276867466238173,-0.14861163366888697,-0.69231244301744255,0.46649678306216913,-9.78916348074201,2.0189049933027921,0.28106054236659112,3.5438625840785312,null,null,null,null,null,null,null,null,null,null,null,-26.663335289209318,270.60722948200964,43.180674204221987]
[" ",null,null,null,null,null,null,null,null,null,null,null,null,null,null,null,null,null,null,null,{"$f":"(1*U515+9*U525)/10","v":-5.6036787317625514},278.98629853395016,114.98945652557128,-9.78447243684864,2.0588428887779626,0.14464585272185104,-0.14988015247011433,-0.70503677482923877,0.44827146963456244,-9.789969099697716,2.0119487591167085,0.30169638391202769,3.5130252927433028,null,null,null,null,null,null,null,null,null,null,null,-14.02493844450831,267.85151344534012,53.509127831028636]
[{"$f":"A517+7","v":428},{"$f":"OFFSET(Calculations!AS$43,$A525,0)-U$3-B$10","v":-21.806939076404898},{"$f":"OFFSET(Calculations!AT$43,$A525,0)-V$3-B$11","v":208.30317225676256},{"$f":"OFFSET(Calculations!AU$43,$A525,0)-W$3-B$12","v":54.900719240444211},{"$f":"B525*F$5+C525*F$4","v":-21.806939076404898},{"$f":"C525*F$5-B525*F$4","v":208.30317225676256},{"$f":"D525","v":54.900719240444211},-21.806939076404898,{"$f":"F525*F$7+G525*F$6","v":208.30317225676256},{"$f":"G525*F$7-F525*F$6","v":54.900719240444211},{"$f":"H525*F$9+J525*F$8","v":-21.806939076404898},{"$f":"I525","v":208.30317225676256},{"$f":"J525*F$9-H525*F$8","v":54.900719240444211},null,null,{"$f":"IF(MIN(L525:L531)+B$2+B$1>0,1,0)","v":1},{"$f":"IF(P525=1,K525*B$1/(B$1+B$2+L525),99999)","v":-1.9978581942690361},{"$f":"M525*B$1/(B$1+B$2+L525)","v":5.0297683421541306},null,{"$f":"T515+7","v":336},{"$f":"OFFSET(Calculations!AS$46,$T525,0)","v":-5.7398433478927018},{"$f":"OFFSET(Calculations!AT$46,$T525,0)","v":278.41808728399104},{"$f":"OFFSET(Calculations!AU$46,$T525,0)","v":115.61321942439989},{"$f":"OFFSET(Calculations!AS$43,$T525,0)-OFFSET(Calculations!AS$45,$T525,0)","v":-9.7847578861196354},{"$f":"OFFSET(Calculations!AT$43,$T525,0)-OFFSET(Calculations!AT$45,$T525,0)","v":2.0568867713705004},{"$f":"OFFSET(Calculations!AU$43,$T525,0)-OFFSET(Calculations!AU$45,$T525,0)","v":0.16652303078132036},-0.15114867127133902,-0.71776110664114867,0.43004615620695574,-9.7908313550351416,2.0044468870630681,0.32216206857791185,3.4818048668782189,null,null,null,null,null,null,null,null,null,null,null,-13.979461880707664,271.07381568878111,37.272912134812266]
[421,{"$f":"OFFSET(Calculations!AS$43,$A526,0)-U$3-B$10","v":-21.511068284144262},{"$f":"OFFSET(Calculations!AT$43,$A526,0)-V$3-B$11","v":204.38332114184846},{"$f":"OFFSET(Calculations!AU$43,$A526,0)-W$3-B$12","v":64.782963236760935},-21.511068284144262,204.38332114184846,64.782963236760935,-21.511068284144262,204.38332114184846,64.782963236760935,-21.511068284144262,204.38332114184846,64.782963236760935,null,null,null,{"$f":"IF(P525=1,K526*B$1/(B$1+B$2+L526),99999)","v":-2.0067856183561301},6.0436570244097263,null,null,{"$f":"(9*U525+U535)/10","v":-5.887804671756979},277.73274984873444,116.10199854393882,-9.7855131340431658,2.0504225494696131,0.18750307444747277,-0.15167989583918384,-0.72316505187188795,0.42025732898500223,-9.7917502467542867,1.99639937714187,0.34245759636424361,3.4570634133810385,null,null,null,null,null,null,null,null,null,null,null,-23.608022370025129,280.21547472160563,45.355962355574874]
[420,{"$f":"OFFSET(Calculations!AS$43,$A527,0)-U$3-B$10","v":-26.438854481487937},{"$f":"OFFSET(Calculations!AT$43,$A527,0)-V$3-B$11","v":207.28666249283268},{"$f":"OFFSET(Calculations!AU$43,$A527,0)-W$3-B$12","v":66.08372325973933},-26.438854481487937,207.28666249283268,66.08372325973933,-26.438854481487937,207.28666249283268,66.08372325973933,-26.438854481487937,207.28666249283268,66.08372325973933,null,null,null,{"$f":"IF(P525=1,K527*B$1/(B$1+B$2+L527),99999)","v":-2.4335460058308951},6.082630429460357,null,null,{"$f":"(8*U525+2*U535)/10","v":-6.0357659956212562},277.04741241347784,116.59077766347775,-9.7862683819666945,2.0439583275687254,0.20848311811362522,-0.15221112040702867,-0.72856899710268408,0.41046850176294924,-9.7926964124393656,1.9880879858839535,0.36263903817060528,3.4320702780740007,null,null,null,null,null,null,null,null,null,null,null,-21.695909116857635,281.1859827835674,39.933238182875954]
[427,{"$f":"OFFSET(Calculations!AS$43,$A528,0)-U$3-B$10","v":-26.770855579167584},{"$f":"OFFSET(Calculations!AT$43,$A528,0)-V$3-B$11","v":210.86933415367895},{"$f":"OFFSET(Calculations!AU$43,$A528,0)-W$3-B$12","v":56.661759294621092},-26.770855579167584,210.86933415367895,56.661759294621092,-26.770855579167584,210.86933415367895,56.661759294621092,-26.770855579167584,210.86933415367895,56.661759294621092,null,null,null,{"$f":"IF(P525=1,K528*B$1/(B$1+B$2+L528),99999)","v":-2.4241351278345102},5.1307945950700731,null,null,{"$f":"(7*U525+3*U535)/10","v":-6.1837273194855324},276.36207497822124,117.07955678301668,-9.7870236298902231,2.0374941056678382,0.22946316177977763,-0.1527423449748726,-0.73397294233342336,0.40067967454099573,-9.7936698520903818,1.9795127132893187,0.3827063939969968,3.4068176203456324,null,null,null,null,null,null,null,null,null,null,null,-15.943250925991313,281.05313614492496,38.988105412253447]
[429,{"$f":"OFFSET(Calculations!AS$43,$A529,0)-U$3-B$10","v":-16.772463833553907},{"$f":"OFFSET(Calculations!AT$43,$A529,0)-V$3-B$11","v":210.84779156568078},{"$f":"OFFSET(Calculations!AU$43,$A529,0)-W$3-B$12","v":56.483718798814643},-16.772463833553907,210.84779156568078,56.483718798814643,-16.772463833553907,210.84779156568078,56.483718798814643,-16.772463833553907,210.84779156568078,56.483718798814643,null,null,null,{"$f":"IF(P525=1,K529*B$1/(B$1+B$2+L529),99999)","v":-1.5189161471479533},5.1151717115555773,null,null,{"$f":"(6*U525+4*U535)/10","v":-6.3316886433498087},275.67673754296464,117.56833590255562,-9.7877788778137536,2.0310298837669505,0.25044320544593007,-0.15327356954271476,-0.7393768875641058,0.39089084731898538,-9.7946705657073316,1.9706735593579652,0.40265966384341817,3.381297183831006,null,null,null,null,null,null,null,null,null,null,null,-15.295996362978491,279.3473442739288,47.394729920550674]
[422,{"$f":"OFFSET(Calculations!AS$43,$A530,0)-U$3-B$10","v":-16.446743009557814},{"$f":"OFFSET(Calculations!AT$43,$A530,0)-V$3-B$11","v":207.19797396413844},{"$f":"OFFSET(Calculations!AU$43,$A530,0)-W$3-B$12","v":65.69662808100307},-16.446743009557814,207.19797396413844,65.69662808100307,-16.446743009557814,207.19797396413844,65.69662808100307,-16.446743009557814,207.19797396413844,65.69662808100307,null,null,null,{"$f":"IF(P525=1,K530*B$1/(B$1+B$2+L530),99999)","v":-1.5144471846936598},6.0494696964208545,null,null,{"$f":"(5*U525+5*U535)/10","v":-6.4796499672140868},274.99140010770805,118.05711502209456,-9.7885341257372822,2.0245656618660632,0.27142324911208249,-0.15410644550715347,-0.74802924446220231,0.3703939488395207,-9.795698553290217,1.9615705240898933,0.42249884770986945,3.355500264877239,null,null,null,null,null,null,null,null,null,null,null,-25.140976658831899,280.0479424369417,46.629533744239112]
[421,{"$f":"OFFSET(Calculations!AS$43,$A531,0)-U$3-B$10","v":-21.511068284144262},{"$f":"OFFSET(Calculations!AT$43,$A531,0)-V$3-B$11","v":204.38332114184846},{"$f":"OFFSET(Calculations!AU$43,$A531,0)-W$3-B$12","v":64.782963236760935},-21.511068284144262,204.38332114184846,64.782963236760935,-21.511068284144262,204.38332114184846,64.782963236760935,-21.511068284144262,204.38332114184846,64.782963236760935,null,null,null,{"$f":"IF(P525=1,K531*B$1/(B$1+B$2+L531),99999)","v":-2.0067856183561301},6.0436570244097263,null,null,{"$f":"(4*U525+6*U535)/10","v":-6.6276112910783622},274.3060626724515,118.5458941416335,-9.7892893736608109,2.018101439965176,0.2924032927782349,-0.15493932147159217,-0.75668160136024198,0.34989705036002761,-9.7967777936454752,1.9519692765113159,0.44205689215736338,3.3294176778654383,null,null,null,null,null,null,null,null,null,null,null,-10.176407465801656,277.87653152040167,53.363525390992294]
[" ",null,null,null,null,null,null,null,null,null,null,null,null,null,null,null,null,null,null,null,{"$f":"(3*U525+7*U535)/10","v":-6.7755726149426394},273.62072523719485,119.03467326117243,-9.7900446215843413,2.0116372180642883,0.31338333644438732,-0.1557721974360291,-0.7653339582583385,0.32940015188056293,-9.7979082867731027,1.941869816622233,0.4613337971858999,3.3030397169973593,null,null,null,null,null,null,null,null,null,null,null,-14.410296637184555,281.22066842958878,37.714534023589145]
[{"$f":"A525+7","v":435},{"$f":"OFFSET(Calculations!AS$43,$A533,0)-U$3-B$10","v":-21.899958318630436},{"$f":"OFFSET(Calculations!AT$43,$A533,0)-V$3-B$11","v":214.19100187109481},{"$f":"OFFSET(Calculations!AU$43,$A533,0)-W$3-B$12","v":46.047135521457967},{"$f":"B533*F$5+C533*F$4","v":-21.899958318630436},{"$f":"C533*F$5-B533*F$4","v":214.19100187109481},{"$f":"D533","v":46.047135521457967},-21.899958318630436,{"$f":"F533*F$7+G533*F$6","v":214.19100187109481},{"$f":"G533*F$7-F533*F$6","v":46.047135521457967},{"$f":"H533*F$9+J533*F$8","v":-21.899958318630436},{"$f":"I533","v":214.19100187109481},{"$f":"J533*F$9-H533*F$8","v":46.047135521457967},null,null,{"$f":"IF(MIN(L533:L539)+B$2+B$1>0,1,0)","v":1},{"$f":"IF(P533=1,K533*B$1/(B$1+B$2+L533),99999)","v":-1.9536875374884546},{"$f":"M533*B$1/(B$1+B$2+L533)","v":4.1078486769896427},null,null,{"$f":"(2*U525+8*U535)/10","v":-6.9235339388069166},272.93538780193825,119.52345238071136,-9.79079986950787,2.0051729961634011,0.33436338011053979,-0.15660507340046692,-0.77398631515632133,0.30890325340109825,-9.7990900326731012,1.9312721444226446,0.48032956279547906,3.2763561140960666,null,null,null,null,null,null,null,null,null,null,null,-22.103520612702585,289.78560740965463,48.158237053190277]
[428,{"$f":"OFFSET(Calculations!AS$43,$A534,0)-U$3-B$10","v":-21.806939076404898},{"$f":"OFFSET(Calculations!AT$43,$A534,0)-V$3-B$11","v":208.30317225676256},{"$f":"OFFSET(Calculations!AU$43,$A534,0)-W$3-B$12","v":54.900719240444211},-21.806939076404898,208.30317225676256,54.900719240444211,-21.806939076404898,208.30317225676256,54.900719240444211,-21.806939076404898,208.30317225676256,54.900719240444211,null,null,null,{"$f":"IF(P533=1,K534*B$1/(B$1+B$2+L534),99999)","v":-1.9978581942690361},5.0297683421541306,null,null,{"$f":"(1*U525+9*U535)/10","v":-7.0714952626711938},272.25005036668165,120.01223150025029,-9.7915551174313986,1.9987087742625136,0.3553434237766922,-0.15743794936490474,-0.78263867205441784,0.28840635492160516,-9.8003230313454708,1.9201762599125509,0.49904418898610081,3.2493559919003063,null,null,null,null,null,null,null,null,null,null,null,-21.679440034792336,290.89580847132447,42.449681258060806]
[427,{"$f":"OFFSET(Calculations!AS$43,$A535,0)-U$3-B$10","v":-26.770855579167584},{"$f":"OFFSET(Calculations!AT$43,$A535,0)-V$3-B$11","v":210.86933415367895},{"$f":"OFFSET(Calculations!AU$43,$A535,0)-W$3-B$12","v":56.661759294621092},-26.770855579167584,210.86933415367895,56.661759294621092,-26.770855579167584,210.86933415367895,56.661759294621092,-26.770855579167584,210.86933415367895,56.661759294621092,null,null,null,{"$f":"IF(P533=1,K535*B$1/(B$1+B$2+L535),99999)","v":-2.4241351278345102},5.1307945950700731,null,{"$f":"T525+7","v":343},{"$f":"OFFSET(Calculations!AS$46,$T535,0)","v":-7.2194565865354701},{"$f":"OFFSET(Calculations!AT$46,$T535,0)","v":271.56471293142505},{"$f":"OFFSET(Calculations!AU$46,$T535,0)","v":120.50101061978923},{"$f":"OFFSET(Calculations!AS$43,$T535,0)-OFFSET(Calculations!AS$45,$T535,0)","v":-9.792310365354929},{"$f":"OFFSET(Calculations!AT$43,$T535,0)-OFFSET(Calculations!AT$45,$T535,0)","v":1.9922445523616261},{"$f":"OFFSET(Calculations!AU$43,$T535,0)-OFFSET(Calculations!AU$45,$T535,0)","v":0.37632346744284462},-0.15827082532934256,-0.79129102895240067,0.26790945644214048,-9.8016072827902097,1.9085821630919515,0.51747767575776527,3.2220278122501251,null,null,null,null,null,null,null,null,null,null,null,-16.356228809413327,291.07056915261546,40.076312143431949]
[434,{"$f":"OFFSET(Calculations!AS$43,$A536,0)-U$3-B$10","v":-26.90879727747922},{"$f":"OFFSET(Calculations!AT$43,$A536,0)-V$3-B$11","v":216.33427477697236},{"$f":"OFFSET(Calculations!AU$43,$A536,0)-W$3-B$12","v":48.186232054972706},-26.90879727747922,216.33427477697236,48.186232054972706,-26.90879727747922,216.33427477697236,48.186232054972706,-26.90879727747922,216.33427477697236,48.186232054972706,null,null,null,{"$f":"IF(P533=1,K536*B$1/(B$1+B$2+L536),99999)","v":-2.3777925198465759},4.2579703937863558,null,null,{"$f":"(9*U535+U545)/10","v":-7.3759175034852493},270.79291237247639,120.83316850377625,-9.7935019967334291,1.9815582290732436,0.39547813542947524,-0.15857247672593644,-0.7945394406197579,0.25720138518465774,-9.8029427870073196,1.8964898539608466,0.53563002311047225,3.2032630635982446,null,null,null,null,null,null,null,null,null,null,null,-13.514222289011096,289.33674117069302,48.00832572556191]
[436,{"$f":"OFFSET(Calculations!AS$43,$A537,0)-U$3-B$10","v":-16.908879290521398},{"$f":"OFFSET(Calculations!AT$43,$A537,0)-V$3-B$11","v":216.33490738383028},{"$f":"OFFSET(Calculations!AU$43,$A537,0)-W$3-B$12","v":48.226727164880472},-16.908879290521398,216.33490738383028,48.226727164880472,-16.908879290521398,216.33490738383028,48.226727164880472,-16.908879290521398,216.33490738383028,48.226727164880472,null,null,null,{"$f":"IF(P533=1,K537*B$1/(B$1+B$2+L537),99999)","v":-1.4941468362939223},4.2615368280859238,null,null,{"$f":"(8*U535+2*U545)/10","v":-7.5323784204350286},270.02111181352768,121.16532638776327,-9.7946936281119328,1.9708719057848612,0.41463280341610587,-0.15887412812253032,-0.79778785228705829,0.246493313927175,-9.8043022700308651,1.8841632138559545,0.55361531702419209,3.1843371205973603,null,null,null,null,null,null,null,null,null,null,null,-23.252978973360428,289.52861506106251,49.774622035141896]
[429,{"$f":"OFFSET(Calculations!AS$43,$A538,0)-U$3-B$10","v":-16.772463833553907},{"$f":"OFFSET(Calculations!AT$43,$A538,0)-V$3-B$11","v":210.84779156568078},{"$f":"OFFSET(Calculations!AU$43,$A538,0)-W$3-B$12","v":56.483718798814643},-16.772463833553907,210.84779156568078,56.483718798814643,-16.772463833553907,210.84779156568078,56.483718798814643,-16.772463833553907,210.84779156568078,56.483718798814643,null,null,null,{"$f":"IF(P533=1,K538*B$1/(B$1+B$2+L538),99999)","v":-1.5189161471479533},5.1151717115555773,null,null,{"$f":"(7*U535+3*U545)/10","v":-7.6888393373848078},269.24931125457897,121.4974842717503,-9.7958852594904329,1.9601855824964787,0.43378747140273644,-0.15917577951912598,-0.80103626395435867,0.23578524266969225,-9.8056857318608461,1.8716022427772756,0.57143355749892455,3.1652457563571881,null,null,null,null,null,null,null,null,null,null,null,-6.9820480923861004,288.08948733018798,52.455241299562758]
[428,{"$f":"OFFSET(Calculations!AS$43,$A539,0)-U$3-B$10","v":-21.806939076404898},{"$f":"OFFSET(Calculations!AT$43,$A539,0)-V$3-B$11","v":208.30317225676256},{"$f":"OFFSET(Calculations!AU$43,$A539,0)-W$3-B$12","v":54.900719240444211},-21.806939076404898,208.30317225676256,54.900719240444211,-21.806939076404898,208.30317225676256,54.900719240444211,-21.806939076404898,208.30317225676256,54.900719240444211,null,null,null,{"$f":"IF(P533=1,K539*B$1/(B$1+B$2+L539),99999)","v":-1.9978581942690361},5.0297683421541306,null,null,{"$f":"(6*U535+4*U545)/10","v":-7.8453002543345862},268.47751069563026,121.82964215573732,-9.797076890868933,1.9494992592080962,0.45294213938936706,-0.15947743091571631,-0.80428467562160222,0.2250771714121953,-9.807093172497261,1.8588069407248096,0.58908474453466986,3.1459845559616815,null,null,null,null,null,null,null,null,null,null,null,-15.206770448755503,291.3275615012077,38.459927161480223]
[" ",null,null,null,null,null,null,null,null,null,null,null,null,null,null,null,null,null,null,null,{"$f":"(5*U535+5*U545)/10","v":-8.0017611712843664},267.7057101366816,122.16180003972434,-9.7982685222474348,1.9388129359197137,0.47209680737599768,-0.15983781426989907,-0.80848224263064594,0.20321555288603577,-9.8085245919401096,1.8457773076985564,0.6065688781314279,3.1265489045468247,null,null,null,null,null,null,null,null,null,null,null,-20.403184636107373,299.3995241073452,50.685126837511845]
[{"$f":"A533+7","v":442},{"$f":"OFFSET(Calculations!AS$43,$A541,0)-U$3-B$10","v":-21.818561121714801},{"$f":"OFFSET(Calculations!AT$43,$A541,0)-V$3-B$11","v":221.78947849580805},{"$f":"OFFSET(Calculations!AU$43,$A541,0)-W$3-B$12","v":38.6125410278121},{"$f":"B541*F$5+C541*F$4","v":-21.818561121714801},{"$f":"C541*F$5-B541*F$4","v":221.78947849580805},{"$f":"D541","v":38.6125410278121},-21.818561121714801,{"$f":"F541*F$7+G541*F$6","v":221.78947849580805},{"$f":"G541*F$7-F541*F$6","v":38.6125410278121},{"$f":"H541*F$9+J541*F$8","v":-21.818561121714801},{"$f":"I541","v":221.78947849580805},{"$f":"J541*F$9-H541*F$8","v":38.6125410278121},null,null,{"$f":"IF(MIN(L541:L547)+B$2+B$1>0,1,0)","v":1},{"$f":"IF(P541=1,K541*B$1/(B$1+B$2+L541),99999)","v":-1.8826187679704702},{"$f":"M541*B$1/(B$1+B$2+L541)","v":3.3316905735659104},null,null,{"$f":"(4*U535+6*U545)/10","v":-8.1582220882341456},266.93390957773289,122.49395792371135,-9.7994601536259349,1.9281266126313312,0.49125147536262831,-0.16019819762407472,-0.81267980963974651,0.18135393435984781,-9.809999612917748,1.8323189308298802,0.62367332850541357,3.1069339743885065,null,null,null,null,null,null,null,null,null,null,null,-21.497088723305716,300.57396059351379,45.079052165121929]
[435,{"$f":"OFFSET(Calculations!AS$43,$A542,0)-U$3-B$10","v":-21.899958318630436},{"$f":"OFFSET(Calculations!AT$43,$A542,0)-V$3-B$11","v":214.19100187109481},{"$f":"OFFSET(Calculations!AU$43,$A542,0)-W$3-B$12","v":46.047135521457967},-21.899958318630436,214.19100187109481,46.047135521457967,-21.899958318630436,214.19100187109481,46.047135521457967,-21.899958318630436,214.19100187109481,46.047135521457967,null,null,null,{"$f":"IF(P541=1,K542*B$1/(B$1+B$2+L542),99999)","v":-1.9536875374884546},4.1078486769896427,null,null,{"$f":"(3*U535+7*U545)/10","v":-8.3146830051839249},266.16210901878424,122.82611580769837,-9.8006517850044368,1.9174402893429487,0.51040614334925893,-0.1605585809782557,-0.81687737664879023,0.1594923158337167,-9.8115182354301744,1.8184318101187811,0.6403980956566272,3.0871347108981229,null,null,null,null,null,null,null,null,null,null,null,-16.965040912108059,301.04421815066456,41.439903787904328]
[434,{"$f":"OFFSET(Calculations!AS$43,$A543,0)-U$3-B$10","v":-26.90879727747922},{"$f":"OFFSET(Calculations!AT$43,$A543,0)-V$3-B$11","v":216.33427477697236},{"$f":"OFFSET(Calculations!AU$43,$A543,0)-W$3-B$12","v":48.186232054972706},-26.90879727747922,216.33427477697236,48.186232054972706,-26.90879727747922,216.33427477697236,48.186232054972706,-26.90879727747922,216.33427477697236,48.186232054972706,null,null,null,{"$f":"IF(P541=1,K543*B$1/(B$1+B$2+L543),99999)","v":-2.3777925198465759},4.2579703937863558,null,null,{"$f":"(2*U535+8*U545)/10","v":-8.4711439221337042},265.39030845983552,123.15827369168539,-9.8018434163829387,1.9067539660545663,0.5295608113358895,-0.16091896433243313,-0.82107494365777711,0.13763069730750033,-9.8130804594773888,1.8041159455652589,0.65674317958506856,3.0671458174108173,null,null,null,null,null,null,null,null,null,null,null,-12.121960482043953,299.4005115694975,48.356752826517116]
[441,{"$f":"OFFSET(Calculations!AS$43,$A544,0)-U$3-B$10","v":-26.879069360547199},{"$f":"OFFSET(Calculations!AT$43,$A544,0)-V$3-B$11","v":223.44310331343701},{"$f":"OFFSET(Calculations!AU$43,$A544,0)-W$3-B$12","v":41.032013788217178},-26.879069360547199,223.44310331343701,41.032013788217178,-26.879069360547199,223.44310331343701,41.032013788217178,-26.879069360547199,223.44310331343701,41.032013788217178,null,null,null,{"$f":"IF(P541=1,K544*B$1/(B$1+B$2+L544),99999)","v":-2.3028368779400163},3.5153759700602274,null,null,{"$f":"(1*U535+9*U545)/10","v":-8.6276048390834834},264.61850790088687,123.49043157567242,-9.8030350477614405,1.8960676427661838,0.54871547932252018,-0.16127934768661056,-0.82527251066687768,0.1157690787813408,-9.814686285059393,1.7893713371693138,0.67270858029073799,3.0469617386366261,null,null,null,null,null,null,null,null,null,null,null,-21.0908133809072,299.07058529868135,52.534171447433408]
[443,{"$f":"OFFSET(Calculations!AS$43,$A545,0)-U$3-B$10","v":-16.882446691623727},{"$f":"OFFSET(Calculations!AT$43,$A545,0)-V$3-B$11","v":223.41995924974216},{"$f":"OFFSET(Calculations!AU$43,$A545,0)-W$3-B$12","v":41.29085653484416},-16.882446691623727,223.41995924974216,41.29085653484416,-16.882446691623727,223.41995924974216,41.29085653484416,-16.882446691623727,223.41995924974216,41.29085653484416,null,null,null,{"$f":"IF(P541=1,K545*B$1/(B$1+B$2+L545),99999)","v":-1.4465298294016711},3.5379028141004842,null,{"$f":"T535+7","v":350},{"$f":"OFFSET(Calculations!AS$46,$T545,0)","v":-8.7840657560332627},{"$f":"OFFSET(Calculations!AT$46,$T545,0)","v":263.84670734193816},{"$f":"OFFSET(Calculations!AU$46,$T545,0)","v":123.82258945965944},{"$f":"OFFSET(Calculations!AS$43,$T545,0)-OFFSET(Calculations!AS$45,$T545,0)","v":-9.8042266791399406},{"$f":"OFFSET(Calculations!AT$43,$T545,0)-OFFSET(Calculations!AT$45,$T545,0)","v":1.8853813194778013},{"$f":"OFFSET(Calculations!AU$43,$T545,0)-OFFSET(Calculations!AU$45,$T545,0)","v":0.56787014730915075},-0.16163973104078977,-0.8294700776759214,9.3907460255181263E-2,-9.8163357121761869,1.7741979849309457,0.68829429777363504,3.0265766426280365,null,null,null,null,null,null,null,null,null,null,null,-4.6223578625425406,298.46181493006043,50.978738556584545]
[436,{"$f":"OFFSET(Calculations!AS$43,$A546,0)-U$3-B$10","v":-16.908879290521398},{"$f":"OFFSET(Calculations!AT$43,$A546,0)-V$3-B$11","v":216.33490738383028},{"$f":"OFFSET(Calculations!AU$43,$A546,0)-W$3-B$12","v":48.226727164880472},-16.908879290521398,216.33490738383028,48.226727164880472,-16.908879290521398,216.33490738383028,48.226727164880472,-16.908879290521398,216.33490738383028,48.226727164880472,null,null,null,{"$f":"IF(P541=1,K546*B$1/(B$1+B$2+L546),99999)","v":-1.4941468362939223},4.2615368280859238,null,null,{"$f":"(9*U545+U555)/10","v":-8.9453530953285441},263.02293219631281,123.98341820352675,-9.8058019714213991,1.8709457006088257,0.5843519602719851,-0.16169846299838042,-0.83041923301769316,8.2753912986504474E-2,-9.8180287408277689,1.7585958888501545,0.70350033203375995,3.0166322675388035,null,null,null,null,null,null,null,null,null,null,null,-16.277412167308213,301.37315695932847,39.590859177982715]
[435,{"$f":"OFFSET(Calculations!AS$43,$A547,0)-U$3-B$10","v":-21.899958318630436},{"$f":"OFFSET(Calculations!AT$43,$A547,0)-V$3-B$11","v":214.19100187109481},{"$f":"OFFSET(Calculations!AU$43,$A547,0)-W$3-B$12","v":46.047135521457967},-21.899958318630436,214.19100187109481,46.047135521457967,-21.899958318630436,214.19100187109481,46.047135521457967,-21.899958318630436,214.19100187109481,46.047135521457967,null,null,null,{"$f":"IF(P541=1,K547*B$1/(B$1+B$2+L547),99999)","v":-1.9536875374884546},4.1078486769896427,null,null,{"$f":"(8*U545+2*U555)/10","v":-9.1066404346238254},262.1991570506874,124.14424694739409,-9.8073772637028576,1.8565100817398501,0.60083377323481957,-0.16175719495596041,-0.83136838835937965,7.1600365717799264E-2,-9.8197413922077068,1.7427993799007275,0.71849373651009996,3,null,null,null,null,null,null,null,null,null,null,null,-18.585696753017434,309.06948239556925,52.896993285644825]
[" ",null,null,null,null,null,null,null,null,null,null,null,null,null,null,null,null,null,null,null,{"$f":"(7*U545+3*U555)/10","v":-9.2679277739191068},261.375381905062,124.30507569126141,-9.8089525559843143,1.8420744628708747,0.61731558619765392,-0.16181592691354396,-0.83231754370120825,6.0446818449122475E-2,-9.8214736663159972,1.7268084580826646,0.73327451120265497,3,null,null,null,null,null,null,null,null,null,null,null,-21.124482388073424,310.22815600493544,47.775660443766355]
[{"$f":"A541+7","v":449},{"$f":"OFFSET(Calculations!AS$43,$A549,0)-U$3-B$10","v":-21.598859491395029},{"$f":"OFFSET(Calculations!AT$43,$A549,0)-V$3-B$11","v":230.76592645641864},{"$f":"OFFSET(Calculations!AU$43,$A549,0)-W$3-B$12","v":32.924551303162772},{"$f":"B549*F$5+C549*F$4","v":-21.598859491395029},{"$f":"C549*F$5-B549*F$4","v":230.76592645641864},{"$f":"D549","v":32.924551303162772},-21.598859491395029,{"$f":"F549*F$7+G549*F$6","v":230.76592645641864},{"$f":"G549*F$7-F549*F$6","v":32.924551303162772},{"$f":"H549*F$9+J549*F$8","v":-21.598859491395029},{"$f":"I549","v":230.76592645641864},{"$f":"J549*F$9-H549*F$8","v":32.924551303162772},null,null,{"$f":"IF(MIN(L549:L555)+B$2+B$1>0,1,0)","v":1},{"$f":"IF(P549=1,K549*B$1/(B$1+B$2+L549),99999)","v":-1.7941790858271358},{"$f":"M549*B$1/(B$1+B$2+L549)","v":2.7349842884950326},null,null,{"$f":"(6*U545+4*U555)/10","v":-9.4292151132143882},260.55160675943659,124.46590443512873,-9.8105278482657727,1.8276388440018991,0.63379739916048838,-0.16187465887113106,-0.83326669904289474,4.9293271180417264E-2,-9.8232255631526435,1.7106231233959659,0.74784265611142531,3,null,null,null,null,null,null,null,null,null,null,null,-17.691004921297495,310.96182555818018,43.118518768565252]
[442,{"$f":"OFFSET(Calculations!AS$43,$A550,0)-U$3-B$10","v":-21.818561121714801},{"$f":"OFFSET(Calculations!AT$43,$A550,0)-V$3-B$11","v":221.78947849580805},{"$f":"OFFSET(Calculations!AU$43,$A550,0)-W$3-B$12","v":38.6125410278121},-21.818561121714801,221.78947849580805,38.6125410278121,-21.818561121714801,221.78947849580805,38.6125410278121,-21.818561121714801,221.78947849580805,38.6125410278121,null,null,null,{"$f":"IF(P549=1,K550*B$1/(B$1+B$2+L550),99999)","v":-1.8826187679704702},3.3316905735659104,null,null,{"$f":"(5*U545+5*U555)/10","v":-9.5905024525096714},259.72783161381119,124.62673317899608,-9.8121031405472312,1.8132032251329235,0.65027921212332274,-0.16174660480990433,-0.83282375896138205,2.7034178301704515E-2,-9.824997082717644,1.6942433758406308,0.76219817123641054,3,null,null,null,null,null,null,null,null,null,null,null,-11.17689850931156,309.52025626492156,48.548831432312817]
[441,{"$f":"OFFSET(Calculations!AS$43,$A551,0)-U$3-B$10","v":-26.879069360547199},{"$f":"OFFSET(Calculations!AT$43,$A551,0)-V$3-B$11","v":223.44310331343701},{"$f":"OFFSET(Calculations!AU$43,$A551,0)-W$3-B$12","v":41.032013788217178},-26.879069360547199,223.44310331343701,41.032013788217178,-26.879069360547199,223.44310331343701,41.032013788217178,-26.879069360547199,223.44310331343701,41.032013788217178,null,null,null,{"$f":"IF(P549=1,K551*B$1/(B$1+B$2+L551),99999)","v":-2.3028368779400163},3.5153759700602274,null,null,{"$f":"(4*U545+6*U555)/10","v":-9.7517897918049528},258.90405646818579,124.78756192286338,-9.8136784328286879,1.7987676062639479,0.66676102508615709,-0.16161855074867582,-0.83238081887981252,4.7750854230059758E-3,-9.8268026234730605,1.6775233222583066,0.77609225804355808,3,null,null,null,null,null,null,null,null,null,null,null,-18.764635119361401,308.69101376304701,54.852688189060643]
[448,{"$f":"OFFSET(Calculations!AS$43,$A552,0)-U$3-B$10","v":-26.715479988824814},{"$f":"OFFSET(Calculations!AT$43,$A552,0)-V$3-B$11","v":231.88470651861184},{"$f":"OFFSET(Calculations!AU$43,$A552,0)-W$3-B$12","v":35.515516732828033},-26.715479988824814,231.88470651861184,35.515516732828033,-26.715479988824814,231.88470651861184,35.515516732828033,-26.715479988824814,231.88470651861184,35.515516732828033,null,null,null,{"$f":"IF(P549=1,K552*B$1/(B$1+B$2+L552),99999)","v":-2.2089432914824805},2.9365657088448693,null,null,{"$f":"(3*U545+7*U555)/10","v":-9.9130771311002341},258.08028132256038,124.94839066673072,-9.8152537251101464,1.7843319873949723,0.68324283804899155,-0.16149049668745619,-0.83193787879818615,-1.7484007455706774E-2,-9.8286421854188895,1.6604629626489928,0.78952491653286805,3,null,null,null,null,null,null,null,null,null,null,null,-3.2209529917734194,308.9540874512607,49.167203323979024]
[450,{"$f":"OFFSET(Calculations!AS$43,$A553,0)-U$3-B$10","v":-16.726828399226264},{"$f":"OFFSET(Calculations!AT$43,$A553,0)-V$3-B$11","v":231.79288589423285},{"$f":"OFFSET(Calculations!AU$43,$A553,0)-W$3-B$12","v":35.982858571902341},-16.726828399226264,231.79288589423285,35.982858571902341,-16.726828399226264,231.79288589423285,35.982858571902341,-16.726828399226264,231.79288589423285,35.982858571902341,null,null,null,{"$f":"IF(P549=1,K553*B$1/(B$1+B$2+L553),99999)","v":-1.3835666287173609},2.9763372432423241,null,null,{"$f":"(2*U545+8*U555)/10","v":-10.074364470395516},257.25650617693498,125.10921941059803,-9.8168290173916031,1.769896368525997,0.6997246510118259,-0.16136244262622768,-0.83149493871661662,-3.9743100334391102E-2,-9.8305157685551361,1.6430622970126898,0.80249614670434022,3,null,null,null,null,null,null,null,null,null,null,null,-17.512066554953492,311.34029419070242,41.162823865149406]
[443,{"$f":"OFFSET(Calculations!AS$43,$A554,0)-U$3-B$10","v":-16.882446691623727},{"$f":"OFFSET(Calculations!AT$43,$A554,0)-V$3-B$11","v":223.41995924974216},{"$f":"OFFSET(Calculations!AU$43,$A554,0)-W$3-B$12","v":41.29085653484416},-16.882446691623727,223.41995924974216,41.29085653484416,-16.882446691623727,223.41995924974216,41.29085653484416,-16.882446691623727,223.41995924974216,41.29085653484416,null,null,null,{"$f":"IF(P549=1,K554*B$1/(B$1+B$2+L554),99999)","v":-1.4465298294016711},3.5379028141004842,null,null,{"$f":"(1*U545+9*U555)/10","v":-10.235651809690797},256.43273103130957,125.27004815446534,-9.8184043096730615,1.7554607496570214,0.71620646397466037,-0.16123438856499916,-0.83105199863504708,-6.2002193213103851E-2,-9.8324233728817987,1.625321325349397,0.8150059485579747,3,null,null,null,null,null,null,null,null,null,null,null,-16.737722985035706,318.80392071343664,54.775666294454815]
[442,{"$f":"OFFSET(Calculations!AS$43,$A555,0)-U$3-B$10","v":-21.818561121714801},{"$f":"OFFSET(Calculations!AT$43,$A555,0)-V$3-B$11","v":221.78947849580805},{"$f":"OFFSET(Calculations!AU$43,$A555,0)-W$3-B$12","v":38.6125410278121},-21.818561121714801,221.78947849580805,38.6125410278121,-21.818561121714801,221.78947849580805,38.6125410278121,-21.818561121714801,221.78947849580805,38.6125410278121,null,null,null,{"$f":"IF(P549=1,K555*B$1/(B$1+B$2+L555),99999)","v":-1.8826187679704702},3.3316905735659104,null,{"$f":"T545+7","v":357},{"$f":"OFFSET(Calculations!AS$46,$T555,0)","v":-10.396939148986078},{"$f":"OFFSET(Calculations!AT$46,$T555,0)","v":255.6089558856842},{"$f":"OFFSET(Calculations!AU$46,$T555,0)","v":125.43087689833268},{"$f":"OFFSET(Calculations!AS$43,$T555,0)-OFFSET(Calculations!AS$45,$T555,0)","v":-9.81997960195452},{"$f":"OFFSET(Calculations!AT$43,$T555,0)-OFFSET(Calculations!AT$45,$T555,0)","v":1.7410251307880458},{"$f":"OFFSET(Calculations!AU$43,$T555,0)-OFFSET(Calculations!AU$45,$T555,0)","v":0.73268827693749472},-0.16110633450377421,-0.83060905855347755,-8.4261286091816601E-2,-9.8343649983988737,1.6072400476591149,0.82705432209377161,3,null,null,null,null,null,null,null,null,null,null,null,-20.549780431755579,319.86769968746063,50.489335892195555]
[" ",null,null,null,null,null,null,null,null,null,null,null,null,null,null,null,null,null,null,null,{"$f":"(9*U555+U565)/10","v":-10.559166199602718},254.76999425459076,125.41324888590096,-9.821868857889644,1.7234789060208953,0.7457680133597705,-0.16091954848496037,-0.82921696313016469,-9.536683170183835E-2,-9.8363406451063682,1.5888184639418435,0.83864126731173072,3,null,null,null,null,null,null,null,null,null,null,null,-18.447454815378695,320.81495293605235,45.130327188549117]
[{"$f":"A549+7","v":456},{"$f":"OFFSET(Calculations!AS$43,$A557,0)-U$3-B$10","v":-21.283049343705517},{"$f":"OFFSET(Calculations!AT$43,$A557,0)-V$3-B$11","v":240.72700240627441},{"$f":"OFFSET(Calculations!AU$43,$A557,0)-W$3-B$12","v":29.233657143433362},{"$f":"B557*F$5+C557*F$4","v":-21.283049343705517},{"$f":"C557*F$5-B557*F$4","v":240.72700240627441},{"$f":"D557","v":29.233657143433362},-21.283049343705517,{"$f":"F557*F$7+G557*F$6","v":240.72700240627441},{"$f":"G557*F$7-F557*F$6","v":29.233657143433362},{"$f":"H557*F$9+J557*F$8","v":-21.283049343705517},{"$f":"I557","v":240.72700240627441},{"$f":"J557*F$9-H557*F$8","v":29.233657143433362},null,null,{"$f":"IF(MIN(L557:L563)+B$2+B$1>0,1,0)","v":1},{"$f":"IF(P557=1,K557*B$1/(B$1+B$2+L557),99999)","v":-1.6977069992021658},{"$f":"M557*B$1/(B$1+B$2+L557)","v":2.3319113508216054},null,null,{"$f":"(8*U555+2*U565)/10","v":-10.721393250219359},253.93103262349732,125.39562087346921,-9.8237581138247698,1.705932681253745,0.75884774978204628,{"$f":"(SUM(U558:U573)-SUM(U557:U572))/16","v":-0.16073276246615187},{"$f":"(SUM(V558:V573)-SUM(V557:V572))/16","v":-0.8278248677068234},{"$f":"(SUM(W558:W573)-SUM(W557:W572))/16","v":-0.10647237731183168},{"$f":"SUM(X557:X572)/16","v":-9.8383306902759209},{"$f":"SUM(Y557:Y572)/16","v":1.5702509870662182},{"$f":"SUM(Z557:Z572)/16","v":0.84997941399563715},3,null,null,null,null,null,null,null,null,null,null,null,-10.706248008377939,319.67376149573175,48.70403664341314]
[449,{"$f":"OFFSET(Calculations!AS$43,$A558,0)-U$3-B$10","v":-21.598859491395029},{"$f":"OFFSET(Calculations!AT$43,$A558,0)-V$3-B$11","v":230.76592645641864},{"$f":"OFFSET(Calculations!AU$43,$A558,0)-W$3-B$12","v":32.924551303162772},-21.598859491395029,230.76592645641864,32.924551303162772,-21.598859491395029,230.76592645641864,32.924551303162772,-21.598859491395029,230.76592645641864,32.924551303162772,null,null,null,{"$f":"IF(P557=1,K558*B$1/(B$1+B$2+L558),99999)","v":-1.7941790858271358},2.7349842884950326,null,null,{"$f":"(7*U555+3*U565)/10","v":-10.883620300836},253.09207099240388,125.37799286103748,-9.8256473697598956,1.6883864564865945,0.77192748620432217,-0.16054597644733981,-0.82643277228351053,-0.11757792292186764,-9.8403351339075336,1.5515376170322397,0.86106876214549077,3,null,null,null,null,null,null,null,null,null,null,null,-16.395776618967108,318.40171426891362,56.704734115635979]
[448,{"$f":"OFFSET(Calculations!AS$43,$A559,0)-U$3-B$10","v":-26.715479988824814},{"$f":"OFFSET(Calculations!AT$43,$A559,0)-V$3-B$11","v":231.88470651861184},{"$f":"OFFSET(Calculations!AU$43,$A559,0)-W$3-B$12","v":35.515516732828033},-26.715479988824814,231.88470651861184,35.515516732828033,-26.715479988824814,231.88470651861184,35.515516732828033,-26.715479988824814,231.88470651861184,35.515516732828033,null,null,null,{"$f":"IF(P557=1,K559*B$1/(B$1+B$2+L559),99999)","v":-2.2089432914824805},2.9365657088448693,null,null,{"$f":"(6*U555+4*U565)/10","v":-11.04584735145264},252.25310936131049,125.36036484860574,-9.8275366256950178,1.6708402317194442,0.78500722262659794,-0.16035919042852775,-0.82504067686016924,-0.12868346853186097,-9.8423539760012098,1.5326783538399076,0.87190931176129172,3,null,null,null,null,null,null,null,null,null,null,null,-2.8361441320016771,319.51870397685991,47.276653674168912]
[455,{"$f":"OFFSET(Calculations!AS$43,$A560,0)-U$3-B$10","v":-26.457759890465702},{"$f":"OFFSET(Calculations!AT$43,$A560,0)-V$3-B$11","v":241.28900385071282},{"$f":"OFFSET(Calculations!AU$43,$A560,0)-W$3-B$12","v":31.880693771717119},-26.457759890465702,241.28900385071282,31.880693771717119,-26.457759890465702,241.28900385071282,31.880693771717119,-26.457759890465702,241.28900385071282,31.880693771717119,null,null,null,{"$f":"IF(P557=1,K560*B$1/(B$1+B$2+L560),99999)","v":-2.105763442493001},2.5373727686593863,null,null,{"$f":"(5*U555+5*U565)/10","v":-11.208074402069281},251.41414773021705,125.34273683617403,-9.8294258816301436,1.6532940069522937,0.79808695904887372,-0.15974836457721331,-0.81997682713389963,-0.15035520420924797,-9.8443872165569459,1.5136731974892221,0.88250106284303964,3,null,null,null,null,null,null,null,null,null,null,null,-18.789401181447264,321.21715938057554,43.201259367367953]
[457,{"$f":"OFFSET(Calculations!AS$43,$A561,0)-U$3-B$10","v":-16.481402468960006},{"$f":"OFFSET(Calculations!AT$43,$A561,0)-V$3-B$11","v":241.08664530203586},{"$f":"OFFSET(Calculations!AU$43,$A561,0)-W$3-B$12","v":32.537461322792787},-16.481402468960006,241.08664530203586,32.537461322792787,-16.481402468960006,241.08664530203586,32.537461322792787,-16.481402468960006,241.08664530203586,32.537461322792787,null,null,null,{"$f":"IF(P557=1,K561*B$1/(B$1+B$2+L561),99999)","v":-1.312805979715431},2.591731733374588,null,null,{"$f":"(4*U555+6*U565)/10","v":-11.370301452685922},250.57518609912364,125.32510882374228,-9.8313151375652694,1.6357477821851432,0.8111666954711495,-0.15913753872589709,-0.81491297740763002,-0.17202693988663498,-9.8464433927247974,1.4944312294306374,0.89257005595153061,3,null,null,null,null,null,null,null,null,null,null,null,-14.94800691644021,328.60688329259591,56.32568234306946]
[450,{"$f":"OFFSET(Calculations!AS$43,$A562,0)-U$3-B$10","v":-16.726828399226264},{"$f":"OFFSET(Calculations!AT$43,$A562,0)-V$3-B$11","v":231.79288589423285},{"$f":"OFFSET(Calculations!AU$43,$A562,0)-W$3-B$12","v":35.982858571902341},-16.726828399226264,231.79288589423285,35.982858571902341,-16.726828399226264,231.79288589423285,35.982858571902341,-16.726828399226264,231.79288589423285,35.982858571902341,null,null,null,{"$f":"IF(P557=1,K562*B$1/(B$1+B$2+L562),99999)","v":-1.3835666287173609},2.9763372432423241,null,null,{"$f":"(3*U555+7*U565)/10","v":-11.532528503302562},249.7362244680302,125.30748081131055,-9.8332043935003917,1.6182015574179929,0.82424643189342528,-0.15852671287457909,-0.80984912768136041,-0.19369867556400777,-9.8485225045047606,1.4749524496641535,0.9021162910867645,3,null,null,null,null,null,null,null,null,null,null,null,-19.774463740056657,329.50288141976762,53.168687622825374]
[449,{"$f":"OFFSET(Calculations!AS$43,$A563,0)-U$3-B$10","v":-21.598859491395029},{"$f":"OFFSET(Calculations!AT$43,$A563,0)-V$3-B$11","v":230.76592645641864},{"$f":"OFFSET(Calculations!AU$43,$A563,0)-W$3-B$12","v":32.924551303162772},-21.598859491395029,230.76592645641864,32.924551303162772,-21.598859491395029,230.76592645641864,32.924551303162772,-21.598859491395029,230.76592645641864,32.924551303162772,null,null,null,{"$f":"IF(P557=1,K563*B$1/(B$1+B$2+L563),99999)","v":-1.7941790858271358},2.7349842884950326,null,null,{"$f":"(2*U555+8*U565)/10","v":-11.694755553919203},248.89726283693676,125.28985279887881,-9.8350936494355174,1.6006553326508424,0.83732616831570117,-0.15791588702326287,-0.80478527795509081,-0.21537041124138057,-9.8506245518968374,1.4552368581897708,0.91113976824874132,3,null,null,null,null,null,null,null,null,null,null,null,-19.145647010073645,330.59955605263269,47.470792568728498]
[" ",null,null,null,null,null,null,null,null,null,null,null,null,null,null,null,null,null,null,null,{"$f":"(1*U555+9*U565)/10","v":-11.856982604535842},248.05830120584332,125.27222478644708,-9.8369829053706432,1.5831091078836921,0.85040590473797695,-0.15730506117194487,-0.79972142822879277,-0.23704214691875336,-9.8527495349010277,1.435284455007489,0.91964048743746096,3,null,null,null,null,null,null,null,null,null,null,null,-10.704890259006111,329.83651277600006,48.944356421194236]
[{"$f":"A557+7","v":463},{"$f":"OFFSET(Calculations!AS$43,$A565,0)-U$3-B$10","v":-20.917550257484695},{"$f":"OFFSET(Calculations!AT$43,$A565,0)-V$3-B$11","v":251.23603724755228},{"$f":"OFFSET(Calculations!AU$43,$A565,0)-W$3-B$12","v":27.702210154423391},{"$f":"B565*F$5+C565*F$4","v":-20.917550257484695},{"$f":"C565*F$5-B565*F$4","v":251.23603724755228},{"$f":"D565","v":27.702210154423391},-20.917550257484695,{"$f":"F565*F$7+G565*F$6","v":251.23603724755228},{"$f":"G565*F$7-F565*F$6","v":27.702210154423391},{"$f":"H565*F$9+J565*F$8","v":-20.917550257484695},{"$f":"I565","v":251.23603724755228},{"$f":"J565*F$9-H565*F$8","v":27.702210154423391},null,null,{"$f":"IF(MIN(L565:L571)+B$2+B$1>0,1,0)","v":1},{"$f":"IF(P565=1,K565*B$1/(B$1+B$2+L565),99999)","v":-1.6014291502717002},{"$f":"M565*B$1/(B$1+B$2+L565)","v":2.1208567122898319},null,{"$f":"T555+7","v":364},{"$f":"OFFSET(Calculations!AS$46,$T565,0)","v":-12.019209655152483},{"$f":"OFFSET(Calculations!AT$46,$T565,0)","v":247.21933957474991},{"$f":"OFFSET(Calculations!AU$46,$T565,0)","v":125.25459677401535},{"$f":"OFFSET(Calculations!AS$43,$T565,0)-OFFSET(Calculations!AS$45,$T565,0)","v":-9.8388721613057672},{"$f":"OFFSET(Calculations!AT$43,$T565,0)-OFFSET(Calculations!AT$45,$T565,0)","v":1.5655628831165416},{"$f":"OFFSET(Calculations!AU$43,$T565,0)-OFFSET(Calculations!AU$45,$T565,0)","v":0.86348564116025273},-0.15669423532063043,-0.79465757850252317,-0.25871388259614037,-9.8548974535173315,1.4150952401173083,0.92761844865292364,3,null,null,null,null,null,null,null,null,null,null,null,-14.108478897713512,328.20834874058858,58.096660297937767]
[456,{"$f":"OFFSET(Calculations!AS$43,$A566,0)-U$3-B$10","v":-21.283049343705517},{"$f":"OFFSET(Calculations!AT$43,$A566,0)-V$3-B$11","v":240.72700240627441},{"$f":"OFFSET(Calculations!AU$43,$A566,0)-W$3-B$12","v":29.233657143433362},-21.283049343705517,240.72700240627441,29.233657143433362,-21.283049343705517,240.72700240627441,29.233657143433362,-21.283049343705517,240.72700240627441,29.233657143433362,null,null,null,{"$f":"IF(P565=1,K566*B$1/(B$1+B$2+L566),99999)","v":-1.6977069992021658},2.3319113508216054,null,null,{"$f":"(9*U565+U575)/10","v":-12.178448129468146},246.40265147042965,125.05928003182342,-9.8409917926338721,1.545682367815735,0.87258460103768409,-0.15627019548812449,-0.79098582419956642,-0.26928007266353404,-9.8570683077457453,1.3946692135192282,0.93507365189512903,3,null,null,null,null,null,null,null,null,null,null,null,-3.456962597005147,330.10313346558377,45.568492381531463]
[455,{"$f":"OFFSET(Calculations!AS$43,$A567,0)-U$3-B$10","v":-26.457759890465702},{"$f":"OFFSET(Calculations!AT$43,$A567,0)-V$3-B$11","v":241.28900385071282},{"$f":"OFFSET(Calculations!AU$43,$A567,0)-W$3-B$12","v":31.880693771717119},-26.457759890465702,241.28900385071282,31.880693771717119,-26.457759890465702,241.28900385071282,31.880693771717119,-26.457759890465702,241.28900385071282,31.880693771717119,null,null,null,{"$f":"IF(P565=1,K567*B$1/(B$1+B$2+L567),99999)","v":-2.105763442493001},2.5373727686593863,null,null,{"$f":"(8*U565+2*U575)/10","v":-12.337686603783808},245.58596336610944,124.86396328963147,-9.8431114239619752,1.5258018525149282,0.88168356091511557,-0.15584615565561855,-0.78731406989660968,-0.2798462627308993,-9.8592476991242162,1.3741522683716028,0.94225489569813026,3,null,null,null,null,null,null,null,null,null,null,null,-19.985175028800345,330.99809060464031,45.699814613860291]
[462,{"$f":"OFFSET(Calculations!AS$43,$A568,0)-U$3-B$10","v":-26.14980451454382},{"$f":"OFFSET(Calculations!AT$43,$A568,0)-V$3-B$11","v":251.24332131825506},{"$f":"OFFSET(Calculations!AU$43,$A568,0)-W$3-B$12","v":30.28824497815998},-26.14980451454382,251.24332131825506,30.28824497815998,-26.14980451454382,251.24332131825506,30.28824497815998,-26.14980451454382,251.24332131825506,30.28824497815998,null,null,null,{"$f":"IF(P565=1,K568*B$1/(B$1+B$2+L568),99999)","v":-2.0019500887211032},2.318776596877044,null,null,{"$f":"(7*U565+3*U575)/10","v":-12.496925078099469},244.7692752617892,124.66864654743954,-9.8452310552900801,1.5059213372141216,0.89078252079254694,-0.15542211582311438,-0.78364231559365294,-0.29041245279825034,-9.8614356276527371,1.3535444046744316,0.94916218006192699,3,null,null,null,null,null,null,null,null,null,null,null,-13.301321965571161,338.47774454952963,57.573975339322004]
[464,{"$f":"OFFSET(Calculations!AS$43,$A569,0)-U$3-B$10","v":-16.189520406588535},{"$f":"OFFSET(Calculations!AT$43,$A569,0)-V$3-B$11","v":250.89345412282324},{"$f":"OFFSET(Calculations!AU$43,$A569,0)-W$3-B$12","v":31.106983907474138},-16.189520406588535,250.89345412282324,31.106983907474138,-16.189520406588535,250.89345412282324,31.106983907474138,-16.189520406588535,250.89345412282324,31.106983907474138,null,null,null,{"$f":"IF(P565=1,K569*B$1/(B$1+B$2+L569),99999)","v":-1.2410829134077734},2.3846503939366461,null,null,{"$f":"(6*U565+4*U575)/10","v":-12.656163552415133},243.95258715746894,124.47332980524759,-9.847350686618185,1.4860408219133148,0.89988148066997842,-0.15499807599060844,-0.77997056129072462,-0.30097864286562981,-9.863632093331308,1.332845622427715,0.95579550498651966,3,null,null,null,null,null,null,null,null,null,null,null,-18.813271078590216,339.14430799111614,55.764448348197988]
[457,{"$f":"OFFSET(Calculations!AS$43,$A570,0)-U$3-B$10","v":-16.481402468960006},{"$f":"OFFSET(Calculations!AT$43,$A570,0)-V$3-B$11","v":241.08664530203586},{"$f":"OFFSET(Calculations!AU$43,$A570,0)-W$3-B$12","v":32.537461322792787},-16.481402468960006,241.08664530203586,32.537461322792787,-16.481402468960006,241.08664530203586,32.537461322792787,-16.481402468960006,241.08664530203586,32.537461322792787,null,null,null,{"$f":"IF(P565=1,K570*B$1/(B$1+B$2+L570),99999)","v":-1.312805979715431},2.591731733374588,null,null,{"$f":"(5*U565+5*U575)/10","v":-12.815402026730794},243.13589905314876,124.27801306305564,-9.8494703179462881,1.4661603066125082,0.90898044054740978,-0.15393150373498621,-0.77050984694355407,-0.32110417682639536,-9.8658370961599324,1.3120559216314529,0.96215487047190784,3,null,null,null,null,null,null,null,null,null,null,null,-19.700808087042187,340.31626049143875,50.112981001269887]
[456,{"$f":"OFFSET(Calculations!AS$43,$A571,0)-U$3-B$10","v":-21.283049343705517},{"$f":"OFFSET(Calculations!AT$43,$A571,0)-V$3-B$11","v":240.72700240627441},{"$f":"OFFSET(Calculations!AU$43,$A571,0)-W$3-B$12","v":29.233657143433362},-21.283049343705517,240.72700240627441,29.233657143433362,-21.283049343705517,240.72700240627441,29.233657143433362,-21.283049343705517,240.72700240627441,29.233657143433362,null,null,null,{"$f":"IF(P565=1,K571*B$1/(B$1+B$2+L571),99999)","v":-1.6977069992021658},2.3319113508216054,null,null,{"$f":"(4*U565+6*U575)/10","v":-12.974640501046457},242.3192109488285,124.08269632086372,-9.851589949274393,1.4462797913117016,0.91807940042484115,-0.1528649314793622,-0.76104913259644036,-0.34122971078718933,-9.8680529342588876,1.2911433809462294,0.96795327723822366,3,null,null,null,null,null,null,null,null,null,null,null,-11.135725015483006,339.98336551680774,49.385978309971023]
[" ",null,null,null,null,null,null,null,null,null,null,null,null,null,null,null,null,null,null,null,{"$f":"(3*U565+7*U575)/10","v":-13.133878975362119},241.50252284450829,123.88737957867177,-9.8537095806024979,1.4263992760108948,0.92717836030227263,-0.15179835922374529,-0.75158841824921296,-0.36135524474795488,-9.8702796076281807,1.2701080003720444,0.97319072528546713,3,null,null,null,null,null,null,null,null,null,null,null,-12.021424741276926,338.11004136114786,59.066174206932516]
[{"$f":"A565+7","v":470},{"$f":"OFFSET(Calculations!AS$43,$A573,0)-U$3-B$10","v":-21.381105910109849},{"$f":"OFFSET(Calculations!AT$43,$A573,0)-V$3-B$11","v":261.6512560236439},{"$f":"OFFSET(Calculations!AU$43,$A573,0)-W$3-B$12","v":28.382163519884877},{"$f":"B573*F$5+C573*F$4","v":-21.381105910109849},{"$f":"C573*F$5-B573*F$4","v":261.6512560236439},{"$f":"D573","v":28.382163519884877},-21.381105910109849,{"$f":"F573*F$7+G573*F$6","v":261.6512560236439},{"$f":"G573*F$7-F573*F$6","v":28.382163519884877},{"$f":"H573*F$9+J573*F$8","v":-21.381105910109849},{"$f":"I573","v":261.6512560236439},{"$f":"J573*F$9-H573*F$8","v":28.382163519884877},null,null,{"$f":"IF(MIN(L573:L579)+B$2+B$1>0,1,0)","v":1},{"$f":"IF(P573=1,K573*B$1/(B$1+B$2+L573),99999)","v":-1.5741584429301434},{"$f":"M573*B$1/(B$1+B$2+L573)","v":2.0896029663425932},null,null,{"$f":"(2*U565+8*U575)/10","v":-13.29311744967778},240.68583474018806,123.69206283647983,-9.855829211930601,1.4065187607100882,0.936277320179704,-0.15073178696812306,-0.74212770390212768,-0.38148077870873465,-9.8725171162678009,1.2489497799088982,0.97786721461363801,3,null,null,null,null,null,null,null,null,null,null,null,-5.0039078602559739,340.65349465546313,44.291692755313917]
[463,{"$f":"OFFSET(Calculations!AS$43,$A574,0)-U$3-B$10","v":-20.917550257484695},{"$f":"OFFSET(Calculations!AT$43,$A574,0)-V$3-B$11","v":251.23603724755228},{"$f":"OFFSET(Calculations!AU$43,$A574,0)-W$3-B$12","v":27.702210154423391},-20.917550257484695,251.23603724755228,27.702210154423391,-20.917550257484695,251.23603724755228,27.702210154423391,-20.917550257484695,251.23603724755228,27.702210154423391,null,null,null,{"$f":"IF(P573=1,K574*B$1/(B$1+B$2+L574),99999)","v":-1.6014291502717002},2.1208567122898319,null,null,{"$f":"(1*U565+9*U575)/10","v":-13.452355923993442},239.86914663586782,123.49674609428789,-9.8579488432587077,1.3866382454092814,0.94537628005713548,-0.14966521471249905,-0.73266698955495713,-0.40160631266951441,-9.8747654601777555,1.2276687195567901,0.98198274522273654,3,null,null,null,null,null,null,null,null,null,null,null,-20.980705311336411,340.68396367982058,48.620782133659453]
[462,{"$f":"OFFSET(Calculations!AS$43,$A575,0)-U$3-B$10","v":-26.14980451454382},{"$f":"OFFSET(Calculations!AT$43,$A575,0)-V$3-B$11","v":251.24332131825506},{"$f":"OFFSET(Calculations!AU$43,$A575,0)-W$3-B$12","v":30.28824497815998},-26.14980451454382,251.24332131825506,30.28824497815998,-26.14980451454382,251.24332131825506,30.28824497815998,-26.14980451454382,251.24332131825506,30.28824497815998,null,null,null,{"$f":"IF(P573=1,K575*B$1/(B$1+B$2+L575),99999)","v":-2.0019500887211032},2.318776596877044,null,{"$f":"T565+7","v":371},{"$f":"OFFSET(Calculations!AS$46,$T575,0)","v":-13.611594398309105},{"$f":"OFFSET(Calculations!AT$46,$T575,0)","v":239.05245853154759},{"$f":"OFFSET(Calculations!AU$46,$T575,0)","v":123.30142935209595},{"$f":"OFFSET(Calculations!AS$43,$T575,0)-OFFSET(Calculations!AS$45,$T575,0)","v":-9.8600684745868108},{"$f":"OFFSET(Calculations!AT$43,$T575,0)-OFFSET(Calculations!AT$45,$T575,0)","v":1.3667577301084748},{"$f":"OFFSET(Calculations!AU$43,$T575,0)-OFFSET(Calculations!AU$45,$T575,0)","v":0.95447523993456684},-0.14859864245688215,-0.72320627520784342,-0.42173184663029417,-9.8770246393580425,1.206264819315721,0.9855373171127626,3,null,null,null,null,null,null,null,null,null,null,null,-11.872694216465796,348.41125171803822,58.568041118443588]
[469,{"$f":"OFFSET(Calculations!AS$43,$A576,0)-U$3-B$10","v":-25.785975444643924},{"$f":"OFFSET(Calculations!AT$43,$A576,0)-V$3-B$11","v":261.14365068682048},{"$f":"OFFSET(Calculations!AU$43,$A576,0)-W$3-B$12","v":32.173666810897814},-25.785975444643924,261.14365068682048,32.173666810897814,-25.785975444643924,261.14365068682048,32.173666810897814,-25.785975444643924,261.14365068682048,32.173666810897814,null,null,null,{"$f":"IF(P573=1,K576*B$1/(B$1+B$2+L576),99999)","v":-1.9020158044878981},2.3731823872253917,null,null,{"$f":"(9*U575+U585)/10","v":-13.764048235304681},238.29451849607457,122.9370535688261,-9.8623247003157477,1.3454225180149393,0.95919084878472916,-0.14795611003376408,-0.71741731516360119,-0.43129119052370868,-9.8792946538086639,1.1847380791856905,0.9885309302837163,3,null,null,null,null,null,null,null,null,null,null,null,-17.693284130671078,348.80221293728255,58.232692977403914]
[471,{"$f":"OFFSET(Calculations!AS$43,$A577,0)-U$3-B$10","v":-15.948345599173562},{"$f":"OFFSET(Calculations!AT$43,$A577,0)-V$3-B$11","v":260.94982878823066},{"$f":"OFFSET(Calculations!AU$43,$A577,0)-W$3-B$12","v":30.389438099342428},-15.948345599173562,260.94982878823066,30.389438099342428,-15.948345599173562,260.94982878823066,30.389438099342428,-15.948345599173562,260.94982878823066,30.389438099342428,null,null,null,{"$f":"IF(P573=1,K577*B$1/(B$1+B$2+L577),99999)","v":-1.1772176177781231},2.2431782470764543,null,null,{"$f":"(8*U575+2*U585)/10","v":-13.916502072300256},237.53657846060156,122.57267778555627,-9.8645809260446846,1.3240873059214038,0.96390645763489147,-0.14731357761064956,-0.71162835511944422,-0.44085053441710897,-9.8815669663795642,1.1631794177162442,0.99123754417480192,{"$f":"AG$245+SIGN(W$245-W577)*SQRT(2*ABS(W$245-W577)/Z$5)","v":3.102258501462491},null,null,null,null,null,null,null,null,null,null,null,-20.037911962247065,349.97031901867001,53.009396650942257]
[464,{"$f":"OFFSET(Calculations!AS$43,$A578,0)-U$3-B$10","v":-16.189520406588535},{"$f":"OFFSET(Calculations!AT$43,$A578,0)-V$3-B$11","v":250.89345412282324},{"$f":"OFFSET(Calculations!AU$43,$A578,0)-W$3-B$12","v":31.106983907474138},-16.189520406588535,250.89345412282324,31.106983907474138,-16.189520406588535,250.89345412282324,31.106983907474138,-16.189520406588535,250.89345412282324,31.106983907474138,null,null,null,{"$f":"IF(P573=1,K578*B$1/(B$1+B$2+L578),99999)","v":-1.2410829134077734},2.3846503939366461,null,null,{"$f":"(7*U575+3*U585)/10","v":-14.068955909295829},236.77863842512858,122.20830200228643,-9.8668371517736198,1.3027520938278685,0.96862206648505378,-0.14667104518753327,-0.70583939507520199,-0.45040987831052348,-9.8838415770707453,1.1415888349073817,0.99365715878601935,3.1238137283643255,null,null,null,null,null,null,null,null,null,null,null,-11.932198827053941,350.09025858842676,50.131371447862151]
[463,{"$f":"OFFSET(Calculations!AS$43,$A579,0)-U$3-B$10","v":-20.917550257484695},{"$f":"OFFSET(Calculations!AT$43,$A579,0)-V$3-B$11","v":251.23603724755228},{"$f":"OFFSET(Calculations!AU$43,$A579,0)-W$3-B$12","v":27.702210154423391},-20.917550257484695,251.23603724755228,27.702210154423391,-20.917550257484695,251.23603724755228,27.702210154423391,-20.917550257484695,251.23603724755228,27.702210154423391,null,null,null,{"$f":"IF(P573=1,K579*B$1/(B$1+B$2+L579),99999)","v":-1.6014291502717002},2.1208567122898319,null,null,{"$f":"(6*U575+4*U585)/10","v":-14.221409746291405},236.02069838965554,121.84392621901659,-9.8690933775025567,1.281416881734333,0.97333767533521609,-0.14602851276441697,-0.70005043503104503,-0.45996922220393799,-9.8861184858822071,1.1199663307591037,0.99578977411736869,3.1451523718855583,null,null,null,null,null,null,null,null,null,null,null,-10.239650667309535,348.09943825791197,59.679770011943731]
[" ",null,null,null,null,null,null,null,null,null,null,null,null,null,null,null,null,null,null,null,{"$f":"(5*U575+5*U585)/10","v":-14.373863583286981},235.26275835418249,121.47955043574675,-9.8713496032314936,1.2600816696407975,0.9780532841853784,-0.14455338353927871,-0.68661143601417507,-0.47765812009882325,-9.8883976928139514,1.0983119052714096,0.99763539016884994,3.1662808323076899,null,null,null,null,null,null,null,null,null,null,null,-7.3343653844225569,351.11822798279525,43.665831520055477]
[{"$f":"A573+7","v":477},{"$f":"OFFSET(Calculations!AS$43,$A581,0)-U$3-B$10","v":-21.581809983740147},{"$f":"OFFSET(Calculations!AT$43,$A581,0)-V$3-B$11","v":271.43885579280919},{"$f":"OFFSET(Calculations!AU$43,$A581,0)-W$3-B$12","v":30.567964933275015},{"$f":"B581*F$5+C581*F$4","v":-21.581809983740147},{"$f":"C581*F$5-B581*F$4","v":271.43885579280919},{"$f":"D581","v":30.567964933275015},-21.581809983740147,{"$f":"F581*F$7+G581*F$6","v":271.43885579280919},{"$f":"G581*F$7-F581*F$6","v":30.567964933275015},{"$f":"H581*F$9+J581*F$8","v":-21.581809983740147},{"$f":"I581","v":271.43885579280919},{"$f":"J581*F$9-H581*F$8","v":30.567964933275015},{"$f":"IF(P581=1,K581*B$1/(B$1+B$2+L581),99999)","v":-1.5336766434005353},{"$f":"M581*B$1/(B$1+B$2+L581)","v":2.1722633036696726},{"$f":"IF(MIN(L581:L587)+B$2+B$1>0,1,0)","v":1},null,null,null,null,{"$f":"(4*U575+6*U585)/10","v":-14.526317420282556},234.50481831870951,121.11517465247691,-9.8736058289604305,1.238746457547262,0.98276889303554071,-0.1430782543141369,-0.67317243699739038,-0.49534701799373693,-9.8906751552784247,1.0766540466431123,0.99890666581927479,3.1872052007621865,null,null,null,null,null,null,null,null,null,null,null,-21.670955511403299,350.28213247879603,51.897667757442065]
[470,{"$f":"OFFSET(Calculations!AS$43,$A582,0)-U$3-B$10","v":-21.381105910109849},{"$f":"OFFSET(Calculations!AT$43,$A582,0)-V$3-B$11","v":261.6512560236439},{"$f":"OFFSET(Calculations!AU$43,$A582,0)-W$3-B$12","v":28.382163519884877},-21.381105910109849,261.6512560236439,28.382163519884877,-21.381105910109849,261.6512560236439,28.382163519884877,-21.381105910109849,261.6512560236439,28.382163519884877,{"$f":"IF(P581=1,K582*B$1/(B$1+B$2+L582),99999)","v":-1.5741584429301434},2.0896029663425932,null,null,null,null,null,{"$f":"(3*U575+7*U585)/10","v":-14.678771257278132},233.7468782832365,120.75079886920707,-9.8758620546893674,1.2174112454537265,0.98748450188570303,-0.14160312508899864,-0.65973343798054884,-0.5130359158886364,-9.8929508732756286,1.0549927548742113,0.99960360106864321,3.2079312797409743,null,null,null,null,null,null,null,null,null,null,null,-10.722289515217755,358.39788281657582,59.372700680382096]
[469,{"$f":"OFFSET(Calculations!AS$43,$A583,0)-U$3-B$10","v":-25.785975444643924},{"$f":"OFFSET(Calculations!AT$43,$A583,0)-V$3-B$11","v":261.14365068682048},{"$f":"OFFSET(Calculations!AU$43,$A583,0)-W$3-B$12","v":32.173666810897814},-25.785975444643924,261.14365068682048,32.173666810897814,-25.785975444643924,261.14365068682048,32.173666810897814,-25.785975444643924,261.14365068682048,32.173666810897814,{"$f":"IF(P581=1,K583*B$1/(B$1+B$2+L583),99999)","v":-1.9020158044878981},2.3731823872253917,null,null,null,null,null,{"$f":"(2*U575+8*U585)/10","v":-14.831225094273709},232.98893824776351,120.38642308593724,-9.8781182804183025,1.1960760333601912,0.99220011073586534,-0.14012799586386038,-0.64629443896370731,-0.53072481378355008,-9.8952248468055615,1.0333280299647072,0.99972619591695511,3.2284646018898471,null,null,null,null,null,null,null,null,null,null,null,-16.452215539104341,358.48578733601988,60.537727575934255]
[476,{"$f":"OFFSET(Calculations!AS$43,$A584,0)-U$3-B$10","v":-24.85135337370907},{"$f":"OFFSET(Calculations!AT$43,$A584,0)-V$3-B$11","v":270.67388465440564},{"$f":"OFFSET(Calculations!AU$43,$A584,0)-W$3-B$12","v":35.336708194306411},-24.85135337370907,270.67388465440564,35.336708194306411,-24.85135337370907,270.67388465440564,35.336708194306411,-24.85135337370907,270.67388465440564,35.336708194306411,{"$f":"IF(P581=1,K584*B$1/(B$1+B$2+L584),99999)","v":-1.7708347468314407},2.5179904598403646,null,null,null,null,null,{"$f":"(1*U575+9*U585)/10","v":-14.983678931269285},232.23099821229047,120.0220473026674,-9.8803745061472394,1.1747408212666557,0.99691571958602765,-0.13865286663871856,-0.63285543994689419,-0.54841371167846376,-9.897497075868225,1.0116598719145993,0.99927445036421059,3.2488104472572901,null,null,null,null,null,null,null,null,null,null,null,-20.096792789594538,359.57125361587185,56.09521851779774]
[478,{"$f":"OFFSET(Calculations!AS$43,$A585,0)-U$3-B$10","v":-15.791443796207897},{"$f":"OFFSET(Calculations!AT$43,$A585,0)-V$3-B$11","v":271.00716051638523},{"$f":"OFFSET(Calculations!AU$43,$A585,0)-W$3-B$12","v":31.116878144727963},-15.791443796207897,271.00716051638523,31.116878144727963,-15.791443796207897,271.00716051638523,31.116878144727963,-15.791443796207897,271.00716051638523,31.116878144727963,{"$f":"IF(P581=1,K585*B$1/(B$1+B$2+L585),99999)","v":-1.1239175377018278},2.2146679883563731,null,null,null,null,{"$f":"T575+7","v":378},{"$f":"OFFSET(Calculations!AS$46,$T585,0)","v":-15.136132768264858},{"$f":"OFFSET(Calculations!AT$46,$T585,0)","v":231.47305817681746},{"$f":"OFFSET(Calculations!AU$46,$T585,0)","v":119.65767151939755},{"$f":"OFFSET(Calculations!AS$43,$T585,0)-OFFSET(Calculations!AS$45,$T585,0)","v":-9.8826307318761764},{"$f":"OFFSET(Calculations!AT$43,$T585,0)-OFFSET(Calculations!AT$45,$T585,0)","v":1.1534056091731202},{"$f":"OFFSET(Calculations!AU$43,$T585,0)-OFFSET(Calculations!AU$45,$T585,0)","v":1.00163132843619},-0.13717773741357675,-0.6194164409301095,-0.56610260957334901,-9.8997675604636193,0.989988280723888,0.99824836441040965,3.2689738591510911,null,null,null,null,null,null,null,null,null,null,null,-13.002840545606656,360.13585404654742,51.262303464364628]
[471,{"$f":"OFFSET(Calculations!AS$43,$A586,0)-U$3-B$10","v":-15.948345599173562},{"$f":"OFFSET(Calculations!AT$43,$A586,0)-V$3-B$11","v":260.94982878823066},{"$f":"OFFSET(Calculations!AU$43,$A586,0)-W$3-B$12","v":30.389438099342428},-15.948345599173562,260.94982878823066,30.389438099342428,-15.948345599173562,260.94982878823066,30.389438099342428,-15.948345599173562,260.94982878823066,30.389438099342428,{"$f":"IF(P581=1,K586*B$1/(B$1+B$2+L586),99999)","v":-1.1772176177781231},2.2431782470764543,null,null,null,null,null,{"$f":"(9*U585+U595)/10","v":-15.278306086490582},230.80774150205167,119.14034623383318,-9.8849237275296016,1.1315596556489311,1.0017549488084625,-0.13634514061155656,-0.61176640195748178,-0.57423216357487661,-9.9020363005917442,0.96831325639257337,0.9966479380555523,3.2972970410685005,null,null,null,null,null,null,null,null,null,null,null,-8.8473888603424147,358.16320865671634,60.028197112898994]
[470,{"$f":"OFFSET(Calculations!AS$43,$A587,0)-U$3-B$10","v":-21.381105910109849},{"$f":"OFFSET(Calculations!AT$43,$A587,0)-V$3-B$11","v":261.6512560236439},{"$f":"OFFSET(Calculations!AU$43,$A587,0)-W$3-B$12","v":28.382163519884877},-21.381105910109849,261.6512560236439,28.382163519884877,-21.381105910109849,261.6512560236439,28.382163519884877,-21.381105910109849,261.6512560236439,28.382163519884877,{"$f":"IF(P581=1,K587*B$1/(B$1+B$2+L587),99999)","v":-1.5741584429301434},2.0896029663425932,null,null,null,null,null,{"$f":"(8*U585+2*U595)/10","v":-15.420479404716303},230.14242482728582,118.62302094826877,-9.8872167231830286,1.1097137021247421,1.0018785691807353,-0.13551254380953281,-0.60411636298485405,-0.58236171757634736,-9.9043009981323227,0.94666672026007104,0.99476017057950661,3.3252752560273784,null,null,null,null,null,null,null,null,null,null,null,-10.252325566407215,361.45160928120288,43.866125024678524]
[" ",null,null,null,null,null,null,null,null,null,null,null,null,null,null,null,null,null,null,null,{"$f":"(7*U585+3*U595)/10","v":-15.562652722942024},229.47710815252003,118.10569566270439,-9.8895097188364556,1.0878677486005528,1.0020021895530078,-0.13467994700750907,-0.59646632401228317,-0.59049127157784653,-9.9065616530853475,0.92504867232638133,0.99258506198227248,3.3529208099050605,null,null,null,null,null,null,null,null,null,null,null,-21.97169344446991,359.80592777573128,55.439722085281005]
[{"$f":"A581+7","v":484},{"$f":"OFFSET(Calculations!AS$43,$A589,0)-U$3-B$10","v":-21.695909116857635},{"$f":"OFFSET(Calculations!AT$43,$A589,0)-V$3-B$11","v":281.1859827835674},{"$f":"OFFSET(Calculations!AU$43,$A589,0)-W$3-B$12","v":32.933238182875954},{"$f":"B589*F$5+C589*F$4","v":-21.695909116857635},{"$f":"C589*F$5-B589*F$4","v":281.1859827835674},{"$f":"D589","v":32.933238182875954},-21.695909116857635,{"$f":"F589*F$7+G589*F$6","v":281.1859827835674},{"$f":"G589*F$7-F589*F$6","v":32.933238182875954},{"$f":"H589*F$9+J589*F$8","v":-21.695909116857635},{"$f":"I589","v":281.1859827835674},{"$f":"J589*F$9-H589*F$8","v":32.933238182875954},{"$f":"IF(P589=1,K589*B$1/(B$1+B$2+L589),99999)","v":-1.4901753792855998},{"$f":"M589*B$1/(B$1+B$2+L589)","v":2.2620071109229567},{"$f":"IF(MIN(L589:L595)+B$2+B$1>0,1,0)","v":1},null,null,null,null,{"$f":"(6*U585+4*U595)/10","v":-15.704826041167745},228.81179147775424,117.58837037714002,-9.8918027144898808,1.0660217950763637,1.0021258099252806,-0.13384735020548177,-0.58881628503962702,-0.59862082557935992,-9.9088182654508206,0.90345911259150369,0.99012261226385012,3.3802452938878753,null,null,null,null,null,null,null,null,null,null,null,-9.8913132669945441,368.42449555555572,60.065682745778275]
[477,{"$f":"OFFSET(Calculations!AS$43,$A590,0)-U$3-B$10","v":-21.581809983740147},{"$f":"OFFSET(Calculations!AT$43,$A590,0)-V$3-B$11","v":271.43885579280919},{"$f":"OFFSET(Calculations!AU$43,$A590,0)-W$3-B$12","v":30.567964933275015},-21.581809983740147,271.43885579280919,30.567964933275015,-21.581809983740147,271.43885579280919,30.567964933275015,-21.581809983740147,271.43885579280919,30.567964933275015,{"$f":"IF(P589=1,K590*B$1/(B$1+B$2+L590),99999)","v":-1.5336766434005353},2.1722633036696726,null,null,null,null,null,{"$f":"(5*U585+5*U595)/10","v":-15.84699935939347},228.14647480298839,117.07104509157564,-9.8940957101433078,1.0441758415521747,1.0022494302975531,-0.13202892964473634,-0.57199359657568039,-0.61309045961240827,-9.9110708352287435,0.88189804105543856,0.98737282142423943,3.4072596412656599,null,null,null,null,null,null,null,null,null,null,null,-15.136004116787229,368.20257411781654,62.654464159883638]
[476,{"$f":"OFFSET(Calculations!AS$43,$A591,0)-U$3-B$10","v":-24.85135337370907},{"$f":"OFFSET(Calculations!AT$43,$A591,0)-V$3-B$11","v":270.67388465440564},{"$f":"OFFSET(Calculations!AU$43,$A591,0)-W$3-B$12","v":35.336708194306411},-24.85135337370907,270.67388465440564,35.336708194306411,-24.85135337370907,270.67388465440564,35.336708194306411,-24.85135337370907,270.67388465440564,35.336708194306411,{"$f":"IF(P589=1,K591*B$1/(B$1+B$2+L591),99999)","v":-1.7708347468314407},2.5179904598403646,null,null,null,null,null,{"$f":"(4*U585+6*U595)/10","v":-15.989172677619189},227.4811581282226,116.55371980601126,-9.8963887057967348,1.0223298880279856,1.0023730506698256,-0.13021050908398379,-0.55517090811176217,-0.62756009364544241,-9.9133091579840276,0.86045309502303913,0.98406071962470543,3.4339741785519355,null,null,null,null,null,null,null,null,null,null,null,-19.836245163917262,369.13220657263179,59.2927178811955]
[483,{"$f":"OFFSET(Calculations!AS$43,$A592,0)-U$3-B$10","v":-23.608022370025129},{"$f":"OFFSET(Calculations!AT$43,$A592,0)-V$3-B$11","v":280.21547472160563},{"$f":"OFFSET(Calculations!AU$43,$A592,0)-W$3-B$12","v":38.355962355574874},-23.608022370025129,280.21547472160563,38.355962355574874,-23.608022370025129,280.21547472160563,38.355962355574874,-23.608022370025129,280.21547472160563,38.355962355574874,{"$f":"IF(P589=1,K592*B$1/(B$1+B$2+L592),99999)","v":-1.6269306378422133},2.6432747869401876,null,null,null,null,null,{"$f":"(3*U585+7*U595)/10","v":-16.131345995844914},226.81584145345678,116.03639452044686,-9.89868170145016,1.0004839345037966,1.0024966710420984,-0.12839208852323125,-0.53834821964778712,-0.6420297276785476,-9.9155332337166673,0.83912427449430493,0.9801863068652481,3.460398671607646,null,null,null,null,null,null,null,null,null,null,null,-14.23749493325195,370.10299127792132,52.834268151531234]
[485,{"$f":"OFFSET(Calculations!AS$43,$A593,0)-U$3-B$10","v":-15.943250925991313},{"$f":"OFFSET(Calculations!AT$43,$A593,0)-V$3-B$11","v":281.05313614492496},{"$f":"OFFSET(Calculations!AU$43,$A593,0)-W$3-B$12","v":31.988105412253447},-15.943250925991313,281.05313614492496,31.988105412253447,-15.943250925991313,281.05313614492496,31.988105412253447,-15.943250925991313,281.05313614492496,31.988105412253447,{"$f":"IF(P589=1,K593*B$1/(B$1+B$2+L593),99999)","v":-1.0955560305698024},2.198093848837658,null,null,null,null,null,{"$f":"(2*U585+8*U595)/10","v":-16.273519314070633},226.15052477869099,115.51906923488248,-9.900974697103587,0.97863798097960741,1.0026202914143709,-0.12657366796248226,-0.52152553118386891,-0.65649936171159595,-9.9177430624266645,0.81791157946923632,0.97574958314586757,3.4865423673526585,null,null,null,null,null,null,null,null,null,null,null,-7.9023268876100046,368.28295335214051,60.220275718694658]
[478,{"$f":"OFFSET(Calculations!AS$43,$A594,0)-U$3-B$10","v":-15.791443796207897},{"$f":"OFFSET(Calculations!AT$43,$A594,0)-V$3-B$11","v":271.00716051638523},{"$f":"OFFSET(Calculations!AU$43,$A594,0)-W$3-B$12","v":31.116878144727963},-15.791443796207897,271.00716051638523,31.116878144727963,-15.791443796207897,271.00716051638523,31.116878144727963,-15.791443796207897,271.00716051638523,31.116878144727963,{"$f":"IF(P589=1,K594*B$1/(B$1+B$2+L594),99999)","v":-1.1239175377018278},2.2146679883563731,null,null,null,null,null,{"$f":"(1*U585+9*U595)/10","v":-16.415692632296356},225.48520810392515,115.0017439493181,-9.903267692757014,0.95679202745541825,1.0027439117866437,-0.12475524740172972,-0.5047028427199507,-0.67096899574467272,-9.9199386441140192,0.79681500994783305,0.97075054846656383,3.5124140315702066,null,null,null,null,null,null,null,null,null,null,null,-13.521741467876003,371.61686580801023,45.011488537867592]
[477,{"$f":"OFFSET(Calculations!AS$43,$A595,0)-U$3-B$10","v":-21.581809983740147},{"$f":"OFFSET(Calculations!AT$43,$A595,0)-V$3-B$11","v":271.43885579280919},{"$f":"OFFSET(Calculations!AU$43,$A595,0)-W$3-B$12","v":30.567964933275015},-21.581809983740147,271.43885579280919,30.567964933275015,-21.581809983740147,271.43885579280919,30.567964933275015,-21.581809983740147,271.43885579280919,30.567964933275015,{"$f":"IF(P589=1,K595*B$1/(B$1+B$2+L595),99999)","v":-1.5336766434005353},2.1722633036696726,null,null,null,null,{"$f":"T585+7","v":385},{"$f":"OFFSET(Calculations!AS$46,$T595,0)","v":-16.557865950522078},{"$f":"OFFSET(Calculations!AT$46,$T595,0)","v":224.81989142915936},{"$f":"OFFSET(Calculations!AU$46,$T595,0)","v":114.48441866375371},{"$f":"OFFSET(Calculations!AS$43,$T595,0)-OFFSET(Calculations!AS$45,$T595,0)","v":-9.9055606884104392},{"$f":"OFFSET(Calculations!AT$43,$T595,0)-OFFSET(Calculations!AT$45,$T595,0)","v":0.93494607393122919},{"$f":"OFFSET(Calculations!AU$43,$T595,0)-OFFSET(Calculations!AU$45,$T595,0)","v":1.0028675321589162},-0.12293682684097718,-0.48788015425600406,-0.6854386297777495,-9.9221199787787313,0.77583456593009537,0.96518920282733678,3.5380219832424533,null,null,null,null,null,null,null,null,null,null,null,-21.825231543301783,369.273748776047,59.138124908279075]
[" ",null,null,null,null,null,null,null,null,null,null,null,null,null,null,null,null,null,null,null,{"$f":"(9*U595+U605)/10","v":-16.686717719915421},224.27697537795544,113.8370205141654,-9.907789002663062,0.91355593158803861,0.99839369459217553,-0.12195100308225904,-0.47870750476471358,-0.69177870980929868,-9.9242870664208045,0.75497024741602314,0.95906554622818641,3.5697091517950108,null,null,null,null,null,null,null,null,null,null,null,-9.3992023557704645,378.47522296266857,60.732326672106296]
[{"$f":"A589+7","v":491},{"$f":"OFFSET(Calculations!AS$43,$A597,0)-U$3-B$10","v":-21.679440034792336},{"$f":"OFFSET(Calculations!AT$43,$A597,0)-V$3-B$11","v":290.89580847132447},{"$f":"OFFSET(Calculations!AU$43,$A597,0)-W$3-B$12","v":35.449681258060806},{"$f":"B597*F$5+C597*F$4","v":-21.679440034792336},{"$f":"C597*F$5-B597*F$4","v":290.89580847132447},{"$f":"D597","v":35.449681258060806},-21.679440034792336,{"$f":"F597*F$7+G597*F$6","v":290.89580847132447},{"$f":"G597*F$7-F597*F$6","v":35.449681258060806},{"$f":"H597*F$9+J597*F$8","v":-21.679440034792336},{"$f":"I597","v":290.89580847132447},{"$f":"J597*F$9-H597*F$8","v":35.449681258060806},{"$f":"IF(P597=1,K597*B$1/(B$1+B$2+L597),99999)","v":-1.4409931560650768},{"$f":"M597*B$1/(B$1+B$2+L597)","v":2.3562761766712468},{"$f":"IF(MIN(L597:L603)+B$2+B$1>0,1,0)","v":1},null,null,null,null,{"$f":"(8*U595+2*U605)/10","v":-16.815569489308764},223.73405932675149,113.1896223645771,-9.9100173169156864,0.89216578924484791,0.99391985702543484,-0.12096517932352668,-0.46953485527339467,-0.69811878984089049,-9.9264439496277781,0.73419356620680387,0.95266691979030105,3.6010103156689151,null,null,null,null,null,null,null,null,null,null,null,-13.795865177518895,377.95796467117668,64.570127590827497]
[484,{"$f":"OFFSET(Calculations!AS$43,$A598,0)-U$3-B$10","v":-21.695909116857635},{"$f":"OFFSET(Calculations!AT$43,$A598,0)-V$3-B$11","v":281.1859827835674},{"$f":"OFFSET(Calculations!AU$43,$A598,0)-W$3-B$12","v":32.933238182875954},-21.695909116857635,281.1859827835674,32.933238182875954,-21.695909116857635,281.1859827835674,32.933238182875954,-21.695909116857635,281.1859827835674,32.933238182875954,{"$f":"IF(P597=1,K598*B$1/(B$1+B$2+L598),99999)","v":-1.4901753792855998},2.2620071109229567,null,null,null,null,null,{"$f":"(7*U595+3*U605)/10","v":-16.9444212587021},223.19114327554763,112.54222421498878,-9.9122456311683091,0.87077564690165732,0.98944601945869404,-0.11997935556480499,-0.46036220578207576,-0.70445886987243966,-9.9285906283996663,0.71350452230243777,0.94599332351368093,3.6319392469457172,null,null,null,null,null,null,null,null,null,null,null,-19.236832201240812,378.66904486125844,62.516555383661583]
[483,{"$f":"OFFSET(Calculations!AS$43,$A599,0)-U$3-B$10","v":-23.608022370025129},{"$f":"OFFSET(Calculations!AT$43,$A599,0)-V$3-B$11","v":280.21547472160563},{"$f":"OFFSET(Calculations!AU$43,$A599,0)-W$3-B$12","v":38.355962355574874},-23.608022370025129,280.21547472160563,38.355962355574874,-23.608022370025129,280.21547472160563,38.355962355574874,-23.608022370025129,280.21547472160563,38.355962355574874,{"$f":"IF(P597=1,K599*B$1/(B$1+B$2+L599),99999)","v":-1.6269306378422133},2.6432747869401876,null,null,null,null,null,{"$f":"(6*U595+4*U605)/10","v":-17.073273028095446},222.64822722434369,111.89482606540045,-9.9144739454209336,0.84938550455846662,0.98497218189195335,-0.11899353180607264,-0.45118955629075685,-0.71079894990403147,-9.9307271027364603,0.69290311570292462,0.93904475739832571,3.6625089177334735,null,null,null,null,null,null,null,null,null,null,null,-15.514829559745715,379.97985646779449,54.872703653750065]
[490,{"$f":"OFFSET(Calculations!AS$43,$A600,0)-U$3-B$10","v":-22.103520612702585},{"$f":"OFFSET(Calculations!AT$43,$A600,0)-V$3-B$11","v":289.78560740965463},{"$f":"OFFSET(Calculations!AU$43,$A600,0)-W$3-B$12","v":41.158237053190277},-22.103520612702585,289.78560740965463,41.158237053190277,-22.103520612702585,289.78560740965463,41.158237053190277,-22.103520612702585,289.78560740965463,41.158237053190277,{"$f":"IF(P597=1,K600*B$1/(B$1+B$2+L600),99999)","v":-1.4746218675200309},2.7458447661196672,null,null,null,null,null,{"$f":"(5*U595+5*U605)/10","v":-17.202124797488789},222.10531117313977,111.24742791581215,-9.9167022596735563,0.82799536221527603,0.98049834432521266,-0.11691227412930516,-0.43172748159594221,-0.72140912542555213,-9.9328533726381618,0.67238934640826464,0.93182122144423563,3.6927315637484823,null,null,null,null,null,null,null,null,null,null,null,-7.4316763866763935,378.43645858295059,60.375480929795074]
[492,{"$f":"OFFSET(Calculations!AS$43,$A601,0)-U$3-B$10","v":-16.356228809413327},{"$f":"OFFSET(Calculations!AT$43,$A601,0)-V$3-B$11","v":291.07056915261546},{"$f":"OFFSET(Calculations!AU$43,$A601,0)-W$3-B$12","v":33.076312143431949},-16.356228809413327,291.07056915261546,33.076312143431949,-16.356228809413327,291.07056915261546,33.076312143431949,-16.356228809413327,291.07056915261546,33.076312143431949,{"$f":"IF(P597=1,K601*B$1/(B$1+B$2+L601),99999)","v":-1.0865378741900342},2.1972464619525969,null,null,null,null,null,{"$f":"(4*U595+6*U605)/10","v":-17.330976566882129},221.56239512193588,110.60002976622384,-9.9189305739261791,0.80660521987208544,0.97602450675847197,-0.11483101645253413,-0.41226540690109914,-0.73201930094703016,-9.9349535233072768,0.65210612340345908,0.9240722828637441,3.7226187415435943,null,null,null,null,null,null,null,null,null,null,null,-16.882615024020115,381.58868224588701,47.156432369025374]
[485,{"$f":"OFFSET(Calculations!AS$43,$A602,0)-U$3-B$10","v":-15.943250925991313},{"$f":"OFFSET(Calculations!AT$43,$A602,0)-V$3-B$11","v":281.05313614492496},{"$f":"OFFSET(Calculations!AU$43,$A602,0)-W$3-B$12","v":31.988105412253447},-15.943250925991313,281.05313614492496,31.988105412253447,-15.943250925991313,281.05313614492496,31.988105412253447,-15.943250925991313,281.05313614492496,31.988105412253447,{"$f":"IF(P597=1,K602*B$1/(B$1+B$2+L602),99999)","v":-1.0955560305698024},2.198093848837658,null,null,null,null,null,{"$f":"(3*U595+7*U605)/10","v":-17.459828336275471},221.01947907073196,109.95263161663551,-9.9211588881788035,0.78521507752889474,0.97155066919173128,-0.11274975877576665,-0.39280333220628449,-0.74262947646856503,-9.9370275547438052,0.63205344668850783,0.91579794165685124,3.7521813801422148,null,null,null,null,null,null,null,null,null,null,null,-21.204358170334881,378.70780924097642,62.873401125972684]
[484,{"$f":"OFFSET(Calculations!AS$43,$A603,0)-U$3-B$10","v":-21.695909116857635},{"$f":"OFFSET(Calculations!AT$43,$A603,0)-V$3-B$11","v":281.1859827835674},{"$f":"OFFSET(Calculations!AU$43,$A603,0)-W$3-B$12","v":32.933238182875954},-21.695909116857635,281.1859827835674,32.933238182875954,-21.695909116857635,281.1859827835674,32.933238182875954,-21.695909116857635,281.1859827835674,32.933238182875954,{"$f":"IF(P597=1,K603*B$1/(B$1+B$2+L603),99999)","v":-1.4901753792855998},2.2620071109229567,null,null,null,null,null,{"$f":"(2*U595+8*U605)/10","v":-17.588680105668811},220.47656301952802,109.3052334670472,-9.9233872024314262,0.76382493518570416,0.96707683162499047,-0.11066850109900273,-0.37334125751138458,-0.75323965199008569,-9.939075466947747,0.61223131626341121,0.90699819782355695,3.7814298277322376,null,null,null,null,null,null,null,null,null,null,null,-9.2423005528047959,388.53255469082279,61.459766717491718]
[" ",null,null,null,null,null,null,null,null,null,null,null,null,null,null,null,null,null,null,null,{"$f":"(1*U595+9*U605)/10","v":-17.717531875062157},219.93364696832413,108.6578353174589,-9.9256155166840507,0.74243479284251346,0.96260299405824978,-0.10858724342223169,-0.35387918281662678,-0.76384982751156372,-9.9410972599191041,0.59263973212816867,0.89767305136386133,3.8103738939855774,null,null,null,null,null,null,null,null,null,null,null,-12.484979046174461,387.75483044675531,66.285181273078749]
[{"$f":"A597+7","v":498},{"$f":"OFFSET(Calculations!AS$43,$A605,0)-U$3-B$10","v":-21.497088723305716},{"$f":"OFFSET(Calculations!AT$43,$A605,0)-V$3-B$11","v":300.57396059351379},{"$f":"OFFSET(Calculations!AU$43,$A605,0)-W$3-B$12","v":38.079052165121929},{"$f":"B605*F$5+C605*F$4","v":-21.497088723305716},{"$f":"C605*F$5-B605*F$4","v":300.57396059351379},{"$f":"D605","v":38.079052165121929},-21.497088723305716,{"$f":"F605*F$7+G605*F$6","v":300.57396059351379},{"$f":"G605*F$7-F605*F$6","v":38.079052165121929},{"$f":"H605*F$9+J605*F$8","v":-21.497088723305716},{"$f":"I605","v":300.57396059351379},{"$f":"J605*F$9-H605*F$8","v":38.079052165121929},{"$f":"IF(P605=1,K605*B$1/(B$1+B$2+L605),99999)","v":-1.3843458532211972},{"$f":"M605*B$1/(B$1+B$2+L605)","v":2.4521728796807052},{"$f":"IF(MIN(L605:L611)+B$2+B$1>0,1,0)","v":1},null,null,null,{"$f":"T595+7","v":392},{"$f":"OFFSET(Calculations!AS$46,$T605,0)","v":-17.846383644455496},{"$f":"OFFSET(Calculations!AT$46,$T605,0)","v":219.39073091712021},{"$f":"OFFSET(Calculations!AU$46,$T605,0)","v":108.01043716787058},{"$f":"OFFSET(Calculations!AS$43,$T605,0)-OFFSET(Calculations!AS$45,$T605,0)","v":-9.9278438309366734},{"$f":"OFFSET(Calculations!AT$43,$T605,0)-OFFSET(Calculations!AT$45,$T605,0)","v":0.72104465049932287},{"$f":"OFFSET(Calculations!AU$43,$T605,0)-OFFSET(Calculations!AU$45,$T605,0)","v":0.95812915649150909},-0.10650598574546422,-0.33441710812184056,-0.7744600030331128,-9.9430929336578746,0.57327869428278067,0.88782250227776416,3.8390228884939868,null,null,null,null,null,null,null,null,null,null,null,-18.302210130305955,388.1992788288436,65.679596767070151]
[491,{"$f":"OFFSET(Calculations!AS$43,$A606,0)-U$3-B$10","v":-21.679440034792336},{"$f":"OFFSET(Calculations!AT$43,$A606,0)-V$3-B$11","v":290.89580847132447},{"$f":"OFFSET(Calculations!AU$43,$A606,0)-W$3-B$12","v":35.449681258060806},-21.679440034792336,290.89580847132447,35.449681258060806,-21.679440034792336,290.89580847132447,35.449681258060806,-21.679440034792336,290.89580847132447,35.449681258060806,{"$f":"IF(P605=1,K606*B$1/(B$1+B$2+L606),99999)","v":-1.4409931560650768},2.3562761766712468,null,null,null,null,null,{"$f":"(9*U605+U615)/10","v":-17.95946223370921},218.99457725777739,107.26159773777712,-9.9299088742278219,0.70105670503378126,0.94925580150500932,-0.10541055182742198,-0.3241276829183164,-0.77873009852302744,-9.9450624881640568,0.5541482027272473,0.87744655056526566,3.8718044534605944,null,null,null,null,null,null,null,null,null,null,null,-16.710603407098805,389.76078769185909,57.371258900242296]
[490,{"$f":"OFFSET(Calculations!AS$43,$A607,0)-U$3-B$10","v":-22.103520612702585},{"$f":"OFFSET(Calculations!AT$43,$A607,0)-V$3-B$11","v":289.78560740965463},{"$f":"OFFSET(Calculations!AU$43,$A607,0)-W$3-B$12","v":41.158237053190277},-22.103520612702585,289.78560740965463,41.158237053190277,-22.103520612702585,289.78560740965463,41.158237053190277,-22.103520612702585,289.78560740965463,41.158237053190277,{"$f":"IF(P605=1,K607*B$1/(B$1+B$2+L607),99999)","v":-1.4746218675200309},2.7458447661196672,null,null,null,null,null,{"$f":"(8*U605+2*U615)/10","v":-18.072540822962925},218.59842359843452,106.51275830768368,-9.9319739175189703,0.68106875956823953,0.94038244651850955,-0.1043151179093762,-0.31383825771476381,-0.7830001940129705,-9.9470161278727467,0.53516062015671506,0.86682016606510071,3.9042160175233978,null,null,null,null,null,null,null,null,null,null,null,-7.4303186373045822,388.59920986321913,60.615800707575914]
[497,{"$f":"OFFSET(Calculations!AS$43,$A608,0)-U$3-B$10","v":-20.403184636107373},{"$f":"OFFSET(Calculations!AT$43,$A608,0)-V$3-B$11","v":299.3995241073452},{"$f":"OFFSET(Calculations!AU$43,$A608,0)-W$3-B$12","v":43.685126837511845},-20.403184636107373,299.3995241073452,43.685126837511845,-20.403184636107373,299.3995241073452,43.685126837511845,-20.403184636107373,299.3995241073452,43.685126837511845,{"$f":"IF(P605=1,K608*B$1/(B$1+B$2+L608),99999)","v":-1.3188892061145221},2.8238651603326597,null,null,null,null,null,{"$f":"(7*U605+3*U615)/10","v":-18.185619412216635},218.20226993909168,105.76391887759023,-9.9340389608101187,0.66108081410269792,0.93150909153200989,-0.10321968399133752,-0.3035488325112965,-0.78727028950291356,-9.9489538527839425,0.51631594657118429,0.85594334877726941,3.9362698333025912,null,null,null,null,null,null,null,null,null,null,null,-20.068715482005537,391.35492589988854,50.287347080769571]
[499,{"$f":"OFFSET(Calculations!AS$43,$A609,0)-U$3-B$10","v":-16.965040912108059},{"$f":"OFFSET(Calculations!AT$43,$A609,0)-V$3-B$11","v":301.04421815066456},{"$f":"OFFSET(Calculations!AU$43,$A609,0)-W$3-B$12","v":34.439903787904328},-16.965040912108059,301.04421815066456,34.439903787904328,-16.965040912108059,301.04421815066456,34.439903787904328,-16.965040912108059,301.04421815066456,34.439903787904328,{"$f":"IF(P605=1,K609*B$1/(B$1+B$2+L609),99999)","v":-1.0908443187258012},2.2144699549581222,null,null,null,null,null,{"$f":"(6*U605+4*U615)/10","v":-18.298698001470349},217.80611627974886,105.01507944749679,-9.9361040041012672,0.6410928686371562,0.92263573654551012,-0.10212425007329884,-0.29325940730777234,-0.79154038499287083,-9.9508756628976442,0.49761418197065482,0.84481609870177155,3.9679774917418404,null,null,null,null,null,null,null,null,null,null,null,-20.11419204580621,388.13262365644749,66.523562776985699]
[492,{"$f":"OFFSET(Calculations!AS$43,$A610,0)-U$3-B$10","v":-16.356228809413327},{"$f":"OFFSET(Calculations!AT$43,$A610,0)-V$3-B$11","v":291.07056915261546},{"$f":"OFFSET(Calculations!AU$43,$A610,0)-W$3-B$12","v":33.076312143431949},-16.356228809413327,291.07056915261546,33.076312143431949,-16.356228809413327,291.07056915261546,33.076312143431949,-16.356228809413327,291.07056915261546,33.076312143431949,{"$f":"IF(P605=1,K610*B$1/(B$1+B$2+L610),99999)","v":-1.0865378741900342},2.1972464619525969,null,null,null,null,null,{"$f":"(5*U605+5*U615)/10","v":-18.41177659072406},217.40996262040599,104.26624001740333,-9.9381690473924156,0.62110492317161459,0.91376238155901035,-9.9872238468400099E-2,-0.27201902663216515,-0.79782166527856191,-9.9527815582138519,0.47905532635512671,0.83343841583860723,3.9993499710786589,null,null,null,null,null,null,null,null,null,null,null,-9.3941076825882099,398.57853031936287,62.330993985017138]
[491,{"$f":"OFFSET(Calculations!AS$43,$A611,0)-U$3-B$10","v":-21.679440034792336},{"$f":"OFFSET(Calculations!AT$43,$A611,0)-V$3-B$11","v":290.89580847132447},{"$f":"OFFSET(Calculations!AU$43,$A611,0)-W$3-B$12","v":35.449681258060806},-21.679440034792336,290.89580847132447,35.449681258060806,-21.679440034792336,290.89580847132447,35.449681258060806,-21.679440034792336,290.89580847132447,35.449681258060806,{"$f":"IF(P605=1,K611*B$1/(B$1+B$2+L611),99999)","v":-1.4409931560650768},2.3562761766712468,null,null,null,null,null,{"$f":"(4*U605+6*U615)/10","v":-18.524855179977774},217.01380896106315,103.51740058730987,-9.940234090683564,0.60111697770607297,0.90488902657251058,-9.7620226863504911E-2,-0.25077864595658639,-0.80410294556429562,-9.9546506177071468,0.46083123752301791,0.82159548460223186,4.0303976812512445,null,null,null,null,null,null,null,null,null,null,null,-11.272090343107861,397.59821683904414,67.793510127519014]
[" ",null,null,null,null,null,null,null,null,null,null,null,null,null,null,null,null,null,null,null,{"$f":"(3*U605+7*U615)/10","v":-18.637933769231488},216.61765530172033,102.76856115721641,-9.9422991339747107,0.58112903224053125,0.89601567158601081,-9.5368215258602618E-2,-0.22953826528095078,-0.81038422585000092,-9.9564828413775288,0.44294191547432843,0.80928730499264545,4.0611305042510484,null,null,null,null,null,null,null,null,null,null,null,-17.058879126622017,397.74086889604354,68.698850928338445]
[{"$f":"A605+7","v":505},{"$f":"OFFSET(Calculations!AS$43,$A613,0)-U$3-B$10","v":-21.124482388073424},{"$f":"OFFSET(Calculations!AT$43,$A613,0)-V$3-B$11","v":310.22815600493544},{"$f":"OFFSET(Calculations!AU$43,$A613,0)-W$3-B$12","v":40.775660443766355},{"$f":"B613*F$5+C613*F$4","v":-21.124482388073424},{"$f":"C613*F$5-B613*F$4","v":310.22815600493544},{"$f":"D613","v":40.775660443766355},-21.124482388073424,{"$f":"F613*F$7+G613*F$6","v":310.22815600493544},{"$f":"G613*F$7-F613*F$6","v":40.775660443766355},{"$f":"H613*F$9+J613*F$8","v":-21.124482388073424},{"$f":"I613","v":310.22815600493544},{"$f":"J613*F$9-H613*F$8","v":40.775660443766355},{"$f":"IF(P613=1,K613*B$1/(B$1+B$2+L613),99999)","v":-1.3193394766791118},{"$f":"M613*B$1/(B$1+B$2+L613)","v":2.5466630387827554},{"$f":"IF(MIN(L613:L619)+B$2+B$1>0,1,0)","v":1},null,null,null,null,{"$f":"(2*U605+8*U615)/10","v":-18.751012358485202},216.22150164237746,102.01972172712297,-9.9443641772658591,0.56114108677498964,0.88714231659951115,-9.3116203653703877E-2,-0.2082978846053436,-0.81666550613572042,-9.9582782292249998,0.42538736020905826,0.7965138770098481,4.0915578308645042,null,null,null,null,null,null,null,null,null,null,null,-17.706133689634846,399.44666076703948,60.292226420041345]
[498,{"$f":"OFFSET(Calculations!AS$43,$A614,0)-U$3-B$10","v":-21.497088723305716},{"$f":"OFFSET(Calculations!AT$43,$A614,0)-V$3-B$11","v":300.57396059351379},{"$f":"OFFSET(Calculations!AU$43,$A614,0)-W$3-B$12","v":38.079052165121929},-21.497088723305716,300.57396059351379,38.079052165121929,-21.497088723305716,300.57396059351379,38.079052165121929,-21.497088723305716,300.57396059351379,38.079052165121929,{"$f":"IF(P613=1,K614*B$1/(B$1+B$2+L614),99999)","v":-1.3843458532211972},2.4521728796807052,null,null,null,null,null,{"$f":"(1*U605+9*U615)/10","v":-18.864090947738912},215.82534798303459,101.27088229702952,-9.9464292205570075,0.54115314130944792,0.87826896161301138,-9.0864192048812242E-2,-0.18705750392973641,-0.82294678642143992,-9.9600367812495598,0.40816757172720736,0.7832752006538396,4.1216885941911325,null,null,null,null,null,null,null,null,null,null,null,-7.8611533937814615,398.74606260402675,61.057422596352822]
[497,{"$f":"OFFSET(Calculations!AS$43,$A615,0)-U$3-B$10","v":-20.403184636107373},{"$f":"OFFSET(Calculations!AT$43,$A615,0)-V$3-B$11","v":299.3995241073452},{"$f":"OFFSET(Calculations!AU$43,$A615,0)-W$3-B$12","v":43.685126837511845},-20.403184636107373,299.3995241073452,43.685126837511845,-20.403184636107373,299.3995241073452,43.685126837511845,-20.403184636107373,299.3995241073452,43.685126837511845,{"$f":"IF(P613=1,K615*B$1/(B$1+B$2+L615),99999)","v":-1.3188892061145221},2.8238651603326597,null,null,null,null,{"$f":"T605+7","v":399},{"$f":"OFFSET(Calculations!AS$46,$T615,0)","v":-18.977169536992626},{"$f":"OFFSET(Calculations!AT$46,$T615,0)","v":215.42919432369177},{"$f":"OFFSET(Calculations!AU$46,$T615,0)","v":100.52204286693606},{"$f":"OFFSET(Calculations!AS$43,$T615,0)-OFFSET(Calculations!AS$45,$T615,0)","v":-9.9484942638481559},{"$f":"OFFSET(Calculations!AT$43,$T615,0)-OFFSET(Calculations!AT$45,$T615,0)","v":0.5211651958439063},{"$f":"OFFSET(Calculations!AU$43,$T615,0)-OFFSET(Calculations!AU$45,$T615,0)","v":0.86939560662651161},-8.8612180443913502E-2,-0.16581712325410081,-0.82922806670717364,-9.961758497451207,0.39128255002877577,0.76957127592462005,4.1515313002771155,null,null,null,null,null,null,null,null,null,null,null,-22.825722586811683,400.917473520567,54.323430949599711]
[504,{"$f":"OFFSET(Calculations!AS$43,$A616,0)-U$3-B$10","v":-18.585696753017434},{"$f":"OFFSET(Calculations!AT$43,$A616,0)-V$3-B$11","v":309.06948239556925},{"$f":"OFFSET(Calculations!AU$43,$A616,0)-W$3-B$12","v":45.896993285644825},-18.585696753017434,309.06948239556925,45.896993285644825,-18.585696753017434,309.06948239556925,45.896993285644825,-18.585696753017434,309.06948239556925,45.896993285644825,{"$f":"IF(P613=1,K616*B$1/(B$1+B$2+L616),99999)","v":-1.1649936943813166},2.8769278052573903,null,null,null,null,null,{"$f":"(9*U615+U625)/10","v":-19.072721183557672},215.19767146760501,99.704881909003561,-9.9503046703793991,0.50346379413838638,0.85651532703734856,-8.7455602757060547E-2,-0.15486616778198936,-0.83123925150293587,-9.9634433778299396,0.37473229511376349,0.75540210282218945,4.1837775952647025,null,null,null,null,null,null,null,null,null,null,null,-18.591833415428802,397.57333661137949,69.972422317002923]
[506,{"$f":"OFFSET(Calculations!AS$43,$A617,0)-U$3-B$10","v":-17.691004921297495},{"$f":"OFFSET(Calculations!AT$43,$A617,0)-V$3-B$11","v":310.96182555818018},{"$f":"OFFSET(Calculations!AU$43,$A617,0)-W$3-B$12","v":36.118518768565252},-17.691004921297495,310.96182555818018,36.118518768565252,-17.691004921297495,310.96182555818018,36.118518768565252,-17.691004921297495,310.96182555818018,36.118518768565252,{"$f":"IF(P613=1,K617*B$1/(B$1+B$2+L617),99999)","v":-1.1023743954927547},2.2506426554467684,null,null,null,null,null,{"$f":"(8*U615+2*U625)/10","v":-19.168272830122721},214.96614861151829,98.88772095107106,-9.9521150769106406,0.48576239243286634,0.84363504744818552,-8.6299025070196933E-2,-0.14391521230993476,-0.83325043629871232,-9.965107337183257,0.35837389799716918,0.74101811413421426,4.2157005481842713,null,null,null,null,null,null,null,null,null,null,null,-9.8070855660102652,408.5959633270536,63.419200716195661]
[499,{"$f":"OFFSET(Calculations!AS$43,$A618,0)-U$3-B$10","v":-16.965040912108059},{"$f":"OFFSET(Calculations!AT$43,$A618,0)-V$3-B$11","v":301.04421815066456},{"$f":"OFFSET(Calculations!AU$43,$A618,0)-W$3-B$12","v":34.439903787904328},-16.965040912108059,301.04421815066456,34.439903787904328,-16.965040912108059,301.04421815066456,34.439903787904328,-16.965040912108059,301.04421815066456,34.439903787904328,{"$f":"IF(P613=1,K618*B$1/(B$1+B$2+L618),99999)","v":-1.0908443187258012},2.2144699549581222,null,null,null,null,null,{"$f":"(7*U615+3*U625)/10","v":-19.263824476687766},214.73462575543152,98.070559993138573,-9.9539254834418838,0.46806099072734642,0.83075476785902258,-8.5142447383343978E-2,-0.13296425683779489,-0.83526162109448876,-9.9667503755111557,0.34220735867899277,0.72641930986069458,4.2473096949745557,null,null,null,null,null,null,null,null,null,null,null,-10.196327881538453,407.47911024490105,69.151473394386471]
[498,{"$f":"OFFSET(Calculations!AS$43,$A619,0)-U$3-B$10","v":-21.497088723305716},{"$f":"OFFSET(Calculations!AT$43,$A619,0)-V$3-B$11","v":300.57396059351379},{"$f":"OFFSET(Calculations!AU$43,$A619,0)-W$3-B$12","v":38.079052165121929},-21.497088723305716,300.57396059351379,38.079052165121929,-21.497088723305716,300.57396059351379,38.079052165121929,-21.497088723305716,300.57396059351379,38.079052165121929,{"$f":"IF(P613=1,K619*B$1/(B$1+B$2+L619),99999)","v":-1.3843458532211972},2.4521728796807052,null,null,null,null,null,{"$f":"(6*U615+4*U625)/10","v":-19.359376123252815},214.50310289934478,97.253399035206058,-9.955735889973127,0.45035958902182643,0.81787448826985953,-8.398586969648747E-2,-0.12201330136568345,-0.83727280589027941,-9.9683724928136357,0.32623267715923437,0.71160569000163021,4.278614111870878,null,null,null,null,null,null,null,null,null,null,null,-15.554377369299498,407.31100158409254,71.501125625953932]
[" ",null,null,null,null,null,null,null,null,null,null,null,null,null,null,null,null,null,null,null,{"$f":"(5*U615+5*U625)/10","v":-19.454927769817864},214.27158004325801,96.436238077273572,-9.9575462965043702,0.43265818731630645,0.80499420868069649,-8.1662742190054871E-2,-9.9934374349061272E-2,-0.83894728190506385,-9.9699736890907005,0.31044985343789389,0.69657725455702124,4.3096224458451431,null,null,null,null,null,null,null,null,null,null,null,-18.396383889701767,409.04482956601487,63.569112043824006]
[{"$f":"A613+7","v":512},{"$f":"OFFSET(Calculations!AS$43,$A621,0)-U$3-B$10","v":-20.549780431755579},{"$f":"OFFSET(Calculations!AT$43,$A621,0)-V$3-B$11","v":319.86769968746063},{"$f":"OFFSET(Calculations!AU$43,$A621,0)-W$3-B$12","v":43.489335892195555},{"$f":"B621*F$5+C621*F$4","v":-20.549780431755579},{"$f":"C621*F$5-B621*F$4","v":319.86769968746063},{"$f":"D621","v":43.489335892195555},-20.549780431755579,{"$f":"F621*F$7+G621*F$6","v":319.86769968746063},{"$f":"G621*F$7-F621*F$6","v":43.489335892195555},{"$f":"H621*F$9+J621*F$8","v":-20.549780431755579},{"$f":"I621","v":319.86769968746063},{"$f":"J621*F$9-H621*F$8","v":43.489335892195555},{"$f":"IF(P621=1,K621*B$1/(B$1+B$2+L621),99999)","v":-1.2459407484410179},{"$f":"M621*B$1/(B$1+B$2+L621)","v":2.6367744361391154},{"$f":"IF(MIN(L621:L627)+B$2+B$1>0,1,0)","v":1},null,null,null,null,{"$f":"(4*U615+6*U625)/10","v":-19.55047941638291},214.04005718717127,95.619077119341085,-9.9593567030356134,0.41495678561078647,0.79211392909153344,{"$f":"(SUM(U622:U637)-SUM(U621:U636))/16","v":-7.9339614683622273E-2},{"$f":"(SUM(V622:V637)-SUM(V621:V636))/16","v":-7.7855447332439098E-2},{"$f":"(SUM(W622:W637)-SUM(W621:W636))/16","v":-0.84062175791991933},{"$f":"SUM(X621:X636)/16","v":-9.9715289627190824},{"$f":"SUM(Y621:Y636)/16","v":0.29509120556823498},{"$f":"SUM(Z621:Z636)/16","v":0.68116430944661088},4.3403429425023283,null,null,null,null,null,null,null,null,null,null,null,-8.6576272053523819,408.85295567564566,61.802815734244]
[505,{"$f":"OFFSET(Calculations!AS$43,$A622,0)-U$3-B$10","v":-21.124482388073424},{"$f":"OFFSET(Calculations!AT$43,$A622,0)-V$3-B$11","v":310.22815600493544},{"$f":"OFFSET(Calculations!AU$43,$A622,0)-W$3-B$12","v":40.775660443766355},-21.124482388073424,310.22815600493544,40.775660443766355,-21.124482388073424,310.22815600493544,40.775660443766355,-21.124482388073424,310.22815600493544,40.775660443766355,{"$f":"IF(P621=1,K622*B$1/(B$1+B$2+L622),99999)","v":-1.3193394766791118},2.5466630387827554,null,null,null,null,null,{"$f":"(3*U615+7*U625)/10","v":-19.646031062947959},213.8085343310845,94.80191616140857,-9.9611671095668548,0.39725538390526649,0.7792336495023704,-7.7016487177182569E-2,-5.5776520315816924E-2,-0.84229623393477482,-9.9730383136987903,0.28015673355025772,0.66536685467039913,4.3707834716884797,null,null,null,null,null,null,null,null,null,null,null,-24.928558086326738,410.29208340652025,59.122196469823081]
[504,{"$f":"OFFSET(Calculations!AS$43,$A623,0)-U$3-B$10","v":-18.585696753017434},{"$f":"OFFSET(Calculations!AT$43,$A623,0)-V$3-B$11","v":309.06948239556925},{"$f":"OFFSET(Calculations!AU$43,$A623,0)-W$3-B$12","v":45.896993285644825},-18.585696753017434,309.06948239556925,45.896993285644825,-18.585696753017434,309.06948239556925,45.896993285644825,-18.585696753017434,309.06948239556925,45.896993285644825,{"$f":"IF(P621=1,K623*B$1/(B$1+B$2+L623),99999)","v":-1.1649936943813166},2.8769278052573903,null,null,null,null,null,{"$f":"(2*U615+8*U625)/10","v":-19.741582709513004},213.57701147499779,93.984755203476084,-9.9629775160980962,0.37955398219974656,0.76635336991320746,-7.4693359670753523E-2,-3.3697593299137907E-2,-0.84397070994955925,-9.974501742029819,0.26564643738396204,0.64918489022838588,4.400951551035587,null,null,null,null,null,null,null,null,null,null,null,-16.703835729957337,407.05400923550025,73.117510607905686]
[511,{"$f":"OFFSET(Calculations!AS$43,$A624,0)-U$3-B$10","v":-16.737722985035706},{"$f":"OFFSET(Calculations!AT$43,$A624,0)-V$3-B$11","v":318.80392071343664},{"$f":"OFFSET(Calculations!AU$43,$A624,0)-W$3-B$12","v":47.775666294454815},-16.737722985035706,318.80392071343664,47.775666294454815,-16.737722985035706,318.80392071343664,47.775666294454815,-16.737722985035706,318.80392071343664,47.775666294454815,{"$f":"IF(P621=1,K624*B$1/(B$1+B$2+L624),99999)","v":-1.0180975305110902},2.9060277742912239,null,null,null,null,null,{"$f":"(1*U615+9*U625)/10","v":-19.83713435607805},213.34548861891102,93.167594245543583,-9.9647879226293394,0.36185258049422658,0.75347309032404441,-7.2370232164313819E-2,-1.1618666282515733E-2,-0.84564518596444316,-9.9759192477121719,0.25156031706934795,0.63261841612057135,4.4308543676429188,null,null,null,null,null,null,null,null,null,null,null,-10.41589766870498,418.5696123251023,64.782792360668026]
[513,{"$f":"OFFSET(Calculations!AS$43,$A625,0)-U$3-B$10","v":-18.447454815378695},{"$f":"OFFSET(Calculations!AT$43,$A625,0)-V$3-B$11","v":320.81495293605235},{"$f":"OFFSET(Calculations!AU$43,$A625,0)-W$3-B$12","v":38.130327188549117},-18.447454815378695,320.81495293605235,38.130327188549117,-18.447454815378695,320.81495293605235,38.130327188549117,-18.447454815378695,320.81495293605235,38.130327188549117,{"$f":"IF(P621=1,K625*B$1/(B$1+B$2+L625),99999)","v":-1.115273336447077},2.3052360148859319,null,null,null,null,{"$f":"T615+7","v":406},{"$f":"OFFSET(Calculations!AS$46,$T625,0)","v":-19.932686002643099},{"$f":"OFFSET(Calculations!AT$46,$T625,0)","v":213.11396576282428},{"$f":"OFFSET(Calculations!AU$46,$T625,0)","v":92.350433287611082},{"$f":"OFFSET(Calculations!AS$43,$T625,0)-OFFSET(Calculations!AS$45,$T625,0)","v":-9.9665983291605826},{"$f":"OFFSET(Calculations!AT$43,$T625,0)-OFFSET(Calculations!AT$45,$T625,0)","v":0.3441511787887066},{"$f":"OFFSET(Calculations!AU$43,$T625,0)-OFFSET(Calculations!AU$45,$T625,0)","v":0.74059281073488137},-7.0047104657881221E-2,1.0460260734163285E-2,-0.8473196619792418,-9.9772908307458454,0.23789837260641544,0.61566743234695531,4.4604987980719795,null,null,null,null,null,null,null,null,null,null,null,-9.2919951710286135,417.39142105237624,70.399354975978156]
[506,{"$f":"OFFSET(Calculations!AS$43,$A626,0)-U$3-B$10","v":-17.691004921297495},{"$f":"OFFSET(Calculations!AT$43,$A626,0)-V$3-B$11","v":310.96182555818018},{"$f":"OFFSET(Calculations!AU$43,$A626,0)-W$3-B$12","v":36.118518768565252},-17.691004921297495,310.96182555818018,36.118518768565252,-17.691004921297495,310.96182555818018,36.118518768565252,-17.691004921297495,310.96182555818018,36.118518768565252,{"$f":"IF(P621=1,K626*B$1/(B$1+B$2+L626),99999)","v":-1.1023743954927547},2.2506426554467684,null,null,null,null,null,{"$f":"(9*U625+U635)/10","v":-20.009732406218454},213.05765819429126,91.501093372946144,-9.968073999285135,0.32951950185787382,0.72427548177700485,-6.8880554838298025E-2,2.158823227861717E-2,-0.84698295319827821,-9.9786164911308415,0.22466060399516455,0.59833193890753789,4.4910438138361783,null,null,null,null,null,null,null,null,null,null,null,-13.854041392704247,416.92491828178305,74.0280154102757]
[505,{"$f":"OFFSET(Calculations!AS$43,$A627,0)-U$3-B$10","v":-21.124482388073424},{"$f":"OFFSET(Calculations!AT$43,$A627,0)-V$3-B$11","v":310.22815600493544},{"$f":"OFFSET(Calculations!AU$43,$A627,0)-W$3-B$12","v":40.775660443766355},-21.124482388073424,310.22815600493544,40.775660443766355,-21.124482388073424,310.22815600493544,40.775660443766355,-21.124482388073424,310.22815600493544,40.775660443766355,{"$f":"IF(P621=1,K627*B$1/(B$1+B$2+L627),99999)","v":-1.3193394766791118},2.5466630387827554,null,null,null,null,null,{"$f":"(8*U625+2*U635)/10","v":-20.086778809793806},213.00135062575819,90.65175345828122,-9.969549669409691,0.31488782492704104,0.70795815281912833,-6.7714005018718382E-2,3.2716203823213164E-2,-0.84664624441732883,-9.9799171498925787,0.21165515343717731,0.58082675138786366,4.5213238829721529,null,null,null,null,null,null,null,null,null,null,null,-18.697121822768349,418.56862486295029,67.111166371662804]
[" ",null,null,null,null,null,null,null,null,null,null,null,null,null,null,null,null,null,null,null,{"$f":"(7*U625+3*U635)/10","v":-20.163825213369158},212.94504305722512,89.802413543616311,-9.971025339534247,0.30025614799620826,0.69164082386125192,-6.6547455199142291E-2,4.384417536769547E-2,-0.84630953563640787,-9.9811928070310572,0.19888202093245369,0.56315186978793252,4.5513457825810635,null,null,null,null,null,null,null,null,null,null,null,-9.7282689239051159,418.89855113376643,62.933747750746498]
[{"$f":"A621+7","v":519},{"$f":"OFFSET(Calculations!AS$43,$A629,0)-U$3-B$10","v":-19.774463740056657},{"$f":"OFFSET(Calculations!AT$43,$A629,0)-V$3-B$11","v":329.50288141976762},{"$f":"OFFSET(Calculations!AU$43,$A629,0)-W$3-B$12","v":46.168687622825374},{"$f":"B629*F$5+C629*F$4","v":-19.774463740056657},{"$f":"C629*F$5-B629*F$4","v":329.50288141976762},{"$f":"D629","v":46.168687622825374},-19.774463740056657,{"$f":"F629*F$7+G629*F$6","v":329.50288141976762},{"$f":"G629*F$7-F629*F$6","v":46.168687622825374},{"$f":"H629*F$9+J629*F$8","v":-19.774463740056657},{"$f":"I629","v":329.50288141976762},{"$f":"J629*F$9-H629*F$8","v":46.168687622825374},null,null,{"$f":"IF(MIN(L629:L635)+B$2+B$1>0,1,0)","v":1},{"$f":"IF(P629=1,K629*B$1/(B$1+B$2+L629),99999)","v":-1.1649069755968962},{"$f":"M629*B$1/(B$1+B$2+L629)","v":2.7197817838689597},null,null,{"$f":"(6*U625+4*U635)/10","v":-20.240871616944514},212.88873548869205,88.953073628951373,-9.9725010096588012,0.28562447106537547,0.6753234949033754,-6.5380905379559096E-2,5.4972146912177777E-2,-0.84597282685543007,-9.9824434625462732,0.18634120648099373,0.5453072941077447,4.5811160056779148,null,null,null,null,null,null,null,null,null,null,null,-26.196724442269769,419.50732150238713,64.48918064159534]
[512,{"$f":"OFFSET(Calculations!AS$43,$A630,0)-U$3-B$10","v":-20.549780431755579},{"$f":"OFFSET(Calculations!AT$43,$A630,0)-V$3-B$11","v":319.86769968746063},{"$f":"OFFSET(Calculations!AU$43,$A630,0)-W$3-B$12","v":43.489335892195555},-20.549780431755579,319.86769968746063,43.489335892195555,-20.549780431755579,319.86769968746063,43.489335892195555,-20.549780431755579,319.86769968746063,43.489335892195555,null,null,null,{"$f":"IF(P629=1,K630*B$1/(B$1+B$2+L630),99999)","v":-1.2459407484410179},2.6367744361391154,null,null,{"$f":"(5*U625+5*U635)/10","v":-20.317918020519869},212.83242792015898,88.103733714286435,-9.9739766797833553,0.27099279413454269,0.65900616594549888,-6.3089446450923958E-2,7.691275997646585E-2,-0.84296641306390541,-9.9836691164382305,0.17403271008279741,0.52729302434729997,4.6106407775890386,null,null,null,null,null,null,null,null,null,null,null,-14.541670137504116,416.59597947311903,75.877060020197092]
[511,{"$f":"OFFSET(Calculations!AS$43,$A631,0)-U$3-B$10","v":-16.737722985035706},{"$f":"OFFSET(Calculations!AT$43,$A631,0)-V$3-B$11","v":318.80392071343664},{"$f":"OFFSET(Calculations!AU$43,$A631,0)-W$3-B$12","v":47.775666294454815},-16.737722985035706,318.80392071343664,47.775666294454815,-16.737722985035706,318.80392071343664,47.775666294454815,-16.737722985035706,318.80392071343664,47.775666294454815,null,null,null,{"$f":"IF(P629=1,K631*B$1/(B$1+B$2+L631),99999)","v":-1.0180975305110902},2.9060277742912239,null,null,{"$f":"(4*U625+6*U635)/10","v":-20.394964424095225},212.77612035162593,87.254393799621511,-9.9754523499079095,0.25636111720370991,0.64268883698762236,-6.0797987522285268E-2,9.8853373040668657E-2,-0.83995999927233811,-9.9848417926579245,0.16221903136342775,0.50899199587841126,4.6399260711524084,null,null,null,null,null,null,null,null,null,null,null,-11.141861677894354,428.48721973261814,66.461407341328936]
[518,{"$f":"OFFSET(Calculations!AS$43,$A632,0)-U$3-B$10","v":-14.94800691644021},{"$f":"OFFSET(Calculations!AT$43,$A632,0)-V$3-B$11","v":328.60688329259591},{"$f":"OFFSET(Calculations!AU$43,$A632,0)-W$3-B$12","v":49.32568234306946},-14.94800691644021,328.60688329259591,49.32568234306946,-14.94800691644021,328.60688329259591,49.32568234306946,-14.94800691644021,328.60688329259591,49.32568234306946,null,null,null,{"$f":"IF(P629=1,K632*B$1/(B$1+B$2+L632),99999)","v":-0.88291217066153882},2.9134482951692569,null,null,{"$f":"(3*U625+7*U635)/10","v":-20.47201082767058},212.71981278309286,86.405053884956587,-9.9769280200324655,0.24172944027287713,0.62637150802974584,-5.8506528593646578E-2,0.12079398610484304,-0.83695358548078502,-9.9859614912053587,0.15090017032288472,0.49040420870107843,4.6689776208258937,null,null,null,null,null,null,null,null,null,null,null,-8.5818601881249208,427.32703633974904,71.584389174918613]
[520,{"$f":"OFFSET(Calculations!AS$43,$A633,0)-U$3-B$10","v":-19.145647010073645},{"$f":"OFFSET(Calculations!AT$43,$A633,0)-V$3-B$11","v":330.59955605263269},{"$f":"OFFSET(Calculations!AU$43,$A633,0)-W$3-B$12","v":40.470792568728498},-19.145647010073645,330.59955605263269,40.470792568728498,-19.145647010073645,330.59955605263269,40.470792568728498,-19.145647010073645,330.59955605263269,40.470792568728498,null,null,null,{"$f":"IF(P629=1,K633*B$1/(B$1+B$2+L633),99999)","v":-1.1242320590174273},2.376444234852412,null,null,{"$f":"(2*U625+8*U635)/10","v":-20.549057231245932},212.66350521455985,85.555713970291663,-9.9784036901570197,0.22709776334204435,0.61005417907186943,-5.6215069665007888E-2,0.14273459916913112,-0.83394717168921773,-9.9870282120805296,0.14007612696116833,0.47152966281530162,4.6978009357978516,null,null,null,null,null,null,null,null,null,null,null,-12.036553509614297,426.59487657000739,76.239881858408552]
[513,{"$f":"OFFSET(Calculations!AS$43,$A634,0)-U$3-B$10","v":-18.447454815378695},{"$f":"OFFSET(Calculations!AT$43,$A634,0)-V$3-B$11","v":320.81495293605235},{"$f":"OFFSET(Calculations!AU$43,$A634,0)-W$3-B$12","v":38.130327188549117},-18.447454815378695,320.81495293605235,38.130327188549117,-18.447454815378695,320.81495293605235,38.130327188549117,-18.447454815378695,320.81495293605235,38.130327188549117,null,null,null,{"$f":"IF(P629=1,K634*B$1/(B$1+B$2+L634),99999)","v":-1.115273336447077},2.3052360148859319,null,null,{"$f":"(1*U625+9*U635)/10","v":-20.626103634821284},212.60719764602678,84.706374055626725,-9.9798793602815721,0.21246608641121156,0.59373685011399291,-5.3923610736369199E-2,0.1646752122333055,-0.83094075789765043,-9.9880419552834372,0.12974690127827859,0.45236835822108079,4.7264013121849482,null,null,null,null,null,null,null,null,null,null,null,-18.550659921600229,428.03644586326607,70.809569194660881]
[512,{"$f":"OFFSET(Calculations!AS$43,$A635,0)-U$3-B$10","v":-20.549780431755579},{"$f":"OFFSET(Calculations!AT$43,$A635,0)-V$3-B$11","v":319.86769968746063},{"$f":"OFFSET(Calculations!AU$43,$A635,0)-W$3-B$12","v":43.489335892195555},-20.549780431755579,319.86769968746063,43.489335892195555,-20.549780431755579,319.86769968746063,43.489335892195555,-20.549780431755579,319.86769968746063,43.489335892195555,null,null,null,{"$f":"IF(P629=1,K635*B$1/(B$1+B$2+L635),99999)","v":-1.2459407484410179},2.6367744361391154,null,{"$f":"T625+7","v":413},{"$f":"OFFSET(Calculations!AS$46,$T635,0)","v":-20.70315003839664},{"$f":"OFFSET(Calculations!AT$46,$T635,0)","v":212.5508900774937},{"$f":"OFFSET(Calculations!AU$46,$T635,0)","v":83.857034140961801},{"$f":"OFFSET(Calculations!AS$43,$T635,0)-OFFSET(Calculations!AS$45,$T635,0)","v":-9.981355030406128},{"$f":"OFFSET(Calculations!AT$43,$T635,0)-OFFSET(Calculations!AT$45,$T635,0)","v":0.19783440948037878},{"$f":"OFFSET(Calculations!AU$43,$T635,0)-OFFSET(Calculations!AU$45,$T635,0)","v":0.57741952115611639},-5.1632151807726956E-2,0.18661582529750831,-0.82793434410613997,-9.9890027208140815,0.11991249327421549,0.43292029491841588,4.7547838443936996,null,null,null,null,null,null,null,null,null,null,null,-10.962923311550409,428.86568836514022,64.505712437913118]
[" ",null,null,null,null,null,null,null,null,null,null,null,null,null,null,null,null,null,null,null,{"$f":"(9*U635+U645)/10","v":-20.761531644858728},212.67263005367312,83.013081566792039,-9.9824306745585254,0.18691982140176436,0.55838708691413075,-5.0507242698664356E-2,0.19742846681720039,-0.82526463909549364,-9.989910508672466,0.11057290294897903,0.41318547290730695,4.7827754178198809,null,null,null,null,null,null,null,null,null,null,null,-26.506605439138415,428.60261467692663,70.191197302994681]
[{"$f":"A629+7","v":526},{"$f":"OFFSET(Calculations!AS$43,$A637,0)-U$3-B$10","v":-18.813271078590216},{"$f":"OFFSET(Calculations!AT$43,$A637,0)-V$3-B$11","v":339.14430799111614},{"$f":"OFFSET(Calculations!AU$43,$A637,0)-W$3-B$12","v":48.764448348197988},{"$f":"B637*F$5+C637*F$4","v":-18.813271078590216},{"$f":"C637*F$5-B637*F$4","v":339.14430799111614},{"$f":"D637","v":48.764448348197988},-18.813271078590216,{"$f":"F637*F$7+G637*F$6","v":339.14430799111614},{"$f":"G637*F$7-F637*F$6","v":48.764448348197988},{"$f":"H637*F$9+J637*F$8","v":-18.813271078590216},{"$f":"I637","v":339.14430799111614},{"$f":"J637*F$9-H637*F$8","v":48.764448348197988},null,null,{"$f":"IF(MIN(L637:L643)+B$2+B$1>0,1,0)","v":1},{"$f":"IF(P637=1,K637*B$1/(B$1+B$2+L637),99999)","v":-1.0776788077592783},{"$f":"M637*B$1/(B$1+B$2+L637)","v":2.7933692305497235},null,null,{"$f":"(8*U635+2*U645)/10","v":-20.819913251320816},212.7943700298525,82.169128992622277,-9.9835063187109263,0.17600523332314993,0.53935465267214511,-4.9382333589605309E-2,0.20824110833686404,-0.82259493408488993,-9.990790320481846,0.10149581224930557,0.39333358626801079,4.810561376648435,null,null,null,null,null,null,null,null,null,null,null,-12.215491875958328,426.21640793748486,78.195576761824498]
[519,{"$f":"OFFSET(Calculations!AS$43,$A638,0)-U$3-B$10","v":-19.774463740056657},{"$f":"OFFSET(Calculations!AT$43,$A638,0)-V$3-B$11","v":329.50288141976762},{"$f":"OFFSET(Calculations!AU$43,$A638,0)-W$3-B$12","v":46.168687622825374},-19.774463740056657,329.50288141976762,46.168687622825374,-19.774463740056657,329.50288141976762,46.168687622825374,-19.774463740056657,329.50288141976762,46.168687622825374,null,null,null,{"$f":"IF(P637=1,K638*B$1/(B$1+B$2+L638),99999)","v":-1.1649069755968962},2.7197817838689597,null,null,{"$f":"(7*U635+3*U645)/10","v":-20.878294857782905},212.91611000603194,81.325176418452514,-9.9845819628633272,0.16509064524453548,0.52032221843015947,-4.8257424480549815E-2,0.21905374985658455,-0.8199252290742578,-9.9916421562422251,9.2681221175195103E-2,0.37336463500052747,4.8381461864743063,null,null,null,null,null,null,null,null,null,null,null,-11.898311571975571,438.34034711049037,68.47321576131273]
[518,{"$f":"OFFSET(Calculations!AS$43,$A639,0)-U$3-B$10","v":-14.94800691644021},{"$f":"OFFSET(Calculations!AT$43,$A639,0)-V$3-B$11","v":328.60688329259591},{"$f":"OFFSET(Calculations!AU$43,$A639,0)-W$3-B$12","v":49.32568234306946},-14.94800691644021,328.60688329259591,49.32568234306946,-14.94800691644021,328.60688329259591,49.32568234306946,-14.94800691644021,328.60688329259591,49.32568234306946,null,null,null,{"$f":"IF(P637=1,K639*B$1/(B$1+B$2+L639),99999)","v":-0.88291217066153882},2.9134482951692569,null,null,{"$f":"(6*U635+4*U645)/10","v":-20.936676464244993},213.0378499822113,80.481223844282766,-9.9856576070157264,0.15417605716592106,0.50128978418817383,-4.7132515371487216E-2,0.22986639137627662,-0.81725552406369673,-9.9924660159535996,8.4129129726647628E-2,0.35327861910485692,4.8655341535536447,null,null,null,null,null,null,null,null,null,null,null,-8.075760653420577,437.27636139310761,72.757642986279862]
[525,{"$f":"OFFSET(Calculations!AS$43,$A640,0)-U$3-B$10","v":-13.301321965571161},{"$f":"OFFSET(Calculations!AT$43,$A640,0)-V$3-B$11","v":338.47774454952963},{"$f":"OFFSET(Calculations!AU$43,$A640,0)-W$3-B$12","v":50.573975339322004},-13.301321965571161,338.47774454952963,50.573975339322004,-13.301321965571161,338.47774454952963,50.573975339322004,-13.301321965571161,338.47774454952963,50.573975339322004,null,null,null,{"$f":"IF(P637=1,K640*B$1/(B$1+B$2+L640),99999)","v":-0.76339577913450507},2.9025655801748829,null,null,{"$f":"(5*U635+5*U645)/10","v":-20.995058070707081},213.15958995839074,79.637271270113004,-9.9867332511681255,0.14326146908730664,0.48225734994618819,-4.4974108355070541E-2,0.25069794975865989,-0.80970123627109558,-9.9932618996159714,7.5839537903663157E-2,0.33307553858099914,4.8927294326516115,null,null,null,null,null,null,null,null,null,null,null,-10.188579741632601,436.32931488787477,78.118554867218478]
[527,{"$f":"OFFSET(Calculations!AS$43,$A641,0)-U$3-B$10","v":-19.700808087042187},{"$f":"OFFSET(Calculations!AT$43,$A641,0)-V$3-B$11","v":340.31626049143875},{"$f":"OFFSET(Calculations!AU$43,$A641,0)-W$3-B$12","v":43.112981001269887},-19.700808087042187,340.31626049143875,43.112981001269887,-19.700808087042187,340.31626049143875,43.112981001269887,-19.700808087042187,340.31626049143875,43.112981001269887,null,null,null,{"$f":"IF(P637=1,K641*B$1/(B$1+B$2+L641),99999)","v":-1.1247441417309629},2.4613748126215516,null,null,{"$f":"(4*U635+6*U645)/10","v":-21.053439677169173},213.28132993457012,78.793318695943256,-9.9878088953205246,0.13234688100869221,0.46322491570420254,-4.2815701338646761E-2,0.27152950814104315,-0.80214694847850865,-9.9940000945272178,6.8093512867741526E-2,0.31269613766155163,{"$f":"AG$245+SIGN(W$245-W641)*SQRT(2*ABS(W$245-W641)/Z$5)","v":4.9197360344000938},null,null,null,null,null,null,null,null,null,null,null,-17.929786548633299,437.47050632819548,74.544845412354491]
[520,{"$f":"OFFSET(Calculations!AS$43,$A642,0)-U$3-B$10","v":-19.145647010073645},{"$f":"OFFSET(Calculations!AT$43,$A642,0)-V$3-B$11","v":330.59955605263269},{"$f":"OFFSET(Calculations!AU$43,$A642,0)-W$3-B$12","v":40.470792568728498},-19.145647010073645,330.59955605263269,40.470792568728498,-19.145647010073645,330.59955605263269,40.470792568728498,-19.145647010073645,330.59955605263269,40.470792568728498,null,null,null,{"$f":"IF(P637=1,K642*B$1/(B$1+B$2+L642),99999)","v":-1.1242320590174273},2.376444234852412,null,null,{"$f":"(3*U635+7*U645)/10","v":-21.111821283631258},213.40306991074954,77.94936612177348,-9.9888845394729255,0.12143229293007778,0.4441924814622169,-4.0657294322230086E-2,0.29236106652351168,-0.79459266068593593,-9.9946806006873405,6.0891054618882737E-2,0.29214041634651439,4.9465578322022612,null,null,null,null,null,null,null,null,null,null,null,-12.240257938044163,438.7425535550135,66.544147940131751]
[519,{"$f":"OFFSET(Calculations!AS$43,$A643,0)-U$3-B$10","v":-19.774463740056657},{"$f":"OFFSET(Calculations!AT$43,$A643,0)-V$3-B$11","v":329.50288141976762},{"$f":"OFFSET(Calculations!AU$43,$A643,0)-W$3-B$12","v":46.168687622825374},-19.774463740056657,329.50288141976762,46.168687622825374,-19.774463740056657,329.50288141976762,46.168687622825374,-19.774463740056657,329.50288141976762,46.168687622825374,null,null,null,{"$f":"IF(P637=1,K643*B$1/(B$1+B$2+L643),99999)","v":-1.1649069755968962},2.7197817838689597,null,null,{"$f":"(2*U635+8*U645)/10","v":-21.170202890093346},213.52480988692895,77.105413547603717,-9.9899601836253247,0.11051770485146335,0.42516004722023126,-3.8498887305806306E-2,0.31319262490586652,-0.7870383728933632,-9.9953034180963414,5.4232163157086788E-2,0.27140837463588735,4.9731985687175833,null,null,null,null,null,null,null,null,null,null,null,-25.799890425009607,437.62556384706699,75.972228381598939]
[" ",null,null,null,null,null,null,null,null,null,null,null,null,null,null,null,null,null,null,null,{"$f":"(1*U635+9*U645)/10","v":-21.228584496555435},213.64654986310833,76.261460973433969,-9.991035827777722,9.9603116772848915E-2,0.40612761297824562,-3.6340480289389632E-2,0.33402418328830663,-0.77948408510077627,-9.9958685467542168,4.8116838482353687E-2,0.25050001252967058,4.9996618619580691,null,null,null,null,null,null,null,null,null,null,null,-9.8466333755640143,435.92710844335141,80.047622688399656]
[{"$f":"A637+7","v":533},{"$f":"OFFSET(Calculations!AS$43,$A645,0)-U$3-B$10","v":-17.693284130671078},{"$f":"OFFSET(Calculations!AT$43,$A645,0)-V$3-B$11","v":348.80221293728255},{"$f":"OFFSET(Calculations!AU$43,$A645,0)-W$3-B$12","v":51.232692977403914},{"$f":"B645*F$5+C645*F$4","v":-17.693284130671078},{"$f":"C645*F$5-B645*F$4","v":348.80221293728255},{"$f":"D645","v":51.232692977403914},-17.693284130671078,{"$f":"F645*F$7+G645*F$6","v":348.80221293728255},{"$f":"G645*F$7-F645*F$6","v":51.232692977403914},{"$f":"H645*F$9+J645*F$8","v":-17.693284130671078},{"$f":"I645","v":348.80221293728255},{"$f":"J645*F$9-H645*F$8","v":51.232692977403914},null,null,{"$f":"IF(MIN(L645:L651)+B$2+B$1>0,1,0)","v":1},{"$f":"IF(P645=1,K645*B$1/(B$1+B$2+L645),99999)","v":-0.98624163913748242},{"$f":"M645*B$1/(B$1+B$2+L645)","v":2.8557623743730489},null,{"$f":"T635+7","v":420},{"$f":"OFFSET(Calculations!AS$46,$T645,0)","v":-21.286966103017523},{"$f":"OFFSET(Calculations!AT$46,$T645,0)","v":213.76828983928775},{"$f":"OFFSET(Calculations!AU$46,$T645,0)","v":75.417508399264207},{"$f":"OFFSET(Calculations!AS$43,$T645,0)-OFFSET(Calculations!AS$45,$T645,0)","v":-9.9921114719301229},{"$f":"OFFSET(Calculations!AT$43,$T645,0)-OFFSET(Calculations!AT$45,$T645,0)","v":8.8688528694234492E-2},{"$f":"OFFSET(Calculations!AU$43,$T645,0)-OFFSET(Calculations!AU$45,$T645,0)","v":0.38709517873625998},-3.4182073272965852E-2,0.35485574167068989,-0.77192979730818934,-9.9963759866609685,4.2545080594683427E-2,0.22941533002786407,5.0259512110238411,null,null,null,null,null,null,null,null,null,null,null,-12.596503766670537,448.12495022707105,70.813681141492054]
[526,{"$f":"OFFSET(Calculations!AS$43,$A646,0)-U$3-B$10","v":-18.813271078590216},{"$f":"OFFSET(Calculations!AT$43,$A646,0)-V$3-B$11","v":339.14430799111614},{"$f":"OFFSET(Calculations!AU$43,$A646,0)-W$3-B$12","v":48.764448348197988},-18.813271078590216,339.14430799111614,48.764448348197988,-18.813271078590216,339.14430799111614,48.764448348197988,-18.813271078590216,339.14430799111614,48.764448348197988,null,null,null,{"$f":"IF(P645=1,K646*B$1/(B$1+B$2+L646),99999)","v":-1.0776788077592783},2.7933692305497235,null,null,{"$f":"(9*U645+U655)/10","v":-21.327349163734652},214.06303207978212,74.61627110526419,-9.9927394992984766,8.1973934624627987E-2,0.36618971044327892,-3.3148575365608224E-2,0.36487465853343792,-0.76704521452623453,-9.9968257378165966,3.7516889494076014E-2,0.20815432713046783,5.0507520878281769,null,null,null,null,null,null,null,null,null,null,null,-7.7700469430541785,447.22895209989895,73.97067586173641]
[525,{"$f":"OFFSET(Calculations!AS$43,$A647,0)-U$3-B$10","v":-13.301321965571161},{"$f":"OFFSET(Calculations!AT$43,$A647,0)-V$3-B$11","v":338.47774454952963},{"$f":"OFFSET(Calculations!AU$43,$A647,0)-W$3-B$12","v":50.573975339322004},-13.301321965571161,338.47774454952963,50.573975339322004,-13.301321965571161,338.47774454952963,50.573975339322004,-13.301321965571161,338.47774454952963,50.573975339322004,null,null,null,{"$f":"IF(P645=1,K647*B$1/(B$1+B$2+L647),99999)","v":-0.76339577913450507},2.9025655801748829,null,null,{"$f":"(8*U645+2*U655)/10","v":-21.367732224451778},214.35777432027649,73.815033811264158,-9.9933675266668338,7.5259340555021481E-2,0.34528424215029785,-3.2115077458250596E-2,0.37489357539612911,-0.7621606317442513,-9.9972457762701019,3.2769765554968446E-2,0.18683406846566905,5.0754020415836703,null,null,null,null,null,null,null,null,null,null,null,-8.3988636730371091,446.13227746703382,79.668570915833186]
[532,{"$f":"OFFSET(Calculations!AS$43,$A648,0)-U$3-B$10","v":-11.872694216465796},{"$f":"OFFSET(Calculations!AT$43,$A648,0)-V$3-B$11","v":348.41125171803822},{"$f":"OFFSET(Calculations!AU$43,$A648,0)-W$3-B$12","v":51.568041118443588},-11.872694216465796,348.41125171803822,51.568041118443588,-11.872694216465796,348.41125171803822,51.568041118443588,-11.872694216465796,348.41125171803822,51.568041118443588,null,null,null,{"$f":"IF(P645=1,K648*B$1/(B$1+B$2+L648),99999)","v":-0.66251794046946011},2.8775905260369514,null,null,{"$f":"(7*U645+3*U655)/10","v":-21.4081152851689},214.65251656077089,73.013796517264126,-9.993995554035191,6.8544746485414976E-2,0.32437877385731684,-3.1081579550889415E-2,0.38491249225893398,-0.7572760489622965,-9.9976361020214863,2.8303708777360725E-2,0.16545455403346773,5.0999037944864458,null,null,null,null,null,null,null,null,null,null,null,-16.839620424104677,446.8953207436665,78.195007063367669]
[534,{"$f":"OFFSET(Calculations!AS$43,$A649,0)-U$3-B$10","v":-20.037911962247065},{"$f":"OFFSET(Calculations!AT$43,$A649,0)-V$3-B$11","v":349.97031901867001},{"$f":"OFFSET(Calculations!AU$43,$A649,0)-W$3-B$12","v":46.009396650942257},-20.037911962247065,349.97031901867001,46.009396650942257,-20.037911962247065,349.97031901867001,46.009396650942257,-20.037911962247065,349.97031901867001,46.009396650942257,null,null,null,{"$f":"IF(P645=1,K649*B$1/(B$1+B$2+L649),99999)","v":-1.1133091204226642},2.5562883504601368,null,null,{"$f":"(6*U645+4*U655)/10","v":-21.44849834588603},214.94725880126526,72.212559223264108,-9.9946235814035447,6.183015241580847E-2,0.30347330556433577,-3.0048081643528235E-2,0.39493140912159674,-0.75239146618031327,-9.9979967150707516,2.4118719161252855E-2,0.14401578383386385,5.1242599878698671,null,null,null,null,null,null,null,null,null,null,null,-13.436031785397244,448.52348477907805,69.04270318662401]
[527,{"$f":"OFFSET(Calculations!AS$43,$A650,0)-U$3-B$10","v":-19.700808087042187},{"$f":"OFFSET(Calculations!AT$43,$A650,0)-V$3-B$11","v":340.31626049143875},{"$f":"OFFSET(Calculations!AU$43,$A650,0)-W$3-B$12","v":43.112981001269887},-19.700808087042187,340.31626049143875,43.112981001269887,-19.700808087042187,340.31626049143875,43.112981001269887,-19.700808087042187,340.31626049143875,43.112981001269887,null,null,null,{"$f":"IF(P645=1,K650*B$1/(B$1+B$2+L650),99999)","v":-1.1247441417309629},2.4613748126215516,null,null,{"$f":"(5*U645+5*U655)/10","v":-21.488881406603156},215.24200104175961,71.411321929264091,-9.9952516087719001,5.5115558346201965E-2,0.2825678372713547,-2.811822312346024E-2,0.41373224112049911,-0.74062353638015566,-9.9983276154178942,2.0214796706644833E-2,0.12251775786685748,5.1484731855279433,null,null,null,null,null,null,null,null,null,null,null,-24.08754808610562,446.62870005408269,81.570871103030356]
[526,{"$f":"OFFSET(Calculations!AS$43,$A651,0)-U$3-B$10","v":-18.813271078590216},{"$f":"OFFSET(Calculations!AT$43,$A651,0)-V$3-B$11","v":339.14430799111614},{"$f":"OFFSET(Calculations!AU$43,$A651,0)-W$3-B$12","v":48.764448348197988},-18.813271078590216,339.14430799111614,48.764448348197988,-18.813271078590216,339.14430799111614,48.764448348197988,-18.813271078590216,339.14430799111614,48.764448348197988,null,null,null,{"$f":"IF(P645=1,K651*B$1/(B$1+B$2+L651),99999)","v":-1.0776788077592783},2.7933692305497235,null,null,{"$f":"(4*U645+6*U655)/10","v":-21.529264467320285},215.53674328225401,70.610084635264073,-9.9958796361402555,4.840096427659546E-2,0.26166236897837364,-2.6188364603395797E-2,0.43253307311945832,-0.72885560657999804,-9.9985986683167987,1.6879140572341987E-2,0.10096165093866731,5.1725458768651507,null,null,null,null,null,null,null,null,null,null,null,-7.5593356543104191,445.73374291502648,81.439548870701245]
[" ",null,null,null,null,null,null,null,null,null,null,null,null,null,null,null,null,null,null,null,{"$f":"(3*U645+7*U655)/10","v":-21.569647528037411},215.83148552274838,69.808847341264055,-9.9965076635086128,4.1686370206988954E-2,0.2407569006853926,-2.4258506083324249E-2,0.45133390511841753,-0.71708767677982621,-9.9988098737674687,1.4111750758344322E-2,7.9347463049293354E-2,5.1964804798836335,null,null,null,null,null,null,null,null,null,null,null,-13.151664843639088,457.8416546658766,73.455869574033798]
[{"$f":"A645+7","v":540},{"$f":"OFFSET(Calculations!AS$43,$A653,0)-U$3-B$10","v":-16.452215539104341},{"$f":"OFFSET(Calculations!AT$43,$A653,0)-V$3-B$11","v":358.48578733601988},{"$f":"OFFSET(Calculations!AU$43,$A653,0)-W$3-B$12","v":53.537727575934255},{"$f":"B653*F$5+C653*F$4","v":-16.452215539104341},{"$f":"C653*F$5-B653*F$4","v":358.48578733601988},{"$f":"D653","v":53.537727575934255},-16.452215539104341,{"$f":"F653*F$7+G653*F$6","v":358.48578733601988},{"$f":"G653*F$7-F653*F$6","v":53.537727575934255},{"$f":"H653*F$9+J653*F$8","v":-16.452215539104341},{"$f":"I653","v":358.48578733601988},{"$f":"J653*F$9-H653*F$8","v":53.537727575934255},null,null,{"$f":"IF(MIN(L653:L659)+B$2+B$1>0,1,0)","v":1},{"$f":"IF(P653=1,K653*B$1/(B$1+B$2+L653),99999)","v":-0.89296337088310374},{"$f":"M653*B$1/(B$1+B$2+L653)","v":2.9058232049049715},null,null,{"$f":"(2*U645+8*U655)/10","v":-21.610030588754537},216.12622776324278,69.007610047264023,-9.9971356908769664,3.4971776137382449E-2,0.21985143239241153,-2.232864756326336E-2,0.4701347371173199,-0.7053197469796828,-9.9989612317699006,1.1912627264651832E-2,5.7675194198735631E-2,5.2202793440179267,null,null,null,null,null,null,null,null,null,null,null,-7.6478914868269783,457.17419771877201,75.272188945897227]
[533,{"$f":"OFFSET(Calculations!AS$43,$A654,0)-U$3-B$10","v":-17.693284130671078},{"$f":"OFFSET(Calculations!AT$43,$A654,0)-V$3-B$11","v":348.80221293728255},{"$f":"OFFSET(Calculations!AU$43,$A654,0)-W$3-B$12","v":51.232692977403914},-17.693284130671078,348.80221293728255,51.232692977403914,-17.693284130671078,348.80221293728255,51.232692977403914,-17.693284130671078,348.80221293728255,51.232692977403914,null,null,null,{"$f":"IF(P653=1,K654*B$1/(B$1+B$2+L654),99999)","v":-0.98624163913748242},2.8557623743730489,null,null,{"$f":"(1*U645+9*U655)/10","v":-21.650413649471666},216.42097000373715,68.206372753263992,-9.9977637182453201,2.8257182067775943E-2,0.19894596409943049,-2.0398789043191812E-2,0.48893556911627911,-0.69355181717951098,-9.9990527423240945,1.0281770091264519E-2,3.5944844386994135E-2,5.2439447528265948,null,null,null,null,null,null,null,null,null,null,null,-6.7521787221680603,456.00313872396742,80.916863912085773]
[532,{"$f":"OFFSET(Calculations!AS$43,$A655,0)-U$3-B$10","v":-11.872694216465796},{"$f":"OFFSET(Calculations!AT$43,$A655,0)-V$3-B$11","v":348.41125171803822},{"$f":"OFFSET(Calculations!AU$43,$A655,0)-W$3-B$12","v":51.568041118443588},-11.872694216465796,348.41125171803822,51.568041118443588,-11.872694216465796,348.41125171803822,51.568041118443588,-11.872694216465796,348.41125171803822,51.568041118443588,null,null,null,{"$f":"IF(P653=1,K655*B$1/(B$1+B$2+L655),99999)","v":-0.66251794046946011},2.8775905260369514,null,{"$f":"T645+7","v":427},{"$f":"OFFSET(Calculations!AS$46,$T655,0)","v":-21.690796710188792},{"$f":"OFFSET(Calculations!AT$46,$T655,0)","v":216.71571224423153},{"$f":"OFFSET(Calculations!AU$46,$T655,0)","v":67.405135459263974},{"$f":"OFFSET(Calculations!AS$43,$T655,0)-OFFSET(Calculations!AS$45,$T655,0)","v":-9.9983917456136773},{"$f":"OFFSET(Calculations!AT$43,$T655,0)-OFFSET(Calculations!AT$45,$T655,0)","v":2.1542587998169438E-2},{"$f":"OFFSET(Calculations!AU$43,$T655,0)-OFFSET(Calculations!AU$45,$T655,0)","v":0.17804049580644943},-1.8468930523130922E-2,0.5077364011152099,-0.68178388737935336,-9.9990844054300521,9.2191792381823845E-3,1.4156413614068827E-2,5.2674789265495372,null,null,null,null,null,null,null,null,null,null,null,-15.317261793727234,456.33603369859867,81.64386660338468]
[539,{"$f":"OFFSET(Calculations!AS$43,$A656,0)-U$3-B$10","v":-10.722289515217755},{"$f":"OFFSET(Calculations!AT$43,$A656,0)-V$3-B$11","v":358.39788281657582},{"$f":"OFFSET(Calculations!AU$43,$A656,0)-W$3-B$12","v":52.372700680382096},-10.722289515217755,358.39788281657582,52.372700680382096,-10.722289515217755,358.39788281657582,52.372700680382096,-10.722289515217755,358.39788281657582,52.372700680382096,null,null,null,{"$f":"IF(P653=1,K656*B$1/(B$1+B$2+L656),99999)","v":-0.5821037533245732},2.8432682772207083,null,null,{"$f":"(9*U655+U665)/10","v":-21.714643804388164},217.17075715452944,66.682051489775489,-9.9985443697480925,1.9325068512560505E-2,0.15618693523502786,-1.7572569910420555E-2,0.51651831625139266,-0.67490054036115765,-9.9990562210877716,8.7248547054054274E-3,-7.690098120040248E-3,5.2886066945940042,null,null,null,null,null,null,null,null,null,null,null,-14.431562067933303,458.20935785425837,71.96367070642313]
[541,{"$f":"OFFSET(Calculations!AS$43,$A657,0)-U$3-B$10","v":-20.096792789594538},{"$f":"OFFSET(Calculations!AT$43,$A657,0)-V$3-B$11","v":359.57125361587185},{"$f":"OFFSET(Calculations!AU$43,$A657,0)-W$3-B$12","v":49.09521851779774},-20.096792789594538,359.57125361587185,49.09521851779774,-20.096792789594538,359.57125361587185,49.09521851779774,-20.096792789594538,359.57125361587185,49.09521851779774,null,null,null,{"$f":"IF(P653=1,K657*B$1/(B$1+B$2+L657),99999)","v":-1.0875733755246513},2.6568743124608254,null,null,{"$f":"(8*U655+2*U665)/10","v":-21.738490898587532},217.62580206482735,65.95896752028699,-9.9986969938825077,1.7107549026951573E-2,0.13433337466360626,-1.667620929771374E-2,0.52530023138763227,-0.66801719334297616,-9.9989979019993793,8.5177293314337987E-3,-2.9535435047930568E-2,5.3096308859679198,null,null,null,null,null,null,null,null,null,null,null,-21.449078948954295,455.6659045599431,86.73815215804197]
[534,{"$f":"OFFSET(Calculations!AS$43,$A658,0)-U$3-B$10","v":-20.037911962247065},{"$f":"OFFSET(Calculations!AT$43,$A658,0)-V$3-B$11","v":349.97031901867001},{"$f":"OFFSET(Calculations!AU$43,$A658,0)-W$3-B$12","v":46.009396650942257},-20.037911962247065,349.97031901867001,46.009396650942257,-20.037911962247065,349.97031901867001,46.009396650942257,-20.037911962247065,349.97031901867001,46.009396650942257,null,null,null,{"$f":"IF(P653=1,K658*B$1/(B$1+B$2+L658),99999)","v":-1.1133091204226642},2.5562883504601368,null,null,{"$f":"(7*U655+3*U665)/10","v":-21.7623379927869},218.08084697512521,65.235883550798491,-9.9988496180169211,1.4890029541342642E-2,0.11247981409218469,-1.5779848685003373E-2,0.53408214652387187,-0.66113384632478045,-9.9989094481648699,8.5978031162674984E-3,-5.1379597169602144E-2,5.3305530092195799,null,null,null,null,null,null,null,null,null,null,null,-5.4722814978738565,455.63543553558566,82.409062779696157]
[533,{"$f":"OFFSET(Calculations!AS$43,$A659,0)-U$3-B$10","v":-17.693284130671078},{"$f":"OFFSET(Calculations!AT$43,$A659,0)-V$3-B$11","v":348.80221293728255},{"$f":"OFFSET(Calculations!AU$43,$A659,0)-W$3-B$12","v":51.232692977403914},-17.693284130671078,348.80221293728255,51.232692977403914,-17.693284130671078,348.80221293728255,51.232692977403914,-17.693284130671078,348.80221293728255,51.232692977403914,null,null,null,{"$f":"IF(P653=1,K659*B$1/(B$1+B$2+L659),99999)","v":-0.98624163913748242},2.8557623743730489,null,null,{"$f":"(6*U655+4*U665)/10","v":-21.786185086986269},218.53589188542315,64.512799581310006,-9.9990022421513345,1.2672510055733711E-2,9.0626253520763103E-2,-1.4883488072296558E-2,0.54286406166008305,-0.65425049930659185,-9.9987908595842416,8.96507605990653E-3,-7.3222584485054962E-2,5.3513745366301073,null,null,null,null,null,null,null,null,null,null,null,-13.488768718843925,467.49571319310769,76.352285223706033]
[" ",null,null,null,null,null,null,null,null,null,null,null,null,null,null,null,null,null,null,null,{"$f":"(5*U655+5*U665)/10","v":-21.81003218118564},218.99093679572107,63.789715611821521,-9.9991548662857497,1.0454990570124778E-2,6.8772692949341518E-2,-1.326756273049412E-2,0.55880234305462295,-0.63878958791632101,-9.9986421362574998,9.6195481623508883E-3,-9.5064396994289035E-2,5.3720969054225005,null,null,null,null,null,null,null,null,null,null,null,-7.6804396938190216,467.10201072214477,76.704874804553285]
[{"$f":"A653+7","v":547},{"$f":"OFFSET(Calculations!AS$43,$A661,0)-U$3-B$10","v":-15.136004116787229},{"$f":"OFFSET(Calculations!AT$43,$A661,0)-V$3-B$11","v":368.20257411781654},{"$f":"OFFSET(Calculations!AU$43,$A661,0)-W$3-B$12","v":55.654464159883638},{"$f":"B661*F$5+C661*F$4","v":-15.136004116787229},{"$f":"C661*F$5-B661*F$4","v":368.20257411781654},{"$f":"D661","v":55.654464159883638},-15.136004116787229,{"$f":"F661*F$7+G661*F$6","v":368.20257411781654},{"$f":"G661*F$7-F661*F$6","v":55.654464159883638},{"$f":"H661*F$9+J661*F$8","v":-15.136004116787229},{"$f":"I661","v":368.20257411781654},{"$f":"J661*F$9-H661*F$8","v":55.654464159883638},null,null,{"$f":"IF(MIN(L661:L667)+B$2+B$1>0,1,0)","v":1},{"$f":"IF(P661=1,K661*B$1/(B$1+B$2+L661),99999)","v":-0.80041782645678694},{"$f":"M661*B$1/(B$1+B$2+L661)","v":2.9431034037619388},null,null,{"$f":"(4*U655+6*U665)/10","v":-21.833879275385009},219.44598170601898,63.066631642333029,-9.9993074904201649,8.2374710845158454E-3,4.6919132377919934E-2,-1.1651637388681024E-2,0.57474062444927654,-0.62332867652604307,-9.9984340546765758,1.0841843736921675E-2,-0.11684348129560504,5.3927215189193509,null,null,null,null,null,null,null,null,null,null,null,-5.323550973062682,465.93664589247629,81.910929691207144]
[540,{"$f":"OFFSET(Calculations!AS$43,$A662,0)-U$3-B$10","v":-16.452215539104341},{"$f":"OFFSET(Calculations!AT$43,$A662,0)-V$3-B$11","v":358.48578733601988},{"$f":"OFFSET(Calculations!AU$43,$A662,0)-W$3-B$12","v":53.537727575934255},-16.452215539104341,358.48578733601988,53.537727575934255,-16.452215539104341,358.48578733601988,53.537727575934255,-16.452215539104341,358.48578733601988,53.537727575934255,null,null,null,{"$f":"IF(P661=1,K662*B$1/(B$1+B$2+L662),99999)","v":-0.89296337088310374},2.9058232049049715,null,null,{"$f":"(3*U655+7*U665)/10","v":-21.857726369584377},219.9010266163169,62.343547672844537,-9.9994601145545783,6.0199515989069145E-3,2.5065571806498356E-2,-1.0035712046885692E-2,0.59067890584384486,-0.60786776513576513,-9.9981666148414714,1.2631962783618889E-2,-0.13855983738900299,5.4132497476518653,null,null,null,null,null,null,null,null,null,null,null,-13.42926410825579,465.81670632271931,84.788954894287343]
[539,{"$f":"OFFSET(Calculations!AS$43,$A663,0)-U$3-B$10","v":-10.722289515217755},{"$f":"OFFSET(Calculations!AT$43,$A663,0)-V$3-B$11","v":358.39788281657582},{"$f":"OFFSET(Calculations!AU$43,$A663,0)-W$3-B$12","v":52.372700680382096},-10.722289515217755,358.39788281657582,52.372700680382096,-10.722289515217755,358.39788281657582,52.372700680382096,-10.722289515217755,358.39788281657582,52.372700680382096,null,null,null,{"$f":"IF(P661=1,K663*B$1/(B$1+B$2+L663),99999)","v":-0.5821037533245732},2.8432682772207083,null,null,{"$f":"(2*U655+8*U665)/10","v":-21.881573463783745},220.35607152661478,61.620463703356037,-9.9996127386889917,3.8024321132979822E-3,3.2120112350767726E-3,-8.4197867050832542E-3,0.60661718723841318,-0.59240685374549429,-9.9978398167521849,1.4989905302442531E-2,-0.16021346527448288,5.4336829304226724,null,null,null,null,null,null,null,null,null,null,null,-15.121812268000202,467.80752665323388,75.240556330205962]
[546,{"$f":"OFFSET(Calculations!AS$43,$A664,0)-U$3-B$10","v":-9.8913132669945441},{"$f":"OFFSET(Calculations!AT$43,$A664,0)-V$3-B$11","v":368.42449555555572},{"$f":"OFFSET(Calculations!AU$43,$A664,0)-W$3-B$12","v":53.065682745778275},-9.8913132669945441,368.42449555555572,53.065682745778275,-9.8913132669945441,368.42449555555572,53.065682745778275,-9.8913132669945441,368.42449555555572,53.065682745778275,null,null,null,{"$f":"IF(P661=1,K664*B$1/(B$1+B$2+L664),99999)","v":-0.52276284348207158},2.8045585509930508,null,null,{"$f":"(1*U655+9*U665)/10","v":-21.905420557983113},220.8111164369127,60.897379733867545,-9.9997653628234069,1.5849126276890502E-3,-1.864154933634481E-2,-6.8038613632772638E-3,0.62255546863300992,-0.57694594235523056,-9.9974536604087181,1.7915671293392599E-2,-0.18180436495204472,5.4540223753247465,null,null,null,null,null,null,null,null,null,null,null,-18.027097550887177,464.78873692835054,91.254494822094117]
[548,{"$f":"OFFSET(Calculations!AS$43,$A665,0)-U$3-B$10","v":-19.836245163917262},{"$f":"OFFSET(Calculations!AT$43,$A665,0)-V$3-B$11","v":369.13220657263179},{"$f":"OFFSET(Calculations!AU$43,$A665,0)-W$3-B$12","v":52.2927178811955},-19.836245163917262,369.13220657263179,52.2927178811955,-19.836245163917262,369.13220657263179,52.2927178811955,-19.836245163917262,369.13220657263179,52.2927178811955,null,null,null,{"$f":"IF(P661=1,K665*B$1/(B$1+B$2+L665),99999)","v":-1.0464025382194564},2.7585479141391582,null,{"$f":"T655+7","v":434},{"$f":"OFFSET(Calculations!AS$46,$T665,0)","v":-21.929267652182485},{"$f":"OFFSET(Calculations!AT$46,$T665,0)","v":221.26616134721061},{"$f":"OFFSET(Calculations!AU$46,$T665,0)","v":60.174295764379053},{"$f":"OFFSET(Calculations!AS$43,$T665,0)-OFFSET(Calculations!AS$45,$T665,0)","v":-9.9999179869578221},{"$f":"OFFSET(Calculations!AT$43,$T665,0)-OFFSET(Calculations!AT$45,$T665,0)","v":-6.326068579198818E-4},{"$f":"OFFSET(Calculations!AU$43,$T665,0)-OFFSET(Calculations!AU$45,$T665,0)","v":-4.0495109907766391E-2},-5.187936021474826E-3,0.63849375002760667,-0.56148503096495261,-9.9970081458110673,2.1409260756469095E-2,-0.20333253642168847,5.4742693607186439,null,null,null,null,null,null,null,null,null,null,null,-3.6905074239064697,465.62483243234976,83.0226585847075]
[541,{"$f":"OFFSET(Calculations!AS$43,$A666,0)-U$3-B$10","v":-20.096792789594538},{"$f":"OFFSET(Calculations!AT$43,$A666,0)-V$3-B$11","v":359.57125361587185},{"$f":"OFFSET(Calculations!AU$43,$A666,0)-W$3-B$12","v":49.09521851779774},-20.096792789594538,359.57125361587185,49.09521851779774,-20.096792789594538,359.57125361587185,49.09521851779774,-20.096792789594538,359.57125361587185,49.09521851779774,null,null,null,{"$f":"IF(P661=1,K666*B$1/(B$1+B$2+L666),99999)","v":-1.0875733755246513},2.6568743124608254,null,null,{"$f":"(9*U665+U675)/10","v":-21.938772976578541},221.86171689968796,59.5613453471816,-9.9995884551543863,1.7450601973564516E-3,-6.2329873579687958E-2,-4.4683712923720975E-3,0.64565011628602065,-0.55290746659286327,-9.9965032729592362,2.5470673691672018E-2,-0.22479797968341417,5.4913610316434127,null,null,null,null,null,null,null,null,null,null,null,-13.547649546191414,477.09664779030999,79.438107090561502]
[540,{"$f":"OFFSET(Calculations!AS$43,$A667,0)-U$3-B$10","v":-16.452215539104341},{"$f":"OFFSET(Calculations!AT$43,$A667,0)-V$3-B$11","v":358.48578733601988},{"$f":"OFFSET(Calculations!AU$43,$A667,0)-W$3-B$12","v":53.537727575934255},-16.452215539104341,358.48578733601988,53.537727575934255,-16.452215539104341,358.48578733601988,53.537727575934255,-16.452215539104341,358.48578733601988,53.537727575934255,null,null,null,{"$f":"IF(P661=1,K667*B$1/(B$1+B$2+L667),99999)","v":-0.89296337088310374},2.9058232049049715,null,null,{"$f":"(8*U665+2*U675)/10","v":-21.9482783009746},222.45727245216534,58.948394929984147,-9.9992589233509523,4.122727252632785E-3,-8.4164637251609525E-2,-3.7488065632764744E-3,0.65280648254434936,-0.54432990222078814,-9.9959691765993401,2.9812710940196042E-2,-0.24620186954344056,5.508387907097652,null,null,null,null,null,null,null,null,null,null,null,-7.8287255822216926,477.00348024992724,78.302664908768136]
[" ",null,null,null,null,null,null,null,null,null,null,null,null,null,null,null,null,null,null,null,{"$f":"(7*U665+3*U675)/10","v":-21.957783625370656},223.05282800464275,58.335444512786708,-9.9989293915475166,6.5003943079091188E-3,-0.10599940092353108,-3.0292418341772986E-3,0.6599628488027065,-0.5357523378486988,-9.9954058567313755,3.4435372502041164E-2,-0.26754420600176765,5.5253507184707473,null,null,null,null,null,null,null,null,null,null,null,-4.1731462718146739,475.92327699101372,82.715589253145765]
[{"$f":"A661+7","v":554},{"$f":"OFFSET(Calculations!AS$43,$A669,0)-U$3-B$10","v":-13.795865177518895},{"$f":"OFFSET(Calculations!AT$43,$A669,0)-V$3-B$11","v":377.95796467117668},{"$f":"OFFSET(Calculations!AU$43,$A669,0)-W$3-B$12","v":57.570127590827497},{"$f":"B669*F$5+C669*F$4","v":-13.795865177518895},{"$f":"C669*F$5-B669*F$4","v":377.95796467117668},{"$f":"D669","v":57.570127590827497},-13.795865177518895,{"$f":"F669*F$7+G669*F$6","v":377.95796467117668},{"$f":"G669*F$7-F669*F$6","v":57.570127590827497},{"$f":"H669*F$9+J669*F$8","v":-13.795865177518895},{"$f":"I669","v":377.95796467117668},{"$f":"J669*F$9-H669*F$8","v":57.570127590827497},null,null,{"$f":"IF(MIN(L669:L675)+B$2+B$1>0,1,0)","v":1},{"$f":"IF(P669=1,K669*B$1/(B$1+B$2+L669),99999)","v":-0.71120412177705483},{"$f":"M669*B$1/(B$1+B$2+L669)","v":2.9678538828103438},null,null,{"$f":"(6*U665+4*U675)/10","v":-21.967288949766708},223.6483835571201,57.722494095589255,-9.9985998597440808,8.8780613631854518E-3,-0.12783416459545266,-2.3096771050816756E-3,0.66711921506112049,-0.52717477347662367,-9.9948133133553441,3.9338658377207382E-2,-0.28882498905839538,5.5422501834952982,null,null,null,null,null,null,null,null,null,null,null,-11.267098515802562,475.35867656033827,87.548504306579133]
[547,{"$f":"OFFSET(Calculations!AS$43,$A670,0)-U$3-B$10","v":-15.136004116787229},{"$f":"OFFSET(Calculations!AT$43,$A670,0)-V$3-B$11","v":368.20257411781654},{"$f":"OFFSET(Calculations!AU$43,$A670,0)-W$3-B$12","v":55.654464159883638},-15.136004116787229,368.20257411781654,55.654464159883638,-15.136004116787229,368.20257411781654,55.654464159883638,-15.136004116787229,368.20257411781654,55.654464159883638,null,null,null,{"$f":"IF(P669=1,K670*B$1/(B$1+B$2+L670),99999)","v":-0.80041782645678694},2.9431034037619388,null,null,{"$f":"(5*U665+5*U675)/10","v":-21.976794274162767},224.24393910959753,57.109543678391802,-9.9982703279406486,1.1255728418461786E-2,-0.14966892826737421,-1.079179960402854E-3,0.67948977235133157,-0.5087049332324014,-9.9941915464712494,4.4522568565694698E-2,-0.31004421871332383,5.5590870066014793,null,null,null,null,null,null,null,null,null,null,null,-15.422550201066791,477.33132195016896,78.782610658044604]
[546,{"$f":"OFFSET(Calculations!AS$43,$A671,0)-U$3-B$10","v":-9.8913132669945441},{"$f":"OFFSET(Calculations!AT$43,$A671,0)-V$3-B$11","v":368.42449555555572},{"$f":"OFFSET(Calculations!AU$43,$A671,0)-W$3-B$12","v":53.065682745778275},-9.8913132669945441,368.42449555555572,53.065682745778275,-9.8913132669945441,368.42449555555572,53.065682745778275,-9.8913132669945441,368.42449555555572,53.065682745778275,null,null,null,{"$f":"IF(P669=1,K671*B$1/(B$1+B$2+L671),99999)","v":-0.52276284348207158},2.8045585509930508,null,null,{"$f":"(4*U665+6*U675)/10","v":-21.986299598558823},224.83949466207486,56.496593261194356,-9.9979407961372111,1.3633395473738119E-2,-0.17150369193929577,1.5131718426886209E-4,0.69186032964159949,-0.49023509298820755,-9.9935135367742873,5.024873659008957E-2,-0.33108268633876575,5.5758618792596648,null,null,null,null,null,null,null,null,null,null,null,-14.017613495001997,474.04292132568276,94.944682746264903]
[553,{"$f":"OFFSET(Calculations!AS$43,$A672,0)-U$3-B$10","v":-9.3992023557704645},{"$f":"OFFSET(Calculations!AT$43,$A672,0)-V$3-B$11","v":378.47522296266857},{"$f":"OFFSET(Calculations!AU$43,$A672,0)-W$3-B$12","v":53.732326672106296},-9.3992023557704645,378.47522296266857,53.732326672106296,-9.3992023557704645,378.47522296266857,53.732326672106296,-9.3992023557704645,378.47522296266857,53.732326672106296,null,null,null,{"$f":"IF(P669=1,K672*B$1/(B$1+B$2+L672),99999)","v":-0.48390228257485046},2.7663193684437286,null,null,{"$f":"(3*U665+7*U675)/10","v":-21.995804922954882},225.43505021455221,55.883642843996903,-9.9976112643337771,1.6011062529014453E-2,-0.19333845561121735,1.3818143289476836E-3,0.70423088693192426,-0.47176525274399239,-9.9927792842644596,5.6517162450391997E-2,-0.35194039193472104,5.5925754803117993,null,null,null,null,null,null,null,null,null,null,null,-2.2982456169393104,475.68860283115458,83.37108568566255]
[555,{"$f":"OFFSET(Calculations!AS$43,$A673,0)-U$3-B$10","v":-19.236832201240812},{"$f":"OFFSET(Calculations!AT$43,$A673,0)-V$3-B$11","v":378.66904486125844},{"$f":"OFFSET(Calculations!AU$43,$A673,0)-W$3-B$12","v":55.516555383661583},-19.236832201240812,378.66904486125844,55.516555383661583,-19.236832201240812,378.66904486125844,55.516555383661583,-19.236832201240812,378.66904486125844,55.516555383661583,null,null,null,{"$f":"IF(P669=1,K673*B$1/(B$1+B$2+L673),99999)","v":-0.98988239251766008},2.8567520937243196,null,null,{"$f":"(2*U665+8*U675)/10","v":-22.005310247350938},226.03060576702961,55.270692426799449,-9.9972817325303431,1.8388729584290785E-2,-0.2151732192831389,2.6123114736265052E-3,0.71660144422210692,-0.45329541249978433,-9.991988788941768,6.3327846146601974E-2,-0.37261733550118964,5.60922847629194,null,null,null,null,null,null,null,null,null,null,null,-13.287101920514127,486.65760074706947,82.635606453959326]
[548,{"$f":"OFFSET(Calculations!AS$43,$A674,0)-U$3-B$10","v":-19.836245163917262},{"$f":"OFFSET(Calculations!AT$43,$A674,0)-V$3-B$11","v":369.13220657263179},{"$f":"OFFSET(Calculations!AU$43,$A674,0)-W$3-B$12","v":52.2927178811955},-19.836245163917262,369.13220657263179,52.2927178811955,-19.836245163917262,369.13220657263179,52.2927178811955,-19.836245163917262,369.13220657263179,52.2927178811955,null,null,null,{"$f":"IF(P669=1,K674*B$1/(B$1+B$2+L674),99999)","v":-1.0464025382194564},2.7585479141391582,null,null,{"$f":"(1*U665+9*U675)/10","v":-22.014815571746993},226.62616131950699,54.657742009601996,-9.9969522007269056,2.0766396639567121E-2,-0.23700798295506048,3.842808618301774E-3,0.72897200151240327,-0.43482557225559049,-9.991142050806209,7.068078767871952E-2,-0.39311351703817171,5.625821521736424,null,null,null,null,null,null,null,null,null,null,null,-8.0462284225368101,486.87144818731497,80.088546531126781]
[547,{"$f":"OFFSET(Calculations!AS$43,$A675,0)-U$3-B$10","v":-15.136004116787229},{"$f":"OFFSET(Calculations!AT$43,$A675,0)-V$3-B$11","v":368.20257411781654},{"$f":"OFFSET(Calculations!AU$43,$A675,0)-W$3-B$12","v":55.654464159883638},-15.136004116787229,368.20257411781654,55.654464159883638,-15.136004116787229,368.20257411781654,55.654464159883638,-15.136004116787229,368.20257411781654,55.654464159883638,null,null,null,{"$f":"IF(P669=1,K675*B$1/(B$1+B$2+L675),99999)","v":-0.80041782645678694},2.9431034037619388,null,{"$f":"T665+7","v":441},{"$f":"OFFSET(Calculations!AS$46,$T675,0)","v":-22.024320896143049},{"$f":"OFFSET(Calculations!AT$46,$T675,0)","v":227.22171687198437},{"$f":"OFFSET(Calculations!AU$46,$T675,0)","v":54.04479159240455},{"$f":"OFFSET(Calculations!AS$43,$T675,0)-OFFSET(Calculations!AS$45,$T675,0)","v":-9.9966226689234716},{"$f":"OFFSET(Calculations!AT$43,$T675,0)-OFFSET(Calculations!AT$45,$T675,0)","v":2.3144063694843453E-2},{"$f":"OFFSET(Calculations!AU$43,$T675,0)-OFFSET(Calculations!AU$45,$T675,0)","v":-0.25884274662698203},5.0733057629805955E-3,0.74134255880267119,-0.41635573201138243,-9.9902390698577861,7.8575987046744622E-2,-0.41342893654566715,5.6423552594840531,null,null,null,null,null,null,null,null,null,null,null,-3.342170023591466,485.94988972999357,83.408571318541959]
[" ",null,null,null,null,null,null,null,null,null,null,null,null,null,null,null,null,null,null,null,{"$f":"(9*U675+U685)/10","v":-22.022313184873546},227.93177428459572,53.569082205160427,-9.9958255609909781,3.0011719763257359E-2,-0.27969265587171466,5.5842381785602413E-3,0.74655674983455356,-0.40646345613926371,-9.9892798460964976,8.701344425067728E-2,-0.433563594023676,5.6551465822324305,null,null,null,null,null,null,null,null,null,null,null,-8.9409202542567741,484.97910502470376,89.867021048206311]
[{"$f":"A669+7","v":561},{"$f":"OFFSET(Calculations!AS$43,$A677,0)-U$3-B$10","v":-12.484979046174461},{"$f":"OFFSET(Calculations!AT$43,$A677,0)-V$3-B$11","v":387.75483044675531},{"$f":"OFFSET(Calculations!AU$43,$A677,0)-W$3-B$12","v":59.285181273078749},{"$f":"B677*F$5+C677*F$4","v":-12.484979046174461},{"$f":"C677*F$5-B677*F$4","v":387.75483044675531},{"$f":"D677","v":59.285181273078749},-12.484979046174461,{"$f":"F677*F$7+G677*F$6","v":387.75483044675531},{"$f":"G677*F$7-F677*F$6","v":59.285181273078749},{"$f":"H677*F$9+J677*F$8","v":-12.484979046174461},{"$f":"I677","v":387.75483044675531},{"$f":"J677*F$9-H677*F$8","v":59.285181273078749},null,null,{"$f":"IF(MIN(L677:L683)+B$2+B$1>0,1,0)","v":1},{"$f":"IF(P677=1,K677*B$1/(B$1+B$2+L677),99999)","v":-0.62777259208399427},{"$f":"M677*B$1/(B$1+B$2+L677)","v":2.9809911400190954},null,null,{"$f":"(8*U675+2*U685)/10","v":-22.020305473604044},228.64183169720701,53.093372817916318,-9.9950284530584863,3.6879375831671266E-2,-0.30054256511644722,6.095170594139887E-3,0.75177094086643592,-0.39657118026711657,-9.9882936030304101,9.5712534977196381E-2,-0.45357904287389755,5.6679028534108662,null,null,null,null,null,null,null,null,null,null,null,-15.276088299898671,486.79914295048457,82.481013481042723]
[554,{"$f":"OFFSET(Calculations!AS$43,$A678,0)-U$3-B$10","v":-13.795865177518895},{"$f":"OFFSET(Calculations!AT$43,$A678,0)-V$3-B$11","v":377.95796467117668},{"$f":"OFFSET(Calculations!AU$43,$A678,0)-W$3-B$12","v":57.570127590827497},-13.795865177518895,377.95796467117668,57.570127590827497,-13.795865177518895,377.95796467117668,57.570127590827497,-13.795865177518895,377.95796467117668,57.570127590827497,null,null,null,{"$f":"IF(P677=1,K678*B$1/(B$1+B$2+L678),99999)","v":-0.71120412177705483},2.9678538828103438,null,null,{"$f":"(7*U675+3*U685)/10","v":-22.018297762334537},229.35188910981833,52.617663430672188,-9.9942313451259963,4.3747031900085179E-2,-0.32139247436117985,6.6061030097195328E-3,0.75698513189837513,-0.38667890439500496,-9.9872803406595185,0.10467325922630195,-0.4734752830963318,5.6806243596012207,null,null,null,null,null,null,null,null,null,null,null,-9.6566737196327068,483.46523049461524,97.689800661869853]
[553,{"$f":"OFFSET(Calculations!AS$43,$A679,0)-U$3-B$10","v":-9.3992023557704645},{"$f":"OFFSET(Calculations!AT$43,$A679,0)-V$3-B$11","v":378.47522296266857},{"$f":"OFFSET(Calculations!AU$43,$A679,0)-W$3-B$12","v":53.732326672106296},-9.3992023557704645,378.47522296266857,53.732326672106296,-9.3992023557704645,378.47522296266857,53.732326672106296,-9.3992023557704645,378.47522296266857,53.732326672106296,null,null,null,{"$f":"IF(P677=1,K679*B$1/(B$1+B$2+L679),99999)","v":-0.48390228257485046},2.7663193684437286,null,null,{"$f":"(6*U675+4*U685)/10","v":-22.016290051065035},230.06194652242965,52.141954043428065,-9.9934342371935028,5.0614687968499085E-2,-0.34224238360591241,7.1170354252956258E-3,0.76219932293020065,-0.37678662852287914,-9.9862400589838316,0.11389561699799397,-0.49325231469097874,5.6933113835013511,null,null,null,null,null,null,null,null,null,null,null,-1.3531836442069176,485.80834752657847,83.563164291458548]
[560,{"$f":"OFFSET(Calculations!AS$43,$A680,0)-U$3-B$10","v":-9.2423005528047959},{"$f":"OFFSET(Calculations!AT$43,$A680,0)-V$3-B$11","v":388.53255469082279},{"$f":"OFFSET(Calculations!AU$43,$A680,0)-W$3-B$12","v":54.459766717491718},-9.2423005528047959,388.53255469082279,54.459766717491718,-9.2423005528047959,388.53255469082279,54.459766717491718,-9.2423005528047959,388.53255469082279,54.459766717491718,null,null,null,{"$f":"IF(P677=1,K680*B$1/(B$1+B$2+L680),99999)","v":-0.46381659134345354},2.733014709914527,null,null,{"$f":"(5*U675+5*U685)/10","v":-22.014282339795535},230.772003935041,51.666244656183949,-9.9926371292610092,5.7482344036912991E-2,-0.36309229285064504,7.9076622434399724E-3,0.77045483304129903,-0.35612503924271977,-9.9851727580033423,0.12337960829227246,-0.51291013765783844,5.7059642039984109,null,null,null,null,null,null,null,null,null,null,null,-12.687688957837723,496.19443903569606,85.859443956425196]
[562,{"$f":"OFFSET(Calculations!AS$43,$A681,0)-U$3-B$10","v":-18.302210130305955},{"$f":"OFFSET(Calculations!AT$43,$A681,0)-V$3-B$11","v":388.1992788288436},{"$f":"OFFSET(Calculations!AU$43,$A681,0)-W$3-B$12","v":58.679596767070151},-18.302210130305955,388.1992788288436,58.679596767070151,-18.302210130305955,388.1992788288436,58.679596767070151,-18.302210130305955,388.1992788288436,58.679596767070151,null,null,null,{"$f":"IF(P677=1,K681*B$1/(B$1+B$2+L681),99999)","v":-0.919248783379777},2.9472477669801189,null,null,{"$f":"(4*U675+6*U685)/10","v":-22.012274628526029},231.48206134765232,51.190535268939826,-9.9918400213285192,6.4350000105326904E-2,-0.38394220209537766,8.6982890615807662E-3,0.77871034315236898,-0.33546344996255328,-9.9840548180589455,0.13335630012449293,-0.53227716241089285,5.7185830962403772,null,null,null,null,null,null,null,null,null,null,null,-8.281907566327444,496.70097182200072,82.073084846268856]
[555,{"$f":"OFFSET(Calculations!AS$43,$A682,0)-U$3-B$10","v":-19.236832201240812},{"$f":"OFFSET(Calculations!AT$43,$A682,0)-V$3-B$11","v":378.66904486125844},{"$f":"OFFSET(Calculations!AU$43,$A682,0)-W$3-B$12","v":55.516555383661583},-19.236832201240812,378.66904486125844,55.516555383661583,-19.236832201240812,378.66904486125844,55.516555383661583,-19.236832201240812,378.66904486125844,55.516555383661583,null,null,null,{"$f":"IF(P677=1,K682*B$1/(B$1+B$2+L682),99999)","v":-0.98988239251766008},2.8567520937243196,null,null,{"$f":"(3*U675+7*U685)/10","v":-22.010266917256523},232.19211876026367,50.71482588169571,-9.9910429133960257,7.1217656173740804E-2,-0.40479211134011023,9.48891587972156E-3,0.78696585326341051,-0.31480186068241522,-9.9828862391506394,0.14382569249465538,-0.55135338895014219,5.7311683317058648,null,null,null,null,null,null,null,null,null,null,null,-2.8500591123673775,496.00061713710659,84.075215244869753]
[554,{"$f":"OFFSET(Calculations!AS$43,$A683,0)-U$3-B$10","v":-13.795865177518895},{"$f":"OFFSET(Calculations!AT$43,$A683,0)-V$3-B$11","v":377.95796467117668},{"$f":"OFFSET(Calculations!AU$43,$A683,0)-W$3-B$12","v":57.570127590827497},-13.795865177518895,377.95796467117668,57.570127590827497,-13.795865177518895,377.95796467117668,57.570127590827497,-13.795865177518895,377.95796467117668,57.570127590827497,null,null,null,{"$f":"IF(P677=1,K683*B$1/(B$1+B$2+L683),99999)","v":-0.71120412177705483},2.9678538828103438,null,null,{"$f":"(2*U675+8*U685)/10","v":-22.008259205987024},232.90217617287499,50.239116494451586,-9.9902458054635339,7.8085312242154717E-2,-0.42564202058484285,1.0279542697862354E-2,0.79522136337450888,-0.29414027140225585,-9.9816670212784224,0.15478778540275986,-0.57013881727558613,5.7437201782722687,null,null,null,null,null,null,null,null,null,null,null,-6.5720617538625064,494.68980553057042,91.719066974781697]
[" ",null,null,null,null,null,null,null,null,null,null,null,null,null,null,null,null,null,null,null,{"$f":"(1*U675+9*U685)/10","v":-22.006251494717525},233.61223358548631,49.76340710720747,-9.9894486975310421,8.4952968310568616E-2,-0.44649192982957542,1.10701695160067E-2,0.80347687348557884,-0.27347868212211068,-9.9803971644422997,0.1662425788488063,-0.58863344738722501,5.7562389002822929,null,null,null,null,null,null,null,null,null,null,null,-14.655214926931803,496.23320341541421,86.216289698736375]
[{"$f":"A677+7","v":568},{"$f":"OFFSET(Calculations!AS$43,$A685,0)-U$3-B$10","v":-11.272090343107861},{"$f":"OFFSET(Calculations!AT$43,$A685,0)-V$3-B$11","v":397.59821683904414},{"$f":"OFFSET(Calculations!AU$43,$A685,0)-W$3-B$12","v":60.793510127519014},{"$f":"B685*F$5+C685*F$4","v":-11.272090343107861},{"$f":"C685*F$5-B685*F$4","v":397.59821683904414},{"$f":"D685","v":60.793510127519014},-11.272090343107861,{"$f":"F685*F$7+G685*F$6","v":397.59821683904414},{"$f":"G685*F$7-F685*F$6","v":60.793510127519014},{"$f":"H685*F$9+J685*F$8","v":-11.272090343107861},{"$f":"I685","v":397.59821683904414},{"$f":"J685*F$9-H685*F$8","v":60.793510127519014},null,null,{"$f":"IF(MIN(L685:L691)+B$2+B$1>0,1,0)","v":1},{"$f":"IF(P685=1,K685*B$1/(B$1+B$2+L685),99999)","v":-0.55309811856017421},{"$f":"M685*B$1/(B$1+B$2+L685)","v":2.9830115842496769},null,{"$f":"T675+7","v":448},{"$f":"OFFSET(Calculations!AS$46,$T685,0)","v":-22.004243783448018},{"$f":"OFFSET(Calculations!AT$46,$T685,0)","v":234.32229099809763},{"$f":"OFFSET(Calculations!AU$46,$T685,0)","v":49.287697719963347},{"$f":"OFFSET(Calculations!AS$43,$T685,0)-OFFSET(Calculations!AS$45,$T685,0)","v":-9.9886515895985504},{"$f":"OFFSET(Calculations!AT$43,$T685,0)-OFFSET(Calculations!AT$45,$T685,0)","v":9.1820624378982529E-2},{"$f":"OFFSET(Calculations!AU$43,$T685,0)-OFFSET(Calculations!AU$45,$T685,0)","v":-0.46734183907430804},{"$f":"(SUM(U686:U701)-SUM(U685:U700))/16","v":1.1860796334143942E-2},{"$f":"(SUM(V686:V701)-SUM(V685:V700))/16","v":0.81173238359662037},{"$f":"(SUM(W686:W701)-SUM(W685:W700))/16","v":-0.25281709284195841},{"$f":"SUM(X685:X700)/16","v":-9.9790766686422643},{"$f":"SUM(Y685:Y700)/16","v":0.17819007283279475},{"$f":"SUM(Z685:Z700)/16","v":-0.6068372792850586},5.7687247586089034,null,null,null,null,null,null,null,null,null,null,null,-5.2042762895880923,493.08097975247767,99.435338259506125]
[561,{"$f":"OFFSET(Calculations!AS$43,$A686,0)-U$3-B$10","v":-12.484979046174461},{"$f":"OFFSET(Calculations!AT$43,$A686,0)-V$3-B$11","v":387.75483044675531},{"$f":"OFFSET(Calculations!AU$43,$A686,0)-W$3-B$12","v":59.285181273078749},-12.484979046174461,387.75483044675531,59.285181273078749,-12.484979046174461,387.75483044675531,59.285181273078749,-12.484979046174461,387.75483044675531,59.285181273078749,null,null,null,{"$f":"IF(P685=1,K686*B$1/(B$1+B$2+L686),99999)","v":-0.62777259208399427},2.9809911400190954,null,null,{"$f":"(9*U685+U695)/10","v":-21.994061153529245},235.11577546721918,48.970264746673216,-9.9874221727892643,0.10287441680877976,-0.48628441027444397,1.2140490736708642E-2,0.81477370267580795,-0.24204777943391775,-9.9777055338783214,0.19063026735472519,-0.62475031296908679,5.7770382107213756,null,null,null,null,null,null,null,null,null,null,null,-0.88253314327329369,495.9618527573885,83.718369502558673]
[560,{"$f":"OFFSET(Calculations!AS$43,$A687,0)-U$3-B$10","v":-9.2423005528047959},{"$f":"OFFSET(Calculations!AT$43,$A687,0)-V$3-B$11","v":388.53255469082279},{"$f":"OFFSET(Calculations!AU$43,$A687,0)-W$3-B$12","v":54.459766717491718},-9.2423005528047959,388.53255469082279,54.459766717491718,-9.2423005528047959,388.53255469082279,54.459766717491718,-9.2423005528047959,388.53255469082279,54.459766717491718,null,null,null,{"$f":"IF(P685=1,K687*B$1/(B$1+B$2+L687),99999)","v":-0.46381659134345354},2.733014709914527,null,null,{"$f":"(8*U685+2*U695)/10","v":-21.983878523610468},235.90925993634079,48.652831773383085,-9.9861927559799799,0.11392820923857698,-0.50522698147457989,1.242018513926979E-2,0.8178150217549387,-0.2312784660258842,-9.9763107794552663,0.20330152889201114,-0.64249175706709727,5.7853372200937532,null,null,null,null,null,null,null,null,null,null,null,-11.753066886902904,505.72467300328151,89.022485339833736]
[567,{"$f":"OFFSET(Calculations!AS$43,$A688,0)-U$3-B$10","v":-9.3941076825882099},{"$f":"OFFSET(Calculations!AT$43,$A688,0)-V$3-B$11","v":398.57853031936287},{"$f":"OFFSET(Calculations!AU$43,$A688,0)-W$3-B$12","v":55.330993985017138},-9.3941076825882099,398.57853031936287,55.330993985017138,-9.3941076825882099,398.57853031936287,55.330993985017138,-9.3941076825882099,398.57853031936287,55.330993985017138,null,null,null,{"$f":"IF(P685=1,K688*B$1/(B$1+B$2+L688),99999)","v":-0.45984343206900102},2.7084631168342601,null,null,{"$f":"(7*U685+3*U695)/10","v":-21.973695893691694},236.70274440546231,48.335398800092946,-9.9849633391706938,0.12498200166837421,-0.52416955267471577,1.2699879541830938E-2,0.82085634083415471,-0.22050915261786486,-9.974892405373101,0.21620385744465268,-0.6600616115790896,5.7936218617384858,null,null,null,null,null,null,null,null,null,null,null,-8.4835234969340121,506.48964414168455,84.253742078802475]
[569,{"$f":"OFFSET(Calculations!AS$43,$A689,0)-U$3-B$10","v":-17.058879126622017},{"$f":"OFFSET(Calculations!AT$43,$A689,0)-V$3-B$11","v":397.74086889604354},{"$f":"OFFSET(Calculations!AU$43,$A689,0)-W$3-B$12","v":61.698850928338445},-17.058879126622017,397.74086889604354,61.698850928338445,-17.058879126622017,397.74086889604354,61.698850928338445,-17.058879126622017,397.74086889604354,61.698850928338445,null,null,null,{"$f":"IF(P685=1,K689*B$1/(B$1+B$2+L689),99999)","v":-0.83675100672683855},3.0263756044562222,null,null,{"$f":"(6*U685+4*U695)/10","v":-21.963513263772921},237.49622887458389,48.017965826802822,-9.9837339223614094,0.13603579409817143,-0.54311212387485175,1.2979573944395639E-2,0.8238976599133423,-0.2097398392098242,-9.9734504116318288,0.22933725301264971,-0.67745987650506434,5.8018922100209291,null,null,null,null,null,null,null,null,null,null,null,-2.6931573094017267,506.05794886526087,84.802655290255416]
[562,{"$f":"OFFSET(Calculations!AS$43,$A690,0)-U$3-B$10","v":-18.302210130305955},{"$f":"OFFSET(Calculations!AT$43,$A690,0)-V$3-B$11","v":388.1992788288436},{"$f":"OFFSET(Calculations!AU$43,$A690,0)-W$3-B$12","v":58.679596767070151},-18.302210130305955,388.1992788288436,58.679596767070151,-18.302210130305955,388.1992788288436,58.679596767070151,-18.302210130305955,388.1992788288436,58.679596767070151,null,null,null,{"$f":"IF(P685=1,K690*B$1/(B$1+B$2+L690),99999)","v":-0.919248783379777},2.9472477669801189,null,null,{"$f":"(5*U685+5*U695)/10","v":-21.953330633854147},238.2897133437055,47.700532853512684,-9.9825045055521233,0.14708958652796866,-0.56205469507498762,2.5377483574430926E-2,0.83030754152133568,-0.18758051944288923,-9.9719847982314462,0.24270171559600229,-0.69468655184502093,5.8101483386671369,null,null,null,null,null,null,null,null,null,null,null,-4.2847640326088801,504.49644000224549,93.110993157083328]
[561,{"$f":"OFFSET(Calculations!AS$43,$A691,0)-U$3-B$10","v":-12.484979046174461},{"$f":"OFFSET(Calculations!AT$43,$A691,0)-V$3-B$11","v":387.75483044675531},{"$f":"OFFSET(Calculations!AU$43,$A691,0)-W$3-B$12","v":59.285181273078749},-12.484979046174461,387.75483044675531,59.285181273078749,-12.484979046174461,387.75483044675531,59.285181273078749,-12.484979046174461,387.75483044675531,59.285181273078749,null,null,null,{"$f":"IF(P685=1,K691*B$1/(B$1+B$2+L691),99999)","v":-0.62777259208399427},2.9809911400190954,null,null,{"$f":"(4*U685+6*U695)/10","v":-21.943148003935374},239.08319781282708,47.383099880222559,-9.9812750887428372,0.1581433789577659,-0.58099726627512349,3.7775393204469765E-2,0.83671742312932906,-0.16542119967596136,-9.9698294342411149,0.25440003304723008,-0.69446076872953444,5.8183903207715275,null,null,null,null,null,null,null,null,null,null,null,-13.565048802403103,505.6580178308858,89.866451349749354]
[" ",null,null,null,null,null,null,null,null,null,null,null,null,null,null,null,null,null,null,null,{"$f":"(3*U685+7*U695)/10","v":-21.9329653740166},239.8766822819486,47.065666906932428,-9.9800456719335529,0.16919717138756313,-0.59993983747525947,5.0173302834512157E-2,0.84312730473735087,-0.14326187990901929,-9.966984319660833,0.26443220536633305,-0.67678252715860487,5.8266182288044366,null,null,null,null,null,null,null,null,null,null,null,-0.92665195770212794,502.90230179421582,100.19490497655633]
[{"$f":"A685+7","v":575},{"$f":"OFFSET(Calculations!AS$43,$A693,0)-U$3-B$10","v":-10.196327881538453},{"$f":"OFFSET(Calculations!AT$43,$A693,0)-V$3-B$11","v":407.47911024490105},{"$f":"OFFSET(Calculations!AU$43,$A693,0)-W$3-B$12","v":62.151473394386471},{"$f":"B693*F$5+C693*F$4","v":-10.196327881538453},{"$f":"C693*F$5-B693*F$4","v":407.47911024490105},{"$f":"D693","v":62.151473394386471},-10.196327881538453,{"$f":"F693*F$7+G693*F$6","v":407.47911024490105},{"$f":"G693*F$7-F693*F$6","v":62.151473394386471},{"$f":"H693*F$9+J693*F$8","v":-10.196327881538453},{"$f":"I693","v":407.47911024490105},{"$f":"J693*F$9-H693*F$8","v":62.151473394386471},null,null,{"$f":"IF(MIN(L693:L699)+B$2+B$1>0,1,0)","v":1},{"$f":"IF(P693=1,K693*B$1/(B$1+B$2+L693),99999)","v":-0.48847128545220364},{"$f":"M693*B$1/(B$1+B$2+L693)","v":2.9774650692307576},null,null,{"$f":"(2*U685+8*U695)/10","v":-21.922782744097823},240.67016675107021,46.74823393364229,-9.9788162551242667,0.18025096381736033,-0.61888240867539535,6.2571212464547443E-2,0.8495371863454011,-0.12110256014207721,-9.9634494544905969,0.2727982325533112,-0.64165182713223201,5.8348321346195471,null,null,null,null,null,null,null,null,null,null,null,-0.88117539390144817,506.12460403765709,83.958689280339712]
[568,{"$f":"OFFSET(Calculations!AS$43,$A694,0)-U$3-B$10","v":-11.272090343107861},{"$f":"OFFSET(Calculations!AT$43,$A694,0)-V$3-B$11","v":397.59821683904414},{"$f":"OFFSET(Calculations!AU$43,$A694,0)-W$3-B$12","v":60.793510127519014},-11.272090343107861,397.59821683904414,60.793510127519014,-11.272090343107861,397.59821683904414,60.793510127519014,-11.272090343107861,397.59821683904414,60.793510127519014,null,null,null,{"$f":"IF(P693=1,K694*B$1/(B$1+B$2+L694),99999)","v":-0.55309811856017421},2.9830115842496769,null,null,{"$f":"(1*U685+9*U695)/10","v":-21.91260011417905},241.46365122019179,46.430800960352158,-9.9775868383149806,0.19130475624715756,-0.63782497987553133,7.4969122094593388E-2,0.85594706795333764,-9.8943240375142238E-2,-9.9592248387304139,0.27949811460816459,-0.58906866865041607,5.8430321094612152,null,null,null,null,null,null,null,null,null,null,null,-10.509735883218946,515.26626307048105,92.041739501102285]
[567,{"$f":"OFFSET(Calculations!AS$43,$A695,0)-U$3-B$10","v":-9.3941076825882099},{"$f":"OFFSET(Calculations!AT$43,$A695,0)-V$3-B$11","v":398.57853031936287},{"$f":"OFFSET(Calculations!AU$43,$A695,0)-W$3-B$12","v":55.330993985017138},-9.3941076825882099,398.57853031936287,55.330993985017138,-9.3941076825882099,398.57853031936287,55.330993985017138,-9.3941076825882099,398.57853031936287,55.330993985017138,null,null,null,{"$f":"IF(P693=1,K695*B$1/(B$1+B$2+L695),99999)","v":-0.45984343206900102},2.7084631168342601,null,{"$f":"T685+7","v":455},{"$f":"OFFSET(Calculations!AS$46,$T695,0)","v":-21.902417484260276},{"$f":"OFFSET(Calculations!AT$46,$T695,0)","v":242.25713568931334},{"$f":"OFFSET(Calculations!AU$46,$T695,0)","v":46.113367987062027},{"$f":"OFFSET(Calculations!AS$43,$T695,0)-OFFSET(Calculations!AS$45,$T695,0)","v":-9.9763574215056963},{"$f":"OFFSET(Calculations!AT$43,$T695,0)-OFFSET(Calculations!AT$45,$T695,0)","v":0.2023585486769548},{"$f":"OFFSET(Calculations!AU$43,$T695,0)-OFFSET(Calculations!AU$45,$T695,0)","v":-0.6567675510756672},8.7367031724625122E-2,0.86235694956141629,-7.6783920608207268E-2,-9.9543104723802784,0.28453185153089322,-0.51903305171315695,5.8512182239716735,null,null,null,null,null,null,null,null,null,null,null,-8.6010356893162339,516.2377516742788,86.615036131422997]
[574,{"$f":"OFFSET(Calculations!AS$43,$A696,0)-U$3-B$10","v":-9.8070855660102652},{"$f":"OFFSET(Calculations!AT$43,$A696,0)-V$3-B$11","v":408.5959633270536},{"$f":"OFFSET(Calculations!AU$43,$A696,0)-W$3-B$12","v":56.419200716195661},-9.8070855660102652,408.5959633270536,56.419200716195661,-9.8070855660102652,408.5959633270536,56.419200716195661,-9.8070855660102652,408.5959633270536,56.419200716195661,null,null,null,{"$f":"IF(P693=1,K696*B$1/(B$1+B$2+L696),99999)","v":-0.46857047966073584},2.695639980269696,null,null,{"$f":"(9*U695+U705)/10","v":-21.88775974390051},243.09928126370173,45.968244028300376,-9.9747500901506552,0.21710941335244058,-0.67296468889951622,9.9485246952109918E-2,0.8657255120902505,-6.5393914249298746E-2,-9.9487063554401942,0.28789944332149703,-0.43154497632045474,5.8549561528694873,null,null,null,null,null,null,null,null,null,null,null,-2.8449644391850892,516.10392449380106,85.673882557780587]
[576,{"$f":"OFFSET(Calculations!AS$43,$A697,0)-U$3-B$10","v":-15.554377369299498},{"$f":"OFFSET(Calculations!AT$43,$A697,0)-V$3-B$11","v":407.31100158409254},{"$f":"OFFSET(Calculations!AU$43,$A697,0)-W$3-B$12","v":64.501125625953932},-15.554377369299498,407.31100158409254,64.501125625953932,-15.554377369299498,407.31100158409254,64.501125625953932,-15.554377369299498,407.31100158409254,64.501125625953932,null,null,null,{"$f":"IF(P693=1,K697*B$1/(B$1+B$2+L697),99999)","v":-0.74545733566840222},3.0912736726858747,null,null,{"$f":"(8*U695+2*U705)/10","v":-21.873102003540744},243.94142683809008,45.823120069538732,-9.9731427587956141,0.23186027802792636,-0.68916182672336534,0.1116034621795805,0.8690940746190563,-5.4003907890397329E-2,-9.9424361075692662,0.28936982296462049,-0.32677603205832728,5.8586912060734733,null,null,null,null,null,null,null,null,null,null,null,-2.1977098761722673,514.39813262280495,94.080507066078013]
[569,{"$f":"OFFSET(Calculations!AS$43,$A698,0)-U$3-B$10","v":-17.058879126622017},{"$f":"OFFSET(Calculations!AT$43,$A698,0)-V$3-B$11","v":397.74086889604354},{"$f":"OFFSET(Calculations!AU$43,$A698,0)-W$3-B$12","v":61.698850928338445},-17.058879126622017,397.74086889604354,61.698850928338445,-17.058879126622017,397.74086889604354,61.698850928338445,-17.058879126622017,397.74086889604354,61.698850928338445,null,null,null,{"$f":"IF(P693=1,K698*B$1/(B$1+B$2+L698),99999)","v":-0.83675100672683855},3.0263756044562222,null,null,{"$f":"(7*U695+3*U705)/10","v":-21.858444263180978},244.78357241247846,45.677996110777087,-9.971535427440573,0.24661114270341217,-0.70535896454721436,0.12372167740705819,0.87246263714789052,-4.2613901531488807E-2,-9.935499728767498,0.28894299046026362,-0.20472621892677462,5.8624233902104939,null,null,null,null,null,null,null,null,null,null,null,-12.042690172025686,515.09873078581768,93.315310889766636]
[568,{"$f":"OFFSET(Calculations!AS$43,$A699,0)-U$3-B$10","v":-11.272090343107861},{"$f":"OFFSET(Calculations!AT$43,$A699,0)-V$3-B$11","v":397.59821683904414},{"$f":"OFFSET(Calculations!AU$43,$A699,0)-W$3-B$12","v":60.793510127519014},-11.272090343107861,397.59821683904414,60.793510127519014,-11.272090343107861,397.59821683904414,60.793510127519014,-11.272090343107861,397.59821683904414,60.793510127519014,null,null,null,{"$f":"IF(P693=1,K699*B$1/(B$1+B$2+L699),99999)","v":-0.55309811856017421},2.9830115842496769,null,null,{"$f":"(6*U695+4*U705)/10","v":-21.843786522821215},245.62571798686685,45.532872152015436,-9.9699280960855319,0.26136200737889792,-0.72155610237106349,0.13583989263453589,0.87583119967672474,-3.1223895172580285E-2,-9.9278972190348913,0.2866189458084264,-6.5395536925796777E-2,5.8661527118819983,null,null,null,null,null,null,null,null,null,null,null,2.9218790210045924,512.9273198692772,100.04930253651973]
[" ",null,null,null,null,null,null,null,null,null,null,null,null,null,null,null,null,null,null,null,{"$f":"(5*U695+5*U705)/10","v":-21.829128782461446},246.46786356125523,45.387748193253785,-9.9683207647304908,0.27611287205438373,-0.73775324019491251,0.14921939461988387,0.8844885667254232,-1.3454109110590196E-2,-9.9196285783714426,0.28239768900910889,9.1216013944606308E-2,5.8698791776641581,null,null,null,null,null,null,null,null,null,null,null,-1.3120101503783781,516.27145677846488,84.400311169116634]
[{"$f":"A693+7","v":582},{"$f":"OFFSET(Calculations!AS$43,$A701,0)-U$3-B$10","v":-9.2919951710286135},{"$f":"OFFSET(Calculations!AT$43,$A701,0)-V$3-B$11","v":417.39142105237624},{"$f":"OFFSET(Calculations!AU$43,$A701,0)-W$3-B$12","v":63.399354975978156},{"$f":"B701*F$5+C701*F$4","v":-9.2919951710286135},{"$f":"C701*F$5-B701*F$4","v":417.39142105237624},{"$f":"D701","v":63.399354975978156},-9.2919951710286135,{"$f":"F701*F$7+G701*F$6","v":417.39142105237624},{"$f":"G701*F$7-F701*F$6","v":63.399354975978156},{"$f":"H701*F$9+J701*F$8","v":-9.2919951710286135},{"$f":"I701","v":417.39142105237624},{"$f":"J701*F$9-H701*F$8","v":63.399354975978156},null,null,{"$f":"IF(MIN(L701:L707)+B$2+B$1>0,1,0)","v":1},{"$f":"IF(P701=1,K701*B$1/(B$1+B$2+L701),99999)","v":-0.43482366343005713},{"$f":"M701*B$1/(B$1+B$2+L701)","v":2.9668052213059584},null,null,{"$f":"(4*U695+6*U705)/10","v":-21.81447104210168},247.31000913564358,45.242624234492141,-9.9667134333754497,0.29086373672986954,-0.75395037801876152,0.1625988966052283,0.8931459337741785,4.3156769513998938E-3,-9.9065996442428794,0.27396014216401471,0.26406239429164413,5.8736027941080042,null,null,null,null,null,null,null,null,null,null,null,-9.3501218443281378,524.90678142650677,94.586403222959234]
[575,{"$f":"OFFSET(Calculations!AS$43,$A702,0)-U$3-B$10","v":-10.196327881538453},{"$f":"OFFSET(Calculations!AT$43,$A702,0)-V$3-B$11","v":407.47911024490105},{"$f":"OFFSET(Calculations!AU$43,$A702,0)-W$3-B$12","v":62.151473394386471},-10.196327881538453,407.47911024490105,62.151473394386471,-10.196327881538453,407.47911024490105,62.151473394386471,-10.196327881538453,407.47911024490105,62.151473394386471,null,null,null,{"$f":"IF(P701=1,K702*B$1/(B$1+B$2+L702),99999)","v":-0.48847128545220364},2.9774650692307576,null,null,{"$f":"(3*U695+7*U705)/10","v":-21.799813301741917},248.15215471003194,45.097500275730489,-9.9651061020204086,0.30561460140535529,-0.77014751584261065,0.1759783985905905,0.90180330082282012,2.2085463013382878E-2,-9.8888104166491964,0.26130630527314391,0.45314360411531657,5.8773235677395617,null,null,null,null,null,null,null,null,null,null,null,-8.4297014862317106,525.980190677,88.92383024566918]
[574,{"$f":"OFFSET(Calculations!AS$43,$A703,0)-U$3-B$10","v":-9.8070855660102652},{"$f":"OFFSET(Calculations!AT$43,$A703,0)-V$3-B$11","v":408.5959633270536},{"$f":"OFFSET(Calculations!AU$43,$A703,0)-W$3-B$12","v":56.419200716195661},-9.8070855660102652,408.5959633270536,56.419200716195661,-9.8070855660102652,408.5959633270536,56.419200716195661,-9.8070855660102652,408.5959633270536,56.419200716195661,null,null,null,{"$f":"IF(P701=1,K703*B$1/(B$1+B$2+L703),99999)","v":-0.46857047966073584},2.695639980269696,null,null,{"$f":"(2*U695+8*U705)/10","v":-21.785155561382151},248.99430028442035,44.952376316968845,-9.9634987706653675,0.3203654660808411,-0.78634465366645967,0.18935790057593493,0.91046066787146174,3.9855249075372967E-2,-9.866260895590397,0.24443617833649645,0.6584596434156238,5.8810415050599776,null,null,null,null,null,null,null,null,null,null,null,-2.9130546041753669,526.05097183351484,87.019700264717557]
[581,{"$f":"OFFSET(Calculations!AS$43,$A704,0)-U$3-B$10","v":-10.41589766870498},{"$f":"OFFSET(Calculations!AT$43,$A704,0)-V$3-B$11","v":418.5696123251023},{"$f":"OFFSET(Calculations!AU$43,$A704,0)-W$3-B$12","v":57.782792360668026},-10.41589766870498,418.5696123251023,57.782792360668026,-10.41589766870498,418.5696123251023,57.782792360668026,-10.41589766870498,418.5696123251023,57.782792360668026,null,null,null,{"$f":"IF(P701=1,K704*B$1/(B$1+B$2+L704),99999)","v":-0.48607728449042431},2.6965417378605667,null,null,{"$f":"(1*U695+9*U705)/10","v":-21.770497821022381},249.8364458588087,44.807252358207201,-9.9618914393103264,0.33511633075632685,-0.8025417914903088,0.20273740256127937,0.91911803492024546,5.7625035137363056E-2,-9.838951081066476,0.22334976135407242,0.88001051219256554,5.8847566125456634,null,null,null,null,null,null,null,null,null,null,null,-0.788322225405655,524.31328816823384,95.172366564648343]
[583,{"$f":"OFFSET(Calculations!AS$43,$A705,0)-U$3-B$10","v":-13.854041392704247},{"$f":"OFFSET(Calculations!AT$43,$A705,0)-V$3-B$11","v":416.92491828178305},{"$f":"OFFSET(Calculations!AU$43,$A705,0)-W$3-B$12","v":67.0280154102757},-13.854041392704247,416.92491828178305,67.0280154102757,-13.854041392704247,416.92491828178305,67.0280154102757,-13.854041392704247,416.92491828178305,67.0280154102757,null,null,null,{"$f":"IF(P701=1,K705*B$1/(B$1+B$2+L705),99999)","v":-0.64901535607065086},3.1400376291006387,null,{"$f":"T695+7","v":462},{"$f":"OFFSET(Calculations!AS$46,$T705,0)","v":-21.755840080662619},{"$f":"OFFSET(Calculations!AT$46,$T705,0)","v":250.67859143319708},{"$f":"OFFSET(Calculations!AU$46,$T705,0)","v":44.66212839944555},{"$f":"OFFSET(Calculations!AS$43,$T705,0)-OFFSET(Calculations!AS$45,$T705,0)","v":-9.9602841079552853},{"$f":"OFFSET(Calculations!AT$43,$T705,0)-OFFSET(Calculations!AT$45,$T705,0)","v":0.34986719543181266},{"$f":"OFFSET(Calculations!AU$43,$T705,0)-OFFSET(Calculations!AU$45,$T705,0)","v":-0.81873892931415782},0.21611690454663091,0.9277754019689155,7.539482119934604E-2,-9.8068809730774422,0.19804705432587166,1.1177962104461421,{"$f":"AG$245+SIGN(W$245-W705)*SQRT(2*ABS(W$245-W705)/Z$5)","v":5.8884688966484173},null,null,null,null,null,null,null,null,null,null,null,-10.637535292358764,524.67794334510529,96.099743814607564]
[576,{"$f":"OFFSET(Calculations!AS$43,$A706,0)-U$3-B$10","v":-15.554377369299498},{"$f":"OFFSET(Calculations!AT$43,$A706,0)-V$3-B$11","v":407.31100158409254},{"$f":"OFFSET(Calculations!AU$43,$A706,0)-W$3-B$12","v":64.501125625953932},-15.554377369299498,407.31100158409254,64.501125625953932,-15.554377369299498,407.31100158409254,64.501125625953932,-15.554377369299498,407.31100158409254,64.501125625953932,null,null,null,{"$f":"IF(P701=1,K706*B$1/(B$1+B$2+L706),99999)","v":-0.74545733566840222},3.0912736726858747,null,null,{"$f":"(9*U705+U715)/10","v":-21.54729089666322},251.57463400804687,44.699244542426413,-9.9480186817067935,0.33426266574761315,-0.55844216522720347,0.21737819130450831,0.9330642064887229,8.1774600902434713E-2,-9.7700505716232904,0.16852805725189429,1.3718167381763533,5.8875197306766731,null,null,null,null,null,null,null,null,null,null,null,5.3182674875612781,522.98118706905939,100.16586921700207]
[575,{"$f":"OFFSET(Calculations!AS$43,$A707,0)-U$3-B$10","v":-10.196327881538453},{"$f":"OFFSET(Calculations!AT$43,$A707,0)-V$3-B$11","v":407.47911024490105},{"$f":"OFFSET(Calculations!AU$43,$A707,0)-W$3-B$12","v":62.151473394386471},-10.196327881538453,407.47911024490105,62.151473394386471,-10.196327881538453,407.47911024490105,62.151473394386471,-10.196327881538453,407.47911024490105,62.151473394386471,null,null,null,{"$f":"IF(P701=1,K707*B$1/(B$1+B$2+L707),99999)","v":-0.48847128545220364},2.9774650692307576,null,null,{"$f":"(8*U705+2*U715)/10","v":-21.338741712663825},252.4706765828966,44.73636068540727,-9.9357532554582999,0.31865813606341364,-0.29814540114024907,0.2186394780623786,0.93835301100858715,8.815438060551628E-2,-9.7291260076348607,0.13668998227962062,1.6247912265137745,5.8865703803392178,null,null,null,null,null,null,null,null,null,null,null,-1.6256411561448081,526.27980991491688,85.506359673069412]
[" ",null,null,null,null,null,null,null,null,null,null,null,null,null,null,null,null,null,null,null,{"$f":"(7*U705+3*U715)/10","v":-21.130192528664427},253.36671915774633,44.773476828388127,-9.9234878292098081,0.30305360637921408,-3.7848637053294706E-2,0.21990076482025245,0.94364181552850823,9.4534160308590742E-2,-9.6841072811121549,0.10253282940905065,1.8767196754584046,5.8856208455285755,null,null,null,null,null,null,null,null,null,null,null,-8.4594721889461244,534.63017860640025,96.789254913114661]
[{"$f":"A701+7","v":589},{"$f":"OFFSET(Calculations!AS$43,$A709,0)-U$3-B$10","v":-8.5818601881249208},{"$f":"OFFSET(Calculations!AT$43,$A709,0)-V$3-B$11","v":427.32703633974904},{"$f":"OFFSET(Calculations!AU$43,$A709,0)-W$3-B$12","v":64.584389174918613},{"$f":"B709*F$5+C709*F$4","v":-8.5818601881249208},{"$f":"C709*F$5-B709*F$4","v":427.32703633974904},{"$f":"D709","v":64.584389174918613},-8.5818601881249208,{"$f":"F709*F$7+G709*F$6","v":427.32703633974904},{"$f":"G709*F$7-F709*F$6","v":64.584389174918613},{"$f":"H709*F$9+J709*F$8","v":-8.5818601881249208},{"$f":"I709","v":427.32703633974904},{"$f":"J709*F$9-H709*F$8","v":64.584389174918613},null,null,{"$f":"IF(MIN(L709:L715)+B$2+B$1>0,1,0)","v":1},{"$f":"IF(P709=1,K709*B$1/(B$1+B$2+L709),99999)","v":-0.39246876936544467},{"$f":"M709*B$1/(B$1+B$2+L709)","v":2.9535969106993205},null,null,{"$f":"(6*U705+4*U715)/10","v":-20.921643344665029},254.26276173259612,44.81059297136899,-9.9112224029613163,0.28744907669501457,0.22244812703365965,0.22116205157811919,0.94893062004837248,0.10091394001167941,-9.6349943920551731,6.6056598640184386E-2,2.1276020850102446,5.8846711261371665,null,null,null,null,null,null,null,null,null,null,null,-8.0105758342312416,536.09953026512562,91.155448425179216]
[582,{"$f":"OFFSET(Calculations!AS$43,$A710,0)-U$3-B$10","v":-9.2919951710286135},{"$f":"OFFSET(Calculations!AT$43,$A710,0)-V$3-B$11","v":417.39142105237624},{"$f":"OFFSET(Calculations!AU$43,$A710,0)-W$3-B$12","v":63.399354975978156},-9.2919951710286135,417.39142105237624,63.399354975978156,-9.2919951710286135,417.39142105237624,63.399354975978156,-9.2919951710286135,417.39142105237624,63.399354975978156,null,null,null,{"$f":"IF(P709=1,K710*B$1/(B$1+B$2+L710),99999)","v":-0.43482366343005713},2.9668052213059584,null,null,{"$f":"(5*U705+5*U715)/10","v":-20.71309416066563},255.15880430744588,44.847709114349854,-9.8989569767128245,0.27184454701081506,0.48274489112061403,0.22117181605588598,0.95481353799868884,0.10465364300659274,-9.5817873404639133,2.7261289973021796E-2,2.3774384551692935,5.8837212220573072,null,null,null,null,null,null,null,null,null,null,null,-2.7121803856568665,535.91514034936108,88.707330003356176]
[581,{"$f":"OFFSET(Calculations!AS$43,$A711,0)-U$3-B$10","v":-10.41589766870498},{"$f":"OFFSET(Calculations!AT$43,$A711,0)-V$3-B$11","v":418.5696123251023},{"$f":"OFFSET(Calculations!AU$43,$A711,0)-W$3-B$12","v":57.782792360668026},-10.41589766870498,418.5696123251023,57.782792360668026,-10.41589766870498,418.5696123251023,57.782792360668026,-10.41589766870498,418.5696123251023,57.782792360668026,null,null,null,{"$f":"IF(P709=1,K711*B$1/(B$1+B$2+L711),99999)","v":-0.48607728449042431},2.6965417378605667,null,null,{"$f":"(4*U705+6*U715)/10","v":-20.504544976666232},256.05484688229564,44.884825257330718,-9.8866915504643309,0.25624001732661555,0.74304165520756837,0.22118158053365988,0.96069645594917574,0.10839334600150607,-9.5206272646790158,-1.3711145347251718E-2,2.6244314456588018,5.8827711331812091,null,null,null,null,null,null,null,null,null,null,null,4.0664374082369115E-2,533.35395378372084,96.444394634388004]
[588,{"$f":"OFFSET(Calculations!AS$43,$A712,0)-U$3-B$10","v":-11.141861677894354},{"$f":"OFFSET(Calculations!AT$43,$A712,0)-V$3-B$11","v":428.48721973261814},{"$f":"OFFSET(Calculations!AU$43,$A712,0)-W$3-B$12","v":59.461407341328936},-11.141861677894354,428.48721973261814,59.461407341328936,-11.141861677894354,428.48721973261814,59.461407341328936,-11.141861677894354,428.48721973261814,59.461407341328936,null,null,null,{"$f":"IF(P709=1,K712*B$1/(B$1+B$2+L712),99999)","v":-0.50819550383650713},2.7121158686261126,null,null,{"$f":"(3*U705+7*U715)/10","v":-20.295995792666837},256.95088945714531,44.921941400311574,-9.8744261242158391,0.24063548764241602,1.0033384192945227,0.22119134501141957,0.96657937389949211,0.1121330489964123,-9.4515141647004768,-5.6860707320636188E-2,2.868581056478769,5.8818208594009773,null,null,null,null,null,null,null,null,null,null,null,-9.6089305496039827,534.3731862578079,98.405639895066287]
[590,{"$f":"OFFSET(Calculations!AS$43,$A713,0)-U$3-B$10","v":-12.036553509614297},{"$f":"OFFSET(Calculations!AT$43,$A713,0)-V$3-B$11","v":426.59487657000739},{"$f":"OFFSET(Calculations!AU$43,$A713,0)-W$3-B$12","v":69.239881858408552},-12.036553509614297,426.59487657000739,69.239881858408552,-12.036553509614297,426.59487657000739,69.239881858408552,-12.036553509614297,426.59487657000739,69.239881858408552,null,null,null,{"$f":"IF(P709=1,K713*B$1/(B$1+B$2+L713),99999)","v":-0.55138317719971008},3.1718137602700907,null,null,{"$f":"(2*U705+8*U715)/10","v":-20.087446608667438},257.84693203199515,44.959057543292438,-9.8621606979673455,0.22503095795821651,1.2636351833814772,0.22120110948918992,0.97246229184986532,0.11587275199133273,-9.3744480405282964,-0.1021873959471316,3.1098872876291952,5.8808704006086128,null,null,null,null,null,null,null,null,null,null,null,6.4709394156638727,531.16114727610977,100.66851140713359]
[583,{"$f":"OFFSET(Calculations!AS$43,$A714,0)-U$3-B$10","v":-13.854041392704247},{"$f":"OFFSET(Calculations!AT$43,$A714,0)-V$3-B$11","v":416.92491828178305},{"$f":"OFFSET(Calculations!AU$43,$A714,0)-W$3-B$12","v":67.0280154102757},-13.854041392704247,416.92491828178305,67.0280154102757,-13.854041392704247,416.92491828178305,67.0280154102757,-13.854041392704247,416.92491828178305,67.0280154102757,null,null,null,{"$f":"IF(P709=1,K714*B$1/(B$1+B$2+L714),99999)","v":-0.64901535607065086},3.1400376291006387,null,null,{"$f":"(1*U705+9*U715)/10","v":-19.878897424668036},258.74297460684488,44.996173686273302,-9.8498952717188537,0.20942642827401697,1.5239319474684314,0.22121087396695316,0.97834520980029538,0.11961245498624606,-9.2894288921624764,-0.14969121122673795,3.3483501391100807,5.8799197566960117,null,null,null,null,null,null,null,null,null,null,null,-1.5627220249990064,536.17213269795343,87.09094502140448]
[582,{"$f":"OFFSET(Calculations!AS$43,$A715,0)-U$3-B$10","v":-9.2919951710286135},{"$f":"OFFSET(Calculations!AT$43,$A715,0)-V$3-B$11","v":417.39142105237624},{"$f":"OFFSET(Calculations!AU$43,$A715,0)-W$3-B$12","v":63.399354975978156},-9.2919951710286135,417.39142105237624,63.399354975978156,-9.2919951710286135,417.39142105237624,63.399354975978156,-9.2919951710286135,417.39142105237624,63.399354975978156,null,null,null,{"$f":"IF(P709=1,K715*B$1/(B$1+B$2+L715),99999)","v":-0.43482366343005713},2.9668052213059584,null,{"$f":"T705+7","v":469},{"$f":"OFFSET(Calculations!AS$46,$T715,0)","v":-19.670348240668641},{"$f":"OFFSET(Calculations!AT$46,$T715,0)","v":259.63901718169461},{"$f":"OFFSET(Calculations!AU$46,$T715,0)","v":45.033289829254159},{"$f":"OFFSET(Calculations!AS$43,$T715,0)-OFFSET(Calculations!AS$45,$T715,0)","v":-9.8376298454703619},{"$f":"OFFSET(Calculations!AT$43,$T715,0)-OFFSET(Calculations!AT$45,$T715,0)","v":0.19382189858981747},{"$f":"OFFSET(Calculations!AU$43,$T715,0)-OFFSET(Calculations!AU$45,$T715,0)","v":1.7842287115553859},0.2212206384447164,0.98422812775066859,0.12335215798115229,-9.1964567196030167,-0.19937215315945522,3.5839696109214247,5.8789689275549648,null,null,null,null,null,null,null,null,null,null,null,-6.6525444657315322,544.41500660527186,99.607449998742013]
[" ",null,null,null,null,null,null,null,null,null,null,null,null,null,null,null,null,null,null,null,{"$f":"(9*U715+U725)/10","v":-19.441618468543282},260.61968062886211,45.17248244748432,-9.7598578186734422,0.14111212253287703,2.027788845357692,0.21996911616461645,0.98482224118117756,0.12071208127301247,-9.0955315228499174,-0.25123022174528342,3.8167457030632277,5.8754014851588687,null,null,null,null,null,null,null,null,null,null,null,-6.3524756055818745,546.29129482905989,94.081685148475401]
[{"$f":"A709+7","v":596},{"$f":"OFFSET(Calculations!AS$43,$A717,0)-U$3-B$10","v":-8.075760653420577},{"$f":"OFFSET(Calculations!AT$43,$A717,0)-V$3-B$11","v":437.27636139310761},{"$f":"OFFSET(Calculations!AU$43,$A717,0)-W$3-B$12","v":65.757642986279862},{"$f":"B717*F$5+C717*F$4","v":-8.075760653420577},{"$f":"C717*F$5-B717*F$4","v":437.27636139310761},{"$f":"D717","v":65.757642986279862},-8.075760653420577,{"$f":"F717*F$7+G717*F$6","v":437.27636139310761},{"$f":"G717*F$7-F717*F$6","v":65.757642986279862},{"$f":"H717*F$9+J717*F$8","v":-8.075760653420577},{"$f":"I717","v":437.27636139310761},{"$f":"J717*F$9-H717*F$8","v":65.757642986279862},null,null,{"$f":"IF(MIN(L717:L723)+B$2+B$1>0,1,0)","v":1},{"$f":"IF(P717=1,K717*B$1/(B$1+B$2+L717),99999)","v":-0.36110831470133764},{"$f":"M717*B$1/(B$1+B$2+L717)","v":2.9403585193488908},null,null,{"$f":"(8*U715+2*U725)/10","v":-19.212888696417927},261.60034407602961,45.311675065714489,-9.6820857918765242,8.8402346475936616E-2,2.2713489791599981,0.2187175938845094,0.98541635461168653,0.11807200456480871,-8.9907474644374528,-0.30294633908592628,4.0477244549282805,5.8718314304716825,null,null,null,null,null,null,null,null,null,null,null,-1.4455408375300647,545.19187028531223,91.105473990864283]
[589,{"$f":"OFFSET(Calculations!AS$43,$A718,0)-U$3-B$10","v":-8.5818601881249208},{"$f":"OFFSET(Calculations!AT$43,$A718,0)-V$3-B$11","v":427.32703633974904},{"$f":"OFFSET(Calculations!AU$43,$A718,0)-W$3-B$12","v":64.584389174918613},-8.5818601881249208,427.32703633974904,64.584389174918613,-8.5818601881249208,427.32703633974904,64.584389174918613,-8.5818601881249208,427.32703633974904,64.584389174918613,null,null,null,{"$f":"IF(P717=1,K718*B$1/(B$1+B$2+L718),99999)","v":-0.39246876936544467},2.9535969106993205,null,null,{"$f":"(7*U715+3*U725)/10","v":-18.984158924292569},262.58100752319706,45.450867683944651,-9.6043137650796062,3.5692570418996185E-2,2.5149091129623047,0.21746607160439879,0.98601046804225234,0.11543192785666179,-8.8821045443656264,-0.35452050518138378,4.2769058665165831,5.8682587577463696,null,null,null,null,null,null,null,null,null,null,null,1.2829780751078701,541.3593264458292,98.307334324265526]
[588,{"$f":"OFFSET(Calculations!AS$43,$A719,0)-U$3-B$10","v":-11.141861677894354},{"$f":"OFFSET(Calculations!AT$43,$A719,0)-V$3-B$11","v":428.48721973261814},{"$f":"OFFSET(Calculations!AU$43,$A719,0)-W$3-B$12","v":59.461407341328936},-11.141861677894354,428.48721973261814,59.461407341328936,-11.141861677894354,428.48721973261814,59.461407341328936,-11.141861677894354,428.48721973261814,59.461407341328936,null,null,null,{"$f":"IF(P717=1,K719*B$1/(B$1+B$2+L719),99999)","v":-0.50819550383650713},2.7121158686261126,null,null,{"$f":"(6*U715+4*U725)/10","v":-18.75542915216721},263.56167097036462,45.59006030217482,-9.5265417382826865,-1.7017205637944243E-2,2.7584692467646108,0.21621454932429529,0.98660458147276131,0.11279185114848644,-8.7696027626344346,-0.40595272003165589,4.5042899378281342,5.8646834612147867,null,null,null,null,null,null,null,null,null,null,null,-7.6939451913718422,544.25963386926389,101.30784520031764]
[595,{"$f":"OFFSET(Calculations!AS$43,$A720,0)-U$3-B$10","v":-11.898311571975571},{"$f":"OFFSET(Calculations!AT$43,$A720,0)-V$3-B$11","v":438.34034711049037},{"$f":"OFFSET(Calculations!AU$43,$A720,0)-W$3-B$12","v":61.47321576131273},-11.898311571975571,438.34034711049037,61.47321576131273,-11.898311571975571,438.34034711049037,61.47321576131273,-11.898311571975571,438.34034711049037,61.47321576131273,null,null,null,{"$f":"IF(P717=1,K720*B$1/(B$1+B$2+L720),99999)","v":-0.53077139493061565},2.7422566876928025,null,null,{"$f":"(5*U715+5*U725)/10","v":-18.526699380041851},264.54233441753212,45.729252920404988,-9.4487697114857667,-6.9726981694884671E-2,3.0020293805669169,0.21305502652876029,0.98774684662953405,0.10792728629043324,-8.6532421192438793,-0.45724298363674265,4.7298766688629348,5.8611055350875834,null,null,null,null,null,null,null,null,null,null,null,7.3767160485234546,537.42319844644317,101.67975984365087]
[597,{"$f":"OFFSET(Calculations!AS$43,$A721,0)-U$3-B$10","v":-10.188579741632601},{"$f":"OFFSET(Calculations!AT$43,$A721,0)-V$3-B$11","v":436.32931488787477},{"$f":"OFFSET(Calculations!AU$43,$A721,0)-W$3-B$12","v":71.118554867218478},-10.188579741632601,436.32931488787477,71.118554867218478,-10.188579741632601,436.32931488787477,71.118554867218478,-10.188579741632601,436.32931488787477,71.118554867218478,null,null,null,{"$f":"IF(P717=1,K721*B$1/(B$1+B$2+L721),99999)","v":-0.45654987928328838},3.1868197985196027,null,null,{"$f":"(4*U715+6*U725)/10","v":-18.297969607916492},265.52299786469956,45.86844553863515,-9.3709976846888488,-0.1224367577518251,3.245589514369223,0.20989550373321819,0.98888911178630678,0.10306272143236583,-8.5297579797734784,-0.50803451323602999,4.9509538163253231,5.8575249735540833,null,null,null,null,null,null,null,null,null,null,null,-0.40414011188975962,545.34724302132088,89.405078789288766]
[590,{"$f":"OFFSET(Calculations!AS$43,$A722,0)-U$3-B$10","v":-12.036553509614297},{"$f":"OFFSET(Calculations!AT$43,$A722,0)-V$3-B$11","v":426.59487657000739},{"$f":"OFFSET(Calculations!AU$43,$A722,0)-W$3-B$12","v":69.239881858408552},-12.036553509614297,426.59487657000739,69.239881858408552,-12.036553509614297,426.59487657000739,69.239881858408552,-12.036553509614297,426.59487657000739,69.239881858408552,null,null,null,{"$f":"IF(P717=1,K722*B$1/(B$1+B$2+L722),99999)","v":-0.55138317719971008},3.1718137602700907,null,null,{"$f":"(3*U715+7*U725)/10","v":-18.069239835791134},266.50366131186706,46.007638156865319,-9.293225657891929,-0.17514653380876552,3.4891496481715292,0.20673598093767609,0.9900313769433069,9.8198156574291318E-2,-8.3991503442232354,-0.55832730882951798,5.1675213802152964,5.853941770782181,null,null,null,null,null,null,null,null,null,null,null,-2.4601584508396139,553.25386204604808,102.96134390050477]
[589,{"$f":"OFFSET(Calculations!AS$43,$A723,0)-U$3-B$10","v":-8.5818601881249208},{"$f":"OFFSET(Calculations!AT$43,$A723,0)-V$3-B$11","v":427.32703633974904},{"$f":"OFFSET(Calculations!AU$43,$A723,0)-W$3-B$12","v":64.584389174918613},-8.5818601881249208,427.32703633974904,64.584389174918613,-8.5818601881249208,427.32703633974904,64.584389174918613,-8.5818601881249208,427.32703633974904,64.584389174918613,null,null,null,{"$f":"IF(P717=1,K723*B$1/(B$1+B$2+L723),99999)","v":-0.39246876936544467},2.9535969106993205,null,null,{"$f":"(2*U715+8*U725)/10","v":-17.840510063665779},267.48432475903456,46.146830775095481,-9.215453631095011,-0.22785630986570596,3.7327097819738357,0.20357645814214465,0.99117364209996595,9.3333591716238118E-2,-8.2614192125931432,-0.60812137041720649,5.3795793605328575,5.8503559209182283,null,null,null,null,null,null,null,null,null,null,null,-2.2040735430979779,555.54968094186427,97.589128042150833]
[" ",null,null,null,null,null,null,null,null,null,null,null,null,null,null,null,null,null,null,null,{"$f":"(1*U715+9*U725)/10","v":-17.61178029154042},268.46498820620207,46.286023393325642,-9.1376816042980913,-0.28056608592264637,3.9762699157761419,0.20041693534659544,0.99231590725679553,8.8469026858156496E-2,-8.1165645848832035,-0.65741669799909563,5.5871277572780045,5.8467674180869222,null,null,null,null,null,null,null,null,null,null,null,2.0733108763439176,553.69527633542498,94.058939209376689]
[{"$f":"A717+7","v":603},{"$f":"OFFSET(Calculations!AS$43,$A725,0)-U$3-B$10","v":-7.7700469430541785},{"$f":"OFFSET(Calculations!AT$43,$A725,0)-V$3-B$11","v":447.22895209989895},{"$f":"OFFSET(Calculations!AU$43,$A725,0)-W$3-B$12","v":66.97067586173641},{"$f":"B725*F$5+C725*F$4","v":-7.7700469430541785},{"$f":"C725*F$5-B725*F$4","v":447.22895209989895},{"$f":"D725","v":66.97067586173641},-7.7700469430541785,{"$f":"F725*F$7+G725*F$6","v":447.22895209989895},{"$f":"G725*F$7-F725*F$6","v":66.97067586173641},{"$f":"H725*F$9+J725*F$8","v":-7.7700469430541785},{"$f":"I725","v":447.22895209989895},{"$f":"J725*F$9-H725*F$8","v":66.97067586173641},null,null,{"$f":"IF(MIN(L725:L731)+B$2+B$1>0,1,0)","v":1},{"$f":"IF(P725=1,K725*B$1/(B$1+B$2+L725),99999)","v":-0.33987554407344345},{"$f":"M725*B$1/(B$1+B$2+L725)","v":2.9294153641917293},null,{"$f":"T715+7","v":476},{"$f":"OFFSET(Calculations!AS$46,$T725,0)","v":-17.383050519415061},{"$f":"OFFSET(Calculations!AT$46,$T725,0)","v":269.44565165336957},{"$f":"OFFSET(Calculations!AU$46,$T725,0)","v":46.425216011555811},{"$f":"OFFSET(Calculations!AS$43,$T725,0)-OFFSET(Calculations!AS$45,$T725,0)","v":-9.0599095775011733},{"$f":"OFFSET(Calculations!AT$43,$T725,0)-OFFSET(Calculations!AT$45,$T725,0)","v":-0.33327586197958681},{"$f":"OFFSET(Calculations!AU$43,$T725,0)-OFFSET(Calculations!AU$45,$T725,0)","v":4.219830049578448},0.19725741255106399,0.99345817241362511,8.3604462000103297E-2,-7.9645864610934174,-0.70621329157518531,5.7901665704507383,5.8431762563911951,null,null,null,null,null,null,null,null,null,null,null,4.447557183608569,548.68479706788662,100.63602458072552]
[596,{"$f":"OFFSET(Calculations!AS$43,$A726,0)-U$3-B$10","v":-8.075760653420577},{"$f":"OFFSET(Calculations!AT$43,$A726,0)-V$3-B$11","v":437.27636139310761},{"$f":"OFFSET(Calculations!AU$43,$A726,0)-W$3-B$12","v":65.757642986279862},-8.075760653420577,437.27636139310761,65.757642986279862,-8.075760653420577,437.27636139310761,65.757642986279862,-8.075760653420577,437.27636139310761,65.757642986279862,null,null,null,{"$f":"IF(P725=1,K726*B$1/(B$1+B$2+L726),99999)","v":-0.36110831470133764},2.9403585193488908,null,null,{"$f":"(9*U725+U735)/10","v":-17.174345103771405},270.4358209154255,46.522167402455295,-8.9203957641544385,-0.38371441811356133,4.4346327389527458,0.1953494120356325,0.99400632413988887,8.1379973850197018E-2,-7.8054848412237865,-0.75451115114547562,5.9886958000510573,5.8406733418757524,null,null,null,null,null,null,null,null,null,null,null,-3.3668523162762831,553.16557918817296,104.74182483873061]
[595,{"$f":"OFFSET(Calculations!AS$43,$A727,0)-U$3-B$10","v":-11.898311571975571},{"$f":"OFFSET(Calculations!AT$43,$A727,0)-V$3-B$11","v":438.34034711049037},{"$f":"OFFSET(Calculations!AU$43,$A727,0)-W$3-B$12","v":61.47321576131273},-11.898311571975571,438.34034711049037,61.47321576131273,-11.898311571975571,438.34034711049037,61.47321576131273,-11.898311571975571,438.34034711049037,61.47321576131273,null,null,null,{"$f":"IF(P725=1,K727*B$1/(B$1+B$2+L727),99999)","v":-0.53077139493061565},2.7422566876928025,null,null,{"$f":"(8*U725+2*U735)/10","v":-16.965639688127744},271.42599017748142,46.619118793354787,-8.7808819508077018,-0.43415297424753591,4.6494354283270436,0.19344141152019745,0.99455447586615264,7.9155485700304951E-2,-7.6431185869336735,-0.80245222795515192,6.1845127863557154,5.8381691325357457,null,null,null,null,null,null,null,null,null,null,null,9.7515354360159119,543.21077178462974,103.06560518162266]
[602,{"$f":"OFFSET(Calculations!AS$43,$A728,0)-U$3-B$10","v":-12.596503766670537},{"$f":"OFFSET(Calculations!AT$43,$A728,0)-V$3-B$11","v":448.12495022707105},{"$f":"OFFSET(Calculations!AU$43,$A728,0)-W$3-B$12","v":63.813681141492054},-12.596503766670537,448.12495022707105,63.813681141492054,-12.596503766670537,448.12495022707105,63.813681141492054,-12.596503766670537,448.12495022707105,63.813681141492054,null,null,null,{"$f":"IF(P725=1,K728*B$1/(B$1+B$2+L728),99999)","v":-0.54991564028228723},2.7858635994334127,null,null,{"$f":"(7*U725+3*U735)/10","v":-16.756934272484092},272.41615943953735,46.716070184254271,-8.641368137460967,-0.48459153038151043,4.8642381177013423,0.19153341100476595,0.99510262759247325,7.6930997550405777E-2,-7.4774876982230785,-0.85003652200421409,6.3776175293647093,5.835663626359552,null,null,null,null,null,null,null,null,null,null,null,2.980004741780629,553.78355919330056,92.278458271151067]
[604,{"$f":"OFFSET(Calculations!AS$43,$A729,0)-U$3-B$10","v":-8.3988636730371091},{"$f":"OFFSET(Calculations!AT$43,$A729,0)-V$3-B$11","v":446.13227746703382},{"$f":"OFFSET(Calculations!AU$43,$A729,0)-W$3-B$12","v":72.668570915833186},-8.3988636730371091,446.13227746703382,72.668570915833186,-8.3988636730371091,446.13227746703382,72.668570915833186,-8.3988636730371091,446.13227746703382,72.668570915833186,null,null,null,{"$f":"IF(P725=1,K729*B$1/(B$1+B$2+L729),99999)","v":-0.36826438679924917},3.1862937356405427,null,null,{"$f":"(6*U725+4*U735)/10","v":-16.548228856840431},273.40632870159322,46.813021575153755,-8.5018543241142304,-0.535030086515485,5.0790408070756401,0.18962541048933268,0.99565077931873702,7.4706509400506604E-2,-7.3085921750919995,-0.89726403329266236,6.5680100290780397,5.8331568213303351,null,null,null,null,null,null,null,null,null,null,null,3.8784486387904078,560.60326702972463,106.53323091639473]
[597,{"$f":"OFFSET(Calculations!AS$43,$A730,0)-U$3-B$10","v":-10.188579741632601},{"$f":"OFFSET(Calculations!AT$43,$A730,0)-V$3-B$11","v":436.32931488787477},{"$f":"OFFSET(Calculations!AU$43,$A730,0)-W$3-B$12","v":71.118554867218478},-10.188579741632601,436.32931488787477,71.118554867218478,-10.188579741632601,436.32931488787477,71.118554867218478,-10.188579741632601,436.32931488787477,71.118554867218478,null,null,null,{"$f":"IF(P725=1,K730*B$1/(B$1+B$2+L730),99999)","v":-0.45654987928328838},3.1868197985196027,null,null,{"$f":"(5*U725+5*U735)/10","v":-16.339523441196775},274.39649796364921,46.909972966053246,-8.3623405107674955,-0.58546864264945953,5.2938434964499379,0.18528295830514985,0.99666376543274282,7.0824716850260927E-2,-7.1364320175404394,-0.94413476182049649,6.7556902854957075,5.8306487154260216,null,null,null,null,null,null,null,null,null,null,null,4.1996629205535774,563.30377930629447,101.3503865936573]
[596,{"$f":"OFFSET(Calculations!AS$43,$A731,0)-U$3-B$10","v":-8.075760653420577},{"$f":"OFFSET(Calculations!AT$43,$A731,0)-V$3-B$11","v":437.27636139310761},{"$f":"OFFSET(Calculations!AU$43,$A731,0)-W$3-B$12","v":65.757642986279862},-8.075760653420577,437.27636139310761,65.757642986279862,-8.075760653420577,437.27636139310761,65.757642986279862,-8.075760653420577,437.27636139310761,65.757642986279862,null,null,null,{"$f":"IF(P725=1,K731*B$1/(B$1+B$2+L731),99999)","v":-0.36110831470133764},2.9403585193488908,null,null,{"$f":"(4*U725+6*U735)/10","v":-16.130818025553118},275.38666722570508,47.00692435695273,-8.2228266974207589,-0.63590719878343405,5.5086461858242357,0.18094050612096702,0.99767675154680546,6.694292430001525E-2,-6.9585592978274864,-0.9901014074671981,6.9372159872015393,5.8281393066192901,null,null,null,null,null,null,null,null,null,null,null,7.6495879783618985,560.90401885373763,97.276446570743758]
[" ",null,null,null,null,null,null,null,null,null,null,null,null,null,null,null,null,null,null,null,{"$f":"(3*U725+7*U735)/10","v":-15.922112609909462},276.37683648776101,47.103875747852214,-8.0833128840740223,-0.68634575491740857,5.7234488751985335,0.17659805393678063,0.9986897376608681,6.3061131749762467E-2,-6.7749740159531431,-1.0351639702327671,7.112587134195536,5.8256285928775471,null,null,null,null,null,null,null,null,null,null,null,9.3629954282599233,554.88676480239872,103.1804188430599]
[{"$f":"A725+7","v":610},{"$f":"OFFSET(Calculations!AS$43,$A733,0)-U$3-B$10","v":-7.6478914868269783},{"$f":"OFFSET(Calculations!AT$43,$A733,0)-V$3-B$11","v":457.17419771877201},{"$f":"OFFSET(Calculations!AU$43,$A733,0)-W$3-B$12","v":68.272188945897227},{"$f":"B733*F$5+C733*F$4","v":-7.6478914868269783},{"$f":"C733*F$5-B733*F$4","v":457.17419771877201},{"$f":"D733","v":68.272188945897227},-7.6478914868269783,{"$f":"F733*F$7+G733*F$6","v":457.17419771877201},{"$f":"G733*F$7-F733*F$6","v":68.272188945897227},{"$f":"H733*F$9+J733*F$8","v":-7.6478914868269783},{"$f":"I733","v":457.17419771877201},{"$f":"J733*F$9-H733*F$8","v":68.272188945897227},null,null,{"$f":"IF(MIN(L733:L739)+B$2+B$1>0,1,0)","v":1},{"$f":"IF(P733=1,K733*B$1/(B$1+B$2+L733),99999)","v":-0.32741069708780579},{"$f":"M733*B$1/(B$1+B$2+L733)","v":2.9227722455252336},null,null,{"$f":"(2*U725+8*U735)/10","v":-15.713407194265804},277.36700574981694,47.200827138751706,-7.9437990707272874,-0.7367843110513832,5.9382515645728322,0.17225560175259602,0.99970272377481706,5.9179339199531E-2,-6.5856761719174095,-1.0793224501172034,7.2818037264776949,5.8231165721629061,null,null,null,null,null,null,null,null,null,null,null,3.1242207708760725,560.54311666492197,108.38458778552484]
[603,{"$f":"OFFSET(Calculations!AS$43,$A734,0)-U$3-B$10","v":-7.7700469430541785},{"$f":"OFFSET(Calculations!AT$43,$A734,0)-V$3-B$11","v":447.22895209989895},{"$f":"OFFSET(Calculations!AU$43,$A734,0)-W$3-B$12","v":66.97067586173641},-7.7700469430541785,447.22895209989895,66.97067586173641,-7.7700469430541785,447.22895209989895,66.97067586173641,-7.7700469430541785,447.22895209989895,66.97067586173641,null,null,null,{"$f":"IF(P733=1,K734*B$1/(B$1+B$2+L734),99999)","v":-0.33987554407344345},2.9294153641917293,null,null,{"$f":"(1*U725+9*U735)/10","v":-15.504701778622149},278.35717501187287,47.297778529651183,-7.8042852573805517,-0.78722286718535772,6.15305425394713,0.16791314956841674,1.0007157098889365,5.5297546649271112E-2,-6.3906657657202839,-1.1225768471205071,7.4448657640480178,5.8206032424321741,null,null,null,null,null,null,null,null,null,null,null,13.476112136470032,548.18176121459055,104.63822467104937]
[602,{"$f":"OFFSET(Calculations!AS$43,$A735,0)-U$3-B$10","v":-12.596503766670537},{"$f":"OFFSET(Calculations!AT$43,$A735,0)-V$3-B$11","v":448.12495022707105},{"$f":"OFFSET(Calculations!AU$43,$A735,0)-W$3-B$12","v":63.813681141492054},-12.596503766670537,448.12495022707105,63.813681141492054,-12.596503766670537,448.12495022707105,63.813681141492054,-12.596503766670537,448.12495022707105,63.813681141492054,null,null,null,{"$f":"IF(P733=1,K735*B$1/(B$1+B$2+L735),99999)","v":-0.54991564028228723},2.7858635994334127,null,{"$f":"T725+7","v":483},{"$f":"OFFSET(Calculations!AS$46,$T735,0)","v":-15.295996362978491},{"$f":"OFFSET(Calculations!AT$46,$T735,0)","v":279.3473442739288},{"$f":"OFFSET(Calculations!AU$46,$T735,0)","v":47.394729920550674},{"$f":"OFFSET(Calculations!AS$43,$T735,0)-OFFSET(Calculations!AS$45,$T735,0)","v":-7.6647714440338159},{"$f":"OFFSET(Calculations!AT$43,$T735,0)-OFFSET(Calculations!AT$45,$T735,0)","v":-0.83766142331933224},{"$f":"OFFSET(Calculations!AU$43,$T735,0)-OFFSET(Calculations!AU$45,$T735,0)","v":6.3678569433214278},0.16357069738423036,1.0017286960029423,5.1415754099025435E-2,-6.189942797361768,-1.1649271612426784,7.6017732469065047,5.818088601636827,null,null,null,null,null,null,null,null,null,null,null,8.4038158462762027,560.96416921854086,95.425089701613658]
[609,{"$f":"OFFSET(Calculations!AS$43,$A736,0)-U$3-B$10","v":-13.151664843639088},{"$f":"OFFSET(Calculations!AT$43,$A736,0)-V$3-B$11","v":457.8416546658766},{"$f":"OFFSET(Calculations!AU$43,$A736,0)-W$3-B$12","v":66.455869574033798},-13.151664843639088,457.8416546658766,66.455869574033798,-13.151664843639088,457.8416546658766,66.455869574033798,-13.151664843639088,457.8416546658766,66.455869574033798,null,null,null,{"$f":"IF(P733=1,K736*B$1/(B$1+B$2+L736),99999)","v":-0.56222718573581276},2.8409556486155676,null,null,{"$f":"(9*U735+U745)/10","v":-15.11781895558175},280.34628396360523,47.4560895010518,-7.4730234799593607,-0.88239145528348217,6.5392637399651177,0.16113624571547902,1.0021935303906275,4.975844969866472E-2,-5.9835072668418601,-1.206373392483717,7.7525261750531556,5.8164964318576464,null,null,null,null,null,null,null,null,null,null,null,11.982397995670979,566.01804114131232,109.9910187130466]
[611,{"$f":"OFFSET(Calculations!AS$43,$A737,0)-U$3-B$10","v":-6.7521787221680603},{"$f":"OFFSET(Calculations!AT$43,$A737,0)-V$3-B$11","v":456.00313872396742},{"$f":"OFFSET(Calculations!AU$43,$A737,0)-W$3-B$12","v":73.916863912085773},-6.7521787221680603,456.00313872396742,73.916863912085773,-6.7521787221680603,456.00313872396742,73.916863912085773,-6.7521787221680603,456.00313872396742,73.916863912085773,null,null,null,{"$f":"IF(P733=1,K737*B$1/(B$1+B$2+L737),99999)","v":-0.28979112632834214},3.1723762253828824,null,null,{"$f":"(8*U735+2*U745)/10","v":-14.939641548185012},281.34522365328166,47.517449081552925,-7.2812755158849045,-0.9271214872476321,6.7106705366088075,0.15870179404672413,1.0026583647784832,4.8101145298318215E-2,-5.774623808581044,-1.2472723236042371,7.8998367917836338,5.8149037355872606,null,null,null,null,null,null,null,null,null,null,null,12.4751073860532,569.0815024735648,105.02117383393552]
[604,{"$f":"OFFSET(Calculations!AS$43,$A738,0)-U$3-B$10","v":-8.3988636730371091},{"$f":"OFFSET(Calculations!AT$43,$A738,0)-V$3-B$11","v":446.13227746703382},{"$f":"OFFSET(Calculations!AU$43,$A738,0)-W$3-B$12","v":72.668570915833186},-8.3988636730371091,446.13227746703382,72.668570915833186,-8.3988636730371091,446.13227746703382,72.668570915833186,-8.3988636730371091,446.13227746703382,72.668570915833186,null,null,null,{"$f":"IF(P733=1,K738*B$1/(B$1+B$2+L738),99999)","v":-0.36826438679924917},3.1862937356405427,null,null,{"$f":"(7*U735+3*U745)/10","v":-14.761464140788274},282.34416334295804,47.578808662054044,-7.0895275518104484,-0.97185151921178203,6.8820773332524983,0.15626734237797635,1.0031231991662253,4.6443840897971711E-2,-5.5632924225793179,-1.2876239546042385,8.0437050970979378,5.8133105123030315,null,null,null,null,null,null,null,null,null,null,null,14.952722243314778,566.38220055809563,100.44929131267349]
[603,{"$f":"OFFSET(Calculations!AS$43,$A739,0)-U$3-B$10","v":-7.7700469430541785},{"$f":"OFFSET(Calculations!AT$43,$A739,0)-V$3-B$11","v":447.22895209989895},{"$f":"OFFSET(Calculations!AU$43,$A739,0)-W$3-B$12","v":66.97067586173641},-7.7700469430541785,447.22895209989895,66.97067586173641,-7.7700469430541785,447.22895209989895,66.97067586173641,-7.7700469430541785,447.22895209989895,66.97067586173641,null,null,null,{"$f":"IF(P733=1,K739*B$1/(B$1+B$2+L739),99999)","v":-0.33987554407344345},2.9294153641917293,null,null,{"$f":"(6*U735+4*U745)/10","v":-14.583286733391532},283.34310303263447,47.64016824255517,-6.8977795877359922,-1.016581551175932,7.0534841298961881,0.15383289070922501,1.0035880335538536,4.4786536497625207E-2,-5.3495131088366845,-1.3274282854837214,8.1841310909960701,5.8117167614814562,null,null,null,null,null,null,null,null,null,null,null,15.742337177147643,559.59577528093371,105.67623499074838]
[" ",null,null,null,null,null,null,null,null,null,null,null,null,null,null,null,null,null,null,null,{"$f":"(5*U735+5*U745)/10","v":-14.405109325994795},284.34204272231091,47.701527823056288,-6.706031623661536,-1.0613115831400819,7.224890926539878,0.14860344007650284,1.0044027072955828,4.2152054002528416E-2,-5.1332858673531421,-1.3666853162426857,8.321114773478028,5.8101224825981621,null,null,null,null,null,null,null,null,null,null,null,11.388333146142218,565.94520925795587,111.89936419312134]
[{"$f":"A733+7","v":617},{"$f":"OFFSET(Calculations!AS$43,$A741,0)-U$3-B$10","v":-7.6804396938190216},{"$f":"OFFSET(Calculations!AT$43,$A741,0)-V$3-B$11","v":467.10201072214477},{"$f":"OFFSET(Calculations!AU$43,$A741,0)-W$3-B$12","v":69.704874804553285},{"$f":"B741*F$5+C741*F$4","v":-7.6804396938190216},{"$f":"C741*F$5-B741*F$4","v":467.10201072214477},{"$f":"D741","v":69.704874804553285},-7.6804396938190216,{"$f":"F741*F$7+G741*F$6","v":467.10201072214477},{"$f":"G741*F$7-F741*F$6","v":69.704874804553285},{"$f":"H741*F$9+J741*F$8","v":-7.6804396938190216},{"$f":"I741","v":467.10201072214477},{"$f":"J741*F$9-H741*F$8","v":69.704874804553285},{"$f":"IF(P741=1,K741*B$1/(B$1+B$2+L741),99999)","v":-0.32196215992440935},{"$f":"M741*B$1/(B$1+B$2+L741)","v":2.9220113618489063},{"$f":"IF(MIN(L741:L747)+B$2+B$1>0,1,0)","v":1},null,null,null,null,{"$f":"(4*U735+6*U745)/10","v":-14.226931918598055},285.34098241198734,47.762887403557414,-6.5142836595870817,-1.1060416151042318,7.3962977231835678,0.14337398944378776,1.0052173810371983,3.951757150742452E-2,-4.913146299297507,-1.4046945269994631,8.4507183528414558,5.8085276751279107,null,null,null,null,null,null,null,null,null,null,null,18.342082385895928,552.04795177376741,106.19746925119226]
[610,{"$f":"OFFSET(Calculations!AS$43,$A742,0)-U$3-B$10","v":-7.6478914868269783},{"$f":"OFFSET(Calculations!AT$43,$A742,0)-V$3-B$11","v":457.17419771877201},{"$f":"OFFSET(Calculations!AU$43,$A742,0)-W$3-B$12","v":68.272188945897227},-7.6478914868269783,457.17419771877201,68.272188945897227,-7.6478914868269783,457.17419771877201,68.272188945897227,-7.6478914868269783,457.17419771877201,68.272188945897227,{"$f":"IF(P741=1,K742*B$1/(B$1+B$2+L742),99999)","v":-0.32741069708780579},2.9227722455252336,null,null,null,null,null,{"$f":"(3*U735+7*U745)/10","v":-14.048754511201315},286.33992210166377,47.82424698405854,-6.3225356955126255,-1.1507716470683818,7.5677045198272577,0.13814453881106559,1.0060320547788137,3.688308901232773E-2,-4.6890944046697793,-1.4414559177540534,8.5729418290863535,5.8069323385445886,null,null,null,null,null,null,null,null,null,null,null,15.546787092843509,566.45503244145186,98.54094583259905]
[609,{"$f":"OFFSET(Calculations!AS$43,$A743,0)-U$3-B$10","v":-13.151664843639088},{"$f":"OFFSET(Calculations!AT$43,$A743,0)-V$3-B$11","v":457.8416546658766},{"$f":"OFFSET(Calculations!AU$43,$A743,0)-W$3-B$12","v":66.455869574033798},-13.151664843639088,457.8416546658766,66.455869574033798,-13.151664843639088,457.8416546658766,66.455869574033798,-13.151664843639088,457.8416546658766,66.455869574033798,{"$f":"IF(P741=1,K743*B$1/(B$1+B$2+L743),99999)","v":-0.56222718573581276},2.8409556486155676,null,null,null,null,null,{"$f":"(2*U735+8*U745)/10","v":-13.870577103804575},287.33886179134015,47.885606564559666,-6.1307877314381702,-1.1955016790325317,7.7391113164709484,0.13291508817834874,1.0068467285203724,3.424860651723094E-2,-4.4611301834699582,-1.4769694885064564,8.6877852022127211,5.805336472321212,null,null,null,null,null,null,null,null,null,null,null,21.354305625808539,569.18068149031944,113.01014502707869]
[616,{"$f":"OFFSET(Calculations!AS$43,$A744,0)-U$3-B$10","v":-13.488768718843925},{"$f":"OFFSET(Calculations!AT$43,$A744,0)-V$3-B$11","v":467.49571319310769},{"$f":"OFFSET(Calculations!AU$43,$A744,0)-W$3-B$12","v":69.352285223706033},-13.488768718843925,467.49571319310769,69.352285223706033,-13.488768718843925,467.49571319310769,69.352285223706033,-13.488768718843925,467.49571319310769,69.352285223706033,{"$f":"IF(P741=1,K744*B$1/(B$1+B$2+L744),99999)","v":-0.56497967818985761},2.9048338365148316,null,null,null,null,null,{"$f":"(1*U735+9*U745)/10","v":-13.692399696407836},288.33780148101658,47.946966145060784,-5.9390397673637141,-1.2402317109966816,7.9105181131146383,0.12768563754563012,1.0076614022621584,3.1614124022141254E-2,-4.2292536356980461,-1.5112352392566724,8.7952484722205568,5.8037400759299196,null,null,null,null,null,null,null,null,null,null,null,22.115142565229778,572.54070498330896,108.26295494002528]
[618,{"$f":"OFFSET(Calculations!AS$43,$A745,0)-U$3-B$10","v":-5.323550973062682},{"$f":"OFFSET(Calculations!AT$43,$A745,0)-V$3-B$11","v":465.93664589247629},{"$f":"OFFSET(Calculations!AU$43,$A745,0)-W$3-B$12","v":74.910929691207144},-5.323550973062682,465.93664589247629,74.910929691207144,-5.323550973062682,465.93664589247629,74.910929691207144,-5.323550973062682,465.93664589247629,74.910929691207144,{"$f":"IF(P741=1,K745*B$1/(B$1+B$2+L745),99999)","v":-0.22370838719846672},3.1479370348015197,null,null,null,null,{"$f":"T735+7","v":490},{"$f":"OFFSET(Calculations!AS$46,$T745,0)","v":-13.514222289011096},{"$f":"OFFSET(Calculations!AT$46,$T745,0)","v":289.33674117069302},{"$f":"OFFSET(Calculations!AU$46,$T745,0)","v":48.00832572556191},{"$f":"OFFSET(Calculations!AS$43,$T745,0)-OFFSET(Calculations!AS$45,$T745,0)","v":-5.7472918032892579},{"$f":"OFFSET(Calculations!AT$43,$T745,0)-OFFSET(Calculations!AT$45,$T745,0)","v":-1.2849617429608315},{"$f":"OFFSET(Calculations!AU$43,$T745,0)-OFFSET(Calculations!AU$45,$T745,0)","v":8.0819249097583281},0.12245618691291327,1.0084760760036602,2.8979641527037359E-2,-3.9934647613540402,-1.5442531700047013,8.8953316391098625,5.8021431488419735,null,null,null,null,null,null,null,null,null,null,null,23.538180114981074,569.80813392278856,103.27171621845999]
[611,{"$f":"OFFSET(Calculations!AS$43,$A746,0)-U$3-B$10","v":-6.7521787221680603},{"$f":"OFFSET(Calculations!AT$43,$A746,0)-V$3-B$11","v":456.00313872396742},{"$f":"OFFSET(Calculations!AU$43,$A746,0)-W$3-B$12","v":73.916863912085773},-6.7521787221680603,456.00313872396742,73.916863912085773,-6.7521787221680603,456.00313872396742,73.916863912085773,-6.7521787221680603,456.00313872396742,73.916863912085773,{"$f":"IF(P741=1,K746*B$1/(B$1+B$2+L746),99999)","v":-0.28979112632834214},3.1723762253828824,null,null,null,null,null,{"$f":"(9*U745+U755)/10","v":-13.374996108314383},290.34311821057349,48.043168435657428,-5.5163769953602637,-1.3209349729966846,8.198254723743247,0.11966118794894243,1.0088259153575336,2.8002463432294178E-2,-3.753763560437942,-1.5760232807505432,8.9880347028806398,5.801236105884195,null,null,null,null,null,null,null,null,null,null,null,23.202015306097838,562.54090305309251,107.86239685512021]
[610,{"$f":"OFFSET(Calculations!AS$43,$A747,0)-U$3-B$10","v":-7.6478914868269783},{"$f":"OFFSET(Calculations!AT$43,$A747,0)-V$3-B$11","v":457.17419771877201},{"$f":"OFFSET(Calculations!AU$43,$A747,0)-W$3-B$12","v":68.272188945897227},-7.6478914868269783,457.17419771877201,68.272188945897227,-7.6478914868269783,457.17419771877201,68.272188945897227,-7.6478914868269783,457.17419771877201,68.272188945897227,{"$f":"IF(P741=1,K747*B$1/(B$1+B$2+L747),99999)","v":-0.32741069708780579},2.9227722455252336,null,null,null,null,null,{"$f":"(8*U745+2*U755)/10","v":-13.235769927617667},291.34949525045391,48.078011145752953,-5.2854621874312695,-1.3569082030325377,8.314584537728166,0.11686618898497869,1.0091757547114639,2.7025285337536786E-2,-3.5125979606906603,-1.6070928716147166,9.0767999749490578,5.8003288915367195,null,null,null,null,null,null,null,null,null,null,null,20.917530727974089,569.05519100382548,114.95783078880231]
[" ",null,null,null,null,null,null,null,null,null,null,null,null,null,null,null,null,null,null,null,{"$f":"(7*U745+3*U755)/10","v":-13.096543746920952},292.35587229033433,48.112853855848471,-5.0545473795022744,-1.3928814330683905,8.4309143517130849,0.11407119002100785,1.0095255940652805,2.6048107242807816E-2,-3.2699679621121946,-1.6374619425972212,9.16162745531512,5.7994215057023553,null,null,null,null,null,null,null,null,null,null,null,24.065755232615462,554.59404059199369,107.54407254923535]
[{"$f":"A741+7","v":624},{"$f":"OFFSET(Calculations!AS$43,$A749,0)-U$3-B$10","v":-7.8287255822216926},{"$f":"OFFSET(Calculations!AT$43,$A749,0)-V$3-B$11","v":477.00348024992724},{"$f":"OFFSET(Calculations!AU$43,$A749,0)-W$3-B$12","v":71.302664908768136},{"$f":"B749*F$5+C749*F$4","v":-7.8287255822216926},{"$f":"C749*F$5-B749*F$4","v":477.00348024992724},{"$f":"D749","v":71.302664908768136},-7.8287255822216926,{"$f":"F749*F$7+G749*F$6","v":477.00348024992724},{"$f":"G749*F$7-F749*F$6","v":71.302664908768136},{"$f":"H749*F$9+J749*F$8","v":-7.8287255822216926},{"$f":"I749","v":477.00348024992724},{"$f":"J749*F$9-H749*F$8","v":71.302664908768136},{"$f":"IF(P749=1,K749*B$1/(B$1+B$2+L749),99999)","v":-0.32150593988379866},{"$f":"M749*B$1/(B$1+B$2+L749)","v":2.9282199327272176},{"$f":"IF(MIN(L749:L755)+B$2+B$1>0,1,0)","v":1},null,null,null,null,{"$f":"(6*U745+4*U755)/10","v":-12.957317566224239},293.36224933021481,48.147696565943988,-4.8236325715732802,-1.4288546631042436,8.5472441656980038,{"$f":"(SUM(U750:U765)-SUM(U749:U764))/16","v":0.11127619105704056},{"$f":"(SUM(V750:V765)-SUM(V749:V764))/16","v":1.009875433419154},{"$f":"(SUM(W750:W765)-SUM(W749:W764))/16","v":2.5070929148043319E-2},{"$f":"SUM(X749:X764)/16","v":-3.025873564702545},{"$f":"SUM(Y749:Y764)/16","v":-1.6671304936980575},{"$f":"SUM(Z749:Z764)/16","v":9.2425171439788247},5.7985139482838211,null,null,null,null,null,null,null,null,null,null,null,23.97495501281557,569.93362440928206,101.32403045673632]
[617,{"$f":"OFFSET(Calculations!AS$43,$A750,0)-U$3-B$10","v":-7.6804396938190216},{"$f":"OFFSET(Calculations!AT$43,$A750,0)-V$3-B$11","v":467.10201072214477},{"$f":"OFFSET(Calculations!AU$43,$A750,0)-W$3-B$12","v":69.704874804553285},-7.6804396938190216,467.10201072214477,69.704874804553285,-7.6804396938190216,467.10201072214477,69.704874804553285,-7.6804396938190216,467.10201072214477,69.704874804553285,{"$f":"IF(P749=1,K750*B$1/(B$1+B$2+L750),99999)","v":-0.32196215992440935},2.9220113618489063,null,null,null,null,null,{"$f":"(5*U745+5*U755)/10","v":-12.818091385527524},294.36862637009528,48.18253927603952,-4.592717763644286,-1.4648278931400966,8.6635739796829228,0.105516120394336,1.0104362761192647,2.3863292336464781E-2,-2.7803147684617113,-1.6960985249172253,9.3194690409401737,5.7976062191837405,null,null,null,null,null,null,null,null,null,null,null,31.413107606479748,569.92231657004436,115.29499741339286]
[616,{"$f":"OFFSET(Calculations!AS$43,$A751,0)-U$3-B$10","v":-13.488768718843925},{"$f":"OFFSET(Calculations!AT$43,$A751,0)-V$3-B$11","v":467.49571319310769},{"$f":"OFFSET(Calculations!AU$43,$A751,0)-W$3-B$12","v":69.352285223706033},-13.488768718843925,467.49571319310769,69.352285223706033,-13.488768718843925,467.49571319310769,69.352285223706033,-13.488768718843925,467.49571319310769,69.352285223706033,{"$f":"IF(P749=1,K751*B$1/(B$1+B$2+L751),99999)","v":-0.56497967818985761},2.9048338365148316,null,null,null,null,null,{"$f":"(4*U745+6*U755)/10","v":-12.67886520483081},295.3750034099757,48.217381986135038,-4.3618029557152918,-1.5008011231759497,8.7799037936678417,9.9756049731622554E-2,1.0109971188192617,2.2655655524857821E-2,-2.5329104998285468,-1.7235600358841823,9.3883182282076287,5.7966983183046468,null,null,null,null,null,null,null,null,null,null,null,32.519194835768943,573.46552502263205,110.76187918167665]
[623,{"$f":"OFFSET(Calculations!AS$43,$A752,0)-U$3-B$10","v":-13.547649546191414},{"$f":"OFFSET(Calculations!AT$43,$A752,0)-V$3-B$11","v":477.09664779030999},{"$f":"OFFSET(Calculations!AU$43,$A752,0)-W$3-B$12","v":72.438107090561502},-13.547649546191414,477.09664779030999,72.438107090561502,-13.547649546191414,477.09664779030999,72.438107090561502,-13.547649546191414,477.09664779030999,72.438107090561502,{"$f":"IF(P749=1,K752*B$1/(B$1+B$2+L752),99999)","v":-0.55626125154626549},2.9742806656204026,null,null,null,null,null,{"$f":"(3*U745+7*U755)/10","v":-12.539639024134095},296.38138044985612,48.252224696230556,-4.1308881477862966,-1.5367743532118028,8.8962336076527606,9.3995979068914437E-2,1.0115579615192587,2.1448018713272177E-2,-2.2836607588030509,-1.7495150265989281,9.4490647057811863,5.7957902455489796,null,null,null,null,null,null,null,null,null,null,null,32.876800056643802,570.99557120622512,105.46109031106332]
[625,{"$f":"OFFSET(Calculations!AS$43,$A753,0)-U$3-B$10","v":-4.1731462718146739},{"$f":"OFFSET(Calculations!AT$43,$A753,0)-V$3-B$11","v":475.92327699101372},{"$f":"OFFSET(Calculations!AU$43,$A753,0)-W$3-B$12","v":75.715589253145765},-4.1731462718146739,475.92327699101372,75.715589253145765,-4.1731462718146739,475.92327699101372,75.715589253145765,-4.1731462718146739,475.92327699101372,75.715589253145765,{"$f":"IF(P749=1,K753*B$1/(B$1+B$2+L753),99999)","v":-0.17176152983063819},3.1163598386148514,null,null,null,null,null,{"$f":"(2*U745+8*U755)/10","v":-12.400412843437381},297.3877574897366,48.287067406326074,-3.8999733398573029,-1.5727475832476556,9.0125634216376795,8.8235908406204544E-2,1.0121188042193126,2.0240381901679427E-2,-2.0325655453852227,-1.7739634970614631,9.5017084736608535,5.7948820008190882,null,null,null,null,null,null,null,null,null,null,null,31.287165020346947,563.56763153008671,109.49826415163857]
[618,{"$f":"OFFSET(Calculations!AS$43,$A754,0)-U$3-B$10","v":-5.323550973062682},{"$f":"OFFSET(Calculations!AT$43,$A754,0)-V$3-B$11","v":465.93664589247629},{"$f":"OFFSET(Calculations!AU$43,$A754,0)-W$3-B$12","v":74.910929691207144},-5.323550973062682,465.93664589247629,74.910929691207144,-5.323550973062682,465.93664589247629,74.910929691207144,-5.323550973062682,465.93664589247629,74.910929691207144,{"$f":"IF(P749=1,K754*B$1/(B$1+B$2+L754),99999)","v":-0.22370838719846672},3.1479370348015197,null,null,null,null,null,{"$f":"(1*U745+9*U755)/10","v":-12.261186662740668},298.39413452961708,48.321910116421591,-3.6690585319283087,-1.6087208132835087,9.1288932356225985,8.2475837743494651E-2,1.0126796469193096,1.9032745090086678E-2,-1.7796248595750641,-1.7969054472717871,9.5462495318466249,5.7939735840172277,null,null,null,null,null,null,null,null,null,null,null,31.12036911644693,569.70766564280859,117.26177883385864]
[617,{"$f":"OFFSET(Calculations!AS$43,$A755,0)-U$3-B$10","v":-7.6804396938190216},{"$f":"OFFSET(Calculations!AT$43,$A755,0)-V$3-B$11","v":467.10201072214477},{"$f":"OFFSET(Calculations!AU$43,$A755,0)-W$3-B$12","v":69.704874804553285},-7.6804396938190216,467.10201072214477,69.704874804553285,-7.6804396938190216,467.10201072214477,69.704874804553285,-7.6804396938190216,467.10201072214477,69.704874804553285,{"$f":"IF(P749=1,K755*B$1/(B$1+B$2+L755),99999)","v":-0.32196215992440935},2.9220113618489063,null,null,null,null,{"$f":"T745+7","v":497},{"$f":"OFFSET(Calculations!AS$46,$T755,0)","v":-12.121960482043953},{"$f":"OFFSET(Calculations!AT$46,$T755,0)","v":299.4005115694975},{"$f":"OFFSET(Calculations!AU$46,$T755,0)","v":48.356752826517116},{"$f":"OFFSET(Calculations!AS$43,$T755,0)-OFFSET(Calculations!AS$45,$T755,0)","v":-3.438143723999314},{"$f":"OFFSET(Calculations!AT$43,$T755,0)-OFFSET(Calculations!AT$45,$T755,0)","v":-1.6446940433193618},{"$f":"OFFSET(Calculations!AU$43,$T755,0)-OFFSET(Calculations!AU$45,$T755,0)","v":9.2452230496075174},7.6715767080786534E-2,1.0132404896194203,1.7825108278493929E-2,-1.5248387013725746,-1.8183408772299003,9.5826878803385025,5.7930649950455608,null,null,null,null,null,null,null,null,null,null,null,30.306834950387177,555.69184597803144,108.49280162525025]
[" ",null,null,null,null,null,null,null,null,null,null,null,null,null,null,null,null,null,null,null,{"$f":"(9*U755+U765)/10","v":-12.027454284770714},300.41248603903989,48.375960687096679,-3.1837985347713764,-1.6694589552485184,9.298548196354723,7.3750695382040377E-2,1.013451492965487,1.759464956164436E-2,-1.268207070777754,-1.8382697869358027,9.6110235191364861,5.7925640404261909,null,null,null,null,null,null,null,null,null,null,null,33.169538546676634,571.21022213346123,103.49430889059741]
[{"$f":"A749+7","v":631},{"$f":"OFFSET(Calculations!AS$43,$A757,0)-U$3-B$10","v":-8.0462284225368101},{"$f":"OFFSET(Calculations!AT$43,$A757,0)-V$3-B$11","v":486.87144818731497},{"$f":"OFFSET(Calculations!AU$43,$A757,0)-W$3-B$12","v":73.088546531126781},{"$f":"B757*F$5+C757*F$4","v":-8.0462284225368101},{"$f":"C757*F$5-B757*F$4","v":486.87144818731497},{"$f":"D757","v":73.088546531126781},-8.0462284225368101,{"$f":"F757*F$7+G757*F$6","v":486.87144818731497},{"$f":"G757*F$7-F757*F$6","v":73.088546531126781},{"$f":"H757*F$9+J757*F$8","v":-8.0462284225368101},{"$f":"I757","v":486.87144818731497},{"$f":"J757*F$9-H757*F$8","v":73.088546531126781},{"$f":"IF(P757=1,K757*B$1/(B$1+B$2+L757),99999)","v":-0.32387566047077321},{"$f":"M757*B$1/(B$1+B$2+L757)","v":2.9419499469236241},{"$f":"IF(MIN(L757:L763)+B$2+B$1>0,1,0)","v":1},null,null,null,null,{"$f":"(8*U755+2*U765)/10","v":-11.932948087497474},301.42446050858229,48.395168547676256,-2.9294533455434388,-1.694223867177675,9.3518733431019285,7.0785623683301324E-2,1.0136624963117242,1.7364190844801897E-2,-1.0111943666217862,-1.8573926962711624,9.6351942399429333,5.7920630334378238,null,null,null,null,null,null,null,null,null,null,null,41.532407868383359,568.23385106884189,116.59842242687309]
[624,{"$f":"OFFSET(Calculations!AS$43,$A758,0)-U$3-B$10","v":-7.8287255822216926},{"$f":"OFFSET(Calculations!AT$43,$A758,0)-V$3-B$11","v":477.00348024992724},{"$f":"OFFSET(Calculations!AU$43,$A758,0)-W$3-B$12","v":71.302664908768136},-7.8287255822216926,477.00348024992724,71.302664908768136,-7.8287255822216926,477.00348024992724,71.302664908768136,-7.8287255822216926,477.00348024992724,71.302664908768136,{"$f":"IF(P757=1,K758*B$1/(B$1+B$2+L758),99999)","v":-0.32150593988379866},2.9282199327272176,null,null,null,null,null,{"$f":"(7*U755+3*U765)/10","v":-11.838441890224235},302.43643497812474,48.414376408255826,-2.6751081563155017,-1.7189887791068315,9.4051984898491341,6.7820551984560495E-2,1.0138734996578478,1.7133732127959433E-2,-0.75380058890467094,-1.8757096052359798,9.6552000427578442,5.7915619740640345,null,null,null,null,null,null,null,null,null,null,null,43.030088631998005,571.86129772471384,112.25602636783552]
[623,{"$f":"OFFSET(Calculations!AS$43,$A759,0)-U$3-B$10","v":-13.547649546191414},{"$f":"OFFSET(Calculations!AT$43,$A759,0)-V$3-B$11","v":477.09664779030999},{"$f":"OFFSET(Calculations!AU$43,$A759,0)-W$3-B$12","v":72.438107090561502},-13.547649546191414,477.09664779030999,72.438107090561502,-13.547649546191414,477.09664779030999,72.438107090561502,-13.547649546191414,477.09664779030999,72.438107090561502,{"$f":"IF(P757=1,K759*B$1/(B$1+B$2+L759),99999)","v":-0.55626125154626549},2.9742806656204026,null,null,null,null,null,{"$f":"(6*U755+4*U765)/10","v":-11.743935692950995},303.44840944766713,48.433584268835396,-2.4207629670875641,-1.7437536910359881,9.4585236365963397,6.4855480285814338E-2,1.0140845030040282,1.6903273411109865E-2,-0.49602573762640856,-1.8932205138302549,9.6710409275812133,5.7910608622883863,null,null,null,null,null,null,null,null,null,null,null,42.389714993423631,569.90599602082852,106.77656131235395]
[630,{"$f":"OFFSET(Calculations!AS$43,$A760,0)-U$3-B$10","v":-13.287101920514127},{"$f":"OFFSET(Calculations!AT$43,$A760,0)-V$3-B$11","v":486.65760074706947},{"$f":"OFFSET(Calculations!AU$43,$A760,0)-W$3-B$12","v":75.635606453959326},-13.287101920514127,486.65760074706947,75.635606453959326,-13.287101920514127,486.65760074706947,75.635606453959326,-13.287101920514127,486.65760074706947,75.635606453959326,{"$f":"IF(P757=1,K760*B$1/(B$1+B$2+L760),99999)","v":-0.53506085079651433},3.0457847152721991,null,null,null,null,null,{"$f":"(5*U755+5*U765)/10","v":-11.649429495677756},304.46038391720947,48.452792129414966,-2.1664177778596265,-1.7685186029651447,9.5118487833435452,5.8957328889812644E-2,1.0143532941593207,1.7204780736015834E-2,-0.23786981278699892,-1.9099254220539874,9.6827168944130477,5.7905596980944347,null,null,null,null,null,null,null,null,null,null,null,39.501643023477257,562.64805043161562,110.37951372953152]
[632,{"$f":"OFFSET(Calculations!AS$43,$A761,0)-U$3-B$10","v":-3.342170023591466},{"$f":"OFFSET(Calculations!AT$43,$A761,0)-V$3-B$11","v":485.94988972999357},{"$f":"OFFSET(Calculations!AU$43,$A761,0)-W$3-B$12","v":76.408571318541959},-3.342170023591466,485.94988972999357,76.408571318541959,-3.342170023591466,485.94988972999357,76.408571318541959,-3.342170023591466,485.94988972999357,76.408571318541959,{"$f":"IF(P757=1,K761*B$1/(B$1+B$2+L761),99999)","v":-0.13477853681592789},3.0813020791330561,null,null,null,null,null,{"$f":"(4*U755+6*U765)/10","v":-11.554923298404518},305.47235838675198,48.471999989994536,-1.9120725886316889,-1.7932835148943014,9.5651739300907508,5.3059177493807397E-2,1.0146220853146133,1.750628806092891E-2,1.9938964371229731E-2,-1.9249677766410298,9.6861197312509031,5.790058481465727,null,null,null,null,null,null,null,null,null,null,null,41.360946443375141,567.89942207844376,118.56279464977685]
[625,{"$f":"OFFSET(Calculations!AS$43,$A762,0)-U$3-B$10","v":-4.1731462718146739},{"$f":"OFFSET(Calculations!AT$43,$A762,0)-V$3-B$11","v":475.92327699101372},{"$f":"OFFSET(Calculations!AU$43,$A762,0)-W$3-B$12","v":75.715589253145765},-4.1731462718146739,475.92327699101372,75.715589253145765,-4.1731462718146739,475.92327699101372,75.715589253145765,-4.1731462718146739,475.92327699101372,75.715589253145765,{"$f":"IF(P757=1,K762*B$1/(B$1+B$2+L762),99999)","v":-0.17176152983063819},3.1163598386148514,null,null,null,null,null,{"$f":"(3*U755+7*U765)/10","v":-11.460417101131279},306.48433285629437,48.491207850574106,-1.6577273994037516,-1.818048426823458,9.6184990768379564,4.7161026097807479E-2,1.014890876469849,1.7807795385834879E-2,0.27740059384827764,-1.9383475775913814,9.6812494380947793,5.7895572123858026,null,null,null,null,null,null,null,null,null,null,null,36.690879129275949,555.30876687365196,108.88468156943813]
[624,{"$f":"OFFSET(Calculations!AS$43,$A763,0)-U$3-B$10","v":-7.8287255822216926},{"$f":"OFFSET(Calculations!AT$43,$A763,0)-V$3-B$11","v":477.00348024992724},{"$f":"OFFSET(Calculations!AU$43,$A763,0)-W$3-B$12","v":71.302664908768136},-7.8287255822216926,477.00348024992724,71.302664908768136,-7.8287255822216926,477.00348024992724,71.302664908768136,-7.8287255822216926,477.00348024992724,71.302664908768136,{"$f":"IF(P757=1,K763*B$1/(B$1+B$2+L763),99999)","v":-0.32150593988379866},2.9282199327272176,null,null,null,null,null,{"$f":"(2*U755+8*U765)/10","v":-11.365910903858039},307.49630732583671,48.510415711153676,-1.403382210175814,-1.8428133387526144,9.6718242235851619,4.1262874701802232E-2,1.0151596676251984,1.810930271075506E-2,0.5345150756441448,-1.9500648249050421,9.6681060149446747,5.7890558908381893,null,null,null,null,null,null,null,null,null,null,null,42.5611764184317,570.24042501122551,104.81218908945002]
[" ",null,null,null,null,null,null,null,null,null,null,null,null,null,null,null,null,null,null,null,{"$f":"(1*U755+9*U765)/10","v":-11.271404706584798},308.50828179537916,48.529623571733239,-1.1490370209478766,-1.8675782506817711,9.7251493703323675,3.5364723305796986E-2,1.0154284587804341,1.8410810035653924E-2,0.79128240975883113,-1.9601195185820124,9.6466894618005892,5.7885545168064105,null,null,null,null,null,null,null,null,null,null,null,51.081817709361957,564.26656612254283,116.73803671329867]
[{"$f":"A757+7","v":638},{"$f":"OFFSET(Calculations!AS$43,$A765,0)-U$3-B$10","v":-8.281907566327444},{"$f":"OFFSET(Calculations!AT$43,$A765,0)-V$3-B$11","v":496.70097182200072},{"$f":"OFFSET(Calculations!AU$43,$A765,0)-W$3-B$12","v":75.073084846268856},{"$f":"B765*F$5+C765*F$4","v":-8.281907566327444},{"$f":"C765*F$5-B765*F$4","v":496.70097182200072},{"$f":"D765","v":75.073084846268856},-8.281907566327444,{"$f":"F765*F$7+G765*F$6","v":496.70097182200072},{"$f":"G765*F$7-F765*F$6","v":75.073084846268856},{"$f":"H765*F$9+J765*F$8","v":-8.281907566327444},{"$f":"I765","v":496.70097182200072},{"$f":"J765*F$9-H765*F$8","v":75.073084846268856},{"$f":"IF(P765=1,K765*B$1/(B$1+B$2+L765),99999)","v":-0.32689527065824536},{"$f":"M765*B$1/(B$1+B$2+L765)","v":2.9632106122204682},{"$f":"IF(MIN(L765:L771)+B$2+B$1>0,1,0)","v":1},null,null,null,{"$f":"T755+7","v":504},{"$f":"OFFSET(Calculations!AS$46,$T765,0)","v":-11.17689850931156},{"$f":"OFFSET(Calculations!AT$46,$T765,0)","v":309.52025626492156},{"$f":"OFFSET(Calculations!AU$46,$T765,0)","v":48.548831432312817},{"$f":"OFFSET(Calculations!AS$43,$T765,0)-OFFSET(Calculations!AS$45,$T765,0)","v":-0.89469183171993905},{"$f":"OFFSET(Calculations!AT$43,$T765,0)-OFFSET(Calculations!AT$45,$T765,0)","v":-1.8923431626109277},{"$f":"OFFSET(Calculations!AU$43,$T765,0)-OFFSET(Calculations!AU$45,$T765,0)","v":9.778474517079573},2.9466571909795292E-2,1.0156972499356698,1.8712317360552788E-2,1.0477025961923365,-1.9685116586222919,9.6169997786625245,5.7880530902739764,null,null,null,null,null,null,null,null,null,null,null,52.9926242374815,567.87467406508472,112.55145784766444]
[631,{"$f":"OFFSET(Calculations!AS$43,$A766,0)-U$3-B$10","v":-8.0462284225368101},{"$f":"OFFSET(Calculations!AT$43,$A766,0)-V$3-B$11","v":486.87144818731497},{"$f":"OFFSET(Calculations!AU$43,$A766,0)-W$3-B$12","v":73.088546531126781},-8.0462284225368101,486.87144818731497,73.088546531126781,-8.0462284225368101,486.87144818731497,73.088546531126781,-8.0462284225368101,486.87144818731497,73.088546531126781,{"$f":"IF(P765=1,K766*B$1/(B$1+B$2+L766),99999)","v":-0.32387566047077321},2.9419499469236241,null,null,null,null,null,{"$f":"(9*U765+U775)/10","v":-11.129833459218197},310.53560678800261,48.564351953422843,-0.63424946551364625,-1.9042120686114061,9.7651609759621856,2.6533492212534426E-2,1.0157550377448388,1.9244283402315432E-2,1.3037756349446612,-1.9752412450258814,9.579036965530479,5.787647884400509,null,null,null,null,null,null,null,null,null,null,null,51.486555111686329,566.65116525309224,107.03495088343274]
[630,{"$f":"OFFSET(Calculations!AS$43,$A767,0)-U$3-B$10","v":-13.287101920514127},{"$f":"OFFSET(Calculations!AT$43,$A767,0)-V$3-B$11","v":486.65760074706947},{"$f":"OFFSET(Calculations!AU$43,$A767,0)-W$3-B$12","v":75.635606453959326},-13.287101920514127,486.65760074706947,75.635606453959326,-13.287101920514127,486.65760074706947,75.635606453959326,-13.287101920514127,486.65760074706947,75.635606453959326,{"$f":"IF(P765=1,K767*B$1/(B$1+B$2+L767),99999)","v":-0.53506085079651433},3.0457847152721991,null,null,null,null,null,{"$f":"(8*U765+2*U775)/10","v":-11.082768409124835},311.55095731108361,48.579872474532877,-0.37380709930735351,-1.9160809746118843,9.7518474348447981,2.3600412515270008E-2,1.0158128255538941,1.9776249444063865E-2,1.559120452454658,-1.9811142781633222,9.5369659403959925,5.787242644229261,null,null,null,null,null,null,null,null,null,null,null,47.34077089435511,559.88269774732464,110.35162404289535]
[637,{"$f":"OFFSET(Calculations!AS$43,$A768,0)-U$3-B$10","v":-12.687688957837723},{"$f":"OFFSET(Calculations!AT$43,$A768,0)-V$3-B$11","v":496.19443903569606},{"$f":"OFFSET(Calculations!AU$43,$A768,0)-W$3-B$12","v":78.859443956425196},-12.687688957837723,496.19443903569606,78.859443956425196,-12.687688957837723,496.19443903569606,78.859443956425196,-12.687688957837723,496.19443903569606,78.859443956425196,{"$f":"IF(P765=1,K768*B$1/(B$1+B$2+L768),99999)","v":-0.50129705028004101},3.1157767796364175,null,null,null,null,null,{"$f":"(7*U765+3*U775)/10","v":-11.035703359031473},312.5663078341646,48.595392995642918,-0.11336473310106072,-1.9279498806123627,9.7385338937274106,2.0667332818012696E-2,1.0158706133630062,2.0308215485826508E-2,1.813737048722327,-1.986130758034615,9.4907867032590616,5.7868373697515203,null,null,null,null,null,null,null,null,null,null,null,51.00087022889705,563.78964629643315,118.67865387927196]
[639,{"$f":"OFFSET(Calculations!AS$43,$A769,0)-U$3-B$10","v":-2.8500591123673775},{"$f":"OFFSET(Calculations!AT$43,$A769,0)-V$3-B$11","v":496.00061713710659},{"$f":"OFFSET(Calculations!AU$43,$A769,0)-W$3-B$12","v":77.075215244869753},-2.8500591123673775,496.00061713710659,77.075215244869753,-2.8500591123673775,496.00061713710659,77.075215244869753,-2.8500591123673775,496.00061713710659,77.075215244869753,{"$f":"IF(P765=1,K769*B$1/(B$1+B$2+L769),99999)","v":-0.11265042040828664},3.0464474798846086,null,null,null,null,null,{"$f":"(6*U765+4*U775)/10","v":-10.988638308938112},313.58165835724566,48.610913516752944,0.14707763310523206,-1.9398187866128409,9.7252203526100232,1.7734253120750054E-2,1.0159284011721184,2.0840181527582047E-2,2.0676254237476677,-1.9902906846397594,9.4404992541196862,{"$f":"AG$245+SIGN(W$245-W769)*SQRT(2*ABS(W$245-W769)/Z$5)","v":5.7864320609585747},null,null,null,null,null,null,null,null,null,null,null,42.834010304447723,553.50993438676119,108.59748717950075]
[632,{"$f":"OFFSET(Calculations!AS$43,$A770,0)-U$3-B$10","v":-3.342170023591466},{"$f":"OFFSET(Calculations!AT$43,$A770,0)-V$3-B$11","v":485.94988972999357},{"$f":"OFFSET(Calculations!AU$43,$A770,0)-W$3-B$12","v":76.408571318541959},-3.342170023591466,485.94988972999357,76.408571318541959,-3.342170023591466,485.94988972999357,76.408571318541959,-3.342170023591466,485.94988972999357,76.408571318541959,{"$f":"IF(P765=1,K770*B$1/(B$1+B$2+L770),99999)","v":-0.13477853681592789},3.0813020791330561,null,null,null,null,null,{"$f":"(5*U765+5*U775)/10","v":-10.94157325884475},314.59700888032665,48.626434037862978,0.40751999931152483,-1.9516876926133193,9.7119068114926357,1.209997026193399E-2,1.0158868231096676,2.2630285763057145E-2,2.32078557753068,-1.9935940579787559,9.3861035929778698,5.7860267178417049,null,null,null,null,null,null,null,null,null,null,null,51.5675025921512,567.12808507920147,105.09433371745956]
[631,{"$f":"OFFSET(Calculations!AS$43,$A771,0)-U$3-B$10","v":-8.0462284225368101},{"$f":"OFFSET(Calculations!AT$43,$A771,0)-V$3-B$11","v":486.87144818731497},{"$f":"OFFSET(Calculations!AU$43,$A771,0)-W$3-B$12","v":73.088546531126781},-8.0462284225368101,486.87144818731497,73.088546531126781,-8.0462284225368101,486.87144818731497,73.088546531126781,-8.0462284225368101,486.87144818731497,73.088546531126781,{"$f":"IF(P765=1,K771*B$1/(B$1+B$2+L771),99999)","v":-0.32387566047077321},2.9419499469236241,null,null,null,null,null,{"$f":"(4*U765+6*U775)/10","v":-10.894508208751386},315.61235940340765,48.641954558973012,0.66796236551781762,-1.9635565986137977,9.6985932703752482,6.465687403119702E-3,1.0158452450471032,2.4420389998539349E-2,2.5714296210997847,-1.9951921445794245,9.3238281816790867,5.785621340392189,null,null,null,null,null,null,null,null,null,null,null,59.468558805149435,558.32213539391148,115.60826354588403]
[" ",null,null,null,null,null,null,null,null,null,null,null,null,null,null,null,null,null,null,null,{"$f":"(3*U765+7*U775)/10","v":-10.847443158658026},316.62770992648865,48.657475080083046,0.92840473172411042,-1.9754255046142759,9.6852797292578607,8.3140454430186139E-4,1.0158036669845956,2.6210494234021553E-2,2.8195575544549802,-1.9950849444417653,9.2536730202233333,5.7852159286013025,null,null,null,null,null,null,null,null,null,null,null,61.788000280329655,561.809058734426,111.53320123217792]
[{"$f":"A765+7","v":645},{"$f":"OFFSET(Calculations!AS$43,$A773,0)-U$3-B$10","v":-8.4835234969340121},{"$f":"OFFSET(Calculations!AT$43,$A773,0)-V$3-B$11","v":506.48964414168455},{"$f":"OFFSET(Calculations!AU$43,$A773,0)-W$3-B$12","v":77.253742078802475},{"$f":"B773*F$5+C773*F$4","v":-8.4835234969340121},{"$f":"C773*F$5-B773*F$4","v":506.48964414168455},{"$f":"D773","v":77.253742078802475},-8.4835234969340121,{"$f":"F773*F$7+G773*F$6","v":506.48964414168455},{"$f":"G773*F$7-F773*F$6","v":77.253742078802475},{"$f":"H773*F$9+J773*F$8","v":-8.4835234969340121},{"$f":"I773","v":506.48964414168455},{"$f":"J773*F$9-H773*F$8","v":77.253742078802475},{"$f":"IF(P773=1,K773*B$1/(B$1+B$2+L773),99999)","v":-0.32850701241191954},{"$f":"M773*B$1/(B$1+B$2+L773)","v":2.9914923931218289},{"$f":"IF(MIN(L773:L779)+B$2+B$1>0,1,0)","v":1},null,null,null,null,{"$f":"(2*U765+8*U775)/10","v":-10.800378108564663},317.6430604495697,48.67299560119308,1.1888470979304031,-1.9872944106147543,9.6719661881404733,-4.8028783145142029E-3,1.0157620889221448,2.8000598469489546E-2,3.0651693775962681,-1.9932724575657785,9.1756381086106114,5.7848104824603155,null,null,null,null,null,null,null,null,null,null,null,59.604409790970109,561.48573357773819,106.12284362682198]
[638,{"$f":"OFFSET(Calculations!AS$43,$A774,0)-U$3-B$10","v":-8.281907566327444},{"$f":"OFFSET(Calculations!AT$43,$A774,0)-V$3-B$11","v":496.70097182200072},{"$f":"OFFSET(Calculations!AU$43,$A774,0)-W$3-B$12","v":75.073084846268856},-8.281907566327444,496.70097182200072,75.073084846268856,-8.281907566327444,496.70097182200072,75.073084846268856,-8.281907566327444,496.70097182200072,75.073084846268856,{"$f":"IF(P773=1,K774*B$1/(B$1+B$2+L774),99999)","v":-0.32689527065824536},2.9632106122204682,null,null,null,null,null,{"$f":"(1*U765+9*U775)/10","v":-10.753313058471301},318.65841097265076,48.688516122303106,1.449289464136696,-1.9991633166152325,9.6586526470230858,-1.0437161173328491E-2,1.0157205108595804,2.979070270497175E-2,3.3082650905236473,-1.9897546839514635,9.0897234468409192,5.7844050019604953,null,null,null,null,null,null,null,null,null,null,null,54.324641746509045,555.49392465110054,109.32007292472132]
[637,{"$f":"OFFSET(Calculations!AS$43,$A775,0)-U$3-B$10","v":-12.687688957837723},{"$f":"OFFSET(Calculations!AT$43,$A775,0)-V$3-B$11","v":496.19443903569606},{"$f":"OFFSET(Calculations!AU$43,$A775,0)-W$3-B$12","v":78.859443956425196},-12.687688957837723,496.19443903569606,78.859443956425196,-12.687688957837723,496.19443903569606,78.859443956425196,-12.687688957837723,496.19443903569606,78.859443956425196,{"$f":"IF(P773=1,K775*B$1/(B$1+B$2+L775),99999)","v":-0.50129705028004101},3.1157767796364175,null,null,null,null,{"$f":"T765+7","v":511},{"$f":"OFFSET(Calculations!AS$46,$T775,0)","v":-10.706248008377939},{"$f":"OFFSET(Calculations!AT$46,$T775,0)","v":319.67376149573175},{"$f":"OFFSET(Calculations!AU$46,$T775,0)","v":48.70403664341314},{"$f":"OFFSET(Calculations!AS$43,$T775,0)-OFFSET(Calculations!AS$45,$T775,0)","v":1.7097318303429887},{"$f":"OFFSET(Calculations!AT$43,$T775,0)-OFFSET(Calculations!AT$45,$T775,0)","v":-2.0110322226157109},{"$f":"OFFSET(Calculations!AU$43,$T775,0)-OFFSET(Calculations!AU$45,$T775,0)","v":9.6453391059056983},-1.6071444032141002E-2,1.0156789327970728,3.1580806940446848E-2,3.5488446932371187,-1.9845316235988211,8.9959290349142584,5.783999487093106,null,null,null,null,null,null,null,null,null,null,null,59.441388607985232,557.68941575714621,117.50534752969642]
[644,{"$f":"OFFSET(Calculations!AS$43,$A776,0)-U$3-B$10","v":-11.753066886902904},{"$f":"OFFSET(Calculations!AT$43,$A776,0)-V$3-B$11","v":505.72467300328151},{"$f":"OFFSET(Calculations!AU$43,$A776,0)-W$3-B$12","v":82.022485339833736},-11.753066886902904,505.72467300328151,82.022485339833736,-11.753066886902904,505.72467300328151,82.022485339833736,-11.753066886902904,505.72467300328151,82.022485339833736,{"$f":"IF(P773=1,K776*B$1/(B$1+B$2+L776),99999)","v":-0.45578842751345811},3.1808633417587853,null,null,null,null,null,{"$f":"(9*U775+U785)/10","v":-10.706112233440756},320.6900366237586,48.728068621191248,1.9585226566720333,-2.0091962763578182,9.5662941727492239,-1.8772647193699754E-2,1.0155795669253962,3.2838945134173514E-2,3.7869081857366811,-1.9776032765078506,8.8942548728306328,5.7833715199702578,null,null,null,null,null,null,null,null,null,null,null,48.368250259022403,550.45391341141521,107.55380931142818]
[646,{"$f":"OFFSET(Calculations!AS$43,$A777,0)-U$3-B$10","v":-2.6931573094017267},{"$f":"OFFSET(Calculations!AT$43,$A777,0)-V$3-B$11","v":506.05794886526087},{"$f":"OFFSET(Calculations!AU$43,$A777,0)-W$3-B$12","v":77.802655290255416},-2.6931573094017267,506.05794886526087,77.802655290255416,-2.6931573094017267,506.05794886526087,77.802655290255416,-2.6931573094017267,506.05794886526087,77.802655290255416,{"$f":"IF(P773=1,K777*B$1/(B$1+B$2+L777),99999)","v":-0.10437422058214983},3.0152681675122941,null,null,null,null,null,{"$f":"(8*U775+2*U785)/10","v":-10.705976458503574},321.70631175178539,48.752100598969363,2.2073134830010779,-2.0073603300999254,9.4872492395927512,-2.1473850355253177E-2,1.0154802010537765,3.4097083327893074E-2,4.0231837892646629,-1.969826195944701,8.7888091725924795,5.7827434703962579,null,null,null,null,null,null,null,null,null,null,null,59.631579988134312,562.11845321450392,104.2257596430097]
[639,{"$f":"OFFSET(Calculations!AS$43,$A778,0)-U$3-B$10","v":-2.8500591123673775},{"$f":"OFFSET(Calculations!AT$43,$A778,0)-V$3-B$11","v":496.00061713710659},{"$f":"OFFSET(Calculations!AU$43,$A778,0)-W$3-B$12","v":77.075215244869753},-2.8500591123673775,496.00061713710659,77.075215244869753,-2.8500591123673775,496.00061713710659,77.075215244869753,-2.8500591123673775,496.00061713710659,77.075215244869753,{"$f":"IF(P773=1,K778*B$1/(B$1+B$2+L778),99999)","v":-0.11265042040828664},3.0464474798846086,null,null,null,null,null,{"$f":"(7*U775+3*U785)/10","v":-10.70584068356639},322.72258687981218,48.776132576747464,2.4561043093301227,-2.0055243838420322,9.4082043064362786,-2.4175053516808376E-2,1.0153808351821567,3.5355221521612634E-2,4.2576715038210651,-1.9612003819093715,8.6795919341998005,5.7821153383386221,null,null,null,null,null,null,null,null,null,null,null,66.176584092898622,550.83271587599131,113.1873004464972]
[638,{"$f":"OFFSET(Calculations!AS$43,$A779,0)-U$3-B$10","v":-8.281907566327444},{"$f":"OFFSET(Calculations!AT$43,$A779,0)-V$3-B$11","v":496.70097182200072},{"$f":"OFFSET(Calculations!AU$43,$A779,0)-W$3-B$12","v":75.073084846268856},-8.281907566327444,496.70097182200072,75.073084846268856,-8.281907566327444,496.70097182200072,75.073084846268856,-8.281907566327444,496.70097182200072,75.073084846268856,{"$f":"IF(P773=1,K779*B$1/(B$1+B$2+L779),99999)","v":-0.32689527065824536},2.9632106122204682,null,null,null,null,null,{"$f":"(6*U775+4*U785)/10","v":-10.705704908629206},323.73886200783909,48.80016455452558,2.7048951356591671,-2.0036884375841395,9.3291593732798042,-2.6876256678363575E-2,1.015281469310537,3.6613359715346405E-2,4.4903713294058871,-1.9517258344018624,8.5666031576525956,5.7814871237648431,null,null,null,null,null,null,null,null,null,null,null,68.874492493321299,554.10459402900005,109.17277913100119]
[" ",null,null,null,null,null,null,null,null,null,null,null,null,null,null,null,null,null,null,null,{"$f":"(5*U775+5*U785)/10","v":-10.705569133692027},324.75513713586588,48.824196532303688,2.9536859619882119,-2.0018524913262468,9.2501144401233297,-3.1862703934256942E-2,1.0149323555065166,3.9770068216029131E-2,4.7212832660191282,-1.9414025534221739,8.449842842950865,5.7808588266423913,null,null,null,null,null,null,null,null,null,null,null,66.244977344316254,554.79044731710326,104.00407202708004]
[{"$f":"A773+7","v":652},{"$f":"OFFSET(Calculations!AS$43,$A781,0)-U$3-B$10","v":-8.6010356893162339},{"$f":"OFFSET(Calculations!AT$43,$A781,0)-V$3-B$11","v":516.2377516742788},{"$f":"OFFSET(Calculations!AU$43,$A781,0)-W$3-B$12","v":79.615036131422997},{"$f":"B781*F$5+C781*F$4","v":-8.6010356893162339},{"$f":"C781*F$5-B781*F$4","v":516.2377516742788},{"$f":"D781","v":79.615036131422997},-8.6010356893162339,{"$f":"F781*F$7+G781*F$6","v":516.2377516742788},{"$f":"G781*F$7-F781*F$6","v":79.615036131422997},{"$f":"H781*F$9+J781*F$8","v":-8.6010356893162339},{"$f":"I781","v":516.2377516742788},{"$f":"J781*F$9-H781*F$8","v":79.615036131422997},{"$f":"IF(P781=1,K781*B$1/(B$1+B$2+L781),99999)","v":-0.32688782444631409},{"$f":"M781*B$1/(B$1+B$2+L781)","v":3.0258200168315437},{"$f":"IF(MIN(L781:L787)+B$2+B$1>0,1,0)","v":1},null,null,null,null,{"$f":"(4*U775+6*U785)/10","v":-10.705433358754842},325.77141226389278,48.848228510081796,3.2024767883172567,-2.000016545068354,9.1710695069668553,-3.6849151190146756E-2,1.0145832417024394,4.2926776716711856E-2,4.9476815986387432,-1.9294474650756204,8.3261331498804729,5.7802304469387176,null,null,null,null,null,null,null,null,null,null,null,60.029792070100299,549.81122125604838,107.25657565353197]
[645,{"$f":"OFFSET(Calculations!AS$43,$A782,0)-U$3-B$10","v":-8.4835234969340121},{"$f":"OFFSET(Calculations!AT$43,$A782,0)-V$3-B$11","v":506.48964414168455},{"$f":"OFFSET(Calculations!AU$43,$A782,0)-W$3-B$12","v":77.253742078802475},-8.4835234969340121,506.48964414168455,77.253742078802475,-8.4835234969340121,506.48964414168455,77.253742078802475,-8.4835234969340121,506.48964414168455,77.253742078802475,{"$f":"IF(P781=1,K782*B$1/(B$1+B$2+L782),99999)","v":-0.32850701241191954},2.9914923931218289,null,null,null,null,null,{"$f":"(3*U775+7*U785)/10","v":-10.705297583817659},326.78768739191958,48.872260487859911,3.4512676146463006,-1.9981805988104611,9.0920245738103826,-4.1835598446038347E-2,1.0142341278983622,4.6083485217408793E-2,5.1695663272647323,-1.9158605693622017,8.195474078441416,5.7796019846212516,null,null,null,null,null,null,null,null,null,null,null,66.162905442615155,550.04116958776922,115.02394613038075]
[644,{"$f":"OFFSET(Calculations!AS$43,$A783,0)-U$3-B$10","v":-11.753066886902904},{"$f":"OFFSET(Calculations!AT$43,$A783,0)-V$3-B$11","v":505.72467300328151},{"$f":"OFFSET(Calculations!AU$43,$A783,0)-W$3-B$12","v":82.022485339833736},-11.753066886902904,505.72467300328151,82.022485339833736,-11.753066886902904,505.72467300328151,82.022485339833736,-11.753066886902904,505.72467300328151,82.022485339833736,{"$f":"IF(P781=1,K783*B$1/(B$1+B$2+L783),99999)","v":-0.45578842751345811},3.1808633417587853,null,null,null,null,null,{"$f":"(2*U775+8*U785)/10","v":-10.705161808880478},327.80396251994637,48.896292465638012,3.7000584409753459,-1.9963446525525683,9.0129796406539082,-4.6822045701928161E-2,1.0138850140943418,4.9240193718077307E-2,5.3869374518970936,-1.9006418662819182,8.0578656286336958,5.7789734396574,null,null,null,null,null,null,null,null,null,null,null,52.965805043235065,546.38223800976448,105.72616355838198]
[651,{"$f":"OFFSET(Calculations!AS$43,$A784,0)-U$3-B$10","v":-10.509735883218946},{"$f":"OFFSET(Calculations!AT$43,$A784,0)-V$3-B$11","v":515.26626307048105},{"$f":"OFFSET(Calculations!AU$43,$A784,0)-W$3-B$12","v":85.041739501102285},-10.509735883218946,515.26626307048105,85.041739501102285,-10.509735883218946,515.26626307048105,85.041739501102285,-10.509735883218946,515.26626307048105,85.041739501102285,{"$f":"IF(P781=1,K784*B$1/(B$1+B$2+L784),99999)","v":-0.40016793851497495},3.238043083292073,null,null,null,null,null,{"$f":"(1*U775+9*U785)/10","v":-10.705026033943295},328.82023764797322,48.920324443416128,3.9488492673043907,-1.9945087062946754,8.9339347074974338,-5.1808492957825081E-2,1.0135359002902078,5.2396902218781349E-2,5.5997949725358298,-1.8837913558347696,7.9133078004573161,5.7783448120145486,null,null,null,null,null,null,null,null,null,null,null,66.258655994599835,555.58199360532535,102.16742634319618]
[653,{"$f":"OFFSET(Calculations!AS$43,$A785,0)-U$3-B$10","v":-2.8449644391850892},{"$f":"OFFSET(Calculations!AT$43,$A785,0)-V$3-B$11","v":516.10392449380106},{"$f":"OFFSET(Calculations!AU$43,$A785,0)-W$3-B$12","v":78.673882557780587},-2.8449644391850892,516.10392449380106,78.673882557780587,-2.8449644391850892,516.10392449380106,78.673882557780587,-2.8449644391850892,516.10392449380106,78.673882557780587,{"$f":"IF(P781=1,K785*B$1/(B$1+B$2+L785),99999)","v":-0.10815218464383877},2.9908114687978373,null,null,null,null,{"$f":"T775+7","v":518},{"$f":"OFFSET(Calculations!AS$46,$T785,0)","v":-10.704890259006111},{"$f":"OFFSET(Calculations!AT$46,$T785,0)","v":329.83651277600006},{"$f":"OFFSET(Calculations!AU$46,$T785,0)","v":48.944356421194236},{"$f":"OFFSET(Calculations!AS$43,$T785,0)-OFFSET(Calculations!AS$45,$T785,0)","v":4.197640093633435},{"$f":"OFFSET(Calculations!AT$43,$T785,0)-OFFSET(Calculations!AT$45,$T785,0)","v":-1.9926727600367826},{"$f":"OFFSET(Calculations!AU$43,$T785,0)-OFFSET(Calculations!AU$45,$T785,0)","v":8.8548897743409611},-5.6794940213716671E-2,1.0131867864862443,5.5553610719464075E-2,5.8081388891809391,-1.8653090380207562,7.7618005939122723,5.7777161016600624,null,null,null,null,null,null,null,null,null,null,null,71.338471662180751,542.59571742006131,109.64988998853514]
[646,{"$f":"OFFSET(Calculations!AS$43,$A786,0)-U$3-B$10","v":-2.6931573094017267},{"$f":"OFFSET(Calculations!AT$43,$A786,0)-V$3-B$11","v":506.05794886526087},{"$f":"OFFSET(Calculations!AU$43,$A786,0)-W$3-B$12","v":77.802655290255416},-2.6931573094017267,506.05794886526087,77.802655290255416,-2.6931573094017267,506.05794886526087,77.802655290255416,-2.6931573094017267,506.05794886526087,77.802655290255416,{"$f":"IF(P781=1,K786*B$1/(B$1+B$2+L786),99999)","v":-0.10437422058214983},3.0152681675122941,null,null,null,null,null,{"$f":"(9*U785+U795)/10","v":-10.747973734653801},330.85119805008082,48.988518610071914,4.4178246964171946,-1.9772570782240166,8.7155002307120775,-5.9080184308053063E-2,1.01293703855373,5.7452181026434346E-2,6.0119692018324224,-1.8451949128398777,7.6033440089985653,5.776560540895761,null,null,null,null,null,null,null,null,null,null,null,73.817247995971556,545.44627882138457,105.20083600346078]
[645,{"$f":"OFFSET(Calculations!AS$43,$A787,0)-U$3-B$10","v":-8.4835234969340121},{"$f":"OFFSET(Calculations!AT$43,$A787,0)-V$3-B$11","v":506.48964414168455},{"$f":"OFFSET(Calculations!AU$43,$A787,0)-W$3-B$12","v":77.253742078802475},-8.4835234969340121,506.48964414168455,77.253742078802475,-8.4835234969340121,506.48964414168455,77.253742078802475,-8.4835234969340121,506.48964414168455,77.253742078802475,{"$f":"IF(P781=1,K787*B$1/(B$1+B$2+L787),99999)","v":-0.32850701241191954},2.9914923931218289,null,null,null,null,null,{"$f":"(8*U785+2*U795)/10","v":-10.79105721030149},331.86588332416159,49.032680798949592,4.6380092992009541,-1.9618413964112507,8.576110687083192,-6.1365428402391231E-2,1.0126872906213293,5.9350751333404617E-2,6.2130737994618608,-1.8242977137643137,7.441709583870721,5.7754047005068569,null,null,null,null,null,null,null,null,null,null,null,70.469613890988214,546.78372670335784,100.61077142440149]
[" ",null,null,null,null,null,null,null,null,null,null,null,null,null,null,null,null,null,null,null,{"$f":"(7*U785+3*U795)/10","v":-10.83414068594918},332.88056859824235,49.076842987827277,4.8581939019847127,-1.9464257145984845,8.4367211434543083,-6.3650672496727623E-2,1.0124375426888719,6.1249321640353571E-2,6.4114526820692523,-1.8026174407940645,7.2768973185287402,5.7742485802902603,null,null,null,null,null,null,null,null,null,null,null,64.13064711591926,542.93067733704436,104.96640120726019]
[{"$f":"A781+7","v":659},{"$f":"OFFSET(Calculations!AS$43,$A789,0)-U$3-B$10","v":-8.4297014862317106},{"$f":"OFFSET(Calculations!AT$43,$A789,0)-V$3-B$11","v":525.980190677},{"$f":"OFFSET(Calculations!AU$43,$A789,0)-W$3-B$12","v":81.92383024566918},{"$f":"B789*F$5+C789*F$4","v":-8.4297014862317106},{"$f":"C789*F$5-B789*F$4","v":525.980190677},{"$f":"D789","v":81.92383024566918},-8.4297014862317106,{"$f":"F789*F$7+G789*F$6","v":525.980190677},{"$f":"G789*F$7-F789*F$6","v":81.92383024566918},{"$f":"H789*F$9+J789*F$8","v":-8.4297014862317106},{"$f":"I789","v":525.980190677},{"$f":"J789*F$9-H789*F$8","v":81.92383024566918},null,null,{"$f":"IF(MIN(L789:L795)+B$2+B$1>0,1,0)","v":1},{"$f":"IF(P789=1,K789*B$1/(B$1+B$2+L789),99999)","v":-0.31455272537532031},{"$f":"M789*B$1/(B$1+B$2+L789)","v":3.0569723161667848},null,null,{"$f":"(6*U785+4*U795)/10","v":-10.877224161596867},333.89525387232317,49.121005176704948,5.0783785047684713,-1.9310100327857185,8.2973315998254229,-6.5935916591069343E-2,1.0121877947565281,6.3147891947330947E-2,6.6071058496545989,-1.7801540939291296,7.1089072129726212,5.7730921800426342,null,null,null,null,null,null,null,null,null,null,null,71.512243216419151,541.75811556340261,111.45771370136205]
[652,{"$f":"OFFSET(Calculations!AS$43,$A790,0)-U$3-B$10","v":-8.6010356893162339},{"$f":"OFFSET(Calculations!AT$43,$A790,0)-V$3-B$11","v":516.2377516742788},{"$f":"OFFSET(Calculations!AU$43,$A790,0)-W$3-B$12","v":79.615036131422997},-8.6010356893162339,516.2377516742788,79.615036131422997,-8.6010356893162339,516.2377516742788,79.615036131422997,-8.6010356893162339,516.2377516742788,79.615036131422997,null,null,null,{"$f":"IF(P789=1,K790*B$1/(B$1+B$2+L790),99999)","v":-0.32688782444631409},3.0258200168315437,null,null,{"$f":"(5*U785+5*U795)/10","v":-10.920307637244559},334.90993914640387,49.165167365582633,5.2985631075522308,-1.9155943509729525,8.1579420561965392,-6.993471010403951E-2,1.0115549367396852,6.7456080245598571E-2,6.8000333022178996,-1.7569076731695095,6.9377392672023657,5.7719354995603958,null,null,null,null,null,null,null,null,null,null,null,56.389623503730498,540.92034050885604,104.77905320816546]
[651,{"$f":"OFFSET(Calculations!AS$43,$A791,0)-U$3-B$10","v":-10.509735883218946},{"$f":"OFFSET(Calculations!AT$43,$A791,0)-V$3-B$11","v":515.26626307048105},{"$f":"OFFSET(Calculations!AU$43,$A791,0)-W$3-B$12","v":85.041739501102285},-10.509735883218946,515.26626307048105,85.041739501102285,-10.509735883218946,515.26626307048105,85.041739501102285,-10.509735883218946,515.26626307048105,85.041739501102285,null,null,null,{"$f":"IF(P789=1,K791*B$1/(B$1+B$2+L791),99999)","v":-0.40016793851497495},3.238043083292073,null,null,{"$f":"(4*U785+6*U795)/10","v":-10.963391112892248},335.92462442048469,49.209329554460304,5.5187477103359894,-1.9001786691601865,8.0185525125676556,-7.3933503617015006E-2,1.0109220787228992,7.1764268543894616E-2,6.9867572516609355,-1.7322141293898388,6.7610259035031843,5.7707785386397159,null,null,null,null,null,null,null,null,null,null,null,70.2958423367498,547.62132856001722,98.802947711574674]
[658,{"$f":"OFFSET(Calculations!AS$43,$A792,0)-U$3-B$10","v":-9.3501218443281378},{"$f":"OFFSET(Calculations!AT$43,$A792,0)-V$3-B$11","v":524.90678142650677},{"$f":"OFFSET(Calculations!AU$43,$A792,0)-W$3-B$12","v":87.586403222959234},-9.3501218443281378,524.90678142650677,87.586403222959234,-9.3501218443281378,524.90678142650677,87.586403222959234,-9.3501218443281378,524.90678142650677,87.586403222959234,null,null,null,{"$f":"IF(P789=1,K792*B$1/(B$1+B$2+L792),99999)","v":-0.34959817930866116},3.2748286716194164,null,null,{"$f":"(3*U785+7*U795)/10","v":-11.006474588539938},336.9393096945654,49.253491743337989,5.7389323131197489,-1.8847629873474205,7.8791629689387701,-7.7932297129988726E-2,1.0102892207060563,7.6072456842183556E-2,7.1672776979837094,-1.7060734625901173,6.5787671218750772,5.7696212970765179,null,null,null,null,null,null,null,null,null,null,null,74.561865069602149,533.96273547395845,105.25694402938129]
[660,{"$f":"OFFSET(Calculations!AS$43,$A793,0)-U$3-B$10","v":-2.9130546041753669},{"$f":"OFFSET(Calculations!AT$43,$A793,0)-V$3-B$11","v":526.05097183351484},{"$f":"OFFSET(Calculations!AU$43,$A793,0)-W$3-B$12","v":80.019700264717557},-2.9130546041753669,526.05097183351484,80.019700264717557,-2.9130546041753669,526.05097183351484,80.019700264717557,-2.9130546041753669,526.05097183351484,80.019700264717557,null,null,null,{"$f":"IF(P789=1,K793*B$1/(B$1+B$2+L793),99999)","v":-0.10868573166508855},2.9855257977060381,null,null,{"$f":"(2*U785+8*U795)/10","v":-11.049558064187627},337.95399496864621,49.297653932215667,5.9591169159035084,-1.8693473055346543,7.7397734253098864,-8.1931090642964222E-2,1.0096563626893271,8.0380645140472495E-2,7.3415946411862194,-1.6784856727703454,6.3909629223180424,5.7684637746664773,null,null,null,null,null,null,null,null,null,null,null,76.158517594933642,536.59923429862147,100.30360064729012]
[653,{"$f":"OFFSET(Calculations!AS$43,$A794,0)-U$3-B$10","v":-2.8449644391850892},{"$f":"OFFSET(Calculations!AT$43,$A794,0)-V$3-B$11","v":516.10392449380106},{"$f":"OFFSET(Calculations!AU$43,$A794,0)-W$3-B$12","v":78.673882557780587},-2.8449644391850892,516.10392449380106,78.673882557780587,-2.8449644391850892,516.10392449380106,78.673882557780587,-2.8449644391850892,516.10392449380106,78.673882557780587,null,null,null,{"$f":"IF(P789=1,K794*B$1/(B$1+B$2+L794),99999)","v":-0.10815218464383877},2.9908114687978373,null,null,{"$f":"(1*U785+9*U795)/10","v":-11.092641539835316},338.96868024272698,49.341816121093345,6.179301518687268,-1.8539316237218884,7.6003838816810019,-8.5929884155936165E-2,1.0090235046724843,8.4688833438747224E-2,7.5097080812684673,-1.6494507599305226,6.1976133048320827,5.7673059712050208,null,null,null,null,null,null,null,null,null,null,null,71.985292509381068,537.96439578111051,96.462173502068794]
[652,{"$f":"OFFSET(Calculations!AS$43,$A795,0)-U$3-B$10","v":-8.6010356893162339},{"$f":"OFFSET(Calculations!AT$43,$A795,0)-V$3-B$11","v":516.2377516742788},{"$f":"OFFSET(Calculations!AU$43,$A795,0)-W$3-B$12","v":79.615036131422997},-8.6010356893162339,516.2377516742788,79.615036131422997,-8.6010356893162339,516.2377516742788,79.615036131422997,-8.6010356893162339,516.2377516742788,79.615036131422997,null,null,null,{"$f":"IF(P789=1,K795*B$1/(B$1+B$2+L795),99999)","v":-0.32688782444631409},3.0258200168315437,null,{"$f":"T785+7","v":525},{"$f":"OFFSET(Calculations!AS$46,$T795,0)","v":-11.135725015483006},{"$f":"OFFSET(Calculations!AT$46,$T795,0)","v":339.98336551680774},{"$f":"OFFSET(Calculations!AU$46,$T795,0)","v":49.385978309971023},{"$f":"OFFSET(Calculations!AS$43,$T795,0)-OFFSET(Calculations!AS$45,$T795,0)","v":6.3994861214710266},{"$f":"OFFSET(Calculations!AT$43,$T795,0)-OFFSET(Calculations!AT$45,$T795,0)","v":-1.8385159419091224},{"$f":"OFFSET(Calculations!AU$43,$T795,0)-OFFSET(Calculations!AU$45,$T795,0)","v":7.4609943380521173},-8.9928677668909884E-2,1.0083906466556982,8.8997021737036164E-2,7.6716180182304532,-1.6189687240706494,5.9987182694171972,5.7661478864873281,null,null,null,null,null,null,null,null,null,null,null,66.555491085534953,534.48329926106442,102.15420508277226]
[" ",null,null,null,null,null,null,null,null,null,null,null,null,null,null,null,null,null,null,null,{"$f":"(9*U795+U805)/10","v":-11.215372396640099},340.99405482396963,49.46051762376014,6.576059283902052,-1.8105710777813897,7.2707593509970394,-9.1642227087545436E-2,1.0080075365713697,9.1406639728361938E-2,7.8273244520721752,-1.5870395651907256,5.7942778160733868,5.7641925703544299,null,null,null,null,null,null,null,null,null,null,null,75.077179581646362,533.16240341252819,107.01589813484375]
[{"$f":"A789+7","v":666},{"$f":"OFFSET(Calculations!AS$43,$A797,0)-U$3-B$10","v":-8.0105758342312416},{"$f":"OFFSET(Calculations!AT$43,$A797,0)-V$3-B$11","v":536.09953026512562},{"$f":"OFFSET(Calculations!AU$43,$A797,0)-W$3-B$12","v":84.155448425179216},{"$f":"B797*F$5+C797*F$4","v":-8.0105758342312416},{"$f":"C797*F$5-B797*F$4","v":536.09953026512562},{"$f":"D797","v":84.155448425179216},-8.0105758342312416,{"$f":"F797*F$7+G797*F$6","v":536.09953026512562},{"$f":"G797*F$7-F797*F$6","v":84.155448425179216},{"$f":"H797*F$9+J797*F$8","v":-8.0105758342312416},{"$f":"I797","v":536.09953026512562},{"$f":"J797*F$9-H797*F$8","v":84.155448425179216},null,null,{"$f":"IF(MIN(L797:L803)+B$2+B$1>0,1,0)","v":1},{"$f":"IF(P797=1,K797*B$1/(B$1+B$2+L797),99999)","v":-0.29337420709159701},{"$f":"M797*B$1/(B$1+B$2+L797)","v":3.0820553309878376},null,null,{"$f":"(8*U795+2*U805)/10","v":-11.295019777797194},342.00474413113153,49.535056937549243,6.7526324463330756,-1.782626213653657,7.0805243639419597,-9.3355776506182764E-2,1.0076244264869842,9.3816257719687712E-2,7.9795530978156801,-1.5544463571854366,5.587469785014787,5.7622364513926723,null,null,null,null,null,null,null,null,null,null,null,58.877676566727281,532.79156627081306,103.63380087368304]
[659,{"$f":"OFFSET(Calculations!AS$43,$A798,0)-U$3-B$10","v":-8.4297014862317106},{"$f":"OFFSET(Calculations!AT$43,$A798,0)-V$3-B$11","v":525.980190677},{"$f":"OFFSET(Calculations!AU$43,$A798,0)-W$3-B$12","v":81.92383024566918},-8.4297014862317106,525.980190677,81.92383024566918,-8.4297014862317106,525.980190677,81.92383024566918,-8.4297014862317106,525.980190677,81.92383024566918,null,null,null,{"$f":"IF(P797=1,K798*B$1/(B$1+B$2+L798),99999)","v":-0.31455272537532031},3.0569723161667848,null,null,{"$f":"(7*U795+3*U805)/10","v":-11.374667158954287},343.01543343829343,49.60959625133836,6.9292056087640983,-1.7546813495259244,6.8902893768868809,-9.5069325924816539E-2,1.0072413164026557,9.6225875711006381E-2,8.128303955460968,-1.5211891000547824,5.3782941762413987,5.7602795286123474,null,null,null,null,null,null,null,null,null,null,null,71.46997799733694,538.76472784254076,94.703219396606357]
[658,{"$f":"OFFSET(Calculations!AS$43,$A799,0)-U$3-B$10","v":-9.3501218443281378},{"$f":"OFFSET(Calculations!AT$43,$A799,0)-V$3-B$11","v":524.90678142650677},{"$f":"OFFSET(Calculations!AU$43,$A799,0)-W$3-B$12","v":87.586403222959234},-9.3501218443281378,524.90678142650677,87.586403222959234,-9.3501218443281378,524.90678142650677,87.586403222959234,-9.3501218443281378,524.90678142650677,87.586403222959234,null,null,null,{"$f":"IF(P797=1,K799*B$1/(B$1+B$2+L799),99999)","v":-0.34959817930866116},3.2748286716194164,null,null,{"$f":"(6*U795+4*U805)/10","v":-11.45431454011138},344.02612274545538,49.684135565127477,7.1057787711951237,-1.7267364853981917,6.700054389831803,-9.6782875343455643E-2,1.0068582063182134,9.863549370232505E-2,8.2735770250080396,-1.4872677937987628,5.1667509897532229,5.7583218010217125,null,null,null,null,null,null,null,null,null,null,null,76.879641129952901,525.38745721146086,100.48240472800916]
[665,{"$f":"OFFSET(Calculations!AS$43,$A800,0)-U$3-B$10","v":-8.4594721889461244},{"$f":"OFFSET(Calculations!AT$43,$A800,0)-V$3-B$11","v":534.63017860640025},{"$f":"OFFSET(Calculations!AU$43,$A800,0)-W$3-B$12","v":89.789254913114661},-8.4594721889461244,534.63017860640025,89.789254913114661,-8.4594721889461244,534.63017860640025,89.789254913114661,-8.4594721889461244,534.63017860640025,89.789254913114661,null,null,null,{"$f":"IF(P797=1,K800*B$1/(B$1+B$2+L800),99999)","v":-0.31065014467586877},3.2972559523920402,null,null,{"$f":"(5*U795+5*U805)/10","v":-11.533961921268475},345.03681205261728,49.758674878916587,7.2823519336261482,-1.698791621270459,6.5098194027767251,-9.9521503943918788E-2,1.0059847323167901,0.10380156588529843,8.4153723064568915,-1.4526824384173782,4.9528402255502559,5.7563632676269831,null,null,null,null,null,null,null,null,null,null,null,76.976583421980919,527.97076865684471,95.254296917407146]
[667,{"$f":"OFFSET(Calculations!AS$43,$A801,0)-U$3-B$10","v":-2.7121803856568665},{"$f":"OFFSET(Calculations!AT$43,$A801,0)-V$3-B$11","v":535.91514034936108},{"$f":"OFFSET(Calculations!AU$43,$A801,0)-W$3-B$12","v":81.707330003356176},-2.7121803856568665,535.91514034936108,81.707330003356176,-2.7121803856568665,535.91514034936108,81.707330003356176,-2.7121803856568665,535.91514034936108,81.707330003356176,null,null,null,{"$f":"IF(P797=1,K801*B$1/(B$1+B$2+L801),99999)","v":-9.9362709886419098E-2},2.9934077282072509,null,null,{"$f":"(4*U795+6*U805)/10","v":-11.613609302425568},346.04750135977912,49.833214192705704,7.4589250960571718,-1.6708467571427263,6.3195844157216454,-0.10226013254438371,1.0051112583151394,0.1089676380682576,8.5496969441447188,-1.416933263405102,4.7351659149257239,5.75440392743233,null,null,null,null,null,null,null,null,null,null,null,71.906907372937482,528.70544835379303,92.465993201568821]
[660,{"$f":"OFFSET(Calculations!AS$43,$A802,0)-U$3-B$10","v":-2.9130546041753669},{"$f":"OFFSET(Calculations!AT$43,$A802,0)-V$3-B$11","v":526.05097183351484},{"$f":"OFFSET(Calculations!AU$43,$A802,0)-W$3-B$12","v":80.019700264717557},-2.9130546041753669,526.05097183351484,80.019700264717557,-2.9130546041753669,526.05097183351484,80.019700264717557,-2.9130546041753669,526.05097183351484,80.019700264717557,null,null,null,{"$f":"IF(P797=1,K802*B$1/(B$1+B$2+L802),99999)","v":-0.10868573166508855},2.9855257977060381,null,null,{"$f":"(3*U795+7*U805)/10","v":-11.693256683582661},347.05819066694102,49.907753506494814,7.6354982584881963,-1.6429018930149937,6.1293494286665666,-0.10499876114485041,1.0042377843136592,0.11413371025123809,8.676550938071518,-1.3800202687619343,4.5137280578796242,5.752443779439866,null,null,null,null,null,null,null,null,null,null,null,68.370906069689866,524.89163113980123,99.318109155177098]
[659,{"$f":"OFFSET(Calculations!AS$43,$A803,0)-U$3-B$10","v":-8.4297014862317106},{"$f":"OFFSET(Calculations!AT$43,$A803,0)-V$3-B$11","v":525.980190677},{"$f":"OFFSET(Calculations!AU$43,$A803,0)-W$3-B$12","v":81.92383024566918},-8.4297014862317106,525.980190677,81.92383024566918,-8.4297014862317106,525.980190677,81.92383024566918,-8.4297014862317106,525.980190677,81.92383024566918,null,null,null,{"$f":"IF(P797=1,K803*B$1/(B$1+B$2+L803),99999)","v":-0.31455272537532031},3.0569723161667848,null,null,{"$f":"(2*U795+8*U805)/10","v":-11.772904064739754},348.06887997410297,49.982292820283924,7.8120714209192217,-1.614957028887261,5.9391144416114887,-0.10773738974531533,1.0033643103121221,0.11929978243420436,8.7959342882372908,-1.341943454487875,4.2885266544119558,5.7504828226496514,null,null,null,null,null,null,null,null,null,null,null,77.874187881355979,524.72385898299444,102.08568703329735]
[" ",null,null,null,null,null,null,null,null,null,null,null,null,null,null,null,null,null,null,null,{"$f":"(1*U795+9*U805)/10","v":-11.852551445896847},349.07956928126487,50.056832134073034,7.9886445833502453,-1.5870121647595283,5.7488794545564099,-0.11047601834577847,1.002490836310642,0.12446585461717774,8.9078469946420373,-1.3027028205829243,4.0595617045227197,5.7485210560596789,null,null,null,null,null,null,null,null,null,null,null,61.488199576255347,522.42897783371473,102.56829222990638]
[{"$f":"A797+7","v":673},{"$f":"OFFSET(Calculations!AS$43,$A805,0)-U$3-B$10","v":-6.3524756055818745},{"$f":"OFFSET(Calculations!AT$43,$A805,0)-V$3-B$11","v":546.29129482905989},{"$f":"OFFSET(Calculations!AU$43,$A805,0)-W$3-B$12","v":87.081685148475401},{"$f":"B805*F$5+C805*F$4","v":-6.3524756055818745},{"$f":"C805*F$5-B805*F$4","v":546.29129482905989},{"$f":"D805","v":87.081685148475401},-6.3524756055818745,{"$f":"F805*F$7+G805*F$6","v":546.29129482905989},{"$f":"G805*F$7-F805*F$6","v":87.081685148475401},{"$f":"H805*F$9+J805*F$8","v":-6.3524756055818745},{"$f":"I805","v":546.29129482905989},{"$f":"J805*F$9-H805*F$8","v":87.081685148475401},null,null,{"$f":"IF(MIN(L805:L811)+B$2+B$1>0,1,0)","v":1},{"$f":"IF(P805=1,K805*B$1/(B$1+B$2+L805),99999)","v":-0.22838666233430441},{"$f":"M805*B$1/(B$1+B$2+L805)","v":3.1307944581528755},null,{"$f":"T795+7","v":532},{"$f":"OFFSET(Calculations!AS$46,$T805,0)","v":-11.932198827053941},{"$f":"OFFSET(Calculations!AT$46,$T805,0)","v":350.09025858842676},{"$f":"OFFSET(Calculations!AU$46,$T805,0)","v":50.131371447862151},{"$f":"OFFSET(Calculations!AS$43,$T805,0)-OFFSET(Calculations!AS$45,$T805,0)","v":8.1652177457812698},{"$f":"OFFSET(Calculations!AT$43,$T805,0)-OFFSET(Calculations!AT$45,$T805,0)","v":-1.5590673006317957},{"$f":"OFFSET(Calculations!AU$43,$T805,0)-OFFSET(Calculations!AU$45,$T805,0)","v":5.5586444675013311},-0.11321464694624161,1.0016173623090481,0.12963192680015823,9.0122890572857575,-1.262298367047082,3.8268332082119176,5.746558478665869,null,null,null,null,null,null,null,null,null,null,null,70.912360621534333,529.36904658225933,90.862710896280603]
[666,{"$f":"OFFSET(Calculations!AS$43,$A806,0)-U$3-B$10","v":-8.0105758342312416},{"$f":"OFFSET(Calculations!AT$43,$A806,0)-V$3-B$11","v":536.09953026512562},{"$f":"OFFSET(Calculations!AU$43,$A806,0)-W$3-B$12","v":84.155448425179216},-8.0105758342312416,536.09953026512562,84.155448425179216,-8.0105758342312416,536.09953026512562,84.155448425179216,-8.0105758342312416,536.09953026512562,84.155448425179216,null,null,null,{"$f":"IF(P805=1,K806*B$1/(B$1+B$2+L806),99999)","v":-0.29337420709159701},3.0820553309878376,null,null,{"$f":"(9*U805+U815)/10","v":-12.039262998909212},351.09481813423884,50.244464649512395,8.2861462986408192,-1.5204976504982199,5.3305282370096334,-0.11423972612807454,1.0011269983919533,0.13238838099179873,9.1092604761684495,-1.2207300938803483,3.590341165479547,5.743579248940855,null,null,null,null,null,null,null,null,null,null,null,79.027975396448525,516.92523675551831,95.434712827746608]
[665,{"$f":"OFFSET(Calculations!AS$43,$A807,0)-U$3-B$10","v":-8.4594721889461244},{"$f":"OFFSET(Calculations!AT$43,$A807,0)-V$3-B$11","v":534.63017860640025},{"$f":"OFFSET(Calculations!AU$43,$A807,0)-W$3-B$12","v":89.789254913114661},-8.4594721889461244,534.63017860640025,89.789254913114661,-8.4594721889461244,534.63017860640025,89.789254913114661,-8.4594721889461244,534.63017860640025,89.789254913114661,null,null,null,{"$f":"IF(P805=1,K807*B$1/(B$1+B$2+L807),99999)","v":-0.31065014467586877},3.2972559523920402,null,null,{"$f":"(8*U805+2*U815)/10","v":-12.146327170764485},352.09937768005091,50.357557851162646,8.4070748515003721,-1.481928000364644,5.1024120065179357,-0.11526480530990035,1.000636634474688,0.13514483518345344,9.2022390393883313,-1.178662050208088,3.3524531540403979,5.7405981469187743,null,null,null,null,null,null,null,null,null,null,null,77.620395449210562,519.27925086752305,90.288710816761736]
[672,{"$f":"OFFSET(Calculations!AS$43,$A808,0)-U$3-B$10","v":-6.6525444657315322},{"$f":"OFFSET(Calculations!AT$43,$A808,0)-V$3-B$11","v":544.41500660527186},{"$f":"OFFSET(Calculations!AU$43,$A808,0)-W$3-B$12","v":92.607449998742013},-6.6525444657315322,544.41500660527186,92.607449998742013,-6.6525444657315322,544.41500660527186,92.607449998742013,-6.6525444657315322,544.41500660527186,92.607449998742013,null,null,null,{"$f":"IF(P805=1,K808*B$1/(B$1+B$2+L808),99999)","v":-0.23998428565148705},3.3407266720929853,null,null,{"$f":"(7*U805+3*U815)/10","v":-12.253391342619755},353.10393722586298,50.470651052812897,8.5280034043599251,-1.4433583502310683,4.8742957760262389,-0.11628988449172617,1.0001462705575364,0.13790128937510815,9.2912247469454048,-1.1360942360303015,3.11316917389447,5.7376151690652506,null,null,null,null,null,null,null,null,null,null,null,71.99796403034847,519.33344311992084,88.742965499958729]
[674,{"$f":"OFFSET(Calculations!AS$43,$A809,0)-U$3-B$10","v":-1.4455408375300647},{"$f":"OFFSET(Calculations!AT$43,$A809,0)-V$3-B$11","v":545.19187028531223},{"$f":"OFFSET(Calculations!AU$43,$A809,0)-W$3-B$12","v":84.105473990864283},-1.4455408375300647,545.19187028531223,84.105473990864283,-1.4455408375300647,545.19187028531223,84.105473990864283,-1.4455408375300647,545.19187028531223,84.105473990864283,null,null,null,{"$f":"IF(P805=1,K809*B$1/(B$1+B$2+L809),99999)","v":-5.2073559246723244E-2},3.0297804594164037,null,null,{"$f":"(6*U805+4*U815)/10","v":-12.360455514475028},354.10849677167499,50.583744254463149,8.6489319572194745,-1.4047887000974923,4.6461795455345412,-0.11731496367355909,0.99965590664038473,0.14065774356674865,9.3762175988396663,-1.0930266513469886,2.8724892250417637,5.7346303118347688,null,null,null,null,null,null,null,null,null,null,null,70.596735492997624,515.44681055248566,96.288205447890789]
[667,{"$f":"OFFSET(Calculations!AS$43,$A810,0)-U$3-B$10","v":-2.7121803856568665},{"$f":"OFFSET(Calculations!AT$43,$A810,0)-V$3-B$11","v":535.91514034936108},{"$f":"OFFSET(Calculations!AU$43,$A810,0)-W$3-B$12","v":81.707330003356176},-2.7121803856568665,535.91514034936108,81.707330003356176,-2.7121803856568665,535.91514034936108,81.707330003356176,-2.7121803856568665,535.91514034936108,81.707330003356176,null,null,null,{"$f":"IF(P805=1,K810*B$1/(B$1+B$2+L810),99999)","v":-9.9362709886419098E-2},2.9934077282072509,null,null,{"$f":"(5*U805+5*U815)/10","v":-12.467519686330299},355.11305631748712,50.696837456113386,8.7698605100790274,-1.3662190499639166,4.4180633150428434,-0.11860679434819232,0.99860134246381449,0.14632964035248364,9.4572175950711195,-1.0494592961581493,2.6304133074822786,5.7316435716706344,null,null,null,null,null,null,null,null,null,null,null,80.433977669668792,516.44359548263787,96.773062293304093]
[666,{"$f":"OFFSET(Calculations!AS$43,$A811,0)-U$3-B$10","v":-8.0105758342312416},{"$f":"OFFSET(Calculations!AT$43,$A811,0)-V$3-B$11","v":536.09953026512562},{"$f":"OFFSET(Calculations!AU$43,$A811,0)-W$3-B$12","v":84.155448425179216},-8.0105758342312416,536.09953026512562,84.155448425179216,-8.0105758342312416,536.09953026512562,84.155448425179216,-8.0105758342312416,536.09953026512562,84.155448425179216,null,null,null,{"$f":"IF(P805=1,K811*B$1/(B$1+B$2+L811),99999)","v":-0.29337420709159701},3.0820553309878376,null,null,{"$f":"(4*U805+6*U815)/10","v":-12.574583858185569},356.11761586329919,50.809930657763637,8.8907890629385768,-1.3276493998303409,4.1899470845511457,-0.11989862502282023,0.99754677828730109,0.15200153713821862,9.5299889189272715,-1.0050907371121198,2.3866121944776615,5.7286549450049193,null,null,null,null,null,null,null,null,null,null,null,64.978182098253555,512.38106268364709,101.08748120107717]
[" ",null,null,null,null,null,null,null,null,null,null,null,null,null,null,null,null,null,null,null,{"$f":"(3*U805+7*U815)/10","v":-12.681648030040842},357.12217540911121,50.923023859413888,9.0117176157981298,-1.289079749696765,3.9618308540594485,-0.12119045569744991,0.99649221411067401,0.1576734339239394,9.594531570408126,-0.95992097420890021,2.1410858860279127,5.7256644282584128,null,null,null,null,null,null,null,null,null,null,null,70.591961757128487,519.81508439280083,87.404616034401315]
[{"$f":"A805+7","v":680},{"$f":"OFFSET(Calculations!AS$43,$A813,0)-U$3-B$10","v":-2.2040735430979779},{"$f":"OFFSET(Calculations!AT$43,$A813,0)-V$3-B$11","v":555.54968094186427},{"$f":"OFFSET(Calculations!AU$43,$A813,0)-W$3-B$12","v":90.589128042150833},{"$f":"B813*F$5+C813*F$4","v":-2.2040735430979779},{"$f":"C813*F$5-B813*F$4","v":555.54968094186427},{"$f":"D813","v":90.589128042150833},-2.2040735430979779,{"$f":"F813*F$7+G813*F$6","v":555.54968094186427},{"$f":"G813*F$7-F813*F$6","v":90.589128042150833},{"$f":"H813*F$9+J813*F$8","v":-2.2040735430979779},{"$f":"I813","v":555.54968094186427},{"$f":"J813*F$9-H813*F$8","v":90.589128042150833},null,null,{"$f":"IF(MIN(L813:L819)+B$2+B$1>0,1,0)","v":1},{"$f":"IF(P813=1,K813*B$1/(B$1+B$2+L813),99999)","v":-7.7944471277123603E-2},{"$f":"M813*B$1/(B$1+B$2+L813)","v":3.2035780796935134},null,null,{"$f":"(2*U805+8*U815)/10","v":-12.788712201896113},358.12673495492328,51.036117061064132,9.132646168657681,-1.2505100995631893,3.7337146235677507,{"$f":"(SUM(U814:U829)-SUM(U813:U828))/16","v":-0.12248228637208491},{"$f":"(SUM(V814:V829)-SUM(V813:V828))/16","v":0.99543764993421746},{"$f":"(SUM(W814:W829)-SUM(W813:W828))/16","v":0.16334533070966017},{"$f":"SUM(X813:X828)/16","v":9.6508455495136811},{"$f":"SUM(Y813:Y828)/16","v":-0.91395000744849031},{"$f":"SUM(Z813:Z828)/16","v":1.8938343821330319},5.7226720178405728,null,null,null,null,null,null,null,null,null,null,null,80.936767834466181,508.54507394156826,90.159005166607415]
[673,{"$f":"OFFSET(Calculations!AS$43,$A814,0)-U$3-B$10","v":-6.3524756055818745},{"$f":"OFFSET(Calculations!AT$43,$A814,0)-V$3-B$11","v":546.29129482905989},{"$f":"OFFSET(Calculations!AU$43,$A814,0)-W$3-B$12","v":87.081685148475401},-6.3524756055818745,546.29129482905989,87.081685148475401,-6.3524756055818745,546.29129482905989,87.081685148475401,-6.3524756055818745,546.29129482905989,87.081685148475401,null,null,null,{"$f":"IF(P813=1,K814*B$1/(B$1+B$2+L814),99999)","v":-0.22838666233430441},3.1307944581528755,null,null,{"$f":"(1*U805+9*U815)/10","v":-12.895776373751385},359.13129450073541,51.149210262714377,9.2535747215172304,-1.2119404494296133,3.5055983930760535,-0.12377411704671459,0.99438308575776091,0.16901722749538806,9.6989308562439369,-0.86717783683089023,1.6448576827930195,5.7196777101494751,null,null,null,null,null,null,null,null,null,null,null,78.1561913691651,510.07523875843697,85.267482892935391]
[672,{"$f":"OFFSET(Calculations!AS$43,$A815,0)-U$3-B$10","v":-6.6525444657315322},{"$f":"OFFSET(Calculations!AT$43,$A815,0)-V$3-B$11","v":544.41500660527186},{"$f":"OFFSET(Calculations!AU$43,$A815,0)-W$3-B$12","v":92.607449998742013},-6.6525444657315322,544.41500660527186,92.607449998742013,-6.6525444657315322,544.41500660527186,92.607449998742013,-6.6525444657315322,544.41500660527186,92.607449998742013,null,null,null,{"$f":"IF(P813=1,K815*B$1/(B$1+B$2+L815),99999)","v":-0.23998428565148705},3.3407266720929853,null,{"$f":"T805+7","v":539},{"$f":"OFFSET(Calculations!AS$46,$T815,0)","v":-13.002840545606656},{"$f":"OFFSET(Calculations!AT$46,$T815,0)","v":360.13585404654742},{"$f":"OFFSET(Calculations!AU$46,$T815,0)","v":51.262303464364628},{"$f":"OFFSET(Calculations!AS$43,$T815,0)-OFFSET(Calculations!AS$45,$T815,0)","v":9.3745032743767833},{"$f":"OFFSET(Calculations!AT$43,$T815,0)-OFFSET(Calculations!AT$45,$T815,0)","v":-1.1733707992960376},{"$f":"OFFSET(Calculations!AU$43,$T815,0)-OFFSET(Calculations!AU$45,$T815,0)","v":3.2774821625843558},-0.12506594772134605,0.99332852158107698,0.17468912428112304,9.7387874905988934,-0.81960446235610007,1.3941557880078752,5.7166815015717596,null,null,null,null,null,null,null,null,null,null,null,72.32856251623798,509.87938024405577,85.24795355922555]
[679,{"$f":"OFFSET(Calculations!AS$43,$A816,0)-U$3-B$10","v":-2.4601584508396139},{"$f":"OFFSET(Calculations!AT$43,$A816,0)-V$3-B$11","v":553.25386204604808},{"$f":"OFFSET(Calculations!AU$43,$A816,0)-W$3-B$12","v":95.961343900504772},-2.4601584508396139,553.25386204604808,95.961343900504772,-2.4601584508396139,553.25386204604808,95.961343900504772,-2.4601584508396139,553.25386204604808,95.961343900504772,null,null,null,{"$f":"IF(P813=1,K816*B$1/(B$1+B$2+L816),99999)","v":-8.7355227069476779E-2},3.4073923098164065,null,null,{"$f":"(9*U815+U825)/10","v":-13.126305984371186},361.13256776968484,51.419499933081283,9.4315461366313773,-1.1268048210740402,3.0270304327841977,-0.12533269921414991,0.99276432132177206,0.17760456687520332,9.7704154525785487,-0.77122988402411963,1.1417286977775991,5.712513689114342,null,null,null,null,null,null,null,null,null,null,null,73.077770723121603,507.19853320635332,93.387471126205696]
[681,{"$f":"OFFSET(Calculations!AS$43,$A817,0)-U$3-B$10","v":2.0733108763439176},{"$f":"OFFSET(Calculations!AT$43,$A817,0)-V$3-B$11","v":553.69527633542498},{"$f":"OFFSET(Calculations!AU$43,$A817,0)-W$3-B$12","v":87.058939209376689},2.0733108763439176,553.69527633542498,87.058939209376689,2.0733108763439176,553.69527633542498,87.058939209376689,2.0733108763439176,553.69527633542498,87.058939209376689,null,null,null,{"$f":"IF(P813=1,K817*B$1/(B$1+B$2+L817),99999)","v":7.3561406787812103E-2},3.0888653094752052,null,null,{"$f":"(8*U815+2*U825)/10","v":-13.249771423135716},362.1292814928222,51.576696401797946,9.4885889988859695,-1.0802388428520431,2.7765787029840396,-0.12559945070695377,0.9922001210622966,0.18052000946926938,9.7978075978457166,-0.7225538723404753,0.88897238080897001,5.7083421873214455,null,null,null,null,null,null,null,null,null,null,null,82.658408898111858,508.27821268107095,91.141215488083617]
[674,{"$f":"OFFSET(Calculations!AS$43,$A818,0)-U$3-B$10","v":-1.4455408375300647},{"$f":"OFFSET(Calculations!AT$43,$A818,0)-V$3-B$11","v":545.19187028531223},{"$f":"OFFSET(Calculations!AU$43,$A818,0)-W$3-B$12","v":84.105473990864283},-1.4455408375300647,545.19187028531223,84.105473990864283,-1.4455408375300647,545.19187028531223,84.105473990864283,-1.4455408375300647,545.19187028531223,84.105473990864283,null,null,null,{"$f":"IF(P813=1,K818*B$1/(B$1+B$2+L818),99999)","v":-5.2073559246723244E-2},3.0297804594164037,null,null,{"$f":"(7*U815+3*U825)/10","v":-13.373236861900244},363.12599521595956,51.733892870514616,9.5456318611405635,-1.0336728646300457,2.5261269731838816,-0.12586620219975586,0.99163592080293483,0.18343545206334966,9.8209639264003954,-0.6735764273051672,0.6358868371019879,5.7041669863783246,null,null,null,null,null,null,null,null,null,null,null,69.015034206286956,504.89716876468617,99.883461712822367]
[673,{"$f":"OFFSET(Calculations!AS$43,$A819,0)-U$3-B$10","v":-6.3524756055818745},{"$f":"OFFSET(Calculations!AT$43,$A819,0)-V$3-B$11","v":546.29129482905989},{"$f":"OFFSET(Calculations!AU$43,$A819,0)-W$3-B$12","v":87.081685148475401},-6.3524756055818745,546.29129482905989,87.081685148475401,-6.3524756055818745,546.29129482905989,87.081685148475401,-6.3524756055818745,546.29129482905989,87.081685148475401,null,null,null,{"$f":"IF(P813=1,K819*B$1/(B$1+B$2+L819),99999)","v":-0.22838666233430441},3.1307944581528755,null,null,{"$f":"(6*U815+4*U825)/10","v":-13.496702300664774},364.12270893909698,51.891089339231272,9.6026747233951575,-0.98710688640804845,2.2756752433837235,-0.12613295369255972,0.99107172054362991,0.18635089465741572,9.8398844382425832,-0.62429754891819511,0.38247206665665279,5.6999880764266377,null,null,null,null,null,null,null,null,null,null,null,70.606921452592303,510.1462415045529,84.265743237749476]
[" ",null,null,null,null,null,null,null,null,null,null,null,null,null,null,null,null,null,null,null,{"$f":"(5*U815+5*U825)/10","v":-13.620167739429302},365.11942266223434,52.04828580794792,9.6597175856497497,-0.94054090818605118,2.0252235135835654,-0.12588995031573269,0.98990793299793722,0.19214208565320945,9.8545691333722836,-0.57471723717955925,0.12872806947296467,5.6958054475641777,null,null,null,null,null,null,null,null,null,null,null,81.77661487888362,499.45618854892109,85.870587282719328]
[{"$f":"A813+7","v":687},{"$f":"OFFSET(Calculations!AS$43,$A821,0)-U$3-B$10","v":4.1996629205535774},{"$f":"OFFSET(Calculations!AT$43,$A821,0)-V$3-B$11","v":563.30377930629447},{"$f":"OFFSET(Calculations!AU$43,$A821,0)-W$3-B$12","v":94.350386593657305},{"$f":"B821*F$5+C821*F$4","v":4.1996629205535774},{"$f":"C821*F$5-B821*F$4","v":563.30377930629447},{"$f":"D821","v":94.350386593657305},4.1996629205535774,{"$f":"F821*F$7+G821*F$6","v":563.30377930629447},{"$f":"G821*F$7-F821*F$6","v":94.350386593657305},{"$f":"H821*F$9+J821*F$8","v":4.1996629205535774},{"$f":"I821","v":563.30377930629447},{"$f":"J821*F$9-H821*F$8","v":94.350386593657305},null,null,{"$f":"IF(MIN(L821:L827)+B$2+B$1>0,1,0)","v":1},{"$f":"IF(P821=1,K821*B$1/(B$1+B$2+L821),99999)","v":0.1465074214454064},{"$f":"M821*B$1/(B$1+B$2+L821)","v":3.2914622229709551},null,null,{"$f":"(4*U815+6*U825)/10","v":-13.743633178193832},366.11613638537176,52.20548227666459,9.7167604479043437,-0.89397492996405392,1.7747717837834074,-0.12564694693890388,0.98874414545224454,0.19793327664900318,9.8608278979362627,-0.52475293807624157,-0.12458520296085823,5.691619089844596,null,null,null,null,null,null,null,null,null,null,null,77.768365037803832,500.05359279251149,81.677611987577635]
[680,{"$f":"OFFSET(Calculations!AS$43,$A822,0)-U$3-B$10","v":-2.2040735430979779},{"$f":"OFFSET(Calculations!AT$43,$A822,0)-V$3-B$11","v":555.54968094186427},{"$f":"OFFSET(Calculations!AU$43,$A822,0)-W$3-B$12","v":90.589128042150833},-2.2040735430979779,555.54968094186427,90.589128042150833,-2.2040735430979779,555.54968094186427,90.589128042150833,-2.2040735430979779,555.54968094186427,90.589128042150833,null,null,null,{"$f":"IF(P821=1,K822*B$1/(B$1+B$2+L822),99999)","v":-7.7944471277123603E-2},3.2035780796935134,null,null,{"$f":"(3*U815+7*U825)/10","v":-13.867098616958362},367.11285010850918,52.362678745381253,9.7738033101589359,-0.84740895174205666,1.5243200539832493,-0.1254039435620804,0.98758035790649501,0.20372446764477559,9.8586607319345241,-0.47440465160824202,-0.37746775064481597,5.6874289932771322,null,null,null,null,null,null,null,null,null,null,null,72.147335061769994,500.00048328264205,83.228483301689579]
[679,{"$f":"OFFSET(Calculations!AS$43,$A823,0)-U$3-B$10","v":-2.4601584508396139},{"$f":"OFFSET(Calculations!AT$43,$A823,0)-V$3-B$11","v":553.25386204604808},{"$f":"OFFSET(Calculations!AU$43,$A823,0)-W$3-B$12","v":95.961343900504772},-2.4601584508396139,553.25386204604808,95.961343900504772,-2.4601584508396139,553.25386204604808,95.961343900504772,-2.4601584508396139,553.25386204604808,95.961343900504772,null,null,null,{"$f":"IF(P821=1,K823*B$1/(B$1+B$2+L823),99999)","v":-8.7355227069476779E-2},3.4073923098164065,null,null,{"$f":"(2*U815+8*U825)/10","v":-13.99056405572289},368.10956383164654,52.519875214097908,9.8308461724135316,-0.80084297352005929,1.2738683241830913,-0.12516094018525514,0.98641657036091601,0.20951565864056221,9.8480676353670642,-0.42367237777556072,-0.62991957357890849,5.6832351478263297,null,null,null,null,null,null,null,null,null,null,null,75.080816181500083,498.96957181765589,91.249200855097484]
[686,{"$f":"OFFSET(Calculations!AS$43,$A824,0)-U$3-B$10","v":3.8784486387904078},{"$f":"OFFSET(Calculations!AT$43,$A824,0)-V$3-B$11","v":560.60326702972463},{"$f":"OFFSET(Calculations!AU$43,$A824,0)-W$3-B$12","v":99.533230916394729},3.8784486387904078,560.60326702972463,99.533230916394729,3.8784486387904078,560.60326702972463,99.533230916394729,3.8784486387904078,560.60326702972463,99.533230916394729,null,null,null,{"$f":"IF(P821=1,K824*B$1/(B$1+B$2+L824),99999)","v":0.13594204109554692},3.4887017536550382,null,null,{"$f":"(1*U815+9*U825)/10","v":-14.11402949448742},369.10627755478396,52.677071682814571,9.8878890346681239,-0.75427699529806203,1.0234165943829332,-0.12491793680842633,0.98525278281522333,0.21530684963634883,9.8290486082338866,-0.37255611657819754,-0.88194067176313573,5.6790375434117584,null,null,null,null,null,null,null,null,null,null,null,83.702470842306326,499.34732960217679,86.399008078925164]
[688,{"$f":"OFFSET(Calculations!AS$43,$A825,0)-U$3-B$10","v":7.6495879783618985},{"$f":"OFFSET(Calculations!AT$43,$A825,0)-V$3-B$11","v":560.90401885373763},{"$f":"OFFSET(Calculations!AU$43,$A825,0)-W$3-B$12","v":90.276446570743758},7.6495879783618985,560.90401885373763,90.276446570743758,7.6495879783618985,560.90401885373763,90.276446570743758,7.6495879783618985,560.90401885373763,90.276446570743758,null,null,null,{"$f":"IF(P821=1,K825*B$1/(B$1+B$2+L825),99999)","v":0.26798157748900625},3.1625787729433403,null,{"$f":"T815+7","v":546},{"$f":"OFFSET(Calculations!AS$46,$T825,0)","v":-14.23749493325195},{"$f":"OFFSET(Calculations!AT$46,$T825,0)","v":370.10299127792132},{"$f":"OFFSET(Calculations!AU$46,$T825,0)","v":52.834268151531234},{"$f":"OFFSET(Calculations!AS$43,$T825,0)-OFFSET(Calculations!AS$45,$T825,0)","v":9.9449318969227178},{"$f":"OFFSET(Calculations!AT$43,$T825,0)-OFFSET(Calculations!AT$45,$T825,0)","v":-0.70771101707606476},{"$f":"OFFSET(Calculations!AU$43,$T825,0)-OFFSET(Calculations!AU$45,$T825,0)","v":0.77296486458277514},-0.12467493343160108,0.98408899526936011,0.22109804063213545,9.8016036505349859,-0.3210558680161526,-1.1335310451974978,5.6748361699077305,null,null,null,null,null,null,null,null,null,null,null,72.930920422841041,498.10241284836957,98.905961498403855]
[681,{"$f":"OFFSET(Calculations!AS$43,$A826,0)-U$3-B$10","v":2.0733108763439176},{"$f":"OFFSET(Calculations!AT$43,$A826,0)-V$3-B$11","v":553.69527633542498},{"$f":"OFFSET(Calculations!AU$43,$A826,0)-W$3-B$12","v":87.058939209376689},2.0733108763439176,553.69527633542498,87.058939209376689,2.0733108763439176,553.69527633542498,87.058939209376689,2.0733108763439176,553.69527633542498,87.058939209376689,null,null,null,{"$f":"IF(P821=1,K826*B$1/(B$1+B$2+L826),99999)","v":7.3561406787812103E-2},3.0888653094752052,null,null,{"$f":"(9*U825+U835)/10","v":-14.365228395901326},371.09067779690861,53.03811170175311,9.9342016917774814,-0.65632210522744572,0.51724550696896898,-0.12416517856197018,0.98348940798331341,0.2239737890338489,9.7657327622703693,-0.26917163208942585,-1.3846906938819947,5.6693824353892994,null,null,null,null,null,null,null,null,null,null,null,70.221479098347345,500.10934222938681,82.700062505483402]
[680,{"$f":"OFFSET(Calculations!AS$43,$A827,0)-U$3-B$10","v":-2.2040735430979779},{"$f":"OFFSET(Calculations!AT$43,$A827,0)-V$3-B$11","v":555.54968094186427},{"$f":"OFFSET(Calculations!AU$43,$A827,0)-W$3-B$12","v":90.589128042150833},-2.2040735430979779,555.54968094186427,90.589128042150833,-2.2040735430979779,555.54968094186427,90.589128042150833,-2.2040735430979779,555.54968094186427,90.589128042150833,null,null,null,{"$f":"IF(P821=1,K827*B$1/(B$1+B$2+L827),99999)","v":-7.7944471277123603E-2},3.2035780796935134,null,null,{"$f":"(8*U825+2*U835)/10","v":-14.492961858550704},372.07836431589595,53.241955251975,9.9234714866322431,-0.60493319337882667,0.26152614935516283,-0.12365542369234461,0.98288982069681197,0.22684953743555525,9.7256717601525224,-0.21720484214968108,-1.6350903910782735,5.6639223235777241,null,null,null,null,null,null,null,null,null,null,null,81.702246814328603,489.62826857943651,83.829491789173346]
[" ",null,null,null,null,null,null,null,null,null,null,null,null,null,null,null,null,null,null,null,{"$f":"(7*U825+3*U835)/10","v":-14.620695321200079},373.0660508348833,53.445798802196883,9.9127412814870066,-0.55354428153020763,5.8067917413566761E-3,-0.12314566882271372,0.98229023341059474,0.22972528583726159,9.6814206441814434,-0.16515549819691841,-1.8847301367863338,5.6584558120487909,null,null,null,null,null,null,null,null,null,null,null,76.9918163435119,489.36777926897099,80.400206556089955]
[{"$f":"A821+7","v":694},{"$f":"OFFSET(Calculations!AS$43,$A829,0)-U$3-B$10","v":12.4751073860532},{"$f":"OFFSET(Calculations!AT$43,$A829,0)-V$3-B$11","v":569.0815024735648},{"$f":"OFFSET(Calculations!AU$43,$A829,0)-W$3-B$12","v":98.021173833935521},{"$f":"B829*F$5+C829*F$4","v":12.4751073860532},{"$f":"C829*F$5-B829*F$4","v":569.0815024735648},{"$f":"D829","v":98.021173833935521},12.4751073860532,{"$f":"F829*F$7+G829*F$6","v":569.0815024735648},{"$f":"G829*F$7-F829*F$6","v":98.021173833935521},{"$f":"H829*F$9+J829*F$8","v":12.4751073860532},{"$f":"I829","v":569.0815024735648},{"$f":"J829*F$9-H829*F$8","v":98.021173833935521},null,null,{"$f":"IF(MIN(L829:L835)+B$2+B$1>0,1,0)","v":1},{"$f":"IF(P829=1,K829*B$1/(B$1+B$2+L829),99999)","v":0.4308584312489826},{"$f":"M829*B$1/(B$1+B$2+L829)","v":3.3854016546974823},null,null,{"$f":"(6*U825+4*U835)/10","v":-14.748428783849457},374.05373735387059,53.649642352418766,9.9020110763417701,-0.50215536968158858,-0.24991256587244948,-0.12263591395308637,0.98169064612426382,0.23260103423897505,9.6329794143571359,-0.11302360023113778,-2.133609931006176,5.6529828782465659,null,null,null,null,null,null,null,null,null,null,null,71.752600543679975,489.97606853467391,82.889505470068457]
[687,{"$f":"OFFSET(Calculations!AS$43,$A830,0)-U$3-B$10","v":4.1996629205535774},{"$f":"OFFSET(Calculations!AT$43,$A830,0)-V$3-B$11","v":563.30377930629447},{"$f":"OFFSET(Calculations!AU$43,$A830,0)-W$3-B$12","v":94.350386593657305},4.1996629205535774,563.30377930629447,94.350386593657305,4.1996629205535774,563.30377930629447,94.350386593657305,4.1996629205535774,563.30377930629447,94.350386593657305,null,null,null,{"$f":"IF(P829=1,K830*B$1/(B$1+B$2+L830),99999)","v":0.1465074214454064},3.2914622229709551,null,null,{"$f":"(5*U825+5*U835)/10","v":-14.876162246498831},375.04142387285793,53.853485902640649,9.8912808711965319,-0.45076645783296954,-0.50563192348625563,-0.12087463680334842,0.98049694540742394,0.23811685934884252,9.580348070679598,-6.0809148252339185E-2,-2.3817297737378,5.6475034994822995,null,null,null,null,null,null,null,null,null,null,null,76.111055344783921,490.81484340716219,90.258381127861497]
[686,{"$f":"OFFSET(Calculations!AS$43,$A831,0)-U$3-B$10","v":3.8784486387904078},{"$f":"OFFSET(Calculations!AT$43,$A831,0)-V$3-B$11","v":560.60326702972463},{"$f":"OFFSET(Calculations!AU$43,$A831,0)-W$3-B$12","v":99.533230916394729},3.8784486387904078,560.60326702972463,99.533230916394729,3.8784486387904078,560.60326702972463,99.533230916394729,3.8784486387904078,560.60326702972463,99.533230916394729,null,null,null,{"$f":"IF(P829=1,K831*B$1/(B$1+B$2+L831),99999)","v":0.13594204109554692},3.4887017536550382,null,null,{"$f":"(4*U825+6*U835)/10","v":-15.00389570914821},376.02911039184522,54.057329452862533,9.8805506660512954,-0.39937754598435049,-0.76135128110006178,-0.11911335965361225,0.97930324469069774,0.24363268445872421,9.5196677514894681,-8.6540935057033801E-3,-2.6272923247044542,5.6420176529333395,null,null,null,null,null,null,null,null,null,null,null,83.692176068458352,489.55870858838887,84.017489052994662]
[693,{"$f":"OFFSET(Calculations!AS$43,$A832,0)-U$3-B$10","v":11.982397995670979},{"$f":"OFFSET(Calculations!AT$43,$A832,0)-V$3-B$11","v":566.01804114131232},{"$f":"OFFSET(Calculations!AU$43,$A832,0)-W$3-B$12","v":102.9910187130466},11.982397995670979,566.01804114131232,102.9910187130466,11.982397995670979,566.01804114131232,102.9910187130466,11.982397995670979,566.01804114131232,102.9910187130466,null,null,null,{"$f":"IF(P829=1,K832*B$1/(B$1+B$2+L832),99999)","v":0.41604245491787933},3.5759650343236458,null,null,{"$f":"(3*U825+7*U835)/10","v":-15.131629171797584},377.01679691083257,54.261173003084409,9.8698204609060589,-0.34798863413573144,-1.0170706387138679,-0.11735208250387785,0.97810954397380101,0.2491485095685988,9.4509384567867425,4.3441564008769626E-2,-2.8702975839061384,5.6365253156420145,null,null,null,null,null,null,null,null,null,null,null,75.406634391389161,491.97218609299892,98.142818268707828]
[695,{"$f":"OFFSET(Calculations!AS$43,$A833,0)-U$3-B$10","v":14.952722243314778},{"$f":"OFFSET(Calculations!AT$43,$A833,0)-V$3-B$11","v":566.38220055809563},{"$f":"OFFSET(Calculations!AU$43,$A833,0)-W$3-B$12","v":93.449291312673495},14.952722243314778,566.38220055809563,93.449291312673495,14.952722243314778,566.38220055809563,93.449291312673495,14.952722243314778,566.38220055809563,93.449291312673495,null,null,null,{"$f":"IF(P829=1,K833*B$1/(B$1+B$2+L833),99999)","v":0.51884746714372698},3.2426154458686969,null,null,{"$f":"(2*U825+8*U835)/10","v":-15.259362634446962},378.00448342981986,54.465016553306306,9.8590902557608224,-0.2965997222871124,-1.2727899963276741,-0.11559080535414168,0.97691584325690428,0.25466433467847338,9.374160186571423,9.5477824291079816E-2,-3.1107455513428528,{"$f":"AG$245+SIGN(W$245-W833)*SQRT(2*ABS(W$245-W833)/Z$5)","v":5.6310264645145152},null,null,null,null,null,null,null,null,null,null,null,69.762671289550269,490.04562852572121,82.701508206247269]
[688,{"$f":"OFFSET(Calculations!AS$43,$A834,0)-U$3-B$10","v":7.6495879783618985},{"$f":"OFFSET(Calculations!AT$43,$A834,0)-V$3-B$11","v":560.90401885373763},{"$f":"OFFSET(Calculations!AU$43,$A834,0)-W$3-B$12","v":90.276446570743758},7.6495879783618985,560.90401885373763,90.276446570743758,7.6495879783618985,560.90401885373763,90.276446570743758,7.6495879783618985,560.90401885373763,90.276446570743758,null,null,null,{"$f":"IF(P829=1,K834*B$1/(B$1+B$2+L834),99999)","v":0.26798157748900625},3.1625787729433403,null,null,{"$f":"(1*U825+9*U835)/10","v":-15.387096097096338},378.99216994880715,54.668860103528189,9.8483600506155859,-0.24521081043849335,-1.5285093539414802,-0.11382952820440551,0.97572214254017808,0.26018015978834796,9.2893329408435097,0.14745468734122724,-3.3486362270145973,5.6255210763197629,null,null,null,null,null,null,null,null,null,null,null,81.24225259053128,479.66492335723535,84.720593651422035]
[687,{"$f":"OFFSET(Calculations!AS$43,$A835,0)-U$3-B$10","v":4.1996629205535774},{"$f":"OFFSET(Calculations!AT$43,$A835,0)-V$3-B$11","v":563.30377930629447},{"$f":"OFFSET(Calculations!AU$43,$A835,0)-W$3-B$12","v":94.350386593657305},4.1996629205535774,563.30377930629447,94.350386593657305,4.1996629205535774,563.30377930629447,94.350386593657305,4.1996629205535774,563.30377930629447,94.350386593657305,null,null,null,{"$f":"IF(P829=1,K835*B$1/(B$1+B$2+L835),99999)","v":0.1465074214454064},3.2914622229709551,null,{"$f":"T825+7","v":553},{"$f":"OFFSET(Calculations!AS$46,$T835,0)","v":-15.514829559745715},{"$f":"OFFSET(Calculations!AT$46,$T835,0)","v":379.97985646779449},{"$f":"OFFSET(Calculations!AU$46,$T835,0)","v":54.872703653750065},{"$f":"OFFSET(Calculations!AS$43,$T835,0)-OFFSET(Calculations!AS$45,$T835,0)","v":9.8376298454703477},{"$f":"OFFSET(Calculations!AT$43,$T835,0)-OFFSET(Calculations!AT$45,$T835,0)","v":-0.19382189858987431},{"$f":"OFFSET(Calculations!AU$43,$T835,0)-OFFSET(Calculations!AU$45,$T835,0)","v":-1.7842287115552864},-0.11206825105466933,0.9745284418233382,0.26569598489822255,9.1964567196030043,0.19937215315921186,-3.5839696109213719,5.6200091276882631,null,null,null,null,null,null,null,null,null,null,null,76.163702772436849,478.73693374472458,82.003388649180749]
[" ",null,null,null,null,null,null,null,null,null,null,null,null,null,null,null,null,null,null,null,{"$f":"(9*U835+U845)/10","v":-15.634406944481023},380.95794959020094,55.122559178399285,9.7598578186734279,-0.14111212253296798,-2.027788845357601,-0.11081672877456228,0.97393432839277239,0.268336061606405,9.0955315228499032,0.25123022174503368,-3.8167457030631762,5.6132440276621569,null,null,null,null,null,null,null,null,null,null,null,71.255071473512018,480.16203709345797,84.815941798304351]
[{"$f":"A829+7","v":701},{"$f":"OFFSET(Calculations!AS$43,$A837,0)-U$3-B$10","v":22.115142565229778},{"$f":"OFFSET(Calculations!AT$43,$A837,0)-V$3-B$11","v":572.54070498330896},{"$f":"OFFSET(Calculations!AU$43,$A837,0)-W$3-B$12","v":101.26295494002528},{"$f":"B837*F$5+C837*F$4","v":22.115142565229778},{"$f":"C837*F$5-B837*F$4","v":572.54070498330896},{"$f":"D837","v":101.26295494002528},22.115142565229778,{"$f":"F837*F$7+G837*F$6","v":572.54070498330896},{"$f":"G837*F$7-F837*F$6","v":101.26295494002528},{"$f":"H837*F$9+J837*F$8","v":22.115142565229778},{"$f":"I837","v":572.54070498330896},{"$f":"J837*F$9-H837*F$8","v":101.26295494002528},null,null,{"$f":"IF(MIN(L837:L843)+B$2+B$1>0,1,0)","v":1},{"$f":"IF(P837=1,K837*B$1/(B$1+B$2+L837),99999)","v":0.75926514236849507},{"$f":"M837*B$1/(B$1+B$2+L837)","v":3.4765967107114579},null,null,{"$f":"(8*U835+2*U845)/10","v":-15.753984329216333},381.93604271260745,55.372414703048513,9.68208579187651,-8.8402346476061669E-2,-2.271348979159916,-0.10956520649445523,0.97334021496226342,0.27097613831455192,8.9907474644374403,0.3029463390856747,-4.047724454928229,5.6064689923626156,null,null,null,null,null,null,null,null,null,null,null,76.446504619211794,482.65327575573718,91.206775219798971]
[694,{"$f":"OFFSET(Calculations!AS$43,$A838,0)-U$3-B$10","v":12.4751073860532},{"$f":"OFFSET(Calculations!AT$43,$A838,0)-V$3-B$11","v":569.0815024735648},{"$f":"OFFSET(Calculations!AU$43,$A838,0)-W$3-B$12","v":98.021173833935521},12.4751073860532,569.0815024735648,98.021173833935521,12.4751073860532,569.0815024735648,98.021173833935521,12.4751073860532,569.0815024735648,98.021173833935521,null,null,null,{"$f":"IF(P837=1,K838*B$1/(B$1+B$2+L838),99999)","v":0.4308584312489826},3.3854016546974823,null,null,{"$f":"(7*U835+3*U845)/10","v":-15.873561713951641},382.91413583501389,55.622270227697733,9.604313765079592,-3.5692570419155342E-2,-2.5149091129622305,-0.10831368421435172,0.97274610153175445,0.27361621502273437,8.8821045443656121,0.35452050518113509,-4.2769058665165289,5.5996839778876062,null,null,null,null,null,null,null,null,null,null,null,83.239688813935061,479.56550060999069,84.701524022045646]
[693,{"$f":"OFFSET(Calculations!AS$43,$A839,0)-U$3-B$10","v":11.982397995670979},{"$f":"OFFSET(Calculations!AT$43,$A839,0)-V$3-B$11","v":566.01804114131232},{"$f":"OFFSET(Calculations!AU$43,$A839,0)-W$3-B$12","v":102.9910187130466},11.982397995670979,566.01804114131232,102.9910187130466,11.982397995670979,566.01804114131232,102.9910187130466,11.982397995670979,566.01804114131232,102.9910187130466,null,null,null,{"$f":"IF(P837=1,K839*B$1/(B$1+B$2+L839),99999)","v":0.41604245491787933},3.5759650343236458,null,null,{"$f":"(6*U835+4*U845)/10","v":-15.993139098686953},383.89222895742034,55.87212575234696,9.5265417382826723,1.7017205637750978E-2,-2.7584692467645455,-0.10706216193424112,0.97215198810113179,0.2762562917308955,8.7696027626344222,0.40595272003141464,-4.5042899378280783,5.5928889400108126,null,null,null,null,null,null,null,null,null,null,null,76.672610433143376,485.78447064761235,98.565069499725951]
[700,{"$f":"OFFSET(Calculations!AS$43,$A840,0)-U$3-B$10","v":21.354305625808539},{"$f":"OFFSET(Calculations!AT$43,$A840,0)-V$3-B$11","v":569.18068149031944},{"$f":"OFFSET(Calculations!AU$43,$A840,0)-W$3-B$12","v":106.01014502707869},21.354305625808539,569.18068149031944,106.01014502707869,21.354305625808539,569.18068149031944,106.01014502707869,21.354305625808539,569.18068149031944,106.01014502707869,null,null,null,{"$f":"IF(P837=1,K840*B$1/(B$1+B$2+L840),99999)","v":0.73739702680899788},3.6606934041480308,null,null,{"$f":"(5*U835+5*U845)/10","v":-16.112716483422258},384.87032207982679,56.121981276996188,9.4487697114857525,6.9726981694657297E-2,-3.0020293805668601,-0.10390263913870612,0.97100972294430221,0.28112085658896291,8.6532421192438687,0.4572429836365135,-4.7298766688628771,5.5860838341782779,null,null,null,null,null,null,null,null,null,null,null,69.257635250108024,480.26145984070257,84.835011427680968]
[702,{"$f":"OFFSET(Calculations!AS$43,$A841,0)-U$3-B$10","v":23.538180114981074},{"$f":"OFFSET(Calculations!AT$43,$A841,0)-V$3-B$11","v":569.80813392278856},{"$f":"OFFSET(Calculations!AU$43,$A841,0)-W$3-B$12","v":96.271716218459986},23.538180114981074,569.80813392278856,96.271716218459986,23.538180114981074,569.80813392278856,96.271716218459986,23.538180114981074,569.80813392278856,96.271716218459986,null,null,null,{"$f":"IF(P837=1,K841*B$1/(B$1+B$2+L841),99999)","v":0.81192997261799671},3.3208128891575783,null,null,{"$f":"(4*U835+6*U845)/10","v":-16.232293868157569},385.84841520223324,56.371836801645394,9.3709976846888345,0.12243675775156362,-3.2455895143691746,-0.10074311634316757,0.96986745778764316,0.28598542144703742,8.5297579797734677,0.5080345132358165,-4.95095381632526,5.5792686155049953,null,null,null,null,null,null,null,null,null,null,null,80.822333149124745,470.47615130019619,88.643620001895414]
[695,{"$f":"OFFSET(Calculations!AS$43,$A842,0)-U$3-B$10","v":14.952722243314778},{"$f":"OFFSET(Calculations!AT$43,$A842,0)-V$3-B$11","v":566.38220055809563},{"$f":"OFFSET(Calculations!AU$43,$A842,0)-W$3-B$12","v":93.449291312673495},14.952722243314778,566.38220055809563,93.449291312673495,14.952722243314778,566.38220055809563,93.449291312673495,14.952722243314778,566.38220055809563,93.449291312673495,null,null,null,{"$f":"IF(P837=1,K842*B$1/(B$1+B$2+L842),99999)","v":0.51884746714372698},3.2426154458686969,null,null,{"$f":"(3*U835+7*U845)/10","v":-16.351871252892881},386.82650832463969,56.621692326294621,9.2932256578919148,0.17514653380846995,-3.4891496481714896,-9.7583593547629022E-2,0.96872519263075674,0.29084998630508352,8.3991503442232212,0.55832730882932358,-5.1675213802152316,5.5724432387714478,null,null,null,null,null,null,null,null,null,null,null,75.713829973411251,468.8704817033402,86.322169113499314]
[694,{"$f":"OFFSET(Calculations!AS$43,$A843,0)-U$3-B$10","v":12.4751073860532},{"$f":"OFFSET(Calculations!AT$43,$A843,0)-V$3-B$11","v":569.0815024735648},{"$f":"OFFSET(Calculations!AU$43,$A843,0)-W$3-B$12","v":98.021173833935521},12.4751073860532,569.0815024735648,98.021173833935521,12.4751073860532,569.0815024735648,98.021173833935521,12.4751073860532,569.0815024735648,98.021173833935521,null,null,null,{"$f":"IF(P837=1,K843*B$1/(B$1+B$2+L843),99999)","v":0.4308584312489826},3.3854016546974823,null,null,{"$f":"(2*U835+8*U845)/10","v":-16.471448637628189},387.80460144704614,56.871547850943855,9.2154536310949968,0.22785630986537625,-3.7327097819738042,-9.4424070752083367E-2,0.96758292747387031,0.29571455116317225,8.2614192125931289,0.60812137041703485,-5.3795793605327873,5.5656076584201166,null,null,null,null,null,null,null,null,null,null,null,70.835152032105455,470.97326503641887,88.738968148777772]
[" ",null,null,null,null,null,null,null,null,null,null,null,null,null,null,null,null,null,null,null,{"$f":"(1*U835+9*U845)/10","v":-16.591026022363497},388.78269456945264,57.121403375593069,9.1376816042980771,0.2805660859222826,-3.9762699157761192,-9.1264547956551922E-2,0.96644066231721126,0.30057911602123255,8.1165645848831893,0.65741669799895019,-5.5871277572779299,5.558761828551928,null,null,null,null,null,null,null,null,null,null,null,76.095922059313281,475.03590787649085,94.199666993691835]
[{"$f":"A837+7","v":708},{"$f":"OFFSET(Calculations!AS$43,$A845,0)-U$3-B$10","v":32.519194835768943},{"$f":"OFFSET(Calculations!AT$43,$A845,0)-V$3-B$11","v":573.46552502263205},{"$f":"OFFSET(Calculations!AU$43,$A845,0)-W$3-B$12","v":103.76187918167665},{"$f":"B845*F$5+C845*F$4","v":32.519194835768943},{"$f":"C845*F$5-B845*F$4","v":573.46552502263205},{"$f":"D845","v":103.76187918167665},32.519194835768943,{"$f":"F845*F$7+G845*F$6","v":573.46552502263205},{"$f":"G845*F$7-F845*F$6","v":103.76187918167665},{"$f":"H845*F$9+J845*F$8","v":32.519194835768943},{"$f":"I845","v":573.46552502263205},{"$f":"J845*F$9-H845*F$8","v":103.76187918167665},null,null,{"$f":"IF(MIN(L845:L851)+B$2+B$1>0,1,0)","v":1},{"$f":"IF(P845=1,K845*B$1/(B$1+B$2+L845),99999)","v":1.1146912179432555},{"$f":"M845*B$1/(B$1+B$2+L845)","v":3.5567441342023365},null,{"$f":"T835+7","v":560},{"$f":"OFFSET(Calculations!AS$46,$T845,0)","v":-16.710603407098805},{"$f":"OFFSET(Calculations!AT$46,$T845,0)","v":389.76078769185909},{"$f":"OFFSET(Calculations!AU$46,$T845,0)","v":57.371258900242296},{"$f":"OFFSET(Calculations!AS$43,$T845,0)-OFFSET(Calculations!AS$45,$T845,0)","v":9.0599095775011591},{"$f":"OFFSET(Calculations!AT$43,$T845,0)-OFFSET(Calculations!AT$45,$T845,0)","v":0.3332758619791889},{"$f":"OFFSET(Calculations!AU$43,$T845,0)-OFFSET(Calculations!AU$45,$T845,0)","v":-4.2198300495784338},-8.8105025161013373E-2,0.96529839716032484,0.30544368087928575,7.964586461093405,0.70621329157506985,-5.7901665704506593,5.5519057029226575,null,null,null,null,null,null,null,null,null,null,null,82.819769372528555,470.37672855295176,88.624550372519337]
[701,{"$f":"OFFSET(Calculations!AS$43,$A846,0)-U$3-B$10","v":22.115142565229778},{"$f":"OFFSET(Calculations!AT$43,$A846,0)-V$3-B$11","v":572.54070498330896},{"$f":"OFFSET(Calculations!AU$43,$A846,0)-W$3-B$12","v":101.26295494002528},22.115142565229778,572.54070498330896,101.26295494002528,22.115142565229778,572.54070498330896,101.26295494002528,22.115142565229778,572.54070498330896,101.26295494002528,null,null,null,{"$f":"IF(P845=1,K846*B$1/(B$1+B$2+L846),99999)","v":0.75926514236849507},3.4765967107114579,null,null,{"$f":"(9*U845+U855)/10","v":-16.810156435352408},390.72937499937717,57.663355652222208,8.9203957641544243,0.38371441811320323,-4.4346327389527209,-8.6197024645581877E-2,0.96475024543406107,0.30766816902918492,7.8054848412237741,0.75451115114539358,-5.9886958000509747,5.5438773465295945,null,null,null,null,null,null,null,null,null,null,null,76.401270023539752,479.96299325727148,100.49495032895496]
[700,{"$f":"OFFSET(Calculations!AS$43,$A847,0)-U$3-B$10","v":21.354305625808539},{"$f":"OFFSET(Calculations!AT$43,$A847,0)-V$3-B$11","v":569.18068149031944},{"$f":"OFFSET(Calculations!AU$43,$A847,0)-W$3-B$12","v":106.01014502707869},21.354305625808539,569.18068149031944,106.01014502707869,21.354305625808539,569.18068149031944,106.01014502707869,21.354305625808539,569.18068149031944,106.01014502707869,null,null,null,{"$f":"IF(P845=1,K847*B$1/(B$1+B$2+L847),99999)","v":0.73739702680899788},3.6606934041480308,null,null,{"$f":"(8*U845+2*U855)/10","v":-16.909709463606013},391.69796230689519,57.955452404202106,8.7808819508076876,0.43415297424721755,-4.6494354283270081,-8.4289024130143275E-2,0.9642020937077973,0.30989265717909831,7.6431185869336602,0.80245222795510218,-6.1845127863556284,5.5358347800939418,null,null,null,null,null,null,null,null,null,null,null,68.837715808701731,471.07268778366358,88.758037778154204]
[707,{"$f":"OFFSET(Calculations!AS$43,$A848,0)-U$3-B$10","v":31.413107606479748},{"$f":"OFFSET(Calculations!AT$43,$A848,0)-V$3-B$11","v":569.92231657004436},{"$f":"OFFSET(Calculations!AU$43,$A848,0)-W$3-B$12","v":108.29499741339286},31.413107606479748,569.92231657004436,108.29499741339286,31.413107606479748,569.92231657004436,108.29499741339286,31.413107606479748,569.92231657004436,108.29499741339286,null,null,null,{"$f":"IF(P845=1,K848*B$1/(B$1+B$2+L848),99999)","v":1.083355708477399},3.7348104847526677,null,null,{"$f":"(7*U845+3*U855)/10","v":-17.009262491859619},392.66654961441316,58.247549156182004,8.6413681374609546,0.48459153038123193,-4.8642381177012961,-8.2381023614718885E-2,0.96365394198153353,0.31211714532898327,7.4774876982230651,0.85003652200419566,-6.3776175293646213,5.5277779278929842,null,null,null,null,null,null,null,null,null,null,null,80.489872729276826,462.61349514835035,94.81355584492286]
[709,{"$f":"OFFSET(Calculations!AS$43,$A849,0)-U$3-B$10","v":32.876800056643802},{"$f":"OFFSET(Calculations!AT$43,$A849,0)-V$3-B$11","v":570.99557120622512},{"$f":"OFFSET(Calculations!AU$43,$A849,0)-W$3-B$12","v":98.461090311063316},32.876800056643802,570.99557120622512,98.461090311063316,32.876800056643802,570.99557120622512,98.461090311063316,32.876800056643802,570.99557120622512,98.461090311063316,null,null,null,{"$f":"IF(P845=1,K849*B$1/(B$1+B$2+L849),99999)","v":1.1317401262934632},3.3893921121169592,null,null,{"$f":"(6*U845+4*U855)/10","v":-17.108815520113222},393.63513692193123,58.539645908161916,8.5018543241142179,0.53503008651524619,-5.0790408070755833,-8.0473023099283836E-2,0.96310579025532661,0.31434163347886823,7.3085921750919853,0.89726403329267412,-6.5680100290779517,5.5197067135290876,null,null,null,null,null,null,null,null,null,null,null,75.366868966275177,460.65595723091531,92.807775317583491]
[702,{"$f":"OFFSET(Calculations!AS$43,$A850,0)-U$3-B$10","v":23.538180114981074},{"$f":"OFFSET(Calculations!AT$43,$A850,0)-V$3-B$11","v":569.80813392278856},{"$f":"OFFSET(Calculations!AU$43,$A850,0)-W$3-B$12","v":96.271716218459986},23.538180114981074,569.80813392278856,96.271716218459986,23.538180114981074,569.80813392278856,96.271716218459986,23.538180114981074,569.80813392278856,96.271716218459986,null,null,null,{"$f":"IF(P845=1,K850*B$1/(B$1+B$2+L850),99999)","v":0.81192997261799671},3.3208128891575783,null,null,{"$f":"(5*U845+5*U855)/10","v":-17.208368548366828},394.60372422944931,58.831742660141821,8.3623405107674831,0.58546864264926057,-5.2938434964498704,-7.6130570915101003E-2,0.96209280414115028,0.31822342602912812,7.1364320175404252,0.94413476182053735,-6.7556902854956196,5.5116210599212483,null,null,null,null,null,null,null,null,null,null,null,70.502691612257479,463.11060888457291,94.908903991805062]
[701,{"$f":"OFFSET(Calculations!AS$43,$A851,0)-U$3-B$10","v":22.115142565229778},{"$f":"OFFSET(Calculations!AT$43,$A851,0)-V$3-B$11","v":572.54070498330896},{"$f":"OFFSET(Calculations!AU$43,$A851,0)-W$3-B$12","v":101.26295494002528},22.115142565229778,572.54070498330896,101.26295494002528,22.115142565229778,572.54070498330896,101.26295494002528,22.115142565229778,572.54070498330896,101.26295494002528,null,null,null,{"$f":"IF(P845=1,K851*B$1/(B$1+B$2+L851),99999)","v":0.75926514236849507},3.4765967107114579,null,null,{"$f":"(4*U845+6*U855)/10","v":-17.30792157662043},395.57231153696728,59.123839412121718,8.2228266974207482,0.63590719878327495,-5.5086461858241575,-7.1788118730914618E-2,0.96107981802714448,0.3221052185793809,6.9585592978274713,0.99010140746726338,-6.9372159872014532,5.5035208892965013,null,null,null,null,null,null,null,null,null,null,null,75.796578004394831,467.98116698844751,99.626152196417863]
[" ",null,null,null,null,null,null,null,null,null,null,null,null,null,null,null,null,null,null,null,{"$f":"(3*U845+7*U855)/10","v":-17.407474604874032},396.54089884448541,59.41593616410163,8.0833128840740134,0.68634575491728922,-5.7234488751984447,-6.7445666546731786E-2,0.96006683191313869,0.32598701112962658,6.7749740159531271,1.0351639702328523,-7.1125871341954534,5.495406123181195,null,null,null,null,null,null,null,null,null,null,null,82.487308952680578,462.51407240110586,94.794486215546442]
[{"$f":"A845+7","v":715},{"$f":"OFFSET(Calculations!AS$43,$A853,0)-U$3-B$10","v":43.030088631998005},{"$f":"OFFSET(Calculations!AT$43,$A853,0)-V$3-B$11","v":571.86129772471384},{"$f":"OFFSET(Calculations!AU$43,$A853,0)-W$3-B$12","v":105.25602636783552},{"$f":"B853*F$5+C853*F$4","v":43.030088631998005},{"$f":"C853*F$5-B853*F$4","v":571.86129772471384},{"$f":"D853","v":105.25602636783552},43.030088631998005,{"$f":"F853*F$7+G853*F$6","v":571.86129772471384},{"$f":"G853*F$7-F853*F$6","v":105.25602636783552},{"$f":"H853*F$9+J853*F$8","v":43.030088631998005},{"$f":"I853","v":571.86129772471384},{"$f":"J853*F$9-H853*F$8","v":105.25602636783552},null,null,{"$f":"IF(MIN(L853:L859)+B$2+B$1>0,1,0)","v":1},{"$f":"IF(P853=1,K853*B$1/(B$1+B$2+L853),99999)","v":1.4790496910607758},{"$f":"M853*B$1/(B$1+B$2+L853)","v":3.6179077996568698},null,null,{"$f":"(2*U845+8*U855)/10","v":-17.507027633127638},397.50948615200343,59.708032916081535,7.9437990707272776,0.7367843110513036,-5.9382515645727327,-6.3103214362548954E-2,0.95905384579913289,0.32986880367987936,6.5856761719173891,1.079322450117304,-7.2818037264776194,5.4872766823921166,null,null,null,null,null,null,null,null,null,null,null,76.13977324282672,473.83158409928853,105.07177765705083]
[708,{"$f":"OFFSET(Calculations!AS$43,$A854,0)-U$3-B$10","v":32.519194835768943},{"$f":"OFFSET(Calculations!AT$43,$A854,0)-V$3-B$11","v":573.46552502263205},{"$f":"OFFSET(Calculations!AU$43,$A854,0)-W$3-B$12","v":103.76187918167665},32.519194835768943,573.46552502263205,103.76187918167665,32.519194835768943,573.46552502263205,103.76187918167665,32.519194835768943,573.46552502263205,103.76187918167665,null,null,null,{"$f":"IF(P853=1,K854*B$1/(B$1+B$2+L854),99999)","v":1.1146912179432555},3.5567441342023365,null,null,{"$f":"(1*U845+9*U855)/10","v":-17.606580661381241},398.4780734595214,60.000129668061433,7.8042852573805419,0.78722286718531786,-6.1530542539470199,-5.8760762178362569E-2,0.9580408596850134,0.33375059623012504,6.3906657657202635,1.1225768471206186,-7.4448657640479503,5.4791324870274849,null,null,null,null,null,null,null,null,null,null,null,68.505255388853712,463.21003163181751,94.927973621181422]
[707,{"$f":"OFFSET(Calculations!AS$43,$A855,0)-U$3-B$10","v":31.413107606479748},{"$f":"OFFSET(Calculations!AT$43,$A855,0)-V$3-B$11","v":569.92231657004436},{"$f":"OFFSET(Calculations!AU$43,$A855,0)-W$3-B$12","v":108.29499741339286},31.413107606479748,569.92231657004436,108.29499741339286,31.413107606479748,569.92231657004436,108.29499741339286,31.413107606479748,569.92231657004436,108.29499741339286,null,null,null,{"$f":"IF(P853=1,K855*B$1/(B$1+B$2+L855),99999)","v":1.083355708477399},3.7348104847526677,null,{"$f":"T845+7","v":567},{"$f":"OFFSET(Calculations!AS$46,$T855,0)","v":-17.706133689634846},{"$f":"OFFSET(Calculations!AT$46,$T855,0)","v":399.44666076703948},{"$f":"OFFSET(Calculations!AU$46,$T855,0)","v":60.292226420041345},{"$f":"OFFSET(Calculations!AS$43,$T855,0)-OFFSET(Calculations!AS$45,$T855,0)","v":7.6647714440338071},{"$f":"OFFSET(Calculations!AT$43,$T855,0)-OFFSET(Calculations!AT$45,$T855,0)","v":0.83766142331933224},{"$f":"OFFSET(Calculations!AU$43,$T855,0)-OFFSET(Calculations!AU$45,$T855,0)","v":-6.367856943321307},-5.4418309994183289E-2,0.95702787357112129,0.33763238878037072,6.189942797361744,1.1649271612427956,-7.601773246906447,5.4709734564577825,null,null,null,null,null,null,null,null,null,null,null,80.221214130677325,455.81109879825067,102.13852864033657]
[714,{"$f":"OFFSET(Calculations!AS$43,$A856,0)-U$3-B$10","v":41.532407868383359},{"$f":"OFFSET(Calculations!AT$43,$A856,0)-V$3-B$11","v":568.23385106884189},{"$f":"OFFSET(Calculations!AU$43,$A856,0)-W$3-B$12","v":109.59842242687309},41.532407868383359,568.23385106884189,109.59842242687309,41.532407868383359,568.23385106884189,109.59842242687309,41.532407868383359,568.23385106884189,109.59842242687309,null,null,null,{"$f":"IF(P853=1,K856*B$1/(B$1+B$2+L856),99999)","v":1.4365263393560368},3.7907992492755254,null,null,{"$f":"(9*U855+U865)/10","v":-17.775158709641538},400.40647764693699,60.619914982419608,7.4730234799593491,0.88239145528350493,-6.5392637399650031,-5.1983858325424848E-2,0.95656303918332242,0.33928969318071722,5.9835072668418343,1.2063733924838356,-7.7525261750531103,5.4618024953773432,null,null,null,null,null,null,null,null,null,null,null,75.105470163732889,454.03589651742993,99.942533074119936]
[716,{"$f":"OFFSET(Calculations!AS$43,$A857,0)-U$3-B$10","v":42.389714993423631},{"$f":"OFFSET(Calculations!AT$43,$A857,0)-V$3-B$11","v":569.90599602082852},{"$f":"OFFSET(Calculations!AU$43,$A857,0)-W$3-B$12","v":99.776561312353948},42.389714993423631,569.90599602082852,99.776561312353948,42.389714993423631,569.90599602082852,99.776561312353948,42.389714993423631,569.90599602082852,99.776561312353948,null,null,null,{"$f":"IF(P853=1,K857*B$1/(B$1+B$2+L857),99999)","v":1.4619512570758493},3.44112880353009,null,null,{"$f":"(8*U855+2*U865)/10","v":-17.844183729648229},401.36629452683457,60.947603544797879,7.2812755158848912,0.92712148724767762,-6.7106705366087001,-4.9549406656673511E-2,0.95609820479558039,0.34094699758108504,5.7746238085810155,1.2472723236043535,-7.899836791783601,5.4526126450838852,null,null,null,null,null,null,null,null,null,null,null,70.234033013657836,456.30821253447328,102.23387678721875]
[709,{"$f":"OFFSET(Calculations!AS$43,$A858,0)-U$3-B$10","v":32.876800056643802},{"$f":"OFFSET(Calculations!AT$43,$A858,0)-V$3-B$11","v":570.99557120622512},{"$f":"OFFSET(Calculations!AU$43,$A858,0)-W$3-B$12","v":98.461090311063316},32.876800056643802,570.99557120622512,98.461090311063316,32.876800056643802,570.99557120622512,98.461090311063316,32.876800056643802,570.99557120622512,98.461090311063316,null,null,null,{"$f":"IF(P853=1,K858*B$1/(B$1+B$2+L858),99999)","v":1.1317401262934632},3.3893921121169592,null,null,{"$f":"(7*U855+3*U865)/10","v":-17.91320874965492},402.32611140673214,61.275292107176142,7.0895275518104359,0.9718515192118502,-6.882077333252397,-4.7114954987925728E-2,0.95563337040772467,0.34260430198141023,5.5632924225792895,1.2876239546043493,-8.0437050970979183,5.4434037883773687,null,null,null,null,null,null,null,null,null,null,null,75.510386091692069,460.74428332592686,107.37988243520773]
[708,{"$f":"OFFSET(Calculations!AS$43,$A859,0)-U$3-B$10","v":32.519194835768943},{"$f":"OFFSET(Calculations!AT$43,$A859,0)-V$3-B$11","v":573.46552502263205},{"$f":"OFFSET(Calculations!AU$43,$A859,0)-W$3-B$12","v":103.76187918167665},32.519194835768943,573.46552502263205,103.76187918167665,32.519194835768943,573.46552502263205,103.76187918167665,32.519194835768943,573.46552502263205,103.76187918167665,null,null,null,{"$f":"IF(P853=1,K859*B$1/(B$1+B$2+L859),99999)","v":1.1146912179432555},3.5567441342023365,null,null,{"$f":"(6*U855+4*U865)/10","v":-17.982233769661615},403.28592828662966,61.602980669554405,6.8977795877359771,1.016581551176023,-7.0534841298960931,-4.4680503319167286E-2,0.95516853602009633,0.34426160638177805,5.3495131088366534,1.3274282854838231,-8.1841310909960647,5.4341758068407469,null,null,null,null,null,null,null,null,null,null,null,82.218650354080978,455.71167605100618,102.11945901096013]
[" ",null,null,null,null,null,null,null,null,null,null,null,null,null,null,null,null,null,null,null,{"$f":"(5*U855+5*U865)/10","v":-18.051258789668303},404.24574516652717,61.930669231932676,6.7060316236615192,1.0613115831401956,-7.2248909265397883,-3.9451052686452215E-2,0.95435386227831032,0.34689608887687484,5.1332858673531092,1.3666853162427746,-8.3211147734780404,5.424928580822205,null,null,null,null,null,null,null,null,null,null,null,75.833543256862797,466.0981435082864,113.31551640255631]
[{"$f":"A853+7","v":722},{"$f":"OFFSET(Calculations!AS$43,$A861,0)-U$3-B$10","v":52.9926242374815},{"$f":"OFFSET(Calculations!AT$43,$A861,0)-V$3-B$11","v":567.87467406508472},{"$f":"OFFSET(Calculations!AU$43,$A861,0)-W$3-B$12","v":105.55145784766444},{"$f":"B861*F$5+C861*F$4","v":52.9926242374815},{"$f":"C861*F$5-B861*F$4","v":567.87467406508472},{"$f":"D861","v":105.55145784766444},52.9926242374815,{"$f":"F861*F$7+G861*F$6","v":567.87467406508472},{"$f":"G861*F$7-F861*F$6","v":105.55145784766444},{"$f":"H861*F$9+J861*F$8","v":52.9926242374815},{"$f":"I861","v":567.87467406508472},{"$f":"J861*F$9-H861*F$8","v":105.55145784766444},null,null,{"$f":"IF(MIN(L861:L867)+B$2+B$1>0,1,0)","v":1},{"$f":"IF(P861=1,K861*B$1/(B$1+B$2+L861),99999)","v":1.8340524897795769},{"$f":"M861*B$1/(B$1+B$2+L861)","v":3.6530916679617773},null,null,{"$f":"(4*U855+6*U865)/10","v":-18.120283809674998},405.20556204642469,62.258357794310939,6.5142836595870621,1.1060416151043682,-7.3962977231834852,-3.4221602053730038E-2,0.95353918853675168,0.34953057137195742,4.9131462992974733,1.4046945269995372,-8.4507183528414824,5.4156619894170621,null,null,null,null,null,null,null,null,null,null,null,68.236596790254083,456.40763528171783,102.25294641659539]
[715,{"$f":"OFFSET(Calculations!AS$43,$A862,0)-U$3-B$10","v":43.030088631998005},{"$f":"OFFSET(Calculations!AT$43,$A862,0)-V$3-B$11","v":571.86129772471384},{"$f":"OFFSET(Calculations!AU$43,$A862,0)-W$3-B$12","v":105.25602636783552},43.030088631998005,571.86129772471384,105.25602636783552,43.030088631998005,571.86129772471384,105.25602636783552,43.030088631998005,571.86129772471384,105.25602636783552,null,null,null,{"$f":"IF(P861=1,K862*B$1/(B$1+B$2+L862),99999)","v":1.4790496910607758},3.6179077996568698,null,null,{"$f":"(3*U855+7*U865)/10","v":-18.189308829681689},406.16537892632221,62.586046356689209,6.322535695512606,1.150771647068541,-7.5677045198271831,-2.8992151421018519E-2,0.95272451479519304,0.35216505386706842,4.6890944046697456,1.4414559177541111,-8.5729418290863926,5.406375910449321,null,null,null,null,null,null,null,null,null,null,null,79.916188564264289,448.39721580911413,108.84235578811035]
[714,{"$f":"OFFSET(Calculations!AS$43,$A863,0)-U$3-B$10","v":41.532407868383359},{"$f":"OFFSET(Calculations!AT$43,$A863,0)-V$3-B$11","v":568.23385106884189},{"$f":"OFFSET(Calculations!AU$43,$A863,0)-W$3-B$12","v":109.59842242687309},41.532407868383359,568.23385106884189,109.59842242687309,41.532407868383359,568.23385106884189,109.59842242687309,41.532407868383359,568.23385106884189,109.59842242687309,null,null,null,{"$f":"IF(P861=1,K863*B$1/(B$1+B$2+L863),99999)","v":1.4365263393560368},3.7907992492755254,null,null,{"$f":"(2*U855+8*U865)/10","v":-18.25833384968838},407.12519580621978,62.913734919067473,6.130787731438148,1.1955016790327135,-7.7391113164708782,-2.3762700788296343E-2,0.95190984105352072,0.35479953636216521,4.4611301834699262,1.4769694885064961,-8.6877852022127708,5.3970702204528775,null,null,null,null,null,null,null,null,null,null,null,74.818018779844522,447.03747478876022,106.32107906432331]
[721,{"$f":"OFFSET(Calculations!AS$43,$A864,0)-U$3-B$10","v":51.081817709361957},{"$f":"OFFSET(Calculations!AT$43,$A864,0)-V$3-B$11","v":564.26656612254283},{"$f":"OFFSET(Calculations!AU$43,$A864,0)-W$3-B$12","v":109.73803671329867},51.081817709361957,564.26656612254283,109.73803671329867,51.081817709361957,564.26656612254283,109.73803671329867,51.081817709361957,564.26656612254283,109.73803671329867,null,null,null,{"$f":"IF(P861=1,K864*B$1/(B$1+B$2+L864),99999)","v":1.779028093321442},3.8218501019222373,null,null,{"$f":"(1*U855+9*U865)/10","v":-18.327358869695075},408.08501268611735,63.241423481445736,5.9390397673636901,1.2402317109968863,-7.9105181131145743,-1.8533250155574166E-2,0.95109516731196209,0.35743401885724779,4.2292536356980124,1.5112352392566923,-8.795248472220619,5.3877447946523676,null,null,null,null,null,null,null,null,null,null,null,69.92900744724497,448.89432954533697,108.93770393499253]
[723,{"$f":"OFFSET(Calculations!AS$43,$A865,0)-U$3-B$10","v":51.486555111686329},{"$f":"OFFSET(Calculations!AT$43,$A865,0)-V$3-B$11","v":566.65116525309224},{"$f":"OFFSET(Calculations!AU$43,$A865,0)-W$3-B$12","v":100.03495088343274},51.486555111686329,566.65116525309224,100.03495088343274,51.486555111686329,566.65116525309224,100.03495088343274,51.486555111686329,566.65116525309224,100.03495088343274,null,null,null,{"$f":"IF(P861=1,K865*B$1/(B$1+B$2+L865),99999)","v":1.7857088726800328},3.4695135260683085,null,{"$f":"T855+7","v":574},{"$f":"OFFSET(Calculations!AS$46,$T865,0)","v":-18.396383889701767},{"$f":"OFFSET(Calculations!AT$46,$T865,0)","v":409.04482956601487},{"$f":"OFFSET(Calculations!AU$46,$T865,0)","v":63.569112043824006},{"$f":"OFFSET(Calculations!AS$43,$T865,0)-OFFSET(Calculations!AS$45,$T865,0)","v":5.7472918032892331},{"$f":"OFFSET(Calculations!AT$43,$T865,0)-OFFSET(Calculations!AT$45,$T865,0)","v":1.2849617429610589},{"$f":"OFFSET(Calculations!AU$43,$T865,0)-OFFSET(Calculations!AU$45,$T865,0)","v":-8.0819249097582713},-1.3303799522855542E-2,0.95028049357034661,0.36006850135235879,3.993464761354006,1.5442531700046995,-8.8953316391099371,5.3783995069436488,null,null,null,null,null,null,null,null,null,null,null,75.163987733619052,452.35804522699067,114.8196810752014]
[716,{"$f":"OFFSET(Calculations!AS$43,$A866,0)-U$3-B$10","v":42.389714993423631},{"$f":"OFFSET(Calculations!AT$43,$A866,0)-V$3-B$11","v":569.90599602082852},{"$f":"OFFSET(Calculations!AU$43,$A866,0)-W$3-B$12","v":99.776561312353948},42.389714993423631,569.90599602082852,99.776561312353948,42.389714993423631,569.90599602082852,99.776561312353948,42.389714993423631,569.90599602082852,99.776561312353948,null,null,null,{"$f":"IF(P861=1,K866*B$1/(B$1+B$2+L866),99999)","v":1.4619512570758493},3.44112880353009,null,null,{"$f":"(9*U865+U875)/10","v":-18.426457683008426},409.9972090957084,63.923317476607885,5.5163769953602362,1.3209349729968778,-8.1982547237432115,-1.0508800558888254E-2,0.94993065421647316,0.36104567944708776,3.7537635604379083,1.5760232807505179,-8.9880347028807233,5.3682755046137389,null,null,null,null,null,null,null,null,null,null,null,81.913624787668155,448.29779306187004,108.82328615873377]
[715,{"$f":"OFFSET(Calculations!AS$43,$A867,0)-U$3-B$10","v":43.030088631998005},{"$f":"OFFSET(Calculations!AT$43,$A867,0)-V$3-B$11","v":571.86129772471384},{"$f":"OFFSET(Calculations!AU$43,$A867,0)-W$3-B$12","v":105.25602636783552},43.030088631998005,571.86129772471384,105.25602636783552,43.030088631998005,571.86129772471384,105.25602636783552,43.030088631998005,571.86129772471384,105.25602636783552,null,null,null,{"$f":"IF(P861=1,K867*B$1/(B$1+B$2+L867),99999)","v":1.4790496910607758},3.6179077996568698,null,null,{"$f":"(8*U865+2*U875)/10","v":-18.456531476315085},410.94958862540199,64.277522909391763,5.2854621874312402,1.3569082030326967,-8.3145845377281518,-7.7138015949245187E-3,0.94958081486259971,0.36202285754185937,3.512597960690627,1.6070928716146695,-9.0767999749491484,5.3581279841248861,null,null,null,null,null,null,null,null,null,null,null,75.43986170832116,456.6006424267224,121.59642531937288]
[" ",null,null,null,null,null,null,null,null,null,null,null,null,null,null,null,null,null,null,null,{"$f":"(7*U865+3*U875)/10","v":-18.486605269621741},411.90196815509552,64.631728342175649,5.0545473795022433,1.3928814330685158,-8.430914351713092,-4.9188026309572308E-3,0.94923097550866942,0.36300003563658834,3.2699679621121622,1.6374619425971546,-9.1616274553152142,5.3479567808128534,null,null,null,null,null,null,null,null,null,null,null,67.931571223841246,448.99375229258123,108.95677356436889]
[{"$f":"A861+7","v":729},{"$f":"OFFSET(Calculations!AS$43,$A869,0)-U$3-B$10","v":61.788000280329655},{"$f":"OFFSET(Calculations!AT$43,$A869,0)-V$3-B$11","v":561.809058734426},{"$f":"OFFSET(Calculations!AU$43,$A869,0)-W$3-B$12","v":104.53320123217792},{"$f":"B869*F$5+C869*F$4","v":61.788000280329655},{"$f":"C869*F$5-B869*F$4","v":561.809058734426},{"$f":"D869","v":104.53320123217792},61.788000280329655,{"$f":"F869*F$7+G869*F$6","v":561.809058734426},{"$f":"G869*F$7-F869*F$6","v":104.53320123217792},{"$f":"H869*F$9+J869*F$8","v":61.788000280329655},{"$f":"I869","v":561.809058734426},{"$f":"J869*F$9-H869*F$8","v":104.53320123217792},null,null,{"$f":"IF(MIN(L869:L875)+B$2+B$1>0,1,0)","v":1},{"$f":"IF(P869=1,K869*B$1/(B$1+B$2+L869),99999)","v":2.1611410080520179},{"$f":"M869*B$1/(B$1+B$2+L869)","v":3.6562275338393286},null,null,{"$f":"(6*U865+4*U875)/10","v":-18.516679062928397},412.85434768478899,64.98593377495952,4.8236325715732464,1.4288546631043346,-8.5472441656980322,-2.1238036669899429E-3,0.94888113615473912,0.36397721373133152,3.0258735647025143,1.6671304936979727,-9.2425171439789224,5.3377617280828717,null,null,null,null,null,null,null,null,null,null,null,79.545652455553991,439.93385628129943,114.15594671093154]
[722,{"$f":"OFFSET(Calculations!AS$43,$A870,0)-U$3-B$10","v":52.9926242374815},{"$f":"OFFSET(Calculations!AT$43,$A870,0)-V$3-B$11","v":567.87467406508472},{"$f":"OFFSET(Calculations!AU$43,$A870,0)-W$3-B$12","v":105.55145784766444},52.9926242374815,567.87467406508472,105.55145784766444,52.9926242374815,567.87467406508472,105.55145784766444,52.9926242374815,567.87467406508472,105.55145784766444,null,null,null,{"$f":"IF(P869=1,K870*B$1/(B$1+B$2+L870),99999)","v":1.8340524897795769},3.6530916679617773,null,null,{"$f":"(5*U865+5*U875)/10","v":-18.546752856235059},413.80672721448263,65.34013920774342,4.5927177636442496,1.4648278931401535,-8.6635739796829725,3.63626699571995E-3,0.9483202934548558,0.36518485054291716,2.7803147684616825,1.6960985249171241,-9.3194690409402714,5.3275426573778022,null,null,null,null,null,null,null,null,null,null,null,74.472871006794662,439.13947024812683,111.34638097084505]
[721,{"$f":"OFFSET(Calculations!AS$43,$A871,0)-U$3-B$10","v":51.081817709361957},{"$f":"OFFSET(Calculations!AT$43,$A871,0)-V$3-B$11","v":564.26656612254283},{"$f":"OFFSET(Calculations!AU$43,$A871,0)-W$3-B$12","v":109.73803671329867},51.081817709361957,564.26656612254283,109.73803671329867,51.081817709361957,564.26656612254283,109.73803671329867,51.081817709361957,564.26656612254283,109.73803671329867,null,null,null,{"$f":"IF(P869=1,K871*B$1/(B$1+B$2+L871),99999)","v":1.779028093321442},3.8218501019222373,null,null,{"$f":"(4*U865+6*U875)/10","v":-18.576826649541715},414.75910674417611,65.694344640527291,4.3618029557152527,1.5008011231759724,-8.7799037936679127,9.396337658429843E-3,0.94775945075468826,0.36639248735453123,2.5329104998285206,1.723560035884067,-9.3883182282077282,5.3172993981456234,null,null,null,null,null,null,null,null,null,null,null,69.558471338534687,440.43097001752199,114.25129485781366]
[728,{"$f":"OFFSET(Calculations!AS$43,$A872,0)-U$3-B$10","v":59.468558805149435},{"$f":"OFFSET(Calculations!AT$43,$A872,0)-V$3-B$11","v":558.32213539391148},{"$f":"OFFSET(Calculations!AU$43,$A872,0)-W$3-B$12","v":108.60826354588403},59.468558805149435,558.32213539391148,108.60826354588403,59.468558805149435,558.32213539391148,108.60826354588403,59.468558805149435,558.32213539391148,108.60826354588403,null,null,null,{"$f":"IF(P869=1,K872*B$1/(B$1+B$2+L872),99999)","v":2.0927764414430561},3.8220669856755176,null,null,{"$f":"(3*U865+7*U875)/10","v":-18.606900442848378},415.71148627386964,66.048550073311162,4.1308881477862558,1.5367743532117912,-8.896233607652853,1.5156408321139736E-2,0.94719860805474809,0.36760012416611687,2.2836607588030278,1.7495150265988015,-9.4490647057812858,5.3070317778062179,null,null,null,null,null,null,null,null,null,null,null,74.734249527987004,442.58182166463467,120.77702526334704]
[730,{"$f":"OFFSET(Calculations!AS$43,$A873,0)-U$3-B$10","v":59.604409790970109},{"$f":"OFFSET(Calculations!AT$43,$A873,0)-V$3-B$11","v":561.48573357773819},{"$f":"OFFSET(Calculations!AU$43,$A873,0)-W$3-B$12","v":99.122843626821975},59.604409790970109,561.48573357773819,99.122843626821975,59.604409790970109,561.48573357773819,99.122843626821975,59.604409790970109,561.48573357773819,99.122843626821975,null,null,null,{"$f":"IF(P869=1,K873*B$1/(B$1+B$2+L873),99999)","v":2.0859456776924854},3.4689525145718609,null,null,{"$f":"(2*U865+8*U875)/10","v":-18.636974236155034},416.66386580356323,66.402755506095048,3.8999733398572594,1.5727475832476103,-9.0125634216377932,2.0916478983849629E-2,0.94663776535469424,0.36880776097770251,2.0325655453852041,1.7739634970613278,-9.5017084736609458,5.2967396217174505,null,null,null,null,null,null,null,null,null,null,null,81.543088678957915,439.83443353405471,114.13687708155507]
[723,{"$f":"OFFSET(Calculations!AS$43,$A874,0)-U$3-B$10","v":51.486555111686329},{"$f":"OFFSET(Calculations!AT$43,$A874,0)-V$3-B$11","v":566.65116525309224},{"$f":"OFFSET(Calculations!AU$43,$A874,0)-W$3-B$12","v":100.03495088343274},51.486555111686329,566.65116525309224,100.03495088343274,51.486555111686329,566.65116525309224,100.03495088343274,51.486555111686329,566.65116525309224,100.03495088343274,null,null,null,{"$f":"IF(P869=1,K874*B$1/(B$1+B$2+L874),99999)","v":1.7857088726800328},3.4695135260683085,null,null,{"$f":"(1*U865+9*U875)/10","v":-18.667048029461689},417.61624533325676,66.756960938878919,3.6690585319282634,1.6087208132834292,-9.1288932356227335,2.6676549646555969E-2,0.9460769226545267,0.37001539778928816,1.7796248595750479,1.7969054472716455,-9.5462495318467138,5.2864227531405081,null,null,null,null,null,null,null,null,null,null,null,74.942463963349979,445.32400282489095,128.28948752503214]
[722,{"$f":"OFFSET(Calculations!AS$43,$A875,0)-U$3-B$10","v":52.9926242374815},{"$f":"OFFSET(Calculations!AT$43,$A875,0)-V$3-B$11","v":567.87467406508472},{"$f":"OFFSET(Calculations!AU$43,$A875,0)-W$3-B$12","v":105.55145784766444},52.9926242374815,567.87467406508472,105.55145784766444,52.9926242374815,567.87467406508472,105.55145784766444,52.9926242374815,567.87467406508472,105.55145784766444,null,null,null,{"$f":"IF(P869=1,K875*B$1/(B$1+B$2+L875),99999)","v":1.8340524897795769},3.6530916679617773,null,{"$f":"T865+7","v":581},{"$f":"OFFSET(Calculations!AS$46,$T875,0)","v":-18.697121822768349},{"$f":"OFFSET(Calculations!AT$46,$T875,0)","v":418.56862486295029},{"$f":"OFFSET(Calculations!AU$46,$T875,0)","v":67.111166371662804},{"$f":"OFFSET(Calculations!AS$43,$T875,0)-OFFSET(Calculations!AS$45,$T875,0)","v":3.438143723999266},{"$f":"OFFSET(Calculations!AT$43,$T875,0)-OFFSET(Calculations!AT$45,$T875,0)","v":1.6446940433192481},{"$f":"OFFSET(Calculations!AU$43,$T875,0)-OFFSET(Calculations!AU$45,$T875,0)","v":-9.2452230496076737},3.2436620309265862E-2,0.94551607995458653,0.37122303460088801,1.5248387013725622,1.8183408772297547,-9.582687880338586,5.2760809932044888,null,null,null,null,null,null,null,null,null,null,null,67.561035115130977,440.53039276476642,114.27036448719022]
[" ",null,null,null,null,null,null,null,null,null,null,null,null,null,null,null,null,null,null,null,{"$f":"(9*U875+U885)/10","v":-18.682475632651535},419.5154069629819,67.481006653962609,3.1837985347713338,1.6694589552483989,-9.2985481963548686,3.540169200801202E-2,0.94530507660846297,0.37145349331774469,1.2682070707777449,1.8382697869356555,-9.6110235191365625,5.2652559817518263,null,null,null,null,null,null,null,null,null,null,null,79.111516669167557,430.55283451845088,117.59221748081336]
[{"$f":"A869+7","v":736},{"$f":"OFFSET(Calculations!AS$43,$A877,0)-U$3-B$10","v":68.874492493321299},{"$f":"OFFSET(Calculations!AT$43,$A877,0)-V$3-B$11","v":554.10459402900005},{"$f":"OFFSET(Calculations!AU$43,$A877,0)-W$3-B$12","v":102.17277913100119},{"$f":"B877*F$5+C877*F$4","v":68.874492493321299},{"$f":"C877*F$5-B877*F$4","v":554.10459402900005},{"$f":"D877","v":102.17277913100119},68.874492493321299,{"$f":"F877*F$7+G877*F$6","v":554.10459402900005},{"$f":"G877*F$7-F877*F$6","v":102.17277913100119},{"$f":"H877*F$9+J877*F$8","v":68.874492493321299},{"$f":"I877","v":554.10459402900005},{"$f":"J877*F$9-H877*F$8","v":102.17277913100119},null,null,{"$f":"IF(MIN(L877:L883)+B$2+B$1>0,1,0)","v":1},{"$f":"IF(P877=1,K877*B$1/(B$1+B$2+L877),99999)","v":2.4419050375533917},{"$f":"M877*B$1/(B$1+B$2+L877)","v":3.6224764064143962},null,null,{"$f":"(8*U875+2*U885)/10","v":-18.667829442534725},420.46218906301345,67.850846936262414,2.9294533455434015,1.6942238671775498,-9.3518733431020618,{"$f":"(SUM(U878:U893)-SUM(U877:U892))/16","v":3.8366763706751073E-2},{"$f":"(SUM(V878:V893)-SUM(V877:V892))/16","v":0.94509407326222572},{"$f":"(SUM(W878:W893)-SUM(W877:W892))/16","v":0.37168395203458715},{"$f":"SUM(X877:X892)/16","v":1.0111943666217806},{"$f":"SUM(Y877:Y892)/16","v":1.8573926962710146},{"$f":"SUM(Z877:Z892)/16","v":-9.6351942399430008},5.254403426955979,null,null,null,null,null,null,null,null,null,null,null,74.06774319262901,430.37309894359203,114.61648895816646]
[729,{"$f":"OFFSET(Calculations!AS$43,$A878,0)-U$3-B$10","v":61.788000280329655},{"$f":"OFFSET(Calculations!AT$43,$A878,0)-V$3-B$11","v":561.809058734426},{"$f":"OFFSET(Calculations!AU$43,$A878,0)-W$3-B$12","v":104.53320123217792},61.788000280329655,561.809058734426,104.53320123217792,61.788000280329655,561.809058734426,104.53320123217792,61.788000280329655,561.809058734426,104.53320123217792,null,null,null,{"$f":"IF(P877=1,K878*B$1/(B$1+B$2+L878),99999)","v":2.1611410080520179},3.6562275338393286,null,null,{"$f":"(7*U875+3*U885)/10","v":-18.653183252417914},421.40897116304495,68.220687218562233,2.6751081563154688,1.7189887791067009,-9.4051984898492567,4.133183540549723E-2,0.94488306991610216,0.37191441075142961,0.75380058890466917,1.8757096052358322,-9.6552000427579046,5.2435231174956298,null,null,null,null,null,null,null,null,null,null,null,69.124335552148324,431.04994825467367,117.68756562769579]
[728,{"$f":"OFFSET(Calculations!AS$43,$A879,0)-U$3-B$10","v":59.468558805149435},{"$f":"OFFSET(Calculations!AT$43,$A879,0)-V$3-B$11","v":558.32213539391148},{"$f":"OFFSET(Calculations!AU$43,$A879,0)-W$3-B$12","v":108.60826354588403},59.468558805149435,558.32213539391148,108.60826354588403,59.468558805149435,558.32213539391148,108.60826354588403,59.468558805149435,558.32213539391148,108.60826354588403,null,null,null,{"$f":"IF(P877=1,K879*B$1/(B$1+B$2+L879),99999)","v":2.0927764414430561},3.8220669856755176,null,null,{"$f":"(6*U875+4*U885)/10","v":-18.638537062301101},422.35575326307662,68.590527500862024,2.4207629670875366,1.7437536910358518,-9.4585236365964498,4.4296907104239835E-2,0.94467206656992175,0.37214486946828629,0.49602573762640989,1.8932205138301079,-9.6710409275812719,5.2326148393333494,null,null,null,null,null,null,null,null,null,null,null,74.232949170973285,431.7830702014906,124.56975998012801]
[735,{"$f":"OFFSET(Calculations!AS$43,$A880,0)-U$3-B$10","v":66.176584092898622},{"$f":"OFFSET(Calculations!AT$43,$A880,0)-V$3-B$11","v":550.83271587599131},{"$f":"OFFSET(Calculations!AU$43,$A880,0)-W$3-B$12","v":106.1873004464972},66.176584092898622,550.83271587599131,106.1873004464972,66.176584092898622,550.83271587599131,106.1873004464972,66.176584092898622,550.83271587599131,106.1873004464972,null,null,null,{"$f":"IF(P877=1,K880*B$1/(B$1+B$2+L880),99999)","v":2.3599402181641369},3.7867726842803098,null,null,{"$f":"(5*U875+5*U885)/10","v":-18.62389087218429},423.30253536310818,68.960367783161843,2.1664177778596043,1.7685186029650026,-9.5118487833436447,5.0195058500239753E-2,0.94440327541462921,0.37184336214336611,0.23786981278700325,1.909925422053842,-9.6827168944131046,5.2216783756664746,null,null,null,null,null,null,null,null,null,null,null,81.108952892571494,430.45341177120656,117.57314785143691]
[737,{"$f":"OFFSET(Calculations!AS$43,$A881,0)-U$3-B$10","v":66.244977344316254},{"$f":"OFFSET(Calculations!AT$43,$A881,0)-V$3-B$11","v":554.79044731710326},{"$f":"OFFSET(Calculations!AU$43,$A881,0)-W$3-B$12","v":97.004072027080042},66.244977344316254,554.79044731710326,97.004072027080042,66.244977344316254,554.79044731710326,97.004072027080042,66.244977344316254,554.79044731710326,97.004072027080042,null,null,null,{"$f":"IF(P877=1,K881*B$1/(B$1+B$2+L881),99999)","v":2.3458249925789842},3.4350464845102744,null,null,{"$f":"(4*U875+6*U885)/10","v":-18.609244682067477},424.24931746313979,69.330208065461647,1.9120725886316721,1.7932835148941535,-9.5651739300908396,5.6093209896239671E-2,0.94413448425933666,0.37154185481846014,-1.9938964371223028E-2,1.9249677766408895,-9.6861197312509564,5.2107135068768304,null,null,null,null,null,null,null,null,null,null,null,74.364404097048265,432.90498884712338,132.48960960969768]
[730,{"$f":"OFFSET(Calculations!AS$43,$A882,0)-U$3-B$10","v":59.604409790970109},{"$f":"OFFSET(Calculations!AT$43,$A882,0)-V$3-B$11","v":561.48573357773819},{"$f":"OFFSET(Calculations!AU$43,$A882,0)-W$3-B$12","v":99.122843626821975},59.604409790970109,561.48573357773819,99.122843626821975,59.604409790970109,561.48573357773819,99.122843626821975,59.604409790970109,561.48573357773819,99.122843626821975,null,null,null,{"$f":"IF(P877=1,K882*B$1/(B$1+B$2+L882),99999)","v":2.0859456776924854},3.4689525145718609,null,null,{"$f":"(3*U875+7*U885)/10","v":-18.594598491950663},425.19609956317129,69.700048347761452,1.6577273994037398,1.8180484268233044,-9.6184990768380327,6.1991361292250247E-2,0.9438656931041578,0.37124034749356838,-0.27740059384826876,1.9383475775912502,-9.6812494380948309,5.1997200104792727,null,null,null,null,null,null,null,null,null,null,null,67.126899328744514,431.14937100191804,117.70663525707226]
[729,{"$f":"OFFSET(Calculations!AS$43,$A883,0)-U$3-B$10","v":61.788000280329655},{"$f":"OFFSET(Calculations!AT$43,$A883,0)-V$3-B$11","v":561.809058734426},{"$f":"OFFSET(Calculations!AU$43,$A883,0)-W$3-B$12","v":104.53320123217792},61.788000280329655,561.809058734426,104.53320123217792,61.788000280329655,561.809058734426,104.53320123217792,61.788000280329655,561.809058734426,104.53320123217792,null,null,null,{"$f":"IF(P877=1,K883*B$1/(B$1+B$2+L883),99999)","v":2.1611410080520179},3.6562275338393286,null,null,{"$f":"(2*U875+8*U885)/10","v":-18.579952301833853},426.14288166320296,70.069888630061271,1.4033822101758073,1.8428133387524555,-9.6718242235852276,6.7889512688250164E-2,0.94359690194880841,0.3709388401686482,-0.53451507564413414,1.9500648249049244,-9.6681060149447262,5.1886976610690185,null,null,null,null,null,null,null,null,null,null,null,78.632755022184853,420.66414618674264,119.00098657605591]
[" ",null,null,null,null,null,null,null,null,null,null,null,null,null,null,null,null,null,null,null,{"$f":"(1*U875+9*U885)/10","v":-18.565306111717042},427.08966376323451,70.439728912361062,1.1490370209478749,1.8675782506816063,-9.7251493703324208,7.3787664084250082E-2,0.94332811079345902,0.37063733284375644,-0.79128240975881914,1.9601195185819116,-9.6466894618006442,5.1776462302677233,null,null,null,null,null,null,null,null,null,null,null,73.620400218146841,421.12253094217829,115.98923838291856]
[{"$f":"A877+7","v":743},{"$f":"OFFSET(Calculations!AS$43,$A885,0)-U$3-B$10","v":73.817247995971556},{"$f":"OFFSET(Calculations!AT$43,$A885,0)-V$3-B$11","v":545.44627882138457},{"$f":"OFFSET(Calculations!AU$43,$A885,0)-W$3-B$12","v":98.200836003460779},{"$f":"B885*F$5+C885*F$4","v":73.817247995971556},{"$f":"C885*F$5-B885*F$4","v":545.44627882138457},{"$f":"D885","v":98.200836003460779},73.817247995971556,{"$f":"F885*F$7+G885*F$6","v":545.44627882138457},{"$f":"G885*F$7-F885*F$6","v":98.200836003460779},{"$f":"H885*F$9+J885*F$8","v":73.817247995971556},{"$f":"I885","v":545.44627882138457},{"$f":"J885*F$9-H885*F$8","v":98.200836003460779},null,null,{"$f":"IF(MIN(L885:L891)+B$2+B$1>0,1,0)","v":1},{"$f":"IF(P885=1,K885*B$1/(B$1+B$2+L885),99999)","v":2.6579437403957855},{"$f":"M885*B$1/(B$1+B$2+L885)","v":3.5359256060490893},null,{"$f":"T875+7","v":588},{"$f":"OFFSET(Calculations!AS$46,$T885,0)","v":-18.550659921600229},{"$f":"OFFSET(Calculations!AT$46,$T885,0)","v":428.03644586326607},{"$f":"OFFSET(Calculations!AU$46,$T885,0)","v":70.809569194660881},{"$f":"OFFSET(Calculations!AS$43,$T885,0)-OFFSET(Calculations!AS$45,$T885,0)","v":0.8946918317199426},{"$f":"OFFSET(Calculations!AT$43,$T885,0)-OFFSET(Calculations!AT$45,$T885,0)","v":1.8923431626107572},{"$f":"OFFSET(Calculations!AU$43,$T885,0)-OFFSET(Calculations!AU$45,$T885,0)","v":-9.7784745170796157},7.9685815480260658E-2,0.943059319638337,0.37033582551883626,-1.0477025961923239,1.9685116586222122,-9.6169997786625832,5.166565486668266,null,null,null,null,null,null,null,null,null,null,null,68.645573905165534,421.16125992296486,119.09633472293822]
[736,{"$f":"OFFSET(Calculations!AS$43,$A886,0)-U$3-B$10","v":68.874492493321299},{"$f":"OFFSET(Calculations!AT$43,$A886,0)-V$3-B$11","v":554.10459402900005},{"$f":"OFFSET(Calculations!AU$43,$A886,0)-W$3-B$12","v":102.17277913100119},68.874492493321299,554.10459402900005,102.17277913100119,68.874492493321299,554.10459402900005,102.17277913100119,68.874492493321299,554.10459402900005,102.17277913100119,null,null,null,{"$f":"IF(P885=1,K886*B$1/(B$1+B$2+L886),99999)","v":2.4419050375533917},3.6224764064143962,null,null,{"$f":"(9*U885+U895)/10","v":-18.488572584303537},428.97985190975908,71.183096816430236,0.63424946551365147,1.9042120686112411,-9.7651609759622282,8.261889517751797E-2,0.94300153182916802,0.36980385947710204,-1.3037756349446481,1.9752412450258263,-9.5790369655305412,5.1553442756590968,null,null,null,null,null,null,null,null,null,null,null,73.681995893685865,420.43374809465644,126.03212451886043]
[735,{"$f":"OFFSET(Calculations!AS$43,$A887,0)-U$3-B$10","v":66.176584092898622},{"$f":"OFFSET(Calculations!AT$43,$A887,0)-V$3-B$11","v":550.83271587599131},{"$f":"OFFSET(Calculations!AU$43,$A887,0)-W$3-B$12","v":106.1873004464972},66.176584092898622,550.83271587599131,106.1873004464972,66.176584092898622,550.83271587599131,106.1873004464972,66.176584092898622,550.83271587599131,106.1873004464972,null,null,null,{"$f":"IF(P885=1,K887*B$1/(B$1+B$2+L887),99999)","v":2.3599402181641369},3.7867726842803098,null,null,{"$f":"(8*U885+2*U895)/10","v":-18.426485247006845},429.92325795625192,71.556624438199606,0.37380709930736022,1.9160809746117251,-9.7518474348448425,8.5551974874778836E-2,0.94294374401999903,0.36927189343533939,-1.5591204524546445,1.9811142781632953,-9.5369659403960583,5.1440926804079181,null,null,null,null,null,null,null,null,null,null,null,80.630191245588676,420.56472343949798,118.98191694667938]
[742,{"$f":"OFFSET(Calculations!AS$43,$A888,0)-U$3-B$10","v":71.338471662180751},{"$f":"OFFSET(Calculations!AT$43,$A888,0)-V$3-B$11","v":542.59571742006131},{"$f":"OFFSET(Calculations!AU$43,$A888,0)-W$3-B$12","v":102.64988998853514},71.338471662180751,542.59571742006131,102.64988998853514,71.338471662180751,542.59571742006131,102.64988998853514,71.338471662180751,542.59571742006131,102.64988998853514,null,null,null,{"$f":"IF(P885=1,K888*B$1/(B$1+B$2+L888),99999)","v":2.5819408082003674},3.7151894867294013,null,null,{"$f":"(7*U885+3*U895)/10","v":-18.364397909710146},430.86666400274487,71.930152059968961,0.11336473310106907,1.9279498806122093,-9.738533893727455,8.8485054572036148E-2,0.94288595621088689,0.36873992739359096,-1.813737048722313,1.9861307580346192,-9.4907867032591362,5.1328104527510261,null,null,null,null,null,null,null,null,null,null,null,73.730946099412151,419.88637099728805,134.01322608384737]
[744,{"$f":"OFFSET(Calculations!AS$43,$A889,0)-U$3-B$10","v":70.469613890988214},{"$f":"OFFSET(Calculations!AT$43,$A889,0)-V$3-B$11","v":546.78372670335784},{"$f":"OFFSET(Calculations!AU$43,$A889,0)-W$3-B$12","v":93.610771424401491},70.469613890988214,546.78372670335784,93.610771424401491,70.469613890988214,546.78372670335784,93.610771424401491,70.469613890988214,546.78372670335784,93.610771424401491,null,null,null,{"$f":"IF(P885=1,K889*B$1/(B$1+B$2+L889),99999)","v":2.5313101123924509},3.3625541457060315,null,null,{"$f":"(6*U885+4*U895)/10","v":-18.302310572413454},431.81007004923777,72.303679681738316,-0.14707763310522209,1.9398187866126932,-9.7252203526100693,9.1418134269297013E-2,0.9428281684017179,0.36820796135184253,-2.0676254237476535,1.9902906846397983,-9.4404992541197696,5.1214973411280766,null,null,null,null,null,null,null,null,null,null,null,66.648137681761682,421.26068267020941,119.11540435231453]
[737,{"$f":"OFFSET(Calculations!AS$43,$A890,0)-U$3-B$10","v":66.244977344316254},{"$f":"OFFSET(Calculations!AT$43,$A890,0)-V$3-B$11","v":554.79044731710326},{"$f":"OFFSET(Calculations!AU$43,$A890,0)-W$3-B$12","v":97.004072027080042},66.244977344316254,554.79044731710326,97.004072027080042,66.244977344316254,554.79044731710326,97.004072027080042,66.244977344316254,554.79044731710326,97.004072027080042,null,null,null,{"$f":"IF(P885=1,K890*B$1/(B$1+B$2+L890),99999)","v":2.3458249925789842},3.4350464845102744,null,null,{"$f":"(5*U885+5*U895)/10","v":-18.240223235116765},432.75347609573072,72.677207303507686,-0.40751999931151328,1.9516876926131772,-9.7119068114926819,9.7052417128114854E-2,0.94286974646433919,0.36641785711634611,-2.3207855775306667,1.9935940579788323,-9.3861035929779622,5.1101530905166372,null,null,null,null,null,null,null,null,null,null,null,78.130291695932158,410.69997441746045,118.32068402717232]
[736,{"$f":"OFFSET(Calculations!AS$43,$A891,0)-U$3-B$10","v":68.874492493321299},{"$f":"OFFSET(Calculations!AT$43,$A891,0)-V$3-B$11","v":554.10459402900005},{"$f":"OFFSET(Calculations!AU$43,$A891,0)-W$3-B$12","v":102.17277913100119},68.874492493321299,554.10459402900005,102.17277913100119,68.874492493321299,554.10459402900005,102.17277913100119,68.874492493321299,554.10459402900005,102.17277913100119,null,null,null,{"$f":"IF(P885=1,K891*B$1/(B$1+B$2+L891),99999)","v":2.4419050375533917},3.6224764064143962,null,null,{"$f":"(4*U885+6*U895)/10","v":-18.17813589782007},433.69688214222367,73.050734925277041,-0.66796236551780441,1.9635565986136612,-9.6985932703752944,0.10268669998693269,0.94291132452684678,0.36462775288087812,-2.5714296210997709,1.9951921445795358,-9.3238281816791826,5.0987774423651162,null,null,null,null,null,null,null,null,null,null,null,73.150327273631731,411.78561353493336,115.43134879926363]
[" ",null,null,null,null,null,null,null,null,null,null,null,null,null,null,null,null,null,null,null,{"$f":"(3*U885+7*U895)/10","v":-18.116048560523375},434.64028818871668,73.424262547046425,-0.92840473172409566,1.9754255046141451,-9.6852797292579087,0.10832098284574343,0.94295290258935438,0.36283764864541013,-2.8195575544549674,1.9950849444419088,-9.2536730202234345,5.0873701345240043,null,null,null,null,null,null,null,null,null,null,null,68.143110578912982,411.19708815368318,118.41603217405455]
[{"$f":"A885+7","v":750},{"$f":"OFFSET(Calculations!AS$43,$A893,0)-U$3-B$10","v":76.158517594933642},{"$f":"OFFSET(Calculations!AT$43,$A893,0)-V$3-B$11","v":536.59923429862147},{"$f":"OFFSET(Calculations!AU$43,$A893,0)-W$3-B$12","v":93.303600647290125},{"$f":"B893*F$5+C893*F$4","v":76.158517594933642},{"$f":"C893*F$5-B893*F$4","v":536.59923429862147},{"$f":"D893","v":93.303600647290125},76.158517594933642,{"$f":"F893*F$7+G893*F$6","v":536.59923429862147},{"$f":"G893*F$7-F893*F$6","v":93.303600647290125},{"$f":"H893*F$9+J893*F$8","v":76.158517594933642},{"$f":"I893","v":536.59923429862147},{"$f":"J893*F$9-H893*F$8","v":93.303600647290125},null,null,{"$f":"IF(MIN(L893:L899)+B$2+B$1>0,1,0)","v":1},{"$f":"IF(P893=1,K893*B$1/(B$1+B$2+L893),99999)","v":2.7866309652869456},{"$f":"M893*B$1/(B$1+B$2+L893)","v":3.4139674844958137},null,null,{"$f":"(2*U885+8*U895)/10","v":-18.053961223226686},435.58369423520963,73.797790168815766,-1.1888470979303869,1.9872944106146293,-9.6719661881405212,0.11395526570456127,0.94299448065186198,0.36104754440991371,-3.0651693775962556,1.9932724575659506,-9.1756381086107108,5.0759309011753917,null,null,null,null,null,null,null,null,null,null,null,73.105468998108876,409.02987518029028,125.10020653199817]
[743,{"$f":"OFFSET(Calculations!AS$43,$A894,0)-U$3-B$10","v":73.817247995971556},{"$f":"OFFSET(Calculations!AT$43,$A894,0)-V$3-B$11","v":545.44627882138457},{"$f":"OFFSET(Calculations!AU$43,$A894,0)-W$3-B$12","v":98.200836003460779},73.817247995971556,545.44627882138457,98.200836003460779,73.817247995971556,545.44627882138457,98.200836003460779,73.817247995971556,545.44627882138457,98.200836003460779,null,null,null,{"$f":"IF(P893=1,K894*B$1/(B$1+B$2+L894),99999)","v":2.6579437403957855},3.5359256060490893,null,null,{"$f":"(1*U885+9*U895)/10","v":-17.991873885929994},436.52710028170247,74.171317790585121,-1.449289464136678,1.9991633166151133,-9.6586526470231355,0.11958954856337911,0.94303605871436957,0.35925744017444572,-3.3082650905236353,1.9897546839516622,-9.0897234468410204,5.0644594727606895,null,null,null,null,null,null,null,null,null,null,null,80.12772791933611,410.60055167021596,118.30161439779587]
[742,{"$f":"OFFSET(Calculations!AS$43,$A895,0)-U$3-B$10","v":71.338471662180751},{"$f":"OFFSET(Calculations!AT$43,$A895,0)-V$3-B$11","v":542.59571742006131},{"$f":"OFFSET(Calculations!AU$43,$A895,0)-W$3-B$12","v":102.64988998853514},71.338471662180751,542.59571742006131,102.64988998853514,71.338471662180751,542.59571742006131,102.64988998853514,71.338471662180751,542.59571742006131,102.64988998853514,null,null,null,{"$f":"IF(P893=1,K895*B$1/(B$1+B$2+L895),99999)","v":2.5819408082003674},3.7151894867294013,null,{"$f":"T885+7","v":595},{"$f":"OFFSET(Calculations!AS$46,$T895,0)","v":-17.929786548633299},{"$f":"OFFSET(Calculations!AT$46,$T895,0)","v":437.47050632819548},{"$f":"OFFSET(Calculations!AU$46,$T895,0)","v":74.544845412354491},{"$f":"OFFSET(Calculations!AS$43,$T895,0)-OFFSET(Calculations!AS$45,$T895,0)","v":-1.7097318303429692},{"$f":"OFFSET(Calculations!AT$43,$T895,0)-OFFSET(Calculations!AT$45,$T895,0)","v":2.0110322226155972},{"$f":"OFFSET(Calculations!AU$43,$T895,0)-OFFSET(Calculations!AU$45,$T895,0)","v":-9.6453391059057481},0.12522383142218985,0.94307763677687717,0.35746733593896352,-3.5488446932371072,1.9845316235990431,-8.9959290349143615,5.0529555759065214,null,null,null,null,null,null,null,null,null,null,null,73.069775124607389,406.83712534568264,132.79374759643852]
[749,{"$f":"OFFSET(Calculations!AS$43,$A896,0)-U$3-B$10","v":74.561865069602149},{"$f":"OFFSET(Calculations!AT$43,$A896,0)-V$3-B$11","v":533.96273547395845},{"$f":"OFFSET(Calculations!AU$43,$A896,0)-W$3-B$12","v":98.256944029381287},74.561865069602149,533.96273547395845,98.256944029381287,74.561865069602149,533.96273547395845,98.256944029381287,74.561865069602149,533.96273547395845,98.256944029381287,null,null,null,{"$f":"IF(P893=1,K896*B$1/(B$1+B$2+L896),99999)","v":2.7414328301234052},3.6126351171379176,null,null,{"$f":"(9*U895+U905)/10","v":-17.820769936180437},438.41298776974253,74.909861577455814,-1.9585226566720153,2.0091962763577613,-9.5662941727492861,0.12792503458374682,0.94317700264855375,0.35620919774522974,-3.7869081857366709,1.9776032765080933,-8.8942548728307287,5.0416821818391941,null,null,null,null,null,null,null,null,null,null,null,66.145674355509044,411.29651090092756,118.43510180343097]
[751,{"$f":"OFFSET(Calculations!AS$43,$A897,0)-U$3-B$10","v":71.985292509381068},{"$f":"OFFSET(Calculations!AT$43,$A897,0)-V$3-B$11","v":537.96439578111051},{"$f":"OFFSET(Calculations!AU$43,$A897,0)-W$3-B$12","v":89.462173502068794},71.985292509381068,537.96439578111051,89.462173502068794,71.985292509381068,537.96439578111051,89.462173502068794,71.985292509381068,537.96439578111051,89.462173502068794,null,null,null,{"$f":"IF(P893=1,K897*B$1/(B$1+B$2+L897),99999)","v":2.627371160010048},3.2652549760844427,null,null,{"$f":"(8*U895+2*U905)/10","v":-17.711753323727574},439.35546921128969,75.274877742557123,-2.207313483001061,2.0073603300999254,-9.4872492395928241,0.1306262377453038,0.94327636852017349,0.35495105955149597,-4.023183789264654,1.9698261959449581,-8.7888091725925683,{"$f":"AG$245+SIGN(W$245-W897)*SQRT(2*ABS(W$245-W897)/Z$5)","v":5.0303772550123771},null,null,null,null,null,null,null,null,null,null,null,77.626086748853439,401.09580133032381,115.58104232000292]
[744,{"$f":"OFFSET(Calculations!AS$43,$A898,0)-U$3-B$10","v":70.469613890988214},{"$f":"OFFSET(Calculations!AT$43,$A898,0)-V$3-B$11","v":546.78372670335784},{"$f":"OFFSET(Calculations!AU$43,$A898,0)-W$3-B$12","v":93.610771424401491},70.469613890988214,546.78372670335784,93.610771424401491,70.469613890988214,546.78372670335784,93.610771424401491,70.469613890988214,546.78372670335784,93.610771424401491,null,null,null,{"$f":"IF(P893=1,K898*B$1/(B$1+B$2+L898),99999)","v":2.5313101123924509},3.3625541457060315,null,null,{"$f":"(7*U895+3*U905)/10","v":-17.602736711274712},440.29795065283679,75.639893907658447,-2.4561043093301067,2.0055243838420891,-9.4082043064363639,0.13332744090685722,0.94337573439173639,0.3536929213577622,-4.2576715038210571,1.9612003819096373,-8.6795919341998804,5.0190405293360474,null,null,null,null,null,null,null,null,null,null,null,72.672505362776846,402.67310395261188,112.89181039737397]
[743,{"$f":"OFFSET(Calculations!AS$43,$A899,0)-U$3-B$10","v":73.817247995971556},{"$f":"OFFSET(Calculations!AT$43,$A899,0)-V$3-B$11","v":545.44627882138457},{"$f":"OFFSET(Calculations!AU$43,$A899,0)-W$3-B$12","v":98.200836003460779},73.817247995971556,545.44627882138457,98.200836003460779,73.817247995971556,545.44627882138457,98.200836003460779,73.817247995971556,545.44627882138457,98.200836003460779,null,null,null,{"$f":"IF(P893=1,K899*B$1/(B$1+B$2+L899),99999)","v":2.6579437403957855},3.5359256060490893,null,null,{"$f":"(6*U895+4*U905)/10","v":-17.493720098821846},441.24043209438389,76.004910072759756,-2.7048951356591528,2.0036884375842532,-9.3291593732799019,0.1360286440684142,0.94347510026341297,0.35243478316405685,-4.4903713294058791,1.9517258344021307,-8.5666031576526631,5.0076717349566504,null,null,null,null,null,null,null,null,null,null,null,67.638905631833993,401.59291506654648,115.67639046688521]
[" ",null,null,null,null,null,null,null,null,null,null,null,null,null,null,null,null,null,null,null,{"$f":"(5*U895+5*U905)/10","v":-17.384703486368988},442.18291353593105,76.36992623786108,-2.9536859619881985,2.0018524913264173,-9.2501144401234399,0.14101509132430579,0.94382421406749017,0.34927807466335992,-4.721283266019122,1.9414025534224384,-8.4498428429509183,4.99627059818215,null,null,null,null,null,null,null,null,null,null,null,72.540450548242774,398.28742778238461,121.92527926783785]
[{"$f":"A893+7","v":757},{"$f":"OFFSET(Calculations!AS$43,$A901,0)-U$3-B$10","v":76.976583421980919},{"$f":"OFFSET(Calculations!AT$43,$A901,0)-V$3-B$11","v":527.97076865684471},{"$f":"OFFSET(Calculations!AU$43,$A901,0)-W$3-B$12","v":88.254296917407146},{"$f":"B901*F$5+C901*F$4","v":76.976583421980919},{"$f":"C901*F$5-B901*F$4","v":527.97076865684471},{"$f":"D901","v":88.254296917407146},76.976583421980919,{"$f":"F901*F$7+G901*F$6","v":527.97076865684471},{"$f":"G901*F$7-F901*F$6","v":88.254296917407146},{"$f":"H901*F$9+J901*F$8","v":76.976583421980919},{"$f":"I901","v":527.97076865684471},{"$f":"J901*F$9-H901*F$8","v":88.254296917407146},{"$f":"IF(P901=1,K901*B$1/(B$1+B$2+L901),99999)","v":2.8617385146843159},{"$f":"M901*B$1/(B$1+B$2+L901)","v":3.2810071498030369},{"$f":"IF(MIN(L901:L907)+B$2+B$1>0,1,0)","v":1},null,null,null,null,{"$f":"(4*U895+6*U905)/10","v":-17.275686873916122},443.12539497747804,76.734942402962403,-3.2024767883172442,2.0000165450685814,-9.1710695069669779,0.14600153858019738,0.94417332787156738,0.3461213661626914,-4.9476815986387379,1.9294474650758751,-8.3261331498805085,4.9848368414051514,null,null,null,null,null,null,null,null,null,null,null,79.623522972257035,400.99637858307955,115.56197269062648]
[750,{"$f":"OFFSET(Calculations!AS$43,$A902,0)-U$3-B$10","v":76.158517594933642},{"$f":"OFFSET(Calculations!AT$43,$A902,0)-V$3-B$11","v":536.59923429862147},{"$f":"OFFSET(Calculations!AU$43,$A902,0)-W$3-B$12","v":93.303600647290125},76.158517594933642,536.59923429862147,93.303600647290125,76.158517594933642,536.59923429862147,93.303600647290125,76.158517594933642,536.59923429862147,93.303600647290125,{"$f":"IF(P901=1,K902*B$1/(B$1+B$2+L902),99999)","v":2.7866309652869456},3.4139674844958137,null,null,null,null,null,{"$f":"(3*U895+7*U905)/10","v":-17.166670261463263},444.0678764190252,77.099958568063713,-3.4512676146462899,1.9981805988107453,-9.0920245738105159,0.1509879858360943,0.94452244167558774,0.34296465766199447,-5.169566327264727,1.91586056936244,-8.1954740784414337,4.973370183024036,null,null,null,null,null,null,null,null,null,null,null,72.435255528698804,394.79379302118343,129.12135112428791]
[749,{"$f":"OFFSET(Calculations!AS$43,$A903,0)-U$3-B$10","v":74.561865069602149},{"$f":"OFFSET(Calculations!AT$43,$A903,0)-V$3-B$11","v":533.96273547395845},{"$f":"OFFSET(Calculations!AU$43,$A903,0)-W$3-B$12","v":98.256944029381287},74.561865069602149,533.96273547395845,98.256944029381287,74.561865069602149,533.96273547395845,98.256944029381287,74.561865069602149,533.96273547395845,98.256944029381287,{"$f":"IF(P901=1,K903*B$1/(B$1+B$2+L903),99999)","v":2.7414328301234052},3.6126351171379176,null,null,null,null,null,{"$f":"(2*U895+8*U905)/10","v":-17.057653649010401},445.0103578605723,77.464974733165036,-3.7000584409753356,1.9963446525529094,-9.0129796406540557,0.15597443309198411,0.94487155547966495,0.33980794916129753,-5.3869374518970892,1.9006418662821338,-8.0578656286336976,4.9618703373620301,null,null,null,null,null,null,null,null,null,null,null,65.641469408430183,401.69233781379126,115.69546009626168]
[756,{"$f":"OFFSET(Calculations!AS$43,$A904,0)-U$3-B$10","v":76.879641129952901},{"$f":"OFFSET(Calculations!AT$43,$A904,0)-V$3-B$11","v":525.38745721146086},{"$f":"OFFSET(Calculations!AU$43,$A904,0)-W$3-B$12","v":93.482404728009158},76.879641129952901,525.38745721146086,93.482404728009158,76.879641129952901,525.38745721146086,93.482404728009158,76.879641129952901,525.38745721146086,93.482404728009158,{"$f":"IF(P901=1,K904*B$1/(B$1+B$2+L904),99999)","v":2.8719253727151814},3.4921402609955656,null,null,null,null,null,{"$f":"(1*U895+9*U905)/10","v":-16.948637036557539},445.95283930211946,77.829990898266345,-3.9488492673043813,1.9945087062950733,-8.9339347074975937,0.16096088034787748,0.94522066928374215,0.3366512406606148,-5.5997949725358263,1.8837913558349562,-7.9133078004572956,4.9503370145841732,null,null,null,null,null,null,null,null,null,null,null,77.137289527972015,392.11349597891427,111.21306019424969]
[758,{"$f":"OFFSET(Calculations!AS$43,$A905,0)-U$3-B$10","v":71.906907372937482},{"$f":"OFFSET(Calculations!AT$43,$A905,0)-V$3-B$11","v":528.70544835379303},{"$f":"OFFSET(Calculations!AU$43,$A905,0)-W$3-B$12","v":85.465993201568821},71.906907372937482,528.70544835379303,85.465993201568821,71.906907372937482,528.70544835379303,85.465993201568821,71.906907372937482,528.70544835379303,85.465993201568821,{"$f":"IF(P901=1,K905*B$1/(B$1+B$2+L905),99999)","v":2.6696187162270117},3.17301387846515,null,null,null,null,{"$f":"T895+7","v":602},{"$f":"OFFSET(Calculations!AS$46,$T905,0)","v":-16.839620424104677},{"$f":"OFFSET(Calculations!AT$46,$T905,0)","v":446.8953207436665},{"$f":"OFFSET(Calculations!AU$46,$T905,0)","v":78.195007063367669},{"$f":"OFFSET(Calculations!AS$43,$T905,0)-OFFSET(Calculations!AS$45,$T905,0)","v":-4.1976400936334279},{"$f":"OFFSET(Calculations!AT$43,$T905,0)-OFFSET(Calculations!AT$45,$T905,0)","v":1.9926727600372374},{"$f":"OFFSET(Calculations!AU$43,$T905,0)-OFFSET(Calculations!AU$45,$T905,0)","v":-8.8548897743411317},0.16594732760376907,0.94556978308781936,0.33349453215991787,-5.8081388891809356,1.865309038020907,-7.7618005939122297,4.938769920612077,null,null,null,null,null,null,null,null,null,null,null,72.196344511816704,393.91880708627747,108.65865590673533]
[751,{"$f":"OFFSET(Calculations!AS$43,$A906,0)-U$3-B$10","v":71.985292509381068},{"$f":"OFFSET(Calculations!AT$43,$A906,0)-V$3-B$11","v":537.96439578111051},{"$f":"OFFSET(Calculations!AU$43,$A906,0)-W$3-B$12","v":89.462173502068794},71.985292509381068,537.96439578111051,89.462173502068794,71.985292509381068,537.96439578111051,89.462173502068794,71.985292509381068,537.96439578111051,89.462173502068794,{"$f":"IF(P901=1,K906*B$1/(B$1+B$2+L906),99999)","v":2.627371160010048},3.2652549760844427,null,null,null,null,null,{"$f":"(9*U905+U915)/10","v":-16.687384561066931},447.83939203915969,78.53989301736938,-4.4178246964171874,1.9772570782244316,-8.715500230712216,0.16823257169810724,0.94581953102027683,0.33159596185292628,-6.011969201832418,1.8451949128399867,-7.6033440089984996,4.9278094402628598,null,null,null,null,null,null,null,null,null,null,null,67.150108410952981,392.61060971513666,111.30840834113187]
[750,{"$f":"OFFSET(Calculations!AS$43,$A907,0)-U$3-B$10","v":76.158517594933642},{"$f":"OFFSET(Calculations!AT$43,$A907,0)-V$3-B$11","v":536.59923429862147},{"$f":"OFFSET(Calculations!AU$43,$A907,0)-W$3-B$12","v":93.303600647290125},76.158517594933642,536.59923429862147,93.303600647290125,76.158517594933642,536.59923429862147,93.303600647290125,76.158517594933642,536.59923429862147,93.303600647290125,{"$f":"IF(P901=1,K907*B$1/(B$1+B$2+L907),99999)","v":2.7866309652869456},3.4139674844958137,null,null,null,null,null,{"$f":"(8*U905+2*U915)/10","v":-16.53514869802919},448.78346333465299,78.884778971371063,-4.6380092992009478,1.9618413964116257,-8.5761106870833004,0.17051781579244363,0.94606927895256376,0.32969739154599154,-6.2130737994618555,1.8242977137643803,-7.441709583870634,4.9168182891880008,null,null,null,null,null,null,null,null,null,null,null,72.022182549431918,388.76875332797863,117.26685051082832]
[" ",null,null,null,null,null,null,null,null,null,null,null,null,null,null,null,null,null,null,null,{"$f":"(7*U905+3*U915)/10","v":-16.382912834991444},449.72753463014612,79.229664925372759,-4.8581939019847074,1.94642571459882,-8.4367211434543847,0.1728030598867818,0.94631902688507807,0.32779882123901416,-6.4114526820692461,1.8026174407940887,-7.2768973185286328,4.9057962084595754,null,null,null,null,null,null,null,null,null,null,null,79.134725751375925,392.01407323167007,111.1939905648735]
[{"$f":"A901+7","v":764},{"$f":"OFFSET(Calculations!AS$43,$A909,0)-U$3-B$10","v":77.620395449210562},{"$f":"OFFSET(Calculations!AT$43,$A909,0)-V$3-B$11","v":519.27925086752305},{"$f":"OFFSET(Calculations!AU$43,$A909,0)-W$3-B$12","v":83.288710816761736},{"$f":"B909*F$5+C909*F$4","v":77.620395449210562},{"$f":"C909*F$5-B909*F$4","v":519.27925086752305},{"$f":"D909","v":83.288710816761736},77.620395449210562,{"$f":"F909*F$7+G909*F$6","v":519.27925086752305},{"$f":"G909*F$7-F909*F$6","v":83.288710816761736},{"$f":"H909*F$9+J909*F$8","v":77.620395449210562},{"$f":"I909","v":519.27925086752305},{"$f":"J909*F$9-H909*F$8","v":83.288710816761736},{"$f":"IF(P909=1,K909*B$1/(B$1+B$2+L909),99999)","v":2.9330602067617688},{"$f":"M909*B$1/(B$1+B$2+L909)","v":3.1472501776801618},{"$f":"IF(MIN(L909:L915)+B$2+B$1>0,1,0)","v":1},null,null,null,null,{"$f":"(6*U905+4*U915)/10","v":-16.230676971953699},450.67160592563931,79.57455087937447,-5.0783785047684677,1.931010032786014,-8.2973315998254691,0.17508830398111641,0.9465687748174787,0.32590025093205099,-6.6071058496545909,1.7801540939291109,-7.1089072129724968,4.8947429354858283,null,null,null,null,null,null,null,null,null,null,null,71.883306640825452,384.6621253062105,124.13098336012825]
[757,{"$f":"OFFSET(Calculations!AS$43,$A910,0)-U$3-B$10","v":76.976583421980919},{"$f":"OFFSET(Calculations!AT$43,$A910,0)-V$3-B$11","v":527.97076865684471},{"$f":"OFFSET(Calculations!AU$43,$A910,0)-W$3-B$12","v":88.254296917407146},76.976583421980919,527.97076865684471,88.254296917407146,76.976583421980919,527.97076865684471,88.254296917407146,76.976583421980919,527.97076865684471,88.254296917407146,{"$f":"IF(P909=1,K910*B$1/(B$1+B$2+L910),99999)","v":2.8617385146843159},3.2810071498030369,null,null,null,null,null,{"$f":"(5*U905+5*U915)/10","v":-16.078441108915957},451.61567722113261,79.919436833376182,-5.2985631075522281,1.9155943509732083,-8.1579420561965534,0.17908709749409368,0.94720163283437842,0.32159206263379758,-6.8000333022178898,1.7569076731694473,-6.9377392672022244,4.8836582039381806,null,null,null,null,null,null,null,null,null,null,null,65.152672187549015,392.71003246238132,111.32747797050848]
[756,{"$f":"OFFSET(Calculations!AS$43,$A911,0)-U$3-B$10","v":76.879641129952901},{"$f":"OFFSET(Calculations!AT$43,$A911,0)-V$3-B$11","v":525.38745721146086},{"$f":"OFFSET(Calculations!AU$43,$A911,0)-W$3-B$12","v":93.482404728009158},76.879641129952901,525.38745721146086,93.482404728009158,76.879641129952901,525.38745721146086,93.482404728009158,76.879641129952901,525.38745721146086,93.482404728009158,{"$f":"IF(P909=1,K911*B$1/(B$1+B$2+L911),99999)","v":2.8719253727151814},3.4921402609955656,null,null,null,null,null,{"$f":"(4*U905+6*U915)/10","v":-15.926205245878212},452.55974851662575,80.264322787377878,-5.5187477103359877,1.9001786691604026,-8.0185525125676378,0.1830858910070674,0.94783449085105076,0.31728387433548733,-6.9867572516609249,1.7322141293897395,-6.7610259035030289,4.8725417436763561,null,null,null,null,null,null,null,null,null,null,null,76.661812765665417,383.5459839268259,106.07772582482205]
[763,{"$f":"OFFSET(Calculations!AS$43,$A912,0)-U$3-B$10","v":79.027975396448525},{"$f":"OFFSET(Calculations!AT$43,$A912,0)-V$3-B$11","v":516.92523675551831},{"$f":"OFFSET(Calculations!AU$43,$A912,0)-W$3-B$12","v":88.434712827746608},79.027975396448525,516.92523675551831,88.434712827746608,79.027975396448525,516.92523675551831,88.434712827746608,79.027975396448525,516.92523675551831,88.434712827746608,{"$f":"IF(P909=1,K912*B$1/(B$1+B$2+L912),99999)","v":2.9995896906762036},3.3566322756629838,null,null,null,null,null,{"$f":"(3*U905+7*U915)/10","v":-15.773969382840466},453.50381981211905,80.609208741379575,-5.7389323131197472,1.8847629873475966,-7.8791629689387221,0.18708468452003935,0.94846734886783679,0.31297568603720549,-7.167277697983697,1.7060734625899874,-6.5787671218749102,4.8613932806715621,null,null,null,null,null,null,null,null,null,null,null,71.702803127396919,385.01953453668028,103.36084378694132]
[765,{"$f":"OFFSET(Calculations!AS$43,$A913,0)-U$3-B$10","v":71.99796403034847},{"$f":"OFFSET(Calculations!AT$43,$A913,0)-V$3-B$11","v":519.33344311992084},{"$f":"OFFSET(Calculations!AU$43,$A913,0)-W$3-B$12","v":81.742965499958729},71.99796403034847,519.33344311992084,81.742965499958729,71.99796403034847,519.33344311992084,81.742965499958729,71.99796403034847,519.33344311992084,81.742965499958729,{"$f":"IF(P909=1,K913*B$1/(B$1+B$2+L913),99999)","v":2.7203255326543685},3.0885245042580767,null,null,null,null,null,{"$f":"(2*U905+8*U915)/10","v":-15.621733519802723},454.44789110761224,80.954094695381272,-5.9591169159035076,1.8693473055347909,-7.7397734253098065,0.19108347803301662,0.94910020688467966,0.30866749773892366,-7.3415946411862061,1.6784856727701916,-6.3909629223178692,4.8502125369276783,null,null,null,null,null,null,null,null,null,null,null,66.674631648646184,384.04309766304846,106.17307397170418]
[758,{"$f":"OFFSET(Calculations!AS$43,$A914,0)-U$3-B$10","v":71.906907372937482},{"$f":"OFFSET(Calculations!AT$43,$A914,0)-V$3-B$11","v":528.70544835379303},{"$f":"OFFSET(Calculations!AU$43,$A914,0)-W$3-B$12","v":85.465993201568821},71.906907372937482,528.70544835379303,85.465993201568821,71.906907372937482,528.70544835379303,85.465993201568821,71.906907372937482,528.70544835379303,85.465993201568821,{"$f":"IF(P909=1,K914*B$1/(B$1+B$2+L914),99999)","v":2.6696187162270117},3.17301387846515,null,null,null,null,null,{"$f":"(1*U905+9*U915)/10","v":-15.469497656764977},455.39196240310537,81.298980649382983,-6.179301518687268,1.8539316237219849,-7.6003838816808909,0.19508227154598856,0.94973306490140885,0.30435930944064182,-7.5097080812684522,1.6494507599303512,-6.1976133048319042,4.8389992304003702,null,null,null,null,null,null,null,null,null,null,null,71.588173780671966,380.9589071334949,112.52483534113711]
[757,{"$f":"OFFSET(Calculations!AS$43,$A915,0)-U$3-B$10","v":76.976583421980919},{"$f":"OFFSET(Calculations!AT$43,$A915,0)-V$3-B$11","v":527.97076865684471},{"$f":"OFFSET(Calculations!AU$43,$A915,0)-W$3-B$12","v":88.254296917407146},76.976583421980919,527.97076865684471,88.254296917407146,76.976583421980919,527.97076865684471,88.254296917407146,76.976583421980919,527.97076865684471,88.254296917407146,{"$f":"IF(P909=1,K915*B$1/(B$1+B$2+L915),99999)","v":2.8617385146843159},3.2810071498030369,null,null,null,null,{"$f":"T905+7","v":609},{"$f":"OFFSET(Calculations!AS$46,$T915,0)","v":-15.317261793727234},{"$f":"OFFSET(Calculations!AT$46,$T915,0)","v":456.33603369859867},{"$f":"OFFSET(Calculations!AU$46,$T915,0)","v":81.64386660338468},{"$f":"OFFSET(Calculations!AS$43,$T915,0)-OFFSET(Calculations!AS$45,$T915,0)","v":-6.3994861214710275},{"$f":"OFFSET(Calculations!AT$43,$T915,0)-OFFSET(Calculations!AT$45,$T915,0)","v":1.8385159419091792},{"$f":"OFFSET(Calculations!AU$43,$T915,0)-OFFSET(Calculations!AU$45,$T915,0)","v":-7.4609943380519752},0.19908106505896228,0.95036592291830857,0.30005112114233157,-7.6716180182304345,1.6189687240704664,-5.998718269417016,4.8277530749140825,null,null,null,null,null,null,null,null,null,null,null,78.659248989069354,383.44656117958164,106.05865619544549]
[" ",null,null,null,null,null,null,null,null,null,null,null,null,null,null,null,null,null,null,null,{"$f":"(9*U915+U925)/10","v":-15.128462025180088},457.28410096101072,81.958375432474952,-6.5760592839020493,1.810571077781401,-7.2707593509968884,0.20079461447759606,0.95074903300263713,0.29764150315104132,-7.8273244520721539,1.5870395651905376,-5.7942778160732056,4.8174685847091983,null,null,null,null,null,null,null,null,null,null,null,71.496689864690353,377.71818294898981,119.83847584727923]
[{"$f":"A909+7","v":771},{"$f":"OFFSET(Calculations!AS$43,$A917,0)-U$3-B$10","v":78.1561913691651},{"$f":"OFFSET(Calculations!AT$43,$A917,0)-V$3-B$11","v":510.07523875843697},{"$f":"OFFSET(Calculations!AU$43,$A917,0)-W$3-B$12","v":78.267482892935391},{"$f":"B917*F$5+C917*F$4","v":78.1561913691651},{"$f":"C917*F$5-B917*F$4","v":510.07523875843697},{"$f":"D917","v":78.267482892935391},78.1561913691651,{"$f":"F917*F$7+G917*F$6","v":510.07523875843697},{"$f":"G917*F$7-F917*F$6","v":78.267482892935391},{"$f":"H917*F$9+J917*F$8","v":78.1561913691651},{"$f":"I917","v":510.07523875843697},{"$f":"J917*F$9-H917*F$8","v":78.267482892935391},{"$f":"IF(P917=1,K917*B$1/(B$1+B$2+L917),99999)","v":3.0055724843099809},{"$f":"M917*B$1/(B$1+B$2+L917)","v":3.0098523082845268},{"$f":"IF(MIN(L917:L923)+B$2+B$1>0,1,0)","v":1},null,null,null,null,{"$f":"(8*U915+2*U925)/10","v":-14.939662256632946},458.23216822342283,82.272884261565224,-6.7526324463330711,1.7826262136536228,-7.0805243639418025,0.20250816389623338,0.9511321430869657,0.29523188515972265,-7.9795530978156561,1.5544463571852503,-5.5874697850146067,4.8071563125210766,null,null,null,null,null,null,null,null,null,null,null,64.677195425242303,384.142520410293,106.19214360108072]
[764,{"$f":"OFFSET(Calculations!AS$43,$A918,0)-U$3-B$10","v":77.620395449210562},{"$f":"OFFSET(Calculations!AT$43,$A918,0)-V$3-B$11","v":519.27925086752305},{"$f":"OFFSET(Calculations!AU$43,$A918,0)-W$3-B$12","v":83.288710816761736},77.620395449210562,519.27925086752305,83.288710816761736,77.620395449210562,519.27925086752305,83.288710816761736,77.620395449210562,519.27925086752305,83.288710816761736,{"$f":"IF(P917=1,K918*B$1/(B$1+B$2+L918),99999)","v":2.9330602067617688},3.1472501776801618,null,null,null,null,null,{"$f":"(7*U915+3*U925)/10","v":-14.750862488085801},459.18023548583488,82.587393090655468,-6.929205608764093,1.7546813495258449,-6.8902893768867157,0.20422171331486894,0.95151525317129426,0.29282226716841819,-8.1283039554609413,1.5211891000546047,-5.3782941762412211,4.7968160319794944,null,null,null,null,null,null,null,null,null,null,null,76.168724240297323,374.41674273460745,102.02632866329243]
[763,{"$f":"OFFSET(Calculations!AS$43,$A919,0)-U$3-B$10","v":79.027975396448525},{"$f":"OFFSET(Calculations!AT$43,$A919,0)-V$3-B$11","v":516.92523675551831},{"$f":"OFFSET(Calculations!AU$43,$A919,0)-W$3-B$12","v":88.434712827746608},79.027975396448525,516.92523675551831,88.434712827746608,79.027975396448525,516.92523675551831,88.434712827746608,79.027975396448525,516.92523675551831,88.434712827746608,{"$f":"IF(P917=1,K919*B$1/(B$1+B$2+L919),99999)","v":2.9995896906762036},3.3566322756629838,null,null,null,null,null,{"$f":"(6*U915+4*U925)/10","v":-14.562062719538655},460.12830274824694,82.901901919745754,-7.1057787711951139,1.7267364853980667,-6.7000543898316298,0.20593526273350626,0.95189836325573651,0.29041264917708531,-8.2735770250080112,1.4872677937986005,-5.1667509897530479,4.7864475136232834,null,null,null,null,null,null,null,null,null,null,null,71.16995637140316,375.13289877181342,99.093801067333089]
[770,{"$f":"OFFSET(Calculations!AS$43,$A920,0)-U$3-B$10","v":80.936767834466181},{"$f":"OFFSET(Calculations!AT$43,$A920,0)-V$3-B$11","v":508.54507394156826},{"$f":"OFFSET(Calculations!AU$43,$A920,0)-W$3-B$12","v":83.159005166607415},80.936767834466181,508.54507394156826,83.159005166607415,80.936767834466181,508.54507394156826,83.159005166607415,80.936767834466181,508.54507394156826,83.159005166607415,{"$f":"IF(P917=1,K920*B$1/(B$1+B$2+L920),99999)","v":3.1216868851631001},3.2073973641094931,null,null,null,null,null,{"$f":"(5*U915+5*U925)/10","v":-14.373262950991512},461.07637001065905,83.216410748836012,-7.2823519336261358,1.6987916212702885,-6.509819402776543,0.20867389133397118,0.9527718372572167,0.28524657699411193,-8.4153723064568613,1.4526824384172379,-4.9528402255500881,4.7760505248409189,null,null,null,null,null,null,null,null,null,null,null,66.181543123278132,374.91385647083018,102.12167681017453]
[772,{"$f":"OFFSET(Calculations!AS$43,$A921,0)-U$3-B$10","v":72.32856251623798},{"$f":"OFFSET(Calculations!AT$43,$A921,0)-V$3-B$11","v":509.87938024405577},{"$f":"OFFSET(Calculations!AU$43,$A921,0)-W$3-B$12","v":78.24795355922555},72.32856251623798,509.87938024405577,78.24795355922555,72.32856251623798,509.87938024405577,78.24795355922555,72.32856251623798,509.87938024405577,78.24795355922555,{"$f":"IF(P917=1,K921*B$1/(B$1+B$2+L921),99999)","v":2.7825132238283259},3.0102349326681237,null,null,null,null,null,{"$f":"(4*U915+6*U925)/10","v":-14.184463182444366},462.0244372730711,83.530919577926284,-7.4589250960571576,1.6708467571425103,-6.3195844157214562,0.21141251993443611,0.95364531125881058,0.28008050481115276,-8.5496969441446868,1.416933263404984,-4.7351659149255596,4.7656248298096315,null,null,null,null,null,null,null,null,null,null,null,71.187147330193966,373.58026285675339,108.98938782594993]
[765,{"$f":"OFFSET(Calculations!AS$43,$A922,0)-U$3-B$10","v":71.99796403034847},{"$f":"OFFSET(Calculations!AT$43,$A922,0)-V$3-B$11","v":519.33344311992084},{"$f":"OFFSET(Calculations!AU$43,$A922,0)-W$3-B$12","v":81.742965499958729},71.99796403034847,519.33344311992084,81.742965499958729,71.99796403034847,519.33344311992084,81.742965499958729,71.99796403034847,519.33344311992084,81.742965499958729,{"$f":"IF(P917=1,K922*B$1/(B$1+B$2+L922),99999)","v":2.7203255326543685},3.0885245042580767,null,null,null,null,null,{"$f":"(3*U915+7*U925)/10","v":-13.995663413897223},462.97250453548315,83.845428407016541,-7.6354982584881785,1.6429018930147321,-6.1293494286663703,0.21415114853489925,0.95451878526029077,0.27491443262817938,-8.6765509380714843,1.380020268761839,-4.5137280578794661,4.755170189432997,null,null,null,null,null,null,null,null,null,null,null,78.166160463701161,374.31731998736274,102.00725903391586]
[764,{"$f":"OFFSET(Calculations!AS$43,$A923,0)-U$3-B$10","v":77.620395449210562},{"$f":"OFFSET(Calculations!AT$43,$A923,0)-V$3-B$11","v":519.27925086752305},{"$f":"OFFSET(Calculations!AU$43,$A923,0)-W$3-B$12","v":83.288710816761736},77.620395449210562,519.27925086752305,83.288710816761736,77.620395449210562,519.27925086752305,83.288710816761736,77.620395449210562,519.27925086752305,83.288710816761736,{"$f":"IF(P917=1,K923*B$1/(B$1+B$2+L923),99999)","v":2.9330602067617688},3.1472501776801618,null,null,null,null,null,{"$f":"(2*U915+8*U925)/10","v":-13.806863645350081},463.92057179789515,84.159937236106813,-7.8120714209192004,1.6149570288869541,-5.9391144416112835,0.21688977713536595,0.95539225926188465,0.26974836044519179,-8.7959342882372571,1.3419434544878028,-4.2885266544118039,4.7446863612769601,null,null,null,null,null,null,null,null,null,null,null,71.200877214086546,372.34022086136463,116.89268507076883]
[" ",null,null,null,null,null,null,null,null,null,null,null,null,null,null,null,null,null,null,null,{"$f":"(1*U915+9*U925)/10","v":-13.618063876802935},464.86863906030732,84.474446065197085,-7.9886445833502222,1.5870121647591759,-5.7488794545561976,0.21962840573582909,0.95626573326336484,0.26458228826223262,-8.907846994642,1.3027028205828757,-4.059561704522574,4.7341730995042415,null,null,null,null,null,null,null,null,null,null,null,64.184106899874294,375.01327921807439,102.14074643955112]
[{"$f":"A917+7","v":778},{"$f":"OFFSET(Calculations!AS$43,$A925,0)-U$3-B$10","v":77.768365037803832},{"$f":"OFFSET(Calculations!AT$43,$A925,0)-V$3-B$11","v":500.05359279251149},{"$f":"OFFSET(Calculations!AU$43,$A925,0)-W$3-B$12","v":74.677611987577635},{"$f":"B925*F$5+C925*F$4","v":77.768365037803832},{"$f":"C925*F$5-B925*F$4","v":500.05359279251149},{"$f":"D925","v":74.677611987577635},77.768365037803832,{"$f":"F925*F$7+G925*F$6","v":500.05359279251149},{"$f":"G925*F$7-F925*F$6","v":74.677611987577635},{"$f":"H925*F$9+J925*F$8","v":77.768365037803832},{"$f":"I925","v":500.05359279251149},{"$f":"J925*F$9-H925*F$8","v":74.677611987577635},{"$f":"IF(P925=1,K925*B$1/(B$1+B$2+L925),99999)","v":3.0494193605039386},{"$f":"M925*B$1/(B$1+B$2+L925)","v":2.9282260939962166},{"$f":"IF(MIN(L925:L931)+B$2+B$1>0,1,0)","v":1},null,null,null,{"$f":"T915+7","v":616},{"$f":"OFFSET(Calculations!AS$46,$T925,0)","v":-13.42926410825579},{"$f":"OFFSET(Calculations!AT$46,$T925,0)","v":465.81670632271931},{"$f":"OFFSET(Calculations!AU$46,$T925,0)","v":84.788954894287343},{"$f":"OFFSET(Calculations!AS$43,$T925,0)-OFFSET(Calculations!AS$45,$T925,0)","v":-8.1652177457812432},{"$f":"OFFSET(Calculations!AT$43,$T925,0)-OFFSET(Calculations!AT$45,$T925,0)","v":1.5590673006313978},{"$f":"OFFSET(Calculations!AU$43,$T925,0)-OFFSET(Calculations!AU$45,$T925,0)","v":-5.5586444675011109},0.22236703433629579,0.95713920726490187,0.25941621607925924,-9.0122890572857184,1.2622983670470571,-3.8268332082117769,4.7236301548070738,null,null,null,null,null,null,null,null,null,null,null,75.662840074276914,364.55012146902834,100.47911632744514]
[771,{"$f":"OFFSET(Calculations!AS$43,$A926,0)-U$3-B$10","v":78.1561913691651},{"$f":"OFFSET(Calculations!AT$43,$A926,0)-V$3-B$11","v":510.07523875843697},{"$f":"OFFSET(Calculations!AU$43,$A926,0)-W$3-B$12","v":78.267482892935391},78.1561913691651,510.07523875843697,78.267482892935391,78.1561913691651,510.07523875843697,78.267482892935391,78.1561913691651,510.07523875843697,78.267482892935391,{"$f":"IF(P925=1,K926*B$1/(B$1+B$2+L926),99999)","v":3.0055724843099809},3.0098523082845268,null,null,null,null,null,{"$f":"(9*U925+U935)/10","v":-13.213047549010469},466.7709033464813,85.064909835516531,-8.2861462986407926,1.5204976504978844,-5.3305282370094265,0.22339211351811805,0.95762957118193981,0.25665976188760453,-9.1092604761684086,1.2207300938803474,-3.5903411654794128,4.7143549634467155,null,null,null,null,null,null,null,null,null,null,null,70.624839166171029,364.48062134704702,97.533300589699422]
[770,{"$f":"OFFSET(Calculations!AS$43,$A927,0)-U$3-B$10","v":80.936767834466181},{"$f":"OFFSET(Calculations!AT$43,$A927,0)-V$3-B$11","v":508.54507394156826},{"$f":"OFFSET(Calculations!AU$43,$A927,0)-W$3-B$12","v":83.159005166607415},80.936767834466181,508.54507394156826,83.159005166607415,80.936767834466181,508.54507394156826,83.159005166607415,80.936767834466181,508.54507394156826,83.159005166607415,{"$f":"IF(P925=1,K927*B$1/(B$1+B$2+L927),99999)","v":3.1216868851631001},3.2073973641094931,null,null,null,null,null,{"$f":"(8*U925+2*U935)/10","v":-12.996830989765144},467.72510037024313,85.340864776745704,-8.4070748515003437,1.4819280003643711,-5.1024120065177412,0.22441719269995097,0.95811993509926197,0.25390330769596403,-9.2022390393882887,1.1786620502081049,-3.3524531540402691,4.7050565527632582,null,null,null,null,null,null,null,null,null,null,null,65.675658957257426,365.04723520525101,100.57446447432736]
[777,{"$f":"OFFSET(Calculations!AS$43,$A928,0)-U$3-B$10","v":81.77661487888362},{"$f":"OFFSET(Calculations!AT$43,$A928,0)-V$3-B$11","v":499.45618854892109},{"$f":"OFFSET(Calculations!AU$43,$A928,0)-W$3-B$12","v":78.870587282719328},81.77661487888362,499.45618854892109,78.870587282719328,81.77661487888362,499.45618854892109,78.870587282719328,81.77661487888362,499.45618854892109,78.870587282719328,{"$f":"IF(P925=1,K928*B$1/(B$1+B$2+L928),99999)","v":3.2103492593467995},3.0962657459266762,null,null,null,null,null,{"$f":"(7*U925+3*U935)/10","v":-12.780614430519822},468.67929739400495,85.616819717974877,-8.5280034043598913,1.443358350230858,-4.8742957760260568,0.22544227188177679,0.95861029901641359,0.2511468535042809,-9.2912247469453604,1.1360942360303299,-3.1131691738943452,4.6957347474983457,null,null,null,null,null,null,null,null,null,null,null,70.772506528777882,365.53818196778127,107.4868530708292]
[779,{"$f":"OFFSET(Calculations!AS$43,$A929,0)-U$3-B$10","v":72.147335061769994},{"$f":"OFFSET(Calculations!AT$43,$A929,0)-V$3-B$11","v":500.00048328264205},{"$f":"OFFSET(Calculations!AU$43,$A929,0)-W$3-B$12","v":76.228483301689579},72.147335061769994,500.00048328264205,76.228483301689579,72.147335061769994,500.00048328264205,76.228483301689579,72.147335061769994,500.00048328264205,76.228483301689579,{"$f":"IF(P925=1,K929*B$1/(B$1+B$2+L929),99999)","v":2.829304576238449},2.9893494535942935,null,null,null,null,null,{"$f":"(6*U925+4*U935)/10","v":-12.564397871274497},469.63349441776688,85.892774659204065,-8.6489319572194425,1.4047887000973447,-4.6461795455343715,0.22646735106360794,0.95910066293356522,0.24839039931265461,-9.3762175988396219,1.0930266513470219,-2.8724892250416412,4.6863893701777304,null,null,null,null,null,null,null,null,null,null,null,77.660276297680539,364.45069872178402,100.46004669806867]
[772,{"$f":"OFFSET(Calculations!AS$43,$A930,0)-U$3-B$10","v":72.32856251623798},{"$f":"OFFSET(Calculations!AT$43,$A930,0)-V$3-B$11","v":509.87938024405577},{"$f":"OFFSET(Calculations!AU$43,$A930,0)-W$3-B$12","v":78.24795355922555},72.32856251623798,509.87938024405577,78.24795355922555,72.32856251623798,509.87938024405577,78.24795355922555,72.32856251623798,509.87938024405577,78.24795355922555,{"$f":"IF(P925=1,K930*B$1/(B$1+B$2+L930),99999)","v":2.7825132238283259},3.0102349326681237,null,null,null,null,null,{"$f":"(5*U925+5*U935)/10","v":-12.348181312029176},470.58769144152882,86.168729600433238,-8.7698605100789901,1.3662190499638314,-4.4180633150426871,0.22775918173823939,0.96015522711007861,0.24271850252686988,-9.4572175950710733,1.0494592961581812,-2.6304133074821574,4.6770202410718484,null,null,null,null,null,null,null,null,null,null,null,70.890514543647384,366.38332897422845,115.44121040790677]
[771,{"$f":"OFFSET(Calculations!AS$43,$A931,0)-U$3-B$10","v":78.1561913691651},{"$f":"OFFSET(Calculations!AT$43,$A931,0)-V$3-B$11","v":510.07523875843697},{"$f":"OFFSET(Calculations!AU$43,$A931,0)-W$3-B$12","v":78.267482892935391},78.1561913691651,510.07523875843697,78.267482892935391,78.1561913691651,510.07523875843697,78.267482892935391,78.1561913691651,510.07523875843697,78.267482892935391,{"$f":"IF(P925=1,K931*B$1/(B$1+B$2+L931),99999)","v":3.0055724843099809},3.0098523082845268,null,null,null,null,null,{"$f":"(4*U925+6*U935)/10","v":-12.131964752783855},471.5418884652907,86.444684541662411,-8.8907890629385413,1.327649399830318,-4.1899470845510027,0.22905101241287085,0.96120979128670569,0.23704660574118464,-9.5299889189272253,1.0050907371121451,-2.3866121944775411,4.6676271781554872,null,null,null,null,null,null,null,null,null,null,null,63.678222733853453,365.14665795249567,100.59353410370386]
[" ",null,null,null,null,null,null,null,null,null,null,null,null,null,null,null,null,null,null,null,{"$f":"(3*U925+7*U935)/10","v":-11.91574819353853},472.49608548905263,86.720639482891585,-9.0117176157980907,1.2890797496968047,-3.9618308540593175,0.23034284308750586,0.96226435546316225,0.23137470895544254,-9.5945315704080762,0.95992097420891331,-2.1410858860277924,4.6582099970665283,null,null,null,null,null,null,null,null,null,null,null,75.178635437504653,354.61851406397602,101.54152878107894]
[{"$f":"A925+7","v":785},{"$f":"OFFSET(Calculations!AS$43,$A933,0)-U$3-B$10","v":76.9918163435119},{"$f":"OFFSET(Calculations!AT$43,$A933,0)-V$3-B$11","v":489.36777926897099},{"$f":"OFFSET(Calculations!AU$43,$A933,0)-W$3-B$12","v":73.400206556089955},{"$f":"B933*F$5+C933*F$4","v":76.9918163435119},{"$f":"C933*F$5-B933*F$4","v":489.36777926897099},{"$f":"D933","v":73.400206556089955},76.9918163435119,{"$f":"F933*F$7+G933*F$6","v":489.36777926897099},{"$f":"G933*F$7-F933*F$6","v":73.400206556089955},{"$f":"H933*F$9+J933*F$8","v":76.9918163435119},{"$f":"I933","v":489.36777926897099},{"$f":"J933*F$9-H933*F$8","v":73.400206556089955},{"$f":"IF(P933=1,K933*B$1/(B$1+B$2+L933),99999)","v":3.0835716495854384},{"$f":"M933*B$1/(B$1+B$2+L933)","v":2.9397253728921471},{"$f":"IF(MIN(L933:L939)+B$2+B$1>0,1,0)","v":1},null,null,null,null,{"$f":"(2*U925+8*U935)/10","v":-11.699531634293209},473.45028251281445,86.996594424120786,-9.1326461686576401,1.2505100995632916,-3.7337146235676331,0.23163467376213376,0.96331891963973248,0.22570281216972887,-9.6508455495136314,0.91395000744848598,-1.8938343821329104,4.6487685110637242,null,null,null,null,null,null,null,null,null,null,null,70.123295566143398,354.1880402611157,98.661551855811098]
[778,{"$f":"OFFSET(Calculations!AS$43,$A934,0)-U$3-B$10","v":77.768365037803832},{"$f":"OFFSET(Calculations!AT$43,$A934,0)-V$3-B$11","v":500.05359279251149},{"$f":"OFFSET(Calculations!AU$43,$A934,0)-W$3-B$12","v":74.677611987577635},77.768365037803832,500.05359279251149,74.677611987577635,77.768365037803832,500.05359279251149,74.677611987577635,77.768365037803832,500.05359279251149,74.677611987577635,{"$f":"IF(P933=1,K934*B$1/(B$1+B$2+L934),99999)","v":3.0494193605039386},2.9282260939962166,null,null,null,null,null,{"$f":"(1*U925+9*U935)/10","v":-11.483315075047885},474.40447953657639,87.27254936534996,-9.2535747215171895,1.2119404494297783,-3.5055983930759482,0.23292650443676699,0.96437348381630272,0.22003091538400099,-9.698930856243889,0.86717783683086336,-1.6448576827928958,4.6393025309834979,null,null,null,null,null,null,null,null,null,null,null,65.191454320485477,355.11562780019858,101.63687692796123]
[777,{"$f":"OFFSET(Calculations!AS$43,$A935,0)-U$3-B$10","v":81.77661487888362},{"$f":"OFFSET(Calculations!AT$43,$A935,0)-V$3-B$11","v":499.45618854892109},{"$f":"OFFSET(Calculations!AU$43,$A935,0)-W$3-B$12","v":78.870587282719328},81.77661487888362,499.45618854892109,78.870587282719328,81.77661487888362,499.45618854892109,78.870587282719328,81.77661487888362,499.45618854892109,78.870587282719328,{"$f":"IF(P933=1,K935*B$1/(B$1+B$2+L935),99999)","v":3.2103492593467995},3.0962657459266762,null,null,null,null,{"$f":"T925+7","v":623},{"$f":"OFFSET(Calculations!AS$46,$T935,0)","v":-11.267098515802562},{"$f":"OFFSET(Calculations!AT$46,$T935,0)","v":475.35867656033827},{"$f":"OFFSET(Calculations!AU$46,$T935,0)","v":87.548504306579133},{"$f":"OFFSET(Calculations!AS$43,$T935,0)-OFFSET(Calculations!AS$45,$T935,0)","v":-9.3745032743767389},{"$f":"OFFSET(Calculations!AT$43,$T935,0)-OFFSET(Calculations!AT$45,$T935,0)","v":1.173370799296265},{"$f":"OFFSET(Calculations!AU$43,$T935,0)-OFFSET(Calculations!AU$45,$T935,0)","v":-3.2774821625842634},0.23421833511139312,0.96542804799287296,0.21435901859828732,-9.7387874905988436,0.819604462356045,-1.3941557880077489,4.6298118651957161,null,null,null,null,null,null,null,null,null,null,null,70.328839020698894,356.44831334619289,108.40675341704949]
[784,{"$f":"OFFSET(Calculations!AS$43,$A936,0)-U$3-B$10","v":81.702246814328603},{"$f":"OFFSET(Calculations!AT$43,$A936,0)-V$3-B$11","v":489.62826857943651},{"$f":"OFFSET(Calculations!AU$43,$A936,0)-W$3-B$12","v":76.829491789173346},81.702246814328603,489.62826857943651,76.829491789173346,81.702246814328603,489.62826857943651,76.829491789173346,81.702246814328603,489.62826857943651,76.829491789173346,{"$f":"IF(P933=1,K936*B$1/(B$1+B$2+L936),99999)","v":3.2705213836930311},3.0754661663807812,null,null,null,null,null,{"$f":"(9*U935+U945)/10","v":-11.034480689647983},476.32071940677486,87.780355980741859,-9.4315461366313311,1.1268048210742279,-3.0270304327841004,0.23448508660419876,0.96599224825217789,0.21144357600421415,-9.7704154525785025,0.77122988402403114,-1.1417286977774692,4.6218187776550774,null,null,null,null,null,null,null,null,null,null,null,77.176071660908519,354.5190913167317,101.52245915170263]
[786,{"$f":"OFFSET(Calculations!AS$43,$A937,0)-U$3-B$10","v":71.752600543679975},{"$f":"OFFSET(Calculations!AT$43,$A937,0)-V$3-B$11","v":489.97606853467391},{"$f":"OFFSET(Calculations!AU$43,$A937,0)-W$3-B$12","v":75.889505470068457},71.752600543679975,489.97606853467391,75.889505470068457,71.752600543679975,489.97606853467391,75.889505470068457,71.752600543679975,489.97606853467391,75.889505470068457,{"$f":"IF(P933=1,K937*B$1/(B$1+B$2+L937),99999)","v":2.870241399912278},3.0357255175226623,null,null,null,null,null,{"$f":"(8*U935+2*U945)/10","v":-10.801862863493405},477.28276225321133,88.012207654904572,-9.4885889988859233,1.0802388428521907,-2.7765787029839375,0.23475183809700439,0.9665564485115965,0.20852813341014098,-9.7978075978456722,0.72255387234035451,-0.88897238080883645,4.6138080108985093,null,null,null,null,null,null,null,null,null,null,null,70.493175182646098,358.25544753374288,116.19823977422595]
[779,{"$f":"OFFSET(Calculations!AS$43,$A938,0)-U$3-B$10","v":72.147335061769994},{"$f":"OFFSET(Calculations!AT$43,$A938,0)-V$3-B$11","v":500.00048328264205},{"$f":"OFFSET(Calculations!AU$43,$A938,0)-W$3-B$12","v":76.228483301689579},72.147335061769994,500.00048328264205,76.228483301689579,72.147335061769994,500.00048328264205,76.228483301689579,72.147335061769994,500.00048328264205,76.228483301689579,{"$f":"IF(P933=1,K938*B$1/(B$1+B$2+L938),99999)","v":2.829304576238449},2.9893494535942935,null,null,null,null,null,{"$f":"(7*U935+3*U945)/10","v":-10.569245037338826},478.24480509964798,88.244059329067284,-9.5456318611405155,1.0336728646301538,-2.5261269731837741,0.23501858958980471,0.96712064877090143,0.2056126908160536,-9.8209639264003528,0.6735764273050151,-0.63588683710185123,4.6057794470951166,null,null,null,null,null,null,null,null,null,null,null,63.194018097081653,355.21505054744313,101.65594655733759]
[778,{"$f":"OFFSET(Calculations!AS$43,$A939,0)-U$3-B$10","v":77.768365037803832},{"$f":"OFFSET(Calculations!AT$43,$A939,0)-V$3-B$11","v":500.05359279251149},{"$f":"OFFSET(Calculations!AU$43,$A939,0)-W$3-B$12","v":74.677611987577635},77.768365037803832,500.05359279251149,74.677611987577635,77.768365037803832,500.05359279251149,74.677611987577635,77.768365037803832,500.05359279251149,74.677611987577635,{"$f":"IF(P933=1,K939*B$1/(B$1+B$2+L939),99999)","v":3.0494193605039386},2.9282260939962166,null,null,null,null,null,{"$f":"(6*U935+4*U945)/10","v":-10.336627211184247},479.20684794608451,88.475911003229996,-9.6026747233951077,0.98710688640811672,-2.2756752433836112,0.23528534108261034,0.96768484903037688,0.20269724822198043,-9.8398844382425459,0.62429754891801281,-0.38247206665651312,4.5977329670992653,null,null,null,null,null,null,null,null,null,null,null,74.71601693778058,344.88968224292449,103.80776255573846]
[" ",null,null,null,null,null,null,null,null,null,null,null,null,null,null,null,null,null,null,null,{"$f":"(5*U935+5*U945)/10","v":-10.104009385029666},480.16889079252104,88.707762677392722,-9.6597175856496982,0.94054090818607961,-2.0252235135834482,0.23504233770578153,0.96884863657606957,0.1969060572261867,-9.854569133372248,0.57471723717934786,-0.12872806947282231,4.5896684504299561,null,null,null,null,null,null,null,null,null,null,null,69.67308696368427,344.71714564604173,100.88285306821462]
[{"$f":"A933+7","v":792},{"$f":"OFFSET(Calculations!AS$43,$A941,0)-U$3-B$10","v":76.163702772436849},{"$f":"OFFSET(Calculations!AT$43,$A941,0)-V$3-B$11","v":478.73693374472458},{"$f":"OFFSET(Calculations!AU$43,$A941,0)-W$3-B$12","v":75.003388649180749},{"$f":"B941*F$5+C941*F$4","v":76.163702772436849},{"$f":"C941*F$5-B941*F$4","v":478.73693374472458},{"$f":"D941","v":75.003388649180749},76.163702772436849,{"$f":"F941*F$7+G941*F$6","v":478.73693374472458},{"$f":"G941*F$7-F941*F$6","v":75.003388649180749},{"$f":"H941*F$9+J941*F$8","v":76.163702772436849},{"$f":"I941","v":478.73693374472458},{"$f":"J941*F$9-H941*F$8","v":75.003388649180749},{"$f":"IF(P941=1,K941*B$1/(B$1+B$2+L941),99999)","v":3.1167565826821026},{"$f":"M941*B$1/(B$1+B$2+L941)","v":3.0692744284538263},{"$f":"IF(MIN(L941:L947)+B$2+B$1>0,1,0)","v":1},null,null,null,null,{"$f":"(4*U935+6*U945)/10","v":-9.8713915588750893},481.13093363895752,88.939614351555434,-9.7167604479042922,0.89397492996404249,-1.7747717837832853,{"$f":"(SUM(U942:U957)-SUM(U941:U956))/16","v":0.23479933432895805},{"$f":"(SUM(V942:V957)-SUM(V941:V956))/16","v":0.97001242412181909},{"$f":"(SUM(W942:W957)-SUM(W941:W956))/16","v":0.19111486623040719},{"$f":"SUM(X941:X956)/16","v":-9.8608278979362289},{"$f":"SUM(Y941:Y956)/16","v":0.52475293807600498},{"$f":"SUM(Z941:Z956)/16","v":0.12458520296100137},4.5815857752497742,null,null,null,null,null,null,null,null,null,null,null,64.728835820761361,345.386795979147,103.90311070262081]
[785,{"$f":"OFFSET(Calculations!AS$43,$A942,0)-U$3-B$10","v":76.9918163435119},{"$f":"OFFSET(Calculations!AT$43,$A942,0)-V$3-B$11","v":489.36777926897099},{"$f":"OFFSET(Calculations!AU$43,$A942,0)-W$3-B$12","v":73.400206556089955},76.9918163435119,489.36777926897099,73.400206556089955,76.9918163435119,489.36777926897099,73.400206556089955,76.9918163435119,489.36777926897099,73.400206556089955,{"$f":"IF(P941=1,K942*B$1/(B$1+B$2+L942),99999)","v":3.0835716495854384},2.9397253728921471,null,null,null,null,null,{"$f":"(3*U935+7*U945)/10","v":-9.6387737327205123},482.09297648539416,89.171466025718161,-9.7738033101588844,0.84740895174200548,-1.5243200539831221,0.23455633095213191,0.97117621166734125,0.18532367523462767,-9.8586607319344939,0.47440465160798406,0.37746775064495774,4.5734848183434114,null,null,null,null,null,null,null,null,null,null,null,69.837449439586621,346.11991792596422,110.78530505505299]
[784,{"$f":"OFFSET(Calculations!AS$43,$A943,0)-U$3-B$10","v":81.702246814328603},{"$f":"OFFSET(Calculations!AT$43,$A943,0)-V$3-B$11","v":489.62826857943651},{"$f":"OFFSET(Calculations!AU$43,$A943,0)-W$3-B$12","v":76.829491789173346},81.702246814328603,489.62826857943651,76.829491789173346,81.702246814328603,489.62826857943651,76.829491789173346,81.702246814328603,489.62826857943651,76.829491789173346,{"$f":"IF(P941=1,K943*B$1/(B$1+B$2+L943),99999)","v":3.2705213836930311},3.0754661663807812,null,null,null,null,null,{"$f":"(2*U935+8*U945)/10","v":-9.4061559065659317},483.05501933183069,89.403317699880887,-9.8308461724134766,0.80084297351996836,-1.2738683241829591,0.23431332757530399,0.97233999921314762,0.17953248423883394,-9.8480676353670376,0.42367237777528538,0.62991957357904704,4.5653654550957548,null,null,null,null,null,null,null,null,null,null,null,76.713453161184574,344.79025949568012,103.78869292636216]
[791,{"$f":"OFFSET(Calculations!AS$43,$A944,0)-U$3-B$10","v":81.24225259053128},{"$f":"OFFSET(Calculations!AT$43,$A944,0)-V$3-B$11","v":479.66492335723535},{"$f":"OFFSET(Calculations!AU$43,$A944,0)-W$3-B$12","v":77.720593651422035},81.24225259053128,479.66492335723535,77.720593651422035,81.24225259053128,479.66492335723535,77.720593651422035,81.24225259053128,479.66492335723535,77.720593651422035,{"$f":"IF(P941=1,K944*B$1/(B$1+B$2+L944),99999)","v":3.3182794484652494},3.1744399054992525,null,null,null,null,null,{"$f":"(1*U935+9*U945)/10","v":-9.1735380804113529},484.01706217826722,89.635169374043599,-9.8878890346680688,0.75427699529793135,-1.023416594382796,0.23407032419847962,0.97350378675878346,0.17374129324306864,-9.8290486082338653,0.37255611657790866,0.88194067176326896,4.5572275594695206,null,null,null,null,null,null,null,null,null,null,null,69.968904365661231,347.24183657159682,118.70515468462253]
[793,{"$f":"OFFSET(Calculations!AS$43,$A945,0)-U$3-B$10","v":71.255071473512018},{"$f":"OFFSET(Calculations!AT$43,$A945,0)-V$3-B$11","v":480.16203709345797},{"$f":"OFFSET(Calculations!AU$43,$A945,0)-W$3-B$12","v":77.815941798304351},71.255071473512018,480.16203709345797,77.815941798304351,71.255071473512018,480.16203709345797,77.815941798304351,71.255071473512018,480.16203709345797,77.815941798304351,{"$f":"IF(P941=1,K945*B$1/(B$1+B$2+L945),99999)","v":2.9074088191748721},3.1751109188191733,null,null,null,null,{"$f":"T935+7","v":630},{"$f":"OFFSET(Calculations!AS$46,$T945,0)","v":-8.9409202542567741},{"$f":"OFFSET(Calculations!AT$46,$T945,0)","v":484.97910502470376},{"$f":"OFFSET(Calculations!AU$46,$T945,0)","v":89.867021048206311},{"$f":"OFFSET(Calculations!AS$43,$T945,0)-OFFSET(Calculations!AS$45,$T945,0)","v":-9.944931896922661},{"$f":"OFFSET(Calculations!AT$43,$T945,0)-OFFSET(Calculations!AT$45,$T945,0)","v":0.70771101707589423},{"$f":"OFFSET(Calculations!AU$43,$T945,0)-OFFSET(Calculations!AU$45,$T945,0)","v":-0.77296486458263303},0.2338273208216517,0.97466757430447615,0.1679501022472607,-9.80160365053497,0.32105586801585417,1.1335310451976239,4.5490710039824229,null,null,null,null,null,null,null,null,null,null,null,62.731399597357502,345.4862187263916,103.92218033199713]
[786,{"$f":"OFFSET(Calculations!AS$43,$A946,0)-U$3-B$10","v":71.752600543679975},{"$f":"OFFSET(Calculations!AT$43,$A946,0)-V$3-B$11","v":489.97606853467391},{"$f":"OFFSET(Calculations!AU$43,$A946,0)-W$3-B$12","v":75.889505470068457},71.752600543679975,489.97606853467391,75.889505470068457,71.752600543679975,489.97606853467391,75.889505470068457,71.752600543679975,489.97606853467391,75.889505470068457,{"$f":"IF(P941=1,K946*B$1/(B$1+B$2+L946),99999)","v":2.870241399912278},3.0357255175226623,null,null,null,null,null,{"$f":"(9*U945+U955)/10","v":-8.7040344042173476},485.95017507529036,90.052225640863838,-9.9342016917774298,0.65632210522725243,-0.51724550696882543,0.23331756595202524,0.97526716159080706,0.16507435384558278,-9.7657327622703569,0.2691716320891217,1.3846906938821115,4.5425420030176671,null,null,null,null,null,null,null,null,null,null,null,74.237255290797918,335.00099391121586,105.21653165098077]
[785,{"$f":"OFFSET(Calculations!AS$43,$A947,0)-U$3-B$10","v":76.9918163435119},{"$f":"OFFSET(Calculations!AT$43,$A947,0)-V$3-B$11","v":489.36777926897099},{"$f":"OFFSET(Calculations!AU$43,$A947,0)-W$3-B$12","v":73.400206556089955},76.9918163435119,489.36777926897099,73.400206556089955,76.9918163435119,489.36777926897099,73.400206556089955,76.9918163435119,489.36777926897099,73.400206556089955,{"$f":"IF(P941=1,K947*B$1/(B$1+B$2+L947),99999)","v":3.0835716495854384},2.9397253728921471,null,null,null,null,null,{"$f":"(8*U945+2*U955)/10","v":-8.4671485541779212},486.92124512587708,90.237430233521394,-9.9234714866321987,0.60493319337861062,-0.26152614935501789,0.23280781108239523,0.97586674887708114,0.16219860544384801,-9.7256717601525118,0.21720484214937413,1.6350903910783792,4.536000946688227,null,null,null,null,null,null,null,null,null,null,null,69.233220310979334,335.61106153554681,102.28541379955621]
[" ",null,null,null,null,null,null,null,null,null,null,null,null,null,null,null,null,null,null,null,{"$f":"(7*U945+3*U955)/10","v":-8.230262704138493},487.89231517646374,90.422634826178935,-9.9127412814869658,0.55354428152996893,-5.8067917412103045E-3,0.23229805621276434,0.97646633616341205,0.15932285704214166,-9.6814206441814381,0.16515549819661146,1.8847301367864269,4.5294477679681915,null,null,null,null,null,null,null,null,null,null,null,64.250074173778756,335.49810764743842,105.31187979786307]
[{"$f":"A941+7","v":799},{"$f":"OFFSET(Calculations!AS$43,$A949,0)-U$3-B$10","v":75.713829973411251},{"$f":"OFFSET(Calculations!AT$43,$A949,0)-V$3-B$11","v":468.8704817033402},{"$f":"OFFSET(Calculations!AU$43,$A949,0)-W$3-B$12","v":79.322169113499314},{"$f":"B949*F$5+C949*F$4","v":75.713829973411251},{"$f":"C949*F$5-B949*F$4","v":468.8704817033402},{"$f":"D949","v":79.322169113499314},75.713829973411251,{"$f":"F949*F$7+G949*F$6","v":468.8704817033402},{"$f":"G949*F$7-F949*F$6","v":79.322169113499314},{"$f":"H949*F$9+J949*F$8","v":75.713829973411251},{"$f":"I949","v":468.8704817033402},{"$f":"J949*F$9-H949*F$8","v":79.322169113499314},null,null,{"$f":"IF(MIN(L949:L955)+B$2+B$1>0,1,0)","v":1},{"$f":"IF(P949=1,K949*B$1/(B$1+B$2+L949),99999)","v":3.1621840504387526},{"$f":"M949*B$1/(B$1+B$2+L949)","v":3.3128861412109054},null,null,{"$f":"(6*U945+4*U955)/10","v":-7.9933768540990666},488.86338522705046,90.607839418836463,-9.9020110763417346,0.50215536968132712,0.24991256587259728,0.23178830134313699,0.97706592344968612,0.15644710864043532,-9.6329794143571323,0.11302360023083365,2.1336099310062546,4.5228823992082496,null,null,null,null,null,null,null,null,null,null,null,69.268029634253139,334.40621308985698,112.21317600015877]
[792,{"$f":"OFFSET(Calculations!AS$43,$A950,0)-U$3-B$10","v":76.163702772436849},{"$f":"OFFSET(Calculations!AT$43,$A950,0)-V$3-B$11","v":478.73693374472458},{"$f":"OFFSET(Calculations!AU$43,$A950,0)-W$3-B$12","v":75.003388649180749},76.163702772436849,478.73693374472458,75.003388649180749,76.163702772436849,478.73693374472458,75.003388649180749,76.163702772436849,478.73693374472458,75.003388649180749,null,null,null,{"$f":"IF(P949=1,K950*B$1/(B$1+B$2+L950),99999)","v":3.1167565826821026},3.0692744284538263,null,null,{"$f":"(5*U945+5*U955)/10","v":-7.7564910040596402},489.83445527763706,90.793044011494004,-9.8912808711965035,0.45076645783268532,0.50563192348640484,0.23002702419340082,0.97825962416646917,0.15093128353053942,-9.580348070679598,6.0809148252040757E-2,2.3817297737378622,4.516304772127536,null,null,null,null,null,null,null,null,null,null,null,76.234691514201813,334.9015711639716,105.19746202160439]
[791,{"$f":"OFFSET(Calculations!AS$43,$A951,0)-U$3-B$10","v":81.24225259053128},{"$f":"OFFSET(Calculations!AT$43,$A951,0)-V$3-B$11","v":479.66492335723535},{"$f":"OFFSET(Calculations!AU$43,$A951,0)-W$3-B$12","v":77.720593651422035},81.24225259053128,479.66492335723535,77.720593651422035,81.24225259053128,479.66492335723535,77.720593651422035,81.24225259053128,479.66492335723535,77.720593651422035,null,null,null,{"$f":"IF(P949=1,K951*B$1/(B$1+B$2+L951),99999)","v":3.3182794484652494},3.1744399054992525,null,null,{"$f":"(4*U945+6*U955)/10","v":-7.5196051540202138},490.80552532822378,90.978248604151545,-9.8805506660512723,0.39937754598404351,0.76135128110021244,0.22826574704366465,0.97945332488336589,0.14541545842067194,-9.5196677514894699,8.6540935054088657E-3,2.627292324704503,4.5097148178053583,null,null,null,null,null,null,null,null,null,null,null,69.295875236498631,333.44239858760528,120.15485631528634]
[798,{"$f":"OFFSET(Calculations!AS$43,$A952,0)-U$3-B$10","v":80.822333149124745},{"$f":"OFFSET(Calculations!AT$43,$A952,0)-V$3-B$11","v":470.47615130019619},{"$f":"OFFSET(Calculations!AU$43,$A952,0)-W$3-B$12","v":81.643620001895414},80.822333149124745,470.47615130019619,81.643620001895414,80.822333149124745,470.47615130019619,81.643620001895414,80.822333149124745,470.47615130019619,81.643620001895414,null,null,null,{"$f":"IF(P949=1,K952*B$1/(B$1+B$2+L952),99999)","v":3.3642599296724653},3.3984463029419074,null,null,{"$f":"(3*U945+7*U955)/10","v":-7.2827193039807865},491.77659537881044,91.163453196809073,-9.8698204609060411,0.34798863413540176,1.01707063871402,0.22650446989393025,0.98064702560026262,0.13989963331079025,-9.4509384567867478,-4.344156400906201E-2,2.8702975839061766,4.5031124666727607,null,null,null,null,null,null,null,null,null,null,null,62.252637950374748,335.59753039468285,105.33094942723949]
[800,{"$f":"OFFSET(Calculations!AS$43,$A953,0)-U$3-B$10","v":70.835152032105455},{"$f":"OFFSET(Calculations!AT$43,$A953,0)-V$3-B$11","v":470.97326503641887},{"$f":"OFFSET(Calculations!AU$43,$A953,0)-W$3-B$12","v":81.738968148777772},70.835152032105455,470.97326503641887,81.738968148777772,70.835152032105455,470.97326503641887,81.738968148777772,70.835152032105455,470.97326503641887,81.738968148777772,null,null,null,{"$f":"IF(P949=1,K953*B$1/(B$1+B$2+L953),99999)","v":2.9454922833077584},3.3988986120710294,null,null,{"$f":"(2*U945+8*U955)/10","v":-7.0458334539413601},492.74766542939705,91.348657789466614,-9.8590902557608082,0.29659972228675996,1.2727899963278275,0.22474319274419496,0.98184072631704566,0.13438380820090856,-9.3741601865714319,-9.547782429137186E-2,3.1107455513428839,4.4964976485039614,null,null,null,null,null,null,null,null,null,null,null,73.732278253289792,325.08628707281349,104.01503820525247]
[793,{"$f":"OFFSET(Calculations!AS$43,$A954,0)-U$3-B$10","v":71.255071473512018},{"$f":"OFFSET(Calculations!AT$43,$A954,0)-V$3-B$11","v":480.16203709345797},{"$f":"OFFSET(Calculations!AU$43,$A954,0)-W$3-B$12","v":77.815941798304351},71.255071473512018,480.16203709345797,77.815941798304351,71.255071473512018,480.16203709345797,77.815941798304351,71.255071473512018,480.16203709345797,77.815941798304351,null,null,null,{"$f":"IF(P949=1,K954*B$1/(B$1+B$2+L954),99999)","v":2.9074088191748721},3.1751109188191733,null,null,{"$f":"(1*U945+9*U955)/10","v":-6.8089476039019328},493.71873547998376,91.53386238212417,-9.8483600506155771,0.24521081043811818,1.5285093539416352,0.22298191559445968,0.98303442703382871,0.12886798309102687,-9.2893329408435221,-0.14745468734152073,3.3486362270146244,4.4898702924076339,null,null,null,null,null,null,null,null,null,null,null,68.767810702290021,326.45379342264442,101.27935029939718]
[792,{"$f":"OFFSET(Calculations!AS$43,$A955,0)-U$3-B$10","v":76.163702772436849},{"$f":"OFFSET(Calculations!AT$43,$A955,0)-V$3-B$11","v":478.73693374472458},{"$f":"OFFSET(Calculations!AU$43,$A955,0)-W$3-B$12","v":75.003388649180749},76.163702772436849,478.73693374472458,75.003388649180749,76.163702772436849,478.73693374472458,75.003388649180749,76.163702772436849,478.73693374472458,75.003388649180749,null,null,null,{"$f":"IF(P949=1,K955*B$1/(B$1+B$2+L955),99999)","v":3.1167565826821026},3.0692744284538263,null,{"$f":"T945+7","v":637},{"$f":"OFFSET(Calculations!AS$46,$T955,0)","v":-6.5720617538625064},{"$f":"OFFSET(Calculations!AT$46,$T955,0)","v":494.68980553057042},{"$f":"OFFSET(Calculations!AU$46,$T955,0)","v":91.719066974781697},{"$f":"OFFSET(Calculations!AS$43,$T955,0)-OFFSET(Calculations!AS$45,$T955,0)","v":-9.8376298454703459},{"$f":"OFFSET(Calculations!AT$43,$T955,0)-OFFSET(Calculations!AT$45,$T955,0)","v":0.1938218985894764},{"$f":"OFFSET(Calculations!AU$43,$T955,0)-OFFSET(Calculations!AU$45,$T955,0)","v":1.7842287115554427},0.22122063844472528,0.98422812775066859,0.12335215798114518,-9.1964567196030167,-0.19937215315950851,3.5839696109213977,4.4832303268180471,null,null,null,null,null,null,null,null,null,null,null,63.745097136270459,325.58340080903622,104.11038635213471]
[" ",null,null,null,null,null,null,null,null,null,null,null,null,null,null,null,null,null,null,null,{"$f":"(9*U955+U965)/10","v":-6.3433319817371441},495.67046897773787,91.858259593011866,-9.7598578186734279,0.14111212253259281,2.0277888453577306,0.21996911616461912,0.9848222411812344,0.12071208127298405,-9.0955315228499209,-0.25123022174533532,3.8167457030632042,4.4782316419565014,null,null,null,null,null,null,null,null,null,null,null,68.670734010590422,322.72396181691192,110.55722356371845]
[{"$f":"A949+7","v":806},{"$f":"OFFSET(Calculations!AS$43,$A957,0)-U$3-B$10","v":75.366868966275177},{"$f":"OFFSET(Calculations!AT$43,$A957,0)-V$3-B$11","v":460.65595723091531},{"$f":"OFFSET(Calculations!AU$43,$A957,0)-W$3-B$12","v":85.807775317583491},{"$f":"B957*F$5+C957*F$4","v":75.366868966275177},{"$f":"C957*F$5-B957*F$4","v":460.65595723091531},{"$f":"D957","v":85.807775317583491},75.366868966275177,{"$f":"F957*F$7+G957*F$6","v":460.65595723091531},{"$f":"G957*F$7-F957*F$6","v":85.807775317583491},{"$f":"H957*F$9+J957*F$8","v":75.366868966275177},{"$f":"I957","v":460.65595723091531},{"$f":"J957*F$9-H957*F$8","v":85.807775317583491},null,null,{"$f":"IF(MIN(L957:L963)+B$2+B$1>0,1,0)","v":1},{"$f":"IF(P957=1,K957*B$1/(B$1+B$2+L957),99999)","v":3.2026310432653617},{"$f":"M957*B$1/(B$1+B$2+L957)","v":3.6463057143663904},null,null,{"$f":"(8*U955+2*U965)/10","v":-6.1146022096117809},496.65113242490543,91.99745221124202,-9.6820857918765117,8.8402346475709243E-2,2.2713489791600181,0.21871759388451206,0.98541635461168653,0.11807200456480871,-8.9907474644374599,-0.30294633908598601,4.0477244549282636,4.4732257629687533,null,null,null,null,null,null,null,null,null,null,null,75.729714476693601,324.98686432556906,103.99596857587588]
[799,{"$f":"OFFSET(Calculations!AS$43,$A958,0)-U$3-B$10","v":75.713829973411251},{"$f":"OFFSET(Calculations!AT$43,$A958,0)-V$3-B$11","v":468.8704817033402},{"$f":"OFFSET(Calculations!AU$43,$A958,0)-W$3-B$12","v":79.322169113499314},75.713829973411251,468.8704817033402,79.322169113499314,75.713829973411251,468.8704817033402,79.322169113499314,75.713829973411251,468.8704817033402,79.322169113499314,null,null,null,{"$f":"IF(P957=1,K958*B$1/(B$1+B$2+L958),99999)","v":3.1621840504387526},3.3128861412109054,null,null,{"$f":"(7*U955+3*U965)/10","v":-5.8858724374864178},497.63179587207298,92.136644829472175,-9.6043137650795956,3.5692570418825655E-2,2.514909112962306,0.21746607160440501,0.9860104680421955,0.11543192785664758,-8.8821045443656352,-0.35452050518146055,4.2769058665165769,4.4682126587036644,null,null,null,null,null,null,null,null,null,null,null,68.593072657230579,319.74009653232577,117.97952217517521]
[798,{"$f":"OFFSET(Calculations!AS$43,$A959,0)-U$3-B$10","v":80.822333149124745},{"$f":"OFFSET(Calculations!AT$43,$A959,0)-V$3-B$11","v":470.47615130019619},{"$f":"OFFSET(Calculations!AU$43,$A959,0)-W$3-B$12","v":81.643620001895414},80.822333149124745,470.47615130019619,81.643620001895414,80.822333149124745,470.47615130019619,81.643620001895414,80.822333149124745,470.47615130019619,81.643620001895414,null,null,null,{"$f":"IF(P957=1,K959*B$1/(B$1+B$2+L959),99999)","v":3.3642599296724653},3.3984463029419074,null,null,{"$f":"(6*U955+4*U965)/10","v":-5.6571426653610555},498.61245931924043,92.275837447702344,-9.5265417382826776,-1.701720563805793E-2,2.7584692467645935,0.21621454932429973,0.98660458147281815,0.11279185114850065,-8.769602762634447,-0.40595272003175892,4.5042899378281422,4.4631922977846319,null,null,null,null,null,null,null,null,null,null,null,61.747660912866614,325.6828235562806,104.12945598151117]
[805,{"$f":"OFFSET(Calculations!AS$43,$A960,0)-U$3-B$10","v":80.489872729276826},{"$f":"OFFSET(Calculations!AT$43,$A960,0)-V$3-B$11","v":462.61349514835035},{"$f":"OFFSET(Calculations!AU$43,$A960,0)-W$3-B$12","v":87.81355584492286},80.489872729276826,462.61349514835035,87.81355584492286,80.489872729276826,462.61349514835035,87.81355584492286,80.489872729276826,462.61349514835035,87.81355584492286,null,null,null,{"$f":"IF(P957=1,K960*B$1/(B$1+B$2+L960),99999)","v":3.4061605754195221},3.716083300471932,null,null,{"$f":"(5*U955+5*U965)/10","v":-5.4284128932356932},499.59312276640793,92.415030065932513,-9.4487697114857614,-6.9726981694941514E-2,3.0020293805668814,0.21072761138375506,0.98728283818371665,0.11091643437515586,-8.6532421192438953,-0.45724298363688121,4.7298766688629614,4.4581646486073012,null,null,null,null,null,null,null,null,null,null,null,73.212266660582742,315.65964032589085,100.68965339329564]
[807,{"$f":"OFFSET(Calculations!AS$43,$A961,0)-U$3-B$10","v":70.502691612257479},{"$f":"OFFSET(Calculations!AT$43,$A961,0)-V$3-B$11","v":463.11060888457291},{"$f":"OFFSET(Calculations!AU$43,$A961,0)-W$3-B$12","v":87.908903991805062},70.502691612257479,463.11060888457291,87.908903991805062,70.502691612257479,463.11060888457291,87.908903991805062,70.502691612257479,463.11060888457291,87.908903991805062,null,null,null,{"$f":"IF(P957=1,K961*B$1/(B$1+B$2+L961),99999)","v":2.9803893756886084},3.7162093743390407,null,null,{"$f":"(4*U955+6*U965)/10","v":-5.1996831211103309},500.57378621357549,92.554222684162681,-9.3709976846888452,-0.1224367577518251,3.2455895143691693,0.20524067344321129,0.98796109489467199,0.10904101760183948,-8.5340690762538944,-0.50715469238649857,4.9477336791283877,{"$f":"AG$245+SIGN(W$245-W961)*SQRT(2*ABS(W$245-W961)/Z$5)","v":4.4531296793372412},null,null,null,null,null,null,null,null,null,null,null,68.544005035502011,317.40983938474852,97.665064644619406]
[800,{"$f":"OFFSET(Calculations!AS$43,$A962,0)-U$3-B$10","v":70.835152032105455},{"$f":"OFFSET(Calculations!AT$43,$A962,0)-V$3-B$11","v":470.97326503641887},{"$f":"OFFSET(Calculations!AU$43,$A962,0)-W$3-B$12","v":81.738968148777772},70.835152032105455,470.97326503641887,81.738968148777772,70.835152032105455,470.97326503641887,81.738968148777772,70.835152032105455,470.97326503641887,81.738968148777772,null,null,null,{"$f":"IF(P957=1,K962*B$1/(B$1+B$2+L962),99999)","v":2.9454922833077584},3.3988986120710294,null,null,{"$f":"(3*U955+7*U965)/10","v":-4.9709533489849678},501.55444966074299,92.693415302392822,-9.2932256578919272,-0.17514653380870868,3.4891496481714568,0.19975373550266839,0.98863935160568417,0.10716560082853732,-8.4120836336644444,-0.55568784628061108,5.1578609686244201,4.4480873579075944,null,null,null,null,null,null,null,null,null,null,null,63.27155057409469,316.47993863818562,99.97601877622202]
[799,{"$f":"OFFSET(Calculations!AS$43,$A963,0)-U$3-B$10","v":75.713829973411251},{"$f":"OFFSET(Calculations!AT$43,$A963,0)-V$3-B$11","v":468.8704817033402},{"$f":"OFFSET(Calculations!AU$43,$A963,0)-W$3-B$12","v":79.322169113499314},75.713829973411251,468.8704817033402,79.322169113499314,75.713829973411251,468.8704817033402,79.322169113499314,75.713829973411251,468.8704817033402,79.322169113499314,null,null,null,{"$f":"IF(P957=1,K963*B$1/(B$1+B$2+L963),99999)","v":3.1621840504387526},3.3128861412109054,null,null,{"$f":"(2*U955+8*U965)/10","v":-4.7422235768596055},502.53511310791043,92.832607920623005,-9.215453631095011,-0.22785630986559227,3.7327097819737447,0.19426679756212373,0.98931760831663951,0.10529018405519253,-8.2872857914755453,-0.60284244531921871,5.3602585373510596,4.4430376520166952,null,null,null,null,null,null,null,null,null,null,null,67.537173582742653,312.94370106203002,106.55625313018523]
[" ",null,null,null,null,null,null,null,null,null,null,null,null,null,null,null,null,null,null,null,{"$f":"(1*U955+9*U965)/10","v":-4.5134938047342423},503.51577655507799,92.971800538853174,-9.1376816042980931,-0.28056608592247584,3.9762699157760322,0.18877985962157995,0.98999586502759485,0.10341476728186194,-8.1596755496871953,-0.64861848950232148,5.5549263853083062,4.4379805291256513,null,null,null,null,null,null,null,null,null,null,null,75.200409877880006,315.49558066343184,100.83238031671036]
[{"$f":"A957+7","v":813},{"$f":"OFFSET(Calculations!AS$43,$A965,0)-U$3-B$10","v":75.105470163732889},{"$f":"OFFSET(Calculations!AT$43,$A965,0)-V$3-B$11","v":454.03589651742993},{"$f":"OFFSET(Calculations!AU$43,$A965,0)-W$3-B$12","v":92.942533074119936},{"$f":"B965*F$5+C965*F$4","v":75.105470163732889},{"$f":"C965*F$5-B965*F$4","v":454.03589651742993},{"$f":"D965","v":92.942533074119936},75.105470163732889,{"$f":"F965*F$7+G965*F$6","v":454.03589651742993},{"$f":"G965*F$7-F965*F$6","v":92.942533074119936},{"$f":"H965*F$9+J965*F$8","v":75.105470163732889},{"$f":"I965","v":454.03589651742993},{"$f":"J965*F$9-H965*F$8","v":92.942533074119936},null,null,{"$f":"IF(MIN(L965:L971)+B$2+B$1>0,1,0)","v":1},{"$f":"IF(P965=1,K965*B$1/(B$1+B$2+L965),99999)","v":3.2370543196074406},{"$f":"M965*B$1/(B$1+B$2+L965)","v":4.005833762932987},null,{"$f":"T955+7","v":644},{"$f":"OFFSET(Calculations!AS$46,$T965,0)","v":-4.2847640326088801},{"$f":"OFFSET(Calculations!AT$46,$T965,0)","v":504.49644000224549},{"$f":"OFFSET(Calculations!AU$46,$T965,0)","v":93.110993157083328},{"$f":"OFFSET(Calculations!AS$43,$T965,0)-OFFSET(Calculations!AS$45,$T965,0)","v":-9.0599095775011769},{"$f":"OFFSET(Calculations!AT$43,$T965,0)-OFFSET(Calculations!AT$45,$T965,0)","v":-0.33327586197935943},{"$f":"OFFSET(Calculations!AU$43,$T965,0)-OFFSET(Calculations!AU$45,$T965,0)","v":4.2198300495783201},0.18329292168103661,0.99067412173855018,0.10153935050854557,-8.029252908299398,-0.69301597882991928,5.7418645124961598,4.4329159564559042,null,null,null,null,null,null,null,null,null,null,null,66.731762114633113,309.37102858202053,113.66872975352958]
[806,{"$f":"OFFSET(Calculations!AS$43,$A966,0)-U$3-B$10","v":75.366868966275177},{"$f":"OFFSET(Calculations!AT$43,$A966,0)-V$3-B$11","v":460.65595723091531},{"$f":"OFFSET(Calculations!AU$43,$A966,0)-W$3-B$12","v":85.807775317583491},75.366868966275177,460.65595723091531,85.807775317583491,75.366868966275177,460.65595723091531,85.807775317583491,75.366868966275177,460.65595723091531,85.807775317583491,null,null,null,{"$f":"IF(P965=1,K966*B$1/(B$1+B$2+L966),99999)","v":3.2026310432653617},3.6463057143663904,null,null,{"$f":"(9*U965+U975)/10","v":-4.0760586169652182},505.48660926430148,93.207944547982805,-8.9203957641544456,-0.38371441811342494,4.4346327389526579,0.17905750602059856,0.99075826501893971,0.10230401044341875,-7.8960178673121471,-0.73603491330201221,5.9210729189146205,4.4293839266498995,null,null,null,null,null,null,null,null,null,null,null,61.283407356797106,316.64399830064457,99.833291852807292]
[805,{"$f":"OFFSET(Calculations!AS$43,$A967,0)-U$3-B$10","v":80.489872729276826},{"$f":"OFFSET(Calculations!AT$43,$A967,0)-V$3-B$11","v":462.61349514835035},{"$f":"OFFSET(Calculations!AU$43,$A967,0)-W$3-B$12","v":87.81355584492286},80.489872729276826,462.61349514835035,87.81355584492286,80.489872729276826,462.61349514835035,87.81355584492286,80.489872729276826,462.61349514835035,87.81355584492286,null,null,null,{"$f":"IF(P965=1,K967*B$1/(B$1+B$2+L967),99999)","v":3.4061605754195221},3.716083300471932,null,null,{"$f":"(8*U965+2*U975)/10","v":-3.8673532013215577},506.47677852635735,93.304895938882254,-8.7808819508077143,-0.43415297424749044,4.6494354283269956,0.17482209036016139,0.99084240829949977,0.10306867037823508,-7.7638292883848141,-0.7778172441637764,6.0943489448404335,4.4258482553434586,null,null,null,null,null,null,null,null,null,null,null,72.703275284550884,306.48083794853238,96.706789208508596]
[812,{"$f":"OFFSET(Calculations!AS$43,$A968,0)-U$3-B$10","v":80.221214130677325},{"$f":"OFFSET(Calculations!AT$43,$A968,0)-V$3-B$11","v":455.81109879825067},{"$f":"OFFSET(Calculations!AU$43,$A968,0)-W$3-B$12","v":95.138528640336574},80.221214130677325,455.81109879825067,95.138528640336574,80.221214130677325,455.81109879825067,95.138528640336574,80.221214130677325,455.81109879825067,95.138528640336574,null,null,null,{"$f":"IF(P965=1,K968*B$1/(B$1+B$2+L968),99999)","v":3.4443667975125796},4.0848545208899116,null,null,{"$f":"(7*U965+3*U975)/10","v":-3.6586477856778963},507.46694778841339,93.401847329781731,-8.6413681374609812,-0.48459153038155589,4.8642381177013334,0.17058667469972333,0.99092655157983245,0.10383333031309405,-7.632687171517393,-0.81836297141521175,6.2616925902736016,4.4223089312502095,null,null,null,null,null,null,null,null,null,null,null,68.495120500988264,308.46098490695323,93.187349132055232]
[814,{"$f":"OFFSET(Calculations!AS$43,$A969,0)-U$3-B$10","v":70.234033013657836},{"$f":"OFFSET(Calculations!AT$43,$A969,0)-V$3-B$11","v":456.30821253447328},{"$f":"OFFSET(Calculations!AU$43,$A969,0)-W$3-B$12","v":95.233876787218747},70.234033013657836,456.30821253447328,95.233876787218747,70.234033013657836,456.30821253447328,95.233876787218747,70.234033013657836,456.30821253447328,95.233876787218747,null,null,null,{"$f":"IF(P965=1,K969*B$1/(B$1+B$2+L969),99999)","v":3.0123438157746607},4.0845893006946898,null,null,{"$f":"(6*U965+4*U975)/10","v":-3.4499423700342349},508.45711705046926,93.498798720681208,-8.5018543241142481,-0.53503008651562145,5.0790408070756712,0.16635125903928638,0.99101069486016513,0.10459799024795302,-7.5025915167098871,-0.85767209505631847,6.4231038552141237,4.4187659430253605,null,null,null,null,null,null,null,null,null,null,null,62.959349496835216,307.83927094327402,94.914982845565078]
[807,{"$f":"OFFSET(Calculations!AS$43,$A970,0)-U$3-B$10","v":70.502691612257479},{"$f":"OFFSET(Calculations!AT$43,$A970,0)-V$3-B$11","v":463.11060888457291},{"$f":"OFFSET(Calculations!AU$43,$A970,0)-W$3-B$12","v":87.908903991805062},70.502691612257479,463.11060888457291,87.908903991805062,70.502691612257479,463.11060888457291,87.908903991805062,70.502691612257479,463.11060888457291,87.908903991805062,null,null,null,{"$f":"IF(P965=1,K970*B$1/(B$1+B$2+L970),99999)","v":2.9803893756886084},3.7162093743390407,null,null,{"$f":"(5*U965+5*U975)/10","v":-3.2412369543905739},509.44728631252531,93.595750111580671,-8.3623405107675168,-0.5854686426496869,5.293843496450009,0.15848833680835761,0.98562927607872552,0.10648870375260344,-7.373542323962293,-0.89574461508709646,6.5785827396619991,4.4152192792652745,null,null,null,null,null,null,null,null,null,null,null,66.283802364472038,304.12724586663438,101.92703553798401]
[806,{"$f":"OFFSET(Calculations!AS$43,$A971,0)-U$3-B$10","v":75.366868966275177},{"$f":"OFFSET(Calculations!AT$43,$A971,0)-V$3-B$11","v":460.65595723091531},{"$f":"OFFSET(Calculations!AU$43,$A971,0)-W$3-B$12","v":85.807775317583491},75.366868966275177,460.65595723091531,85.807775317583491,75.366868966275177,460.65595723091531,85.807775317583491,75.366868966275177,460.65595723091531,85.807775317583491,null,null,null,{"$f":"IF(P965=1,K971*B$1/(B$1+B$2+L971),99999)","v":3.2026310432653617},3.6463057143663904,null,null,{"$f":"(4*U965+6*U975)/10","v":-3.0325315387469125},510.43745557458112,93.692701502480148,-8.2228266974207855,-0.63590719878375235,5.5086461858243467,0.15062541457742906,0.98024785729683117,0.10837941725726807,-7.2489016480684754,-0.93154454620920002,6.7238565932209582,4.4116689285070354,null,null,null,null,null,null,null,null,null,null,null,74.65206044209414,306.20915134958415,97.065150481097291]
[" ",null,null,null,null,null,null,null,null,null,null,null,null,null,null,null,null,null,null,null,{"$f":"(3*U965+7*U975)/10","v":-2.8238261231032511},511.42762483663711,93.789652893379611,-8.0833128840740525,-0.68634575491781791,5.7234488751986845,0.14276249234649985,0.97486643851516419,0.11027013076191849,-7.1286694890284314,-0.96507188842262936,6.8589254158910018,4.4081148792280285,null,null,null,null,null,null,null,null,null,null,null,64.515219477362237,300.66117891889866,108.91692069335217]
[{"$f":"A965+7","v":820},{"$f":"OFFSET(Calculations!AS$43,$A973,0)-U$3-B$10","v":74.818018779844522},{"$f":"OFFSET(Calculations!AT$43,$A973,0)-V$3-B$11","v":447.03747478876022},{"$f":"OFFSET(Calculations!AU$43,$A973,0)-W$3-B$12","v":99.321079064323314},{"$f":"B973*F$5+C973*F$4","v":74.818018779844522},{"$f":"C973*F$5-B973*F$4","v":447.03747478876022},{"$f":"D973","v":99.321079064323314},74.818018779844522,{"$f":"F973*F$7+G973*F$6","v":447.03747478876022},{"$f":"G973*F$7-F973*F$6","v":99.321079064323314},{"$f":"H973*F$9+J973*F$8","v":74.818018779844522},{"$f":"I973","v":447.03747478876022},{"$f":"J973*F$9-H973*F$8","v":99.321079064323314},null,null,{"$f":"IF(MIN(L973:L979)+B$2+B$1>0,1,0)","v":1},{"$f":"IF(P973=1,K973*B$1/(B$1+B$2+L973),99999)","v":3.2740430667933706},{"$f":"M973*B$1/(B$1+B$2+L973)","v":4.3462991348894917},null,null,{"$f":"(2*U965+8*U975)/10","v":-2.6151207074595897},512.41779409869309,93.886604284279073,-7.9437990707273203,-0.73678431105188336,5.9382515645730223,0.13489957011557197,0.96948501973349721,0.11216084426656892,-7.0128458468421613,-0.99632664172738428,6.9837892076721291,4.4045571198454896,null,null,null,null,null,null,null,null,null,null,null,61.010564339291939,308.11095754222202,94.556621572976198]
[813,{"$f":"OFFSET(Calculations!AS$43,$A974,0)-U$3-B$10","v":75.105470163732889},{"$f":"OFFSET(Calculations!AT$43,$A974,0)-V$3-B$11","v":454.03589651742993},{"$f":"OFFSET(Calculations!AU$43,$A974,0)-W$3-B$12","v":92.942533074119936},75.105470163732889,454.03589651742993,92.942533074119936,75.105470163732889,454.03589651742993,92.942533074119936,75.105470163732889,454.03589651742993,92.942533074119936,null,null,null,{"$f":"IF(P973=1,K974*B$1/(B$1+B$2+L974),99999)","v":3.2370543196074406},4.005833762932987,null,null,{"$f":"(1*U965+9*U975)/10","v":-2.4064152918159287},513.40796336074902,93.983555675178536,-7.804285257380589,-0.78722286718594892,6.1530542539473601,0.12703664788464275,0.96410360095171654,0.11405155777121934,-6.901430721509664,-1.025308806123465,7.0984479685643391,4.4009956387160738,null,null,null,null,null,null,null,null,null,null,null,72.026718497181861,297.20524910646719,92.929841380458313]
[812,{"$f":"OFFSET(Calculations!AS$43,$A975,0)-U$3-B$10","v":80.221214130677325},{"$f":"OFFSET(Calculations!AT$43,$A975,0)-V$3-B$11","v":455.81109879825067},{"$f":"OFFSET(Calculations!AU$43,$A975,0)-W$3-B$12","v":95.138528640336574},80.221214130677325,455.81109879825067,95.138528640336574,80.221214130677325,455.81109879825067,95.138528640336574,80.221214130677325,455.81109879825067,95.138528640336574,null,null,null,{"$f":"IF(P973=1,K975*B$1/(B$1+B$2+L975),99999)","v":3.4443667975125796},4.0848545208899116,null,{"$f":"T965+7","v":651},{"$f":"OFFSET(Calculations!AS$46,$T975,0)","v":-2.1977098761722673},{"$f":"OFFSET(Calculations!AT$46,$T975,0)","v":514.39813262280495},{"$f":"OFFSET(Calculations!AU$46,$T975,0)","v":94.080507066078013},{"$f":"OFFSET(Calculations!AS$43,$T975,0)-OFFSET(Calculations!AS$45,$T975,0)","v":-7.6647714440338568},{"$f":"OFFSET(Calculations!AT$43,$T975,0)-OFFSET(Calculations!AT$45,$T975,0)","v":-0.83766142332001436},{"$f":"OFFSET(Calculations!AU$43,$T975,0)-OFFSET(Calculations!AU$45,$T975,0)","v":6.3678569433216978},0.1191737256537142,0.95872218217016325,0.11594227127589818,-6.7944241130309404,-1.0520183816108712,7.2029016985676346,4.3974304241354059,null,null,null,null,null,null,null,null,null,null,null,68.555288570832062,299.07746508731111,88.631002282804758]
[819,{"$f":"OFFSET(Calculations!AS$43,$A976,0)-U$3-B$10","v":79.916188564264289},{"$f":"OFFSET(Calculations!AT$43,$A976,0)-V$3-B$11","v":448.39721580911413},{"$f":"OFFSET(Calculations!AU$43,$A976,0)-W$3-B$12","v":101.84235578811035},79.916188564264289,448.39721580911413,101.84235578811035,79.916188564264289,448.39721580911413,101.84235578811035,79.916188564264289,448.39721580911413,101.84235578811035,null,null,null,{"$f":"IF(P973=1,K976*B$1/(B$1+B$2+L976),99999)","v":3.4867658793784213},4.443410748398593,null,null,{"$f":"(9*U975+U985)/10","v":-2.056771111095606},515.38964817734791,94.189693015935035,-7.5420010236457484,-0.86831432168881972,6.4877415448136961,0.11554621908322282,0.95325662010782253,0.11706832484568963,-6.6918260214059915,-1.0764553681896032,7.2971503976820138,4.3934108208963778,null,null,null,null,null,null,null,null,null,null,null,62.814713830913156,299.29538971306874,89.648030558171229]
[821,{"$f":"OFFSET(Calculations!AS$43,$A977,0)-U$3-B$10","v":69.92900744724497},{"$f":"OFFSET(Calculations!AT$43,$A977,0)-V$3-B$11","v":448.89432954533697},{"$f":"OFFSET(Calculations!AU$43,$A977,0)-W$3-B$12","v":101.93770393499253},69.92900744724497,448.89432954533697,101.93770393499253,69.92900744724497,448.89432954533697,101.93770393499253,69.92900744724497,448.89432954533697,101.93770393499253,null,null,null,{"$f":"IF(P973=1,K977*B$1/(B$1+B$2+L977),99999)","v":3.0477172170128664},4.4427528244243204,null,null,{"$f":"(8*U975+2*U985)/10","v":-1.915832346018945},516.38116373189075,94.298878965792071,-7.4192306032576401,-0.89896722005762508,6.6076261463056936,0.11191871251273211,0.94779105804582287,0.11819437841549529,-6.5925899845749019,-1.0998563694699897,7.3871264464001243,4.3893864506592291,null,null,null,null,null,null,null,null,null,null,null,64.77866465124275,296.32416513737883,97.478402305166597]
[814,{"$f":"OFFSET(Calculations!AS$43,$A978,0)-U$3-B$10","v":70.234033013657836},{"$f":"OFFSET(Calculations!AT$43,$A978,0)-V$3-B$11","v":456.30821253447328},{"$f":"OFFSET(Calculations!AU$43,$A978,0)-W$3-B$12","v":95.233876787218747},70.234033013657836,456.30821253447328,95.233876787218747,70.234033013657836,456.30821253447328,95.233876787218747,70.234033013657836,456.30821253447328,95.233876787218747,null,null,null,{"$f":"IF(P973=1,K978*B$1/(B$1+B$2+L978),99999)","v":3.0123438157746607},4.0845893006946898,null,null,{"$f":"(7*U975+3*U985)/10","v":-1.7748935809422837},517.37267928643359,94.408064915649121,-7.2964601828695308,-0.92962011842643055,6.7275107477976919,0.10829120594224062,0.94232549598370952,0.11932043198528675,-6.4967160025376707,-1.1222213854520304,7.4728298447219625,4.3853572964235408,null,null,null,null,null,null,null,null,null,null,null,73.869119430435589,296.78722098514709,93.586203544915691]
[813,{"$f":"OFFSET(Calculations!AS$43,$A979,0)-U$3-B$10","v":75.105470163732889},{"$f":"OFFSET(Calculations!AT$43,$A979,0)-V$3-B$11","v":454.03589651742993},{"$f":"OFFSET(Calculations!AU$43,$A979,0)-W$3-B$12","v":92.942533074119936},75.105470163732889,454.03589651742993,92.942533074119936,75.105470163732889,454.03589651742993,92.942533074119936,75.105470163732889,454.03589651742993,92.942533074119936,null,null,null,{"$f":"IF(P973=1,K979*B$1/(B$1+B$2+L979),99999)","v":3.2370543196074406},4.005833762932987,null,null,{"$f":"(6*U975+4*U985)/10","v":-1.6339548158656225},518.36419484097655,94.517250865506156,-7.1736897624814215,-0.96027301679523591,6.8473953492896893,0.10466369937174946,0.93685993392148248,0.12044648555512083,-6.4042040752943024,-1.1435504161357259,7.554260592647533,4.3813233410876053,null,null,null,null,null,null,null,null,null,null,null,61.759177208037173,294.12284596893392,104.55207811756861]
[" ",null,null,null,null,null,null,null,null,null,null,null,null,null,null,null,null,null,null,null,{"$f":"(5*U975+5*U985)/10","v":-1.4930160507889609},519.3557103955194,94.626436815363178,-7.0509193420933141,-0.99092591516404127,6.9672799507816876,0.10361948718586722,0.92492379090072063,0.12526573675077657,-6.3150542028447925,-1.1638434615210755,7.6314186901768313,4.37728456744758,null,null,null,null,null,null,null,null,null,null,null,60.972312897659407,299.71341783438913,88.991668393713724]
[{"$f":"A973+7","v":827},{"$f":"OFFSET(Calculations!AS$43,$A981,0)-U$3-B$10","v":74.472871006794662},{"$f":"OFFSET(Calculations!AT$43,$A981,0)-V$3-B$11","v":439.13947024812683},{"$f":"OFFSET(Calculations!AU$43,$A981,0)-W$3-B$12","v":104.34638097084505},{"$f":"B981*F$5+C981*F$4","v":74.472871006794662},{"$f":"C981*F$5-B981*F$4","v":439.13947024812683},{"$f":"D981","v":104.34638097084505},74.472871006794662,{"$f":"F981*F$7+G981*F$6","v":439.13947024812683},{"$f":"G981*F$7-F981*F$6","v":104.34638097084505},{"$f":"H981*F$9+J981*F$8","v":74.472871006794662},{"$f":"I981","v":439.13947024812683},{"$f":"J981*F$9-H981*F$8","v":104.34638097084505},null,null,{"$f":"IF(MIN(L981:L987)+B$2+B$1>0,1,0)","v":1},{"$f":"IF(P981=1,K981*B$1/(B$1+B$2+L981),99999)","v":3.3162469985393255},{"$f":"M981*B$1/(B$1+B$2+L981)","v":4.6465023843573112},null,null,{"$f":"(4*U975+6*U985)/10","v":-1.3520772857123},520.34722595006224,94.735622765220214,-6.9281489217052057,-1.0215788135328467,7.0871645522736859,0.10257527499998559,0.91298764787995879,0.13008498794644652,-6.2302006805752397,-1.1790450878651222,7.7037093194761264,4.3732409581966323,null,null,null,null,null,null,null,null,null,null,null,70.504794911687156,286.93809129489898,90.211963666760113]
[820,{"$f":"OFFSET(Calculations!AS$43,$A982,0)-U$3-B$10","v":74.818018779844522},{"$f":"OFFSET(Calculations!AT$43,$A982,0)-V$3-B$11","v":447.03747478876022},{"$f":"OFFSET(Calculations!AU$43,$A982,0)-W$3-B$12","v":99.321079064323314},74.818018779844522,447.03747478876022,99.321079064323314,74.818018779844522,447.03747478876022,99.321079064323314,74.818018779844522,447.03747478876022,99.321079064323314,null,null,null,{"$f":"IF(P981=1,K982*B$1/(B$1+B$2+L982),99999)","v":3.2740430667933706},4.3462991348894917,null,null,{"$f":"(3*U975+7*U985)/10","v":-1.2111385206356389},521.3387415046052,94.844808715077249,-6.8053785013170964,-1.052231711901652,7.2070491537656833,0.10153106281410362,0.90105150485931063,0.13490423914214489,-6.149643508485644,-1.1891552951678654,7.7711324805454174,4.3691924959240716,null,null,null,null,null,null,null,null,null,null,null,67.987443418975857,288.99543470056608,85.364862125521199]
[819,{"$f":"OFFSET(Calculations!AS$43,$A983,0)-U$3-B$10","v":79.916188564264289},{"$f":"OFFSET(Calculations!AT$43,$A983,0)-V$3-B$11","v":448.39721580911413},{"$f":"OFFSET(Calculations!AU$43,$A983,0)-W$3-B$12","v":101.84235578811035},79.916188564264289,448.39721580911413,101.84235578811035,79.916188564264289,448.39721580911413,101.84235578811035,79.916188564264289,448.39721580911413,101.84235578811035,null,null,null,{"$f":"IF(P981=1,K983*B$1/(B$1+B$2+L983),99999)","v":3.4867658793784213},4.443410748398593,null,null,{"$f":"(2*U975+8*U985)/10","v":-1.0701997555589773},522.33025705914804,94.953994664934271,-6.6826080809289889,-1.0828846102704575,7.3269337552576816,0.10048685062822166,0.88911536183854878,0.13972349033780063,-6.073382686576009,-1.1941740834293058,7.8336881733847026,4.3651391631144794,null,null,null,null,null,null,null,null,null,null,null,62.446471420626771,290.79451723453923,85.718479329912483]
[826,{"$f":"OFFSET(Calculations!AS$43,$A984,0)-U$3-B$10","v":79.545652455553991},{"$f":"OFFSET(Calculations!AT$43,$A984,0)-V$3-B$11","v":439.93385628129943},{"$f":"OFFSET(Calculations!AU$43,$A984,0)-W$3-B$12","v":107.15594671093154},79.545652455553991,439.93385628129943,107.15594671093154,79.545652455553991,439.93385628129943,107.15594671093154,79.545652455553991,439.93385628129943,107.15594671093154,null,null,null,{"$f":"IF(P981=1,K984*B$1/(B$1+B$2+L984),99999)","v":3.5358820566648759},4.7631866424356142,null,null,{"$f":"(1*U975+9*U985)/10","v":-0.92926099048231625},523.321772613691,95.063180614791307,-6.5598376605408806,-1.1135375086392627,7.4468183567496791,9.9442638442339776E-2,0.87717921881778693,0.14454274153347058,-6.0014182148463293,-1.1941014526494427,7.8913763979939846,4.3610809421468204,null,null,null,null,null,null,null,null,null,null,null,62.960573898088171,288.56606742317956,94.01122978322536]
[828,{"$f":"OFFSET(Calculations!AS$43,$A985,0)-U$3-B$10","v":69.558471338534687},{"$f":"OFFSET(Calculations!AT$43,$A985,0)-V$3-B$11","v":440.43097001752199},{"$f":"OFFSET(Calculations!AU$43,$A985,0)-W$3-B$12","v":107.25129485781366},69.558471338534687,440.43097001752199,107.25129485781366,69.558471338534687,440.43097001752199,107.25129485781366,69.558471338534687,440.43097001752199,107.25129485781366,null,null,null,{"$f":"IF(P981=1,K985*B$1/(B$1+B$2+L985),99999)","v":3.0885296957191386},4.7621634388790604,null,{"$f":"T975+7","v":658},{"$f":"OFFSET(Calculations!AS$46,$T985,0)","v":-0.788322225405655},{"$f":"OFFSET(Calculations!AT$46,$T985,0)","v":524.31328816823384},{"$f":"OFFSET(Calculations!AU$46,$T985,0)","v":95.172366564648343},{"$f":"OFFSET(Calculations!AS$43,$T985,0)-OFFSET(Calculations!AS$45,$T985,0)","v":-6.4370672401527713},{"$f":"OFFSET(Calculations!AT$43,$T985,0)-OFFSET(Calculations!AT$45,$T985,0)","v":-1.1441904070080682},{"$f":"OFFSET(Calculations!AU$43,$T985,0)-OFFSET(Calculations!AU$45,$T985,0)","v":7.5667029582416774},9.8398426256457783E-2,0.86524307579702509,0.14936199272912631,-5.9337500932966094,-1.1889374028282764,7.9441971543732617,4.3570178152935526,null,null,null,null,null,null,null,null,null,null,null,72.116459609899024,286.16680610697108,91.110660534129593]
[821,{"$f":"OFFSET(Calculations!AS$43,$A986,0)-U$3-B$10","v":69.92900744724497},{"$f":"OFFSET(Calculations!AT$43,$A986,0)-V$3-B$11","v":448.89432954533697},{"$f":"OFFSET(Calculations!AU$43,$A986,0)-W$3-B$12","v":101.93770393499253},69.92900744724497,448.89432954533697,101.93770393499253,69.92900744724497,448.89432954533697,101.93770393499253,69.92900744724497,448.89432954533697,101.93770393499253,null,null,null,{"$f":"IF(P981=1,K986*B$1/(B$1+B$2+L986),99999)","v":3.0477172170128664},4.4427528244243204,null,null,{"$f":"(9*U985+U995)/10","v":-0.70542356545685259},525.21735472978253,95.299569371622312,-6.36808969646642,-1.1582675406033445,7.6182251533933583,0.10098172064106703,0.85877249483837659,0.15305519035500481,-5.8703783219268484,-1.1786819339658074,7.9921504425225338,4.352278018072905,null,null,null,null,null,null,null,null,null,null,null,58.943363306009452,288.22293960427754,100.92095353738404]
[820,{"$f":"OFFSET(Calculations!AS$43,$A987,0)-U$3-B$10","v":74.818018779844522},{"$f":"OFFSET(Calculations!AT$43,$A987,0)-V$3-B$11","v":447.03747478876022},{"$f":"OFFSET(Calculations!AU$43,$A987,0)-W$3-B$12","v":99.321079064323314},74.818018779844522,447.03747478876022,99.321079064323314,74.818018779844522,447.03747478876022,99.321079064323314,74.818018779844522,447.03747478876022,99.321079064323314,null,null,null,{"$f":"IF(P981=1,K987*B$1/(B$1+B$2+L987),99999)","v":3.2740430667933706},4.3462991348894917,null,null,{"$f":"(8*U985+2*U995)/10","v":-0.62252490550805017},526.12142129133122,95.426772178596281,-6.2991121527800686,-1.1723446741986208,7.6697473485450391,0.10356501502567625,0.85230191387972809,0.1567483879808691,-5.8079408459431843,-1.1643710313603806,8.0395089128380697,4.3475315097413674,null,null,null,null,null,null,null,null,null,null,null,60.834806722414761,291.56580242246741,84.819782462542946]
[" ",null,null,null,null,null,null,null,null,null,null,null,null,null,null,null,null,null,null,null,{"$f":"(7*U985+3*U995)/10","v":-0.53962624555924776},527.02548785287991,95.55397498557025,-6.2301346090937173,-1.1864218077938973,7.7212695436967191,0.10614830941028547,0.84583133292119328,0.16044158560671917,-5.7464376653456188,-1.146004695011996,8.0862725653198737,4.3427782617110307,null,null,null,null,null,null,null,null,null,null,null,66.533089702299634,277.10744091399249,88.568336272104844]
[{"$f":"A981+7","v":834},{"$f":"OFFSET(Calculations!AS$43,$A989,0)-U$3-B$10","v":74.06774319262901},{"$f":"OFFSET(Calculations!AT$43,$A989,0)-V$3-B$11","v":430.37309894359203},{"$f":"OFFSET(Calculations!AU$43,$A989,0)-W$3-B$12","v":107.61648895816646},{"$f":"B989*F$5+C989*F$4","v":74.06774319262901},{"$f":"C989*F$5-B989*F$4","v":430.37309894359203},{"$f":"D989","v":107.61648895816646},74.06774319262901,{"$f":"F989*F$7+G989*F$6","v":430.37309894359203},{"$f":"G989*F$7-F989*F$6","v":107.61648895816646},{"$f":"H989*F$9+J989*F$8","v":74.06774319262901},{"$f":"I989","v":430.37309894359203},{"$f":"J989*F$9-H989*F$8","v":107.61648895816646},null,null,{"$f":"IF(MIN(L989:L995)+B$2+B$1>0,1,0)","v":1},{"$f":"IF(P989=1,K989*B$1/(B$1+B$2+L989),99999)","v":3.3638632046466781},{"$f":"M989*B$1/(B$1+B$2+L989)","v":4.8875142108510667},null,null,{"$f":"(6*U985+4*U995)/10","v":-0.45672758561044535},527.92955441442859,95.681177792544219,-6.161157065407366,-1.2004989413891736,7.7727917388484,0.10873160379489477,0.83936075196254478,0.16413478323258346,-5.6858687801341521,-1.1235829249206539,8.1324413999679415,4.3380182451904492,null,null,null,null,null,null,null,null,null,null,null,65.024286100397816,279.0223962571165,83.262044204897549]
[827,{"$f":"OFFSET(Calculations!AS$43,$A990,0)-U$3-B$10","v":74.472871006794662},{"$f":"OFFSET(Calculations!AT$43,$A990,0)-V$3-B$11","v":439.13947024812683},{"$f":"OFFSET(Calculations!AU$43,$A990,0)-W$3-B$12","v":104.34638097084505},74.472871006794662,439.13947024812683,104.34638097084505,74.472871006794662,439.13947024812683,104.34638097084505,74.472871006794662,439.13947024812683,104.34638097084505,null,null,null,{"$f":"IF(P989=1,K990*B$1/(B$1+B$2+L990),99999)","v":3.3162469985393255},4.6465023843573112,null,null,{"$f":"(5*U985+5*U995)/10","v":-0.37382892566164294},528.8336209759774,95.808380599518173,-6.0921795217210146,-1.2145760749844499,7.8243139340000809,0.12332905697622387,0.82864078325360424,0.17073892189957007,-5.6262341903087831,-1.0971057210863542,8.1780154167822747,4.3332514311825978,null,null,null,null,null,null,null,null,null,null,null,60.141927019635766,282.192152085896,82.797829200620953]
[826,{"$f":"OFFSET(Calculations!AS$43,$A991,0)-U$3-B$10","v":79.545652455553991},{"$f":"OFFSET(Calculations!AT$43,$A991,0)-V$3-B$11","v":439.93385628129943},{"$f":"OFFSET(Calculations!AU$43,$A991,0)-W$3-B$12","v":107.15594671093154},79.545652455553991,439.93385628129943,107.15594671093154,79.545652455553991,439.93385628129943,107.15594671093154,79.545652455553991,439.93385628129943,107.15594671093154,null,null,null,{"$f":"IF(P989=1,K991*B$1/(B$1+B$2+L991),99999)","v":3.5358820566648759},4.7631866424356142,null,null,{"$f":"(4*U985+6*U995)/10","v":-0.29093026571284053},529.73768753752597,95.935583406492142,-6.0232019780346633,-1.2286532085797262,7.8758361291517618,0.13792651015755319,0.8179208145446637,0.17734306056658511,-5.5667011075824488,-1.0676521377107029,8.2228719756699427,4.3284777904828129,null,null,null,null,null,null,null,null,null,null,null,59.423438468367152,281.10564236727947,91.300962201641966]
[833,{"$f":"OFFSET(Calculations!AS$43,$A992,0)-U$3-B$10","v":79.111516669167557},{"$f":"OFFSET(Calculations!AT$43,$A992,0)-V$3-B$11","v":430.55283451845088},{"$f":"OFFSET(Calculations!AU$43,$A992,0)-W$3-B$12","v":110.59221748081336},79.111516669167557,430.55283451845088,110.59221748081336,79.111516669167557,430.55283451845088,110.59221748081336,79.111516669167557,430.55283451845088,110.59221748081336,null,null,null,{"$f":"IF(P989=1,K992*B$1/(B$1+B$2+L992),99999)","v":3.5914655619292932},5.0206108695996425,null,null,{"$f":"(3*U985+7*U995)/10","v":-0.20803160576403812},530.64175409907477,96.062786213466111,-5.9542244343483119,-1.2427303421750024,7.9273583243034427,0.1525239633388823,0.80720084583572316,0.18394719923358593,-5.5072695319551501,-1.0352221747937,8.2670110766309435,4.3236972936767053,null,null,null,null,null,null,null,null,null,null,null,67.811322238832403,276.09049867961193,89.72243768640152]
[835,{"$f":"OFFSET(Calculations!AS$43,$A993,0)-U$3-B$10","v":69.124335552148324},{"$f":"OFFSET(Calculations!AT$43,$A993,0)-V$3-B$11","v":431.04994825467367},{"$f":"OFFSET(Calculations!AU$43,$A993,0)-W$3-B$12","v":110.68756562769579},69.124335552148324,431.04994825467367,110.68756562769579,69.124335552148324,431.04994825467367,110.68756562769579,69.124335552148324,431.04994825467367,110.68756562769579,null,null,null,{"$f":"IF(P989=1,K993*B$1/(B$1+B$2+L993),99999)","v":3.1345354795159905},5.0192757562135304,null,null,{"$f":"(2*U985+8*U995)/10","v":-0.12513294581523571},531.54582066062335,96.189989020440066,-5.8852468906619606,-1.256807475770279,7.9788805194551227,0.16712141652021151,0.79648087712678262,0.19055133790060097,-5.4479394634268878,-0.99981583233534577,8.3104327196652807,4.3189099111380482,null,null,null,null,null,null,null,null,null,null,null,54.950215733966743,282.76946621566276,97.721395876246433]
[828,{"$f":"OFFSET(Calculations!AS$43,$A994,0)-U$3-B$10","v":69.558471338534687},{"$f":"OFFSET(Calculations!AT$43,$A994,0)-V$3-B$11","v":440.43097001752199},{"$f":"OFFSET(Calculations!AU$43,$A994,0)-W$3-B$12","v":107.25129485781366},69.558471338534687,440.43097001752199,107.25129485781366,69.558471338534687,440.43097001752199,107.25129485781366,69.558471338534687,440.43097001752199,107.25129485781366,null,null,null,{"$f":"IF(P989=1,K994*B$1/(B$1+B$2+L994),99999)","v":3.0885296957191386},4.7621634388790604,null,null,{"$f":"(1*U985+9*U995)/10","v":-4.2234285866433297E-2},532.44988722217215,96.317191827414035,-5.8162693469756093,-1.2708846093655553,8.0304027146068044,0.18171886970154083,0.78576090841784207,0.1971554765676018,-5.3887109019976585,-0.96143311033563983,8.3531369047729545,4.3141156130266296,null,null,null,null,null,null,null,null,null,null,null,58.863694483102968,283.20909432027702,81.643727786324419]
[827,{"$f":"OFFSET(Calculations!AS$43,$A995,0)-U$3-B$10","v":74.472871006794662},{"$f":"OFFSET(Calculations!AT$43,$A995,0)-V$3-B$11","v":439.13947024812683},{"$f":"OFFSET(Calculations!AU$43,$A995,0)-W$3-B$12","v":104.34638097084505},74.472871006794662,439.13947024812683,104.34638097084505,74.472871006794662,439.13947024812683,104.34638097084505,74.472871006794662,439.13947024812683,104.34638097084505,null,null,null,{"$f":"IF(P989=1,K995*B$1/(B$1+B$2+L995),99999)","v":3.3162469985393255},4.6465023843573112,null,{"$f":"T985+7","v":665},{"$f":"OFFSET(Calculations!AS$46,$T995,0)","v":4.0664374082369115E-2},{"$f":"OFFSET(Calculations!AT$46,$T995,0)","v":533.35395378372084},{"$f":"OFFSET(Calculations!AU$46,$T995,0)","v":96.444394634388004},{"$f":"OFFSET(Calculations!AS$43,$T995,0)-OFFSET(Calculations!AS$45,$T995,0)","v":-5.7472918032892579},{"$f":"OFFSET(Calculations!AT$43,$T995,0)-OFFSET(Calculations!AT$45,$T995,0)","v":-1.2849617429608315},{"$f":"OFFSET(Calculations!AU$43,$T995,0)-OFFSET(Calculations!AU$45,$T995,0)","v":8.0819249097584844},0.19631632288287015,0.77504093970890153,0.20375961523458841,-5.3295838476674637,-0.92007400879458245,8.3951236319539593,4.3093143692860885,null,null,null,null,null,null,null,null,null,null,null,60.576591326467991,268.31822092403132,87.298832742065855]
[" ",null,null,null,null,null,null,null,null,null,null,null,null,null,null,null,null,null,null,null,{"$f":"(9*U995+U1005)/10","v":0.1648957441849192},534.15449104993172,96.630688603375759,-5.6932629857804793,-1.2341519366687863,8.1239300195704089,0.2083304816795899,0.77079155195872318,0.20667055627572495,-5.2705583004363055,-0.87573852771217342,8.4363929012083005,4.3022701437823709,null,null,null,null,null,null,null,null,null,null,null,59.523242532551677,270.070278121282,81.824773197640326]
[{"$f":"A989+7","v":841},{"$f":"OFFSET(Calculations!AS$43,$A997,0)-U$3-B$10","v":73.620400218146841},{"$f":"OFFSET(Calculations!AT$43,$A997,0)-V$3-B$11","v":421.12253094217829},{"$f":"OFFSET(Calculations!AU$43,$A997,0)-W$3-B$12","v":108.98923838291856},{"$f":"B997*F$5+C997*F$4","v":73.620400218146841},{"$f":"C997*F$5-B997*F$4","v":421.12253094217829},{"$f":"D997","v":108.98923838291856},73.620400218146841,{"$f":"F997*F$7+G997*F$6","v":421.12253094217829},{"$f":"G997*F$7-F997*F$6","v":108.98923838291856},{"$f":"H997*F$9+J997*F$8","v":73.620400218146841},{"$f":"I997","v":421.12253094217829},{"$f":"J997*F$9-H997*F$8","v":108.98923838291856},null,null,{"$f":"IF(MIN(L997:L1003)+B$2+B$1>0,1,0)","v":1},{"$f":"IF(P997=1,K997*B$1/(B$1+B$2+L997),99999)","v":3.4152889229545158},{"$f":"M997*B$1/(B$1+B$2+L997)","v":5.0560678489585174},null,null,{"$f":"(8*U995+2*U1005)/10","v":0.28912711428746929},534.95502831614249,96.816982572363514,-5.6392341682717007,-1.1833421303767409,8.1659351293823335,0.22034464047631008,0.76654216420820376,0.2095814973168757,-5.2106999649180823,-0.83248210083137053,8.477539530369711,4.295210859758372,null,null,null,null,null,null,null,null,null,null,null,55.536635866335935,274.26967219364985,81.03951355023338]
[834,{"$f":"OFFSET(Calculations!AS$43,$A998,0)-U$3-B$10","v":74.06774319262901},{"$f":"OFFSET(Calculations!AT$43,$A998,0)-V$3-B$11","v":430.37309894359203},{"$f":"OFFSET(Calculations!AU$43,$A998,0)-W$3-B$12","v":107.61648895816646},74.06774319262901,430.37309894359203,107.61648895816646,74.06774319262901,430.37309894359203,107.61648895816646,74.06774319262901,430.37309894359203,107.61648895816646,null,null,null,{"$f":"IF(P997=1,K998*B$1/(B$1+B$2+L998),99999)","v":3.3638632046466781},4.8875142108510667,null,null,{"$f":"(7*U995+3*U1005)/10","v":0.41335848439001943},535.75556558235326,97.003276541351255,-5.5852053507629211,-1.1325323240846956,8.207940239194258,0.23235879927302983,0.76229277645791171,0.21249243835801224,-5.150008841112796,-0.79030472815217367,8.5185635194381923,4.2881364202269001,null,null,null,null,null,null,null,null,null,null,null,54.661639207166523,274.1265123865229,89.596024878810397]
[833,{"$f":"OFFSET(Calculations!AS$43,$A999,0)-U$3-B$10","v":79.111516669167557},{"$f":"OFFSET(Calculations!AT$43,$A999,0)-V$3-B$11","v":430.55283451845088},{"$f":"OFFSET(Calculations!AU$43,$A999,0)-W$3-B$12","v":110.59221748081336},79.111516669167557,430.55283451845088,110.59221748081336,79.111516669167557,430.55283451845088,110.59221748081336,79.111516669167557,430.55283451845088,110.59221748081336,null,null,null,{"$f":"IF(P997=1,K999*B$1/(B$1+B$2+L999),99999)","v":3.5914655619292932},5.0206108695996425,null,null,{"$f":"(6*U995+4*U1005)/10","v":0.53758985449256946},536.55610284856414,97.18957051033901,-5.5311765332541416,-1.0817225177926502,8.2499453490061825,0.24437295806975001,0.75804338870773336,0.2154033793991772,-5.0884849290204457,-0.74920640967458296,8.5594648684137411,4.2810467271551662,null,null,null,null,null,null,null,null,null,null,null,61.584582418494392,267.12793067010756,88.550696580432316]
[840,{"$f":"OFFSET(Calculations!AS$43,$A1000,0)-U$3-B$10","v":78.632755022184853},{"$f":"OFFSET(Calculations!AT$43,$A1000,0)-V$3-B$11","v":420.66414618674264},{"$f":"OFFSET(Calculations!AU$43,$A1000,0)-W$3-B$12","v":112.00098657605591},78.632755022184853,420.66414618674264,112.00098657605591,78.632755022184853,420.66414618674264,112.00098657605591,78.632755022184853,420.66414618674264,112.00098657605591,null,null,null,{"$f":"IF(P997=1,K1000*B$1/(B$1+B$2+L1000),99999)","v":3.6516973014089018},5.2013146470516975,null,null,{"$f":"(5*U995+5*U1005)/10","v":0.66182122459511961},537.35664011477502,97.375864479326765,-5.477147715745363,-1.0309127115006049,8.291950458818107,0.26732998646741146,0.74677210791014659,0.21966247047700449,-5.0261282286410331,-0.70918714539859806,8.600243577296359,4.273941681448937,null,null,null,null,null,null,null,null,null,null,null,50.78166847661177,277.36373047530248,95.798141144708325]
[835,{"$f":"OFFSET(Calculations!AS$43,$A1002,0)-U$3-B$10","v":69.124335552148324},{"$f":"OFFSET(Calculations!AT$43,$A1002,0)-V$3-B$11","v":431.04994825467367},{"$f":"OFFSET(Calculations!AU$43,$A1002,0)-W$3-B$12","v":110.68756562769579},69.124335552148324,431.04994825467367,110.68756562769579,69.124335552148324,431.04994825467367,110.68756562769579,69.124335552148324,431.04994825467367,110.68756562769579,null,null,null,{"$f":"IF(P997=1,K1002*B$1/(B$1+B$2+L1002),99999)","v":3.1345354795159905},5.0192757562135304,null,null,{"$f":"(3*U995+7*U1005)/10","v":0.91028396480021989},538.95771464719678,97.748452417302275,-5.3690900807278048,-0.92929309891651424,8.375960678441956,0.31324404326273481,0.72422954631531411,0.22818065263271592,-4.8972515438973767,-0.63603803430081385,8.6805696554941658,4.2596851303515209,null,null,null,null,null,null,null,null,null,null,null,52.672343853870217,261.13939324128182,86.725068731938848]
[834,{"$f":"OFFSET(Calculations!AS$43,$A1003,0)-U$3-B$10","v":74.06774319262901},{"$f":"OFFSET(Calculations!AT$43,$A1003,0)-V$3-B$11","v":430.37309894359203},{"$f":"OFFSET(Calculations!AU$43,$A1003,0)-W$3-B$12","v":107.61648895816646},74.06774319262901,430.37309894359203,107.61648895816646,74.06774319262901,430.37309894359203,107.61648895816646,74.06774319262901,430.37309894359203,107.61648895816646,null,null,null,{"$f":"IF(P997=1,K1003*B$1/(B$1+B$2+L1003),99999)","v":3.3638632046466781},4.8875142108510667,null,null,{"$f":"(2*U995+8*U1005)/10","v":1.0345153349027698},539.75825191340755,97.934746386290016,-5.3150612632190262,-0.878483292624469,8.4179657882538805,0.33620107166039626,0.71295826551772734,0.23243974371057163,-4.8307315595331337,-0.60290818747901431,8.7201170248093511,4.2525334213175858,null,null,null,null,null,null,null,null,null,null,null,52.019982528020947,262.60812843483933,81.102408441395696]
[841,{"$f":"OFFSET(Calculations!AS$43,$A1006,0)-U$3-B$10","v":73.620400218146841},{"$f":"OFFSET(Calculations!AT$43,$A1006,0)-V$3-B$11","v":421.12253094217829},{"$f":"OFFSET(Calculations!AU$43,$A1006,0)-W$3-B$12","v":108.98923838291856},73.620400218146841,421.12253094217829,108.98923838291856,73.620400218146841,421.12253094217829,108.98923838291856,73.620400218146841,421.12253094217829,108.98923838291856,null,null,null,{"$f":"IF(P1005=1,K1006*B$1/(B$1+B$2+L1006),99999)","v":3.4152889229545158},5.0560678489585174,null,null,{"$f":"(9*U1005+U1015)/10","v":1.5994359859579401},542.09187350803495,98.540203349911536,-5.1396501980996749,-0.74331874097402983,8.5420188762027642,0.39305799805666108,0.68339381087571383,0.24230607590298803,-4.6228450384707465,-0.51729748192198666,8.836296453620049,4.2291809202772299,null,null,null,null,null,null,null,null,null,null,null,53.377354658669866,259.85479016406777,88.086228053667469]
[847,{"$f":"OFFSET(Calculations!AS$43,$A1008,0)-U$3-B$10","v":78.130291695932158},{"$f":"OFFSET(Calculations!AT$43,$A1008,0)-V$3-B$11","v":410.69997441746045},{"$f":"OFFSET(Calculations!AU$43,$A1008,0)-W$3-B$12","v":111.32068402717232},78.130291695932158,410.69997441746045,111.32068402717232,78.130291695932158,410.69997441746045,111.32068402717232,78.130291695932158,410.69997441746045,111.32068402717232,null,null,null,{"$f":"IF(P1005=1,K1008*B$1/(B$1+B$2+L1008),99999)","v":3.7142998073208102},5.292165001023216,null,null,{"$f":"(7*U1005+3*U1015)/10","v":2.2323518076580795},543.55696763244646,99.005941401203515,-5.004943337896087,-0.67622886284133299,8.6221046128528354,0.41494373725854317,0.66935002478135175,0.24500237597644059,-4.4798135826489629,-0.46846887803612558,8.9120650938269215,4.2111018207243927,null,null,null,null,null,null,null,null,null,null,null,48.442279025072793,268.8470117045643,78.558112801567106]
[" ",null,null,null,null,null,null,null,null,null,null,null,null,null,null,null,null,null,null,null,{"$f":"(3*U1005+7*U1015)/10","v":3.4981834510583596},546.48715588126947,99.937417503787529,-4.735529617488913,-0.5420491065759393,8.7822760861529776,0.48616340636674327,0.61326950404315994,0.24948413647368284,-4.1863693988049162,-0.38924700325188866,9.0588467608398382,4.1746347628370577,null,null,null,null,null,null,null,null,null,null,null,40.82575153750124,264.22676259787499,87.724977008903608]
[{"$f":"A1005+7","v":855},{"$f":"OFFSET(Calculations!AS$43,$A1013,0)-U$3-B$10","v":72.672505362776846},{"$f":"OFFSET(Calculations!AT$43,$A1013,0)-V$3-B$11","v":402.67310395261188},{"$f":"OFFSET(Calculations!AU$43,$A1013,0)-W$3-B$12","v":105.89181039737397},{"$f":"B1013*F$5+C1013*F$4","v":72.672505362776846},{"$f":"C1013*F$5-B1013*F$4","v":402.67310395261188},{"$f":"D1013","v":105.89181039737397},72.672505362776846,{"$f":"F1013*F$7+G1013*F$6","v":402.67310395261188},{"$f":"G1013*F$7-F1013*F$6","v":105.89181039737397},{"$f":"H1013*F$9+J1013*F$8","v":72.672505362776846},{"$f":"I1013","v":402.67310395261188},{"$f":"J1013*F$9-H1013*F$8","v":105.89181039737397},null,null,{"$f":"IF(MIN(L1013:L1019)+B$2+B$1>0,1,0)","v":1},{"$f":"IF(P1013=1,K1013*B$1/(B$1+B$2+L1013),99999)","v":3.5220374028117898},{"$f":"M1013*B$1/(B$1+B$2+L1013)","v":5.1319947621075768},null,null,{"$f":"(2*U1005+8*U1015)/10","v":3.8146413619084294},547.21970294347511,100.17028652943353,-4.6681761873871199,-0.50850416750959082,8.8223189544780123,0.50625567286916073,0.59691662814611846,0.25052867329387141,-4.1110797234614331,-0.37535481545614785,9.0938462093345027,4.1654523564574468,null,null,null,null,null,null,null,null,null,null,null,43.660095214010568,254.75159822308856,88.15828520661853]
[847,{"$f":"OFFSET(Calculations!AS$43,$A1015,0)-U$3-B$10","v":78.130291695932158},{"$f":"OFFSET(Calculations!AT$43,$A1015,0)-V$3-B$11","v":410.69997441746045},{"$f":"OFFSET(Calculations!AU$43,$A1015,0)-W$3-B$12","v":111.32068402717232},78.130291695932158,410.69997441746045,111.32068402717232,78.130291695932158,410.69997441746045,111.32068402717232,78.130291695932158,410.69997441746045,111.32068402717232,null,null,null,{"$f":"IF(P1013=1,K1015*B$1/(B$1+B$2+L1015),99999)","v":3.7142998073208102},5.292165001023216,null,{"$f":"T1005+7","v":679},{"$f":"OFFSET(Calculations!AS$46,$T1015,0)","v":4.447557183608569},{"$f":"OFFSET(Calculations!AT$46,$T1015,0)","v":548.68479706788662},{"$f":"OFFSET(Calculations!AU$46,$T1015,0)","v":100.63602458072552},{"$f":"OFFSET(Calculations!AS$43,$T1015,0)-OFFSET(Calculations!AS$45,$T1015,0)","v":-4.533469327183532},{"$f":"OFFSET(Calculations!AT$43,$T1015,0)-OFFSET(Calculations!AT$45,$T1015,0)","v":-0.44141428937689398},{"$f":"OFFSET(Calculations!AU$43,$T1015,0)-OFFSET(Calculations!AU$45,$T1015,0)","v":8.9024046911280834},0.54644020587400099,0.5642108763519218,0.25261774693422012,-3.9581138579449089,-0.35504900830405006,9.1616797507889274,4.1470071668458282,null,null,null,null,null,null,null,null,null,null,null,40.934750236612011,263.80708903771028,77.834982398870039]
[849,{"$f":"OFFSET(Calculations!AS$43,$A1018,0)-U$3-B$10","v":68.143110578912982},{"$f":"OFFSET(Calculations!AT$43,$A1018,0)-V$3-B$11","v":411.19708815368318},{"$f":"OFFSET(Calculations!AU$43,$A1018,0)-W$3-B$12","v":111.41603217405455},68.143110578912982,411.19708815368318,111.41603217405455,68.143110578912982,411.19708815368318,111.41603217405455,68.143110578912982,411.19708815368318,111.41603217405455,null,null,null,{"$f":"IF(P1013=1,K1018*B$1/(B$1+B$2+L1018),99999)","v":3.2356876386595266},5.2904464588037188,null,null,{"$f":"(7*U1015+3*U1025)/10","v":5.9221886570039759},550.54538738824033,101.39934285942584,-4.3047703308999195,-0.39921554976772311,9.0087185874849496,0.57388839657843072,0.53621792780256783,0.25170690728461409,-3.724363691719867,-0.33963446382499568,9.2588800934219453,4.1165404759932009,null,null,null,null,null,null,null,null,null,null,null,32.330939507148123,259.18097949962009,78.865835896344365]
[{"$f":"A1013+7","v":862},{"$f":"OFFSET(Calculations!AS$43,$A1021,0)-U$3-B$10","v":72.196344511816704},{"$f":"OFFSET(Calculations!AT$43,$A1021,0)-V$3-B$11","v":393.91880708627747},{"$f":"OFFSET(Calculations!AU$43,$A1021,0)-W$3-B$12","v":101.65865590673533},{"$f":"B1021*F$5+C1021*F$4","v":72.196344511816704},{"$f":"C1021*F$5-B1021*F$4","v":393.91880708627747},{"$f":"D1021","v":101.65865590673533},72.196344511816704,{"$f":"F1021*F$7+G1021*F$6","v":393.91880708627747},{"$f":"G1021*F$7-F1021*F$6","v":101.65865590673533},{"$f":"H1021*F$9+J1021*F$8","v":72.196344511816704},{"$f":"I1021","v":393.91880708627747},{"$f":"J1021*F$9-H1021*F$8","v":101.65865590673533},null,null,{"$f":"IF(MIN(L1021:L1027)+B$2+B$1>0,1,0)","v":1},{"$f":"IF(P1021=1,K1021*B$1/(B$1+B$2+L1021),99999)","v":3.574794896658303},{"$f":"M1021*B$1/(B$1+B$2+L1021)","v":5.03361834721506},null,null,{"$f":"(4*U1015+6*U1025)/10","v":7.3968201303993819},552.40597770859381,102.16266113812614,-4.0760713346163069,-0.3570168101585523,9.1150324838418157,0.61484079203364495,0.48617644542298422,0.24692538909351924,-3.4885385217111731,-0.33694814400921302,9.3516231170256923,4.0857729937292611,null,null,null,null,null,null,null,null,null,null,null,31.607730171213337,268.80973223524325,91.386382570217734]
[854,{"$f":"OFFSET(Calculations!AS$43,$A1023,0)-U$3-B$10","v":77.626086748853439},{"$f":"OFFSET(Calculations!AT$43,$A1023,0)-V$3-B$11","v":401.09580133032381},{"$f":"OFFSET(Calculations!AU$43,$A1023,0)-W$3-B$12","v":108.58104232000292},77.626086748853439,401.09580133032381,108.58104232000292,77.626086748853439,401.09580133032381,108.58104232000292,77.626086748853439,401.09580133032381,108.58104232000292,null,null,null,{"$f":"IF(P1021=1,K1023*B$1/(B$1+B$2+L1023),99999)","v":3.7765448587726782},5.2825176987276423,null,null,{"$f":"(2*U1015+8*U1025)/10","v":8.3799077793296526},553.64637125549632,102.671539990593,-3.9236053370938988,-0.3288843170857717,9.1859084147463932,0.64664379058737964,0.44546594589382948,0.24244748411901185,-3.3305081433099577,-0.34694801698601341,9.4088920277590109,4.0650897630758109,null,null,null,null,null,null,null,null,null,null,null,22.820470375070109,253.43905313986025,87.852799568611871]
[856,{"$f":"OFFSET(Calculations!AS$43,$A1026,0)-U$3-B$10","v":67.638905631833993},{"$f":"OFFSET(Calculations!AT$43,$A1026,0)-V$3-B$11","v":401.59291506654648},{"$f":"OFFSET(Calculations!AU$43,$A1026,0)-W$3-B$12","v":108.67639046688521},67.638905631833993,401.59291506654648,108.67639046688521,67.638905631833993,401.59291506654648,108.67639046688521,67.638905631833993,401.59291506654648,108.67639046688521,null,null,null,{"$f":"IF(P1021=1,K1026*B$1/(B$1+B$2+L1026),99999)","v":3.2866895010035884},5.2807707075965764,null,null,{"$f":"(9*U1025+U1035)/10","v":10.000929603148695},555.35766585025226,103.43000045782874,-3.691057830378722,-0.30709258329002298,9.2852786511231837,0.68519889151650659,0.39373117944944624,0.23603423987376004,-3.0923319614491103,-0.38088323962541892,9.4874042260647382,4.0340006820868055,null,null,null,null,null,null,null,null,null,null,null,22.771813240510699,261.82700814710495,85.944962238099862]
[" ",null,null,null,null,null,null,null,null,null,null,null,null,null,null,null,null,null,null,null,{"$f":"(7*U1025+3*U1035)/10","v":11.276797952926239},556.29946794595924,103.92916368736644,-3.5308948119931829,-0.31977410184408656,9.3422672620676117,0.69870309626728755,0.37168264561989872,0.23216356133229965,-2.933515693075111,-0.41230401657780935,9.5361201826519899,4.0133651175253844,null,null,null,null,null,null,null,null,null,null,null,22.769377752548152,269.20609115028424,89.035128592940751]
[861,{"$f":"OFFSET(Calculations!AS$43,$A1031,0)-U$3-B$10","v":77.137289527972015},{"$f":"OFFSET(Calculations!AT$43,$A1031,0)-V$3-B$11","v":392.11349597891427},{"$f":"OFFSET(Calculations!AU$43,$A1031,0)-W$3-B$12","v":104.21306019424969},77.137289527972015,392.11349597891427,104.21306019424969,77.137289527972015,392.11349597891427,104.21306019424969,77.137289527972015,392.11349597891427,104.21306019424969,null,null,null,{"$f":"IF(P1029=1,K1031*B$1/(B$1+B$2+L1031),99999)","v":3.8365929171408304},5.183265980195519,null,null,{"$f":"(4*U1025+6*U1035)/10","v":13.190600477592554},557.71217108951964,104.67790853167298,-3.2906502844148755,-0.33879637967518195,9.427750178484251,0.72677779820969235,0.31462985368580121,0.2194788614219334,-2.6963788387665257,-0.4699454936307198,9.6044251458884382,3.9821440475674779,null,null,null,null,null,null,null,null,null,null,null,12.782630921292309,252.30527399335367,82.915299562566048]
[863,{"$f":"OFFSET(Calculations!AS$43,$A1034,0)-U$3-B$10","v":67.150108410952981},{"$f":"OFFSET(Calculations!AT$43,$A1034,0)-V$3-B$11","v":392.61060971513666},{"$f":"OFFSET(Calculations!AU$43,$A1034,0)-W$3-B$12","v":104.30840834113187},67.150108410952981,392.61060971513666,104.30840834113187,67.150108410952981,392.61060971513666,104.30840834113187,67.150108410952981,392.61060971513666,104.30840834113187,null,null,null,{"$f":"IF(P1029=1,K1034*B$1/(B$1+B$2+L1034),99999)","v":3.3357346672242145},5.1816025620852022,null,null,{"$f":"(1*U1025+9*U1035)/10","v":15.104403002258872},559.12487423308016,105.42665337597955,-3.0504057568365677,-0.35781865750627728,9.5132330949008921,0.75876169756021739,0.24558706615675874,0.20335482046247932,-2.4633634204380037,-0.54795598512391874,9.6627053607838462,3.9505926369740529,null,null,null,null,null,null,null,null,null,null,null,12.836743186394092,254.39104361306514,90.261969077132164]
[" ",null,null,null,null,null,null,null,null,null,null,null,null,null,null,null,null,null,null,null,{"$f":"(9*U1035+U1045)/10","v":16.488304990042664},559.89028805814962,105.89485117718557,-2.8916792717966722,-0.39048871835188947,9.5613975411976657,0.77333219475184833,0.21058280805243612,0.19454079909360189,-2.3105395911227142,-0.61191281104463469,9.6956380635991799,3.9306906112832842,null,null,null,null,null,null,null,null,null,null,null,12.712012214702989,256.27207484808537,76.389472413676799]
[{"$f":"A1029+7","v":876},{"$f":"OFFSET(Calculations!AS$43,$A1037,0)-U$3-B$10","v":71.16995637140316},{"$f":"OFFSET(Calculations!AT$43,$A1037,0)-V$3-B$11","v":375.13289877181342},{"$f":"OFFSET(Calculations!AU$43,$A1037,0)-W$3-B$12","v":92.093801067333089},{"$f":"B1037*F$5+C1037*F$4","v":71.16995637140316},{"$f":"C1037*F$5-B1037*F$4","v":375.13289877181342},{"$f":"D1037","v":92.093801067333089},71.16995637140316,{"$f":"F1037*F$7+G1037*F$6","v":375.13289877181342},{"$f":"G1037*F$7-F1037*F$6","v":92.093801067333089},{"$f":"H1037*F$9+J1037*F$8","v":71.16995637140316},{"$f":"I1037","v":375.13289877181342},{"$f":"J1037*F$9-H1037*F$8","v":92.093801067333089},null,null,{"$f":"IF(MIN(L1037:L1043)+B$2+B$1>0,1,0)","v":1},{"$f":"IF(P1037=1,K1037*B$1/(B$1+B$2+L1037),99999)","v":3.6958648091795707},{"$f":"M1037*B$1/(B$1+B$2+L1037)","v":4.7824427028186731},null,null,{"$f":"(8*U1035+2*U1045)/10","v":17.234272802937681},560.18480083536542,106.11346736362275,-2.8130342959495458,-0.41681801992046985,9.5810676820222263,0.77724139215996857,0.19859281245771854,0.19110145804449985,-2.2347938280020854,-0.64622688958934582,9.7108796931628447,3.9213512990489003,null,null,null,null,null,null,null,null,null,null,null,2.814342788094558,255.92625342845966,88.3699296381549]
[877,{"$f":"OFFSET(Calculations!AS$43,$A1041,0)-U$3-B$10","v":66.181543123278132},{"$f":"OFFSET(Calculations!AT$43,$A1041,0)-V$3-B$11","v":374.91385647083018},{"$f":"OFFSET(Calculations!AU$43,$A1041,0)-W$3-B$12","v":95.121676810174534},66.181543123278132,374.91385647083018,95.121676810174534,66.181543123278132,374.91385647083018,95.121676810174534,66.181543123278132,374.91385647083018,95.121676810174534,null,null,null,{"$f":"IF(P1037=1,K1041*B$1/(B$1+B$2+L1041),99999)","v":3.4387716633575414},4.9424916880010068,null,null,{"$f":"(4*U1035+6*U1045)/10","v":20.218144054517762},561.36285194422896,106.98793210937147,-2.4984543925610403,-0.52213522619479136,9.6597482453204666,0.79449478540345098,0.1263039603852576,0.16791137236535292,-1.9366637374477698,-0.79584682872039492,9.7648477399995723,3.8836915968975454,null,null,null,null,null,null,null,null,null,null,null,2.8301554598846366,256.17963162311293,90.35375156813879]
[869,{"$f":"OFFSET(Calculations!AS$43,$A1043,0)-U$3-B$10","v":71.702803127396919},{"$f":"OFFSET(Calculations!AT$43,$A1043,0)-V$3-B$11","v":385.01953453668028},{"$f":"OFFSET(Calculations!AU$43,$A1043,0)-W$3-B$12","v":96.360843786941317},71.702803127396919,385.01953453668028,96.360843786941317,71.702803127396919,385.01953453668028,96.360843786941317,71.702803127396919,385.01953453668028,96.360843786941317,null,null,null,{"$f":"IF(P1037=1,K1043*B$1/(B$1+B$2+L1043),99999)","v":3.6303421404967922},4.8787887869881308,null,null,{"$f":"(2*U1035+8*U1045)/10","v":21.7100796803078},561.95187749866068,107.42516448224585,-2.3411644408667875,-0.57479382933195211,9.6990885269695859,0.80392978383070357,7.7995099502345511E-2,0.15159996878436743,-1.7932842642284736,-0.88180649598953875,9.7850117762050957,3.8646760956169062,null,null,null,null,null,null,null,null,null,null,null,2.7194667573538576,254.40598426054206,76.466998058251065]
[876,{"$f":"OFFSET(Calculations!AS$43,$A1046,0)-U$3-B$10","v":71.16995637140316},{"$f":"OFFSET(Calculations!AT$43,$A1046,0)-V$3-B$11","v":375.13289877181342},{"$f":"OFFSET(Calculations!AU$43,$A1046,0)-W$3-B$12","v":92.093801067333089},71.16995637140316,375.13289877181342,92.093801067333089,71.16995637140316,375.13289877181342,92.093801067333089,71.16995637140316,375.13289877181342,92.093801067333089,null,null,null,{"$f":"IF(P1045=1,K1046*B$1/(B$1+B$2+L1046),99999)","v":3.6958648091795707},4.7824427028186731,null,null,{"$f":"(9*U1045+U1055)/10","v":24.010530277522751},562.64357590079203,108.02598358477205,-2.1118562852716867,-0.67203265284027791,9.7479766379897903,0.81417308406346933,1.7521803772865496E-2,0.13057220446196993,-1.5866555747126925,-1.0264771203363829,9.8054727963232562,3.8383383091462813,null,null,null,null,null,null,null,null,null,null,null,-7.2565780480295023,253.35853707326027,78.86836779042585]
[884,{"$f":"OFFSET(Calculations!AS$43,$A1049,0)-U$3-B$10","v":65.675658957257426},{"$f":"OFFSET(Calculations!AT$43,$A1049,0)-V$3-B$11","v":365.04723520525101},{"$f":"OFFSET(Calculations!AU$43,$A1049,0)-W$3-B$12","v":93.574464474327357},65.675658957257426,365.04723520525101,93.574464474327357,65.675658957257426,365.04723520525101,93.574464474327357,65.675658957257426,365.04723520525101,93.574464474327357,null,null,null,{"$f":"IF(P1045=1,K1049*B$1/(B$1+B$2+L1049),99999)","v":3.5022606643835301},4.9900095609619477,null,null,{"$f":"(6*U1045+4*U1055)/10","v":26.436075191797482},562.95159444389014,108.51674377372755,-1.8958016735691423,-0.80577331395377316,9.7766201261030439,0.81659798947998752,-1.897150076717935E-2,0.11642312223774809,-1.387670470092853,-1.1831809982640116,9.8179876422083208,3.8166423823283808,null,null,null,null,null,null,null,null,null,null,null,-7.3266812401699113,269.13424652794606,77.809086551191129]
[876,{"$f":"OFFSET(Calculations!AS$43,$A1051,0)-U$3-B$10","v":71.16995637140316},{"$f":"OFFSET(Calculations!AT$43,$A1051,0)-V$3-B$11","v":375.13289877181342},{"$f":"OFFSET(Calculations!AU$43,$A1051,0)-W$3-B$12","v":92.093801067333089},71.16995637140316,375.13289877181342,92.093801067333089,71.16995637140316,375.13289877181342,92.093801067333089,71.16995637140316,375.13289877181342,92.093801067333089,null,null,null,{"$f":"IF(P1045=1,K1051*B$1/(B$1+B$2+L1051),99999)","v":3.6958648091795707},4.7824427028186731,null,null,{"$f":"(4*U1045+6*U1055)/10","v":28.053105134647303},563.15694013928908,108.84391723303122,-1.7517652657674461,-0.89493375469610326,9.7957157848452105,0.81352271643784491,-6.6372515283205757E-2,9.562615994832413E-2,-1.2595312285035729,-1.2931440278609394,9.8223036808955584,3.8020851066844097,null,null,null,null,null,null,null,null,null,null,null,-17.202377280471811,258.24372251046736,87.558150997532096]
[" ",null,null,null,null,null,null,null,null,null,null,null,null,null,null,null,null,null,null,null,{"$f":"(3*U1045+7*U1055)/10","v":28.861620106072213},563.25961298698849,109.00750396268306,-1.6797470618665979,-0.9395139750672683,9.8052636142162957,0.8119850799167736,-9.0073022541332648E-2,8.5227678803576623E-2,-1.1979704731741758,-1.3506254049236326,9.8224530729420128,3.794778034601249,null,null,null,null,null,null,null,null,null,null,null,-17.199492701042814,252.80911981944524,85.411138824781617]
[889,{"$f":"OFFSET(Calculations!AS$43,$A1056,0)-U$3-B$10","v":75.178635437504653},{"$f":"OFFSET(Calculations!AT$43,$A1056,0)-V$3-B$11","v":354.61851406397602},{"$f":"OFFSET(Calculations!AU$43,$A1056,0)-W$3-B$12","v":94.541528781078938},75.178635437504653,354.61851406397602,94.541528781078938,75.178635437504653,354.61851406397602,94.541528781078938,75.178635437504653,354.61851406397602,94.541528781078938,null,null,null,{"$f":"IF(P1053=1,K1056*B$1/(B$1+B$2+L1056),99999)","v":4.1236872258392125},5.1857777449277114,null,null,{"$f":"(9*U1055+U1065)/10","v":32.108612820659978},563.47567342023967,109.58638910942787,-1.4030539176516754,-1.1331436677613511,9.8327025035485072,0.80502623202698231,-0.17271061672681753,4.8350114966140723E-2,-0.96845322162487368,-1.5972166616026009,9.8096597924800815,3.7687656051033676,null,null,null,null,null,null,null,null,null,null,null,-17.347483653594509,267.15074953539562,74.495080389222608]
[891,{"$f":"OFFSET(Calculations!AS$43,$A1057,0)-U$3-B$10","v":65.191454320485477},{"$f":"OFFSET(Calculations!AT$43,$A1057,0)-V$3-B$11","v":355.11562780019858},{"$f":"OFFSET(Calculations!AU$43,$A1057,0)-W$3-B$12","v":94.636876927961225},65.191454320485477,355.11562780019858,94.636876927961225,65.191454320485477,355.11562780019858,94.636876927961225,65.191454320485477,355.11562780019858,94.636876927961225,null,null,null,{"$f":"IF(P1053=1,K1057*B$1/(B$1+B$2+L1057),99999)","v":3.5710032305798785},5.183940084851649,null,null,{"$f":"(8*U1055+2*U1065)/10","v":32.930060620973009},563.38371531039252,109.67451406721716,-1.3424153851392973,-1.1930326993419385,9.8314979047674651,0.80268029370041205,-0.18424668913803544,4.2667994562833655E-2,-0.91454412171784039,-1.662074112178803,9.8037857869621696,3.7647842115716905,null,null,null,null,null,null,null,null,null,null,null,-17.255044787913494,250.97552135974203,78.009827680516864]
[{"$f":"A1053+7","v":897},{"$f":"OFFSET(Calculations!AS$43,$A1061,0)-U$3-B$10","v":69.67308696368427},{"$f":"OFFSET(Calculations!AT$43,$A1061,0)-V$3-B$11","v":344.71714564604173},{"$f":"OFFSET(Calculations!AU$43,$A1061,0)-W$3-B$12","v":93.882853068214615},{"$f":"B1061*F$5+C1061*F$4","v":69.67308696368427},{"$f":"C1061*F$5-B1061*F$4","v":344.71714564604173},{"$f":"D1061","v":93.882853068214615},69.67308696368427,{"$f":"F1061*F$7+G1061*F$6","v":344.71714564604173},{"$f":"G1061*F$7-F1061*F$6","v":93.882853068214615},{"$f":"H1061*F$9+J1061*F$8","v":69.67308696368427},{"$f":"I1061","v":344.71714564604173},{"$f":"J1061*F$9-H1061*F$8","v":93.882853068214615},{"$f":"IF(P1061=1,K1061*B$1/(B$1+B$2+L1061),99999)","v":3.9283743579290245},{"$f":"M1061*B$1/(B$1+B$2+L1061)","v":5.2933924520184661},{"$f":"IF(MIN(L1061:L1067)+B$2+B$1>0,1,0)","v":1},null,null,null,null,{"$f":"(4*U1055+6*U1065)/10","v":36.215851822225133},563.01588287100401,110.02701389837435,-1.0998612550897846,-1.4325888256642885,9.8266795096433022,0.78260582766004205,-0.25068373393276033,7.3937450553813733E-3,-0.70966921790402582,-1.9290175613728835,9.7730011174243963,3.7488009711084573,null,null,null,null,null,null,null,null,null,null,null,-27.287357266684381,259.4593023221704,78.127728018882081]
[890,{"$f":"OFFSET(Calculations!AS$43,$A1062,0)-U$3-B$10","v":70.123295566143398},{"$f":"OFFSET(Calculations!AT$43,$A1062,0)-V$3-B$11","v":354.1880402611157},{"$f":"OFFSET(Calculations!AU$43,$A1062,0)-W$3-B$12","v":91.661551855811098},70.123295566143398,354.1880402611157,91.661551855811098,70.123295566143398,354.1880402611157,91.661551855811098,70.123295566143398,354.1880402611157,91.661551855811098,{"$f":"IF(P1061=1,K1062*B$1/(B$1+B$2+L1062),99999)","v":3.8509389553740623},5.0337485981193435,null,null,null,null,null,{"$f":"(3*U1055+7*U1065)/10","v":37.037299622538164},562.92392476115697,110.11513885616364,-1.0392227225774064,-1.4924778572448758,9.8254749108622601,0.77491453296644153,-0.27236618391884804,-4.5612592950305952E-3,-0.66286289689989131,-1.9982556935941702,9.7625556885532614,3.7447906184843087,null,null,null,null,null,null,null,null,null,null,null,-27.209088534524131,260.71346039967818,87.947145594389951]
[898,{"$f":"OFFSET(Calculations!AS$43,$A1065,0)-U$3-B$10","v":64.728835820761361},{"$f":"OFFSET(Calculations!AT$43,$A1065,0)-V$3-B$11","v":345.386795979147},{"$f":"OFFSET(Calculations!AU$43,$A1065,0)-W$3-B$12","v":96.903110702620808},64.728835820761361,345.386795979147,96.903110702620808,64.728835820761361,345.386795979147,96.903110702620808,64.728835820761361,345.386795979147,96.903110702620808,{"$f":"IF(P1061=1,K1065*B$1/(B$1+B$2+L1065),99999)","v":3.6427259849327349},5.4533883531399843,null,null,null,null,{"$f":"T1055+7","v":714},{"$f":"OFFSET(Calculations!AS$46,$T1065,0)","v":39.501643023477257},{"$f":"OFFSET(Calculations!AT$46,$T1065,0)","v":562.64805043161562},{"$f":"OFFSET(Calculations!AU$46,$T1065,0)","v":110.37951372953152},{"$f":"OFFSET(Calculations!AS$43,$T1065,0)-OFFSET(Calculations!AS$45,$T1065,0)","v":-0.85730712504027196},{"$f":"OFFSET(Calculations!AT$43,$T1065,0)-OFFSET(Calculations!AT$45,$T1065,0)","v":-1.6721449519866383},{"$f":"OFFSET(Calculations!AU$43,$T1065,0)-OFFSET(Calculations!AU$45,$T1065,0)","v":9.8218611145191375},0.75184064888563285,-0.3374135338766564,-4.0426272346280712E-2,-0.53510014296074093,-2.2127241679132084,9.7235086548276044,3.7327242489825978,null,null,null,null,null,null,null,null,null,null,null,-37.224977439074181,259.74972966382313,85.680345056132097]
[890,{"$f":"OFFSET(Calculations!AS$43,$A1067,0)-U$3-B$10","v":70.123295566143398},{"$f":"OFFSET(Calculations!AT$43,$A1067,0)-V$3-B$11","v":354.1880402611157},{"$f":"OFFSET(Calculations!AU$43,$A1067,0)-W$3-B$12","v":91.661551855811098},70.123295566143398,354.1880402611157,91.661551855811098,70.123295566143398,354.1880402611157,91.661551855811098,70.123295566143398,354.1880402611157,91.661551855811098,{"$f":"IF(P1061=1,K1067*B$1/(B$1+B$2+L1067),99999)","v":3.8509389553740623},5.0337485981193435,null,null,null,null,null,{"$f":"(8*U1065+2*U1075)/10","v":41.069468597652829},562.09497989475744,110.37393579220429,-0.766793180497092,-1.8146357876991943,9.7981060575884946,0.74114993615159364,-0.35770628902582757,-5.2972040240504725E-2,-0.45951046704730236,-2.3606217746963183,9.6917187345222189,3.732979382525472,null,null,null,null,null,null,null,null,null,null,null,-37.221933079121136,250.52587590984916,81.817637112581053]
[896,{"$f":"OFFSET(Calculations!AS$43,$A1071,0)-U$3-B$10","v":74.71601693778058},{"$f":"OFFSET(Calculations!AT$43,$A1071,0)-V$3-B$11","v":344.88968224292449},{"$f":"OFFSET(Calculations!AU$43,$A1071,0)-W$3-B$12","v":96.807762555738464},74.71601693778058,344.88968224292449,96.807762555738464,74.71601693778058,344.88968224292449,96.807762555738464,74.71601693778058,344.88968224292449,96.807762555738464,{"$f":"IF(P1069=1,K1071*B$1/(B$1+B$2+L1071),99999)","v":4.210661547868666},5.455653821430225,null,null,null,null,null,{"$f":"(4*U1065+6*U1075)/10","v":44.205119746003973},560.9888388210411,110.36277991754983,-0.58576529141073197,-2.099617459124306,9.7505959437272107,0.70378450407645943,-0.41446592805937144,-9.0962902941669199E-2,-0.32336629244946957,-2.6615024426411762,9.6201938120198971,3.733489578171632,null,null,null,null,null,null,null,null,null,null,null,-37.221324207130571,248.68110515905437,81.045095523870927]
[903,{"$f":"OFFSET(Calculations!AS$43,$A1072,0)-U$3-B$10","v":74.237255290797918},{"$f":"OFFSET(Calculations!AT$43,$A1072,0)-V$3-B$11","v":335.00099391121586},{"$f":"OFFSET(Calculations!AU$43,$A1072,0)-W$3-B$12","v":98.21653165098077},74.237255290797918,335.00099391121586,98.21653165098077,74.237255290797918,335.00099391121586,98.21653165098077,74.237255290797918,335.00099391121586,98.21653165098077,{"$f":"IF(P1069=1,K1072*B$1/(B$1+B$2+L1072),99999)","v":4.30359660412471},5.6936955767875999,null,null,null,null,null,{"$f":"(3*U1065+7*U1075)/10","v":44.989032533091759},560.71230355261196,110.35999094888621,-0.54050831913914199,-2.1708628769805842,9.7387184152618893,0.69044714440590838,-0.432699370001842,-0.10368545034511101,-0.29440342667005293,-2.7379279036511415,9.5998429167327632,3.7336171122047856,null,null,null,null,null,null,null,null,null,null,null,-47.236534000247389,260.05367696832667,84.505585530075024]
[898,{"$f":"OFFSET(Calculations!AS$43,$A1074,0)-U$3-B$10","v":64.728835820761361},{"$f":"OFFSET(Calculations!AT$43,$A1074,0)-V$3-B$11","v":345.386795979147},{"$f":"OFFSET(Calculations!AU$43,$A1074,0)-W$3-B$12","v":96.903110702620808},64.728835820761361,345.386795979147,96.903110702620808,64.728835820761361,345.386795979147,96.903110702620808,64.728835820761361,345.386795979147,96.903110702620808,{"$f":"IF(P1069=1,K1074*B$1/(B$1+B$2+L1074),99999)","v":3.6427259849327349},5.4533883531399843,null,null,null,null,null,{"$f":"(1*U1065+9*U1075)/10","v":46.556858107267324},560.15923301575378,110.35441301155898,-0.44999437459596192,-2.3133537126931403,9.7149633583312482,0.66377242506483469,-0.46916625388621469,-0.12913054515202305,-0.24369854489208578,-2.8923103083971187,9.5557020721274029,3.7338721624228595,null,null,null,null,null,null,null,null,null,null,null,-47.209509701806425,250.1444260278503,83.16170477421889]
[{"$f":"A1069+7","v":911},{"$f":"OFFSET(Calculations!AS$43,$A1077,0)-U$3-B$10","v":68.767810702290021},{"$f":"OFFSET(Calculations!AT$43,$A1077,0)-V$3-B$11","v":326.45379342264442},{"$f":"OFFSET(Calculations!AU$43,$A1077,0)-W$3-B$12","v":94.27935029939718},{"$f":"B1077*F$5+C1077*F$4","v":68.767810702290021},{"$f":"C1077*F$5-B1077*F$4","v":326.45379342264442},{"$f":"D1077","v":94.27935029939718},68.767810702290021,{"$f":"F1077*F$7+G1077*F$6","v":326.45379342264442},{"$f":"G1077*F$7-F1077*F$6","v":94.27935029939718},{"$f":"H1077*F$9+J1077*F$8","v":68.767810702290021},{"$f":"I1077","v":326.45379342264442},{"$f":"J1077*F$9-H1077*F$8","v":94.27935029939718},{"$f":"IF(P1077=1,K1077*B$1/(B$1+B$2+L1077),99999)","v":4.0878011808240009},{"$f":"M1077*B$1/(B$1+B$2+L1077)","v":5.6042970620316908},{"$f":"IF(MIN(L1077:L1083)+B$2+B$1>0,1,0)","v":1},null,null,null,null,{"$f":"(8*U1075+2*U1085)/10","v":48.737545064785898},559.00494312807984,110.14531381926054,-0.35096011902363244,-2.540398941204876,9.6595526477051514,0.63445105878727048,-0.50357382456388677,-0.15475241946816709,-0.18454532601347395,-3.127296716864234,9.4815112365550682,3.7434160819214517,null,null,null,null,null,null,null,null,null,null,null,-47.356662177839006,257.11444210703843,68.970255869873199]
[910,{"$f":"OFFSET(Calculations!AS$43,$A1080,0)-U$3-B$10","v":73.732278253289792},{"$f":"OFFSET(Calculations!AT$43,$A1080,0)-V$3-B$11","v":325.08628707281349},{"$f":"OFFSET(Calculations!AU$43,$A1080,0)-W$3-B$12","v":97.015038205252466},73.732278253289792,325.08628707281349,97.015038205252466,73.732278253289792,325.08628707281349,97.015038205252466,73.732278253289792,325.08628707281349,97.015038205252466,{"$f":"IF(P1077=1,K1080*B$1/(B$1+B$2+L1080),99999)","v":4.4007935327576053},5.7904511135169985,null,null,null,null,null,{"$f":"(5*U1075+5*U1085)/10","v":50.832706320432081},557.68831119921254,109.83584848380833,-0.2702941940725232,-2.7740986571880626,9.5942528744639901,0.60044820339064131,-0.53532152094146568,-0.1755181421814882,-0.13787049116685024,-3.3635503297737621,9.4019477701969851,3.7574803956525784,null,null,null,null,null,null,null,null,null,null,null,-57.198848351708534,255.44070533891292,86.896677210819846]
[905,{"$f":"OFFSET(Calculations!AS$43,$A1082,0)-U$3-B$10","v":64.250074173778756},{"$f":"OFFSET(Calculations!AT$43,$A1082,0)-V$3-B$11","v":335.49810764743842},{"$f":"OFFSET(Calculations!AU$43,$A1082,0)-W$3-B$12","v":98.311879797863071},64.250074173778756,335.49810764743842,98.311879797863071,64.250074173778756,335.49810764743842,98.311879797863071,64.250074173778756,335.49810764743842,98.311879797863071,{"$f":"IF(P1077=1,K1082*B$1/(B$1+B$2+L1082),99999)","v":3.7192721321265463},5.6910227652062781,null,null,null,null,null,{"$f":"(3*U1075+7*U1085)/10","v":52.229480490862862},556.81055657996785,109.62953826017352,-0.2165169107717837,-2.9298984678435205,9.5507196923032147,0.56441050581145902,-0.56646865622622045,-0.19125093378268332,-9.6739956764196264E-2,-3.5109533932222257,9.3492280654720901,3.7668168873846719,null,null,null,null,null,null,null,null,null,null,null,-57.277932794221449,254.17347652805509,76.974922464993426]
[{"$f":"A1077+7","v":918},{"$f":"OFFSET(Calculations!AS$43,$A1085,0)-U$3-B$10","v":68.544005035502011},{"$f":"OFFSET(Calculations!AT$43,$A1085,0)-V$3-B$11","v":317.40983938474852},{"$f":"OFFSET(Calculations!AU$43,$A1085,0)-W$3-B$12","v":90.665064644619406},{"$f":"B1085*F$5+C1085*F$4","v":68.544005035502011},{"$f":"C1085*F$5-B1085*F$4","v":317.40983938474852},{"$f":"D1085","v":90.665064644619406},68.544005035502011,{"$f":"F1085*F$7+G1085*F$6","v":317.40983938474852},{"$f":"G1085*F$7-F1085*F$6","v":90.665064644619406},{"$f":"H1085*F$9+J1085*F$8","v":68.544005035502011},{"$f":"I1085","v":317.40983938474852},{"$f":"J1085*F$9-H1085*F$8","v":90.665064644619406},{"$f":"IF(P1085=1,K1085*B$1/(B$1+B$2+L1085),99999)","v":4.1870461293592349},{"$f":"M1085*B$1/(B$1+B$2+L1085)","v":5.5383225388090027},{"$f":"IF(MIN(L1085:L1091)+B$2+B$1>0,1,0)","v":1},null,null,null,{"$f":"T1075+7","v":728},{"$f":"OFFSET(Calculations!AS$46,$T1085,0)","v":54.324641746509045},{"$f":"OFFSET(Calculations!AT$46,$T1085,0)","v":555.49392465110054},{"$f":"OFFSET(Calculations!AU$46,$T1085,0)","v":109.32007292472132},{"$f":"OFFSET(Calculations!AS$43,$T1085,0)-OFFSET(Calculations!AS$45,$T1085,0)","v":-0.13585098582067445},{"$f":"OFFSET(Calculations!AT$43,$T1085,0)-OFFSET(Calculations!AT$45,$T1085,0)","v":-3.1635981838267071},{"$f":"OFFSET(Calculations!AU$43,$T1085,0)-OFFSET(Calculations!AU$45,$T1085,0)","v":9.4854199190620534},0.51035395944266071,-0.6131893591533526,-0.21485012118453994,-3.714564248974421E-3,-3.7063366816249506,9.2735964484872646,3.7807628489643008,null,null,null,null,null,null,null,null,null,null,null,-57.188174640001137,248.11675587350254,84.804869999075052]
[910,{"$f":"OFFSET(Calculations!AS$43,$A1087,0)-U$3-B$10","v":73.732278253289792},{"$f":"OFFSET(Calculations!AT$43,$A1087,0)-V$3-B$11","v":325.08628707281349},{"$f":"OFFSET(Calculations!AU$43,$A1087,0)-W$3-B$12","v":97.015038205252466},73.732278253289792,325.08628707281349,97.015038205252466,73.732278253289792,325.08628707281349,97.015038205252466,73.732278253289792,325.08628707281349,97.015038205252466,{"$f":"IF(P1085=1,K1087*B$1/(B$1+B$2+L1087),99999)","v":4.4007935327576053},5.7904511135169985,null,null,null,null,null,{"$f":"(8*U1085+2*U1095)/10","v":55.465671811227296},554.35738397209002,108.90737347048344,-0.12235943894006596,-3.3224248352837549,9.4249816191330744,0.49030026847050578,-0.62816236570279216,-0.21768358587307546,8.0447687298463133E-2,-3.8193500806050706,9.2260022821626464,3.7992529156436587,null,null,null,null,null,null,null,null,null,null,null,-67.20305725304496,256.15911340442824,86.779566830208722]
[911,{"$f":"OFFSET(Calculations!AS$43,$A1091,0)-U$3-B$10","v":68.767810702290021},{"$f":"OFFSET(Calculations!AT$43,$A1091,0)-V$3-B$11","v":326.45379342264442},{"$f":"OFFSET(Calculations!AU$43,$A1091,0)-W$3-B$12","v":94.27935029939718},68.767810702290021,326.45379342264442,94.27935029939718,68.767810702290021,326.45379342264442,94.27935029939718,68.767810702290021,326.45379342264442,94.27935029939718,{"$f":"IF(P1085=1,K1091*B$1/(B$1+B$2+L1091),99999)","v":4.0878011808240009},5.6042970620316908,null,null,null,null,null,{"$f":"(4*U1085+6*U1095)/10","v":57.74773194066379},552.0843026140692,108.08197456200772,-9.5376345178848965E-2,-3.6400781381978504,9.3041050192751182,0.42924274807365492,-0.67769380576385174,-0.22987578622782223,0.31882208554898767,-4.0004838048182059,9.142043584205906,3.8358714027364598,null,null,null,null,null,null,null,null,null,null,null,-67.317622729043919,249.33499018113511,70.122970016049294]
[" ",null,null,null,null,null,null,null,null,null,null,null,null,null,null,null,null,null,null,null,{"$f":"(3*U1085+7*U1095)/10","v":58.31824697302293},551.51603227456405,107.87562483488878,-8.8630571738544717E-2,-3.7194914639263743,9.2738858693106287,0.40874083336131406,-0.69497302251954807,-0.23455515406092786,0.40043315268505608,-4.0324001391850679,9.1224275802993002,3.8449523800299699,null,null,null,null,null,null,null,null,null,null,null,-67.174589681684211,248.54412697898812,86.656393041631503]
[917,{"$f":"OFFSET(Calculations!AS$43,$A1095,0)-U$3-B$10","v":73.212266660582742},{"$f":"OFFSET(Calculations!AT$43,$A1095,0)-V$3-B$11","v":315.65964032589085},{"$f":"OFFSET(Calculations!AU$43,$A1095,0)-W$3-B$12","v":93.689653393295643},73.212266660582742,315.65964032589085,93.689653393295643,73.212266660582742,315.65964032589085,93.689653393295643,73.212266660582742,315.65964032589085,93.689653393295643,{"$f":"IF(P1093=1,K1095*B$1/(B$1+B$2+L1095),99999)","v":4.4962443972067581},5.7538387808534992,null,null,null,null,{"$f":"T1085+7","v":735},{"$f":"OFFSET(Calculations!AS$46,$T1095,0)","v":60.029792070100299},{"$f":"OFFSET(Calculations!AT$46,$T1095,0)","v":549.81122125604838},{"$f":"OFFSET(Calculations!AU$46,$T1095,0)","v":107.25657565353197},{"$f":"OFFSET(Calculations!AS$43,$T1095,0)-OFFSET(Calculations!AS$45,$T1095,0)","v":-6.8393251417631973E-2},{"$f":"OFFSET(Calculations!AT$43,$T1095,0)-OFFSET(Calculations!AT$45,$T1095,0)","v":-3.957731441111946},{"$f":"OFFSET(Calculations!AU$43,$T1095,0)-OFFSET(Calculations!AU$45,$T1095,0)","v":9.1832284194171621},0.34723508922427015,-0.7468106727869781,-0.24859325756027317,0.70677599364171773,-4.0913810585320398,9.065748698435371,3.8720230395972441,null,null,null,null,null,null,null,null,null,null,null,-77.180667767362962,251.00431624149044,87.115808208702475]
[924,{"$f":"OFFSET(Calculations!AS$43,$A1096,0)-U$3-B$10","v":72.703275284550884},{"$f":"OFFSET(Calculations!AT$43,$A1096,0)-V$3-B$11","v":306.48083794853238},{"$f":"OFFSET(Calculations!AU$43,$A1096,0)-W$3-B$12","v":89.706789208508596},72.703275284550884,306.48083794853238,89.706789208508596,72.703275284550884,306.48083794853238,89.706789208508596,72.703275284550884,306.48083794853238,89.706789208508596,{"$f":"IF(P1093=1,K1096*B$1/(B$1+B$2+L1096),99999)","v":4.5944819759592672},5.6690186862496326,null,null,null,null,null,{"$f":"(9*U1095+U1105)/10","v":60.439877574682193},549.12316686414795,107.02755820890479,2.5331850843384983E-2,-3.9807592253304049,9.16881743388881,0.3367600199980032,-0.75660338626801149,-0.25185589304913947,0.82939348714342365,-4.0987853370631591,9.0475787810993573,3.8819734039602425,null,null,null,null,null,null,null,null,null,null,null,-77.252444339488832,250.74301362725507,78.517752087259282]
[" ",null,null,null,null,null,null,null,null,null,null,null,null,null,null,null,null,null,null,null,{"$f":"(5*U1095+5*U1105)/10","v":62.08021959300978},546.37094929654631,106.11148843039609,0.40023225988745281,-4.0728703622042417,9.1111734917754035,0.29105081193378624,-0.802926052975522,-0.2650558087739654,1.3680174465513959,-4.1023632750420695,8.968634225409204,3.9214359732435282,null,null,null,null,null,null,null,null,null,null,null,-87.266622932683816,258.00315223351618,80.217540710677]
[925,{"$f":"OFFSET(Calculations!AS$43,$A1102,0)-U$3-B$10","v":68.495120500988264},{"$f":"OFFSET(Calculations!AT$43,$A1102,0)-V$3-B$11","v":308.46098490695323},{"$f":"OFFSET(Calculations!AU$43,$A1102,0)-W$3-B$12","v":86.187349132055232},68.495120500988264,308.46098490695323,86.187349132055232,68.495120500988264,308.46098490695323,86.187349132055232,68.495120500988264,308.46098490695323,86.187349132055232,{"$f":"IF(P1101=1,K1102*B$1/(B$1+B$2+L1102),99999)","v":4.301633402346031},5.412741479603044,null,null,null,null,null,{"$f":"(3*U1095+7*U1105)/10","v":62.900390602173573},544.99484051274555,105.65345354114172,0.58768246440948668,-4.1189259306411596,9.0823515207186993,0.26248281116298244,-0.83681510550377425,-0.27187982729049054,1.6791301876416798,-4.0792039848065205,8.9153903101805092,3.9409686955278791,null,null,null,null,null,null,null,null,null,null,null,-87.175953504803871,251.88494045267794,88.126982135939713]
[933,{"$f":"OFFSET(Calculations!AS$43,$A1105,0)-U$3-B$10","v":62.814713830913156},{"$f":"OFFSET(Calculations!AT$43,$A1105,0)-V$3-B$11","v":299.29538971306874},{"$f":"OFFSET(Calculations!AU$43,$A1105,0)-W$3-B$12","v":82.648030558171229},62.814713830913156,299.29538971306874,82.648030558171229,62.814713830913156,299.29538971306874,82.648030558171229,62.814713830913156,299.29538971306874,82.648030558171229,{"$f":"IF(P1101=1,K1105*B$1/(B$1+B$2+L1105),99999)","v":4.0617943829803576},5.3442782082748312,null,null,null,null,{"$f":"T1095+7","v":742},{"$f":"OFFSET(Calculations!AS$46,$T1105,0)","v":64.13064711591926},{"$f":"OFFSET(Calculations!AT$46,$T1105,0)","v":542.93067733704436},{"$f":"OFFSET(Calculations!AU$46,$T1105,0)","v":104.96640120726019},{"$f":"OFFSET(Calculations!AS$43,$T1105,0)-OFFSET(Calculations!AS$45,$T1105,0)","v":0.8688577711925376},{"$f":"OFFSET(Calculations!AT$43,$T1105,0)-OFFSET(Calculations!AT$45,$T1105,0)","v":-4.1880092832965374},{"$f":"OFFSET(Calculations!AU$43,$T1105,0)-OFFSET(Calculations!AU$45,$T1105,0)","v":9.0391185641336449},0.21963081000677676,-0.88764868429609578,-0.28211585506531378,2.2141857136919882,-4.0016237834998627,8.8057940086379993,3.9700269277475142,null,null,null,null,null,null,null,null,null,null,null,-87.253002788695923,243.07924707718092,74.994814470829127]
[" ",null,null,null,null,null,null,null,null,null,null,null,null,null,null,null,null,null,null,null,{"$f":"(7*U1105+3*U1115)/10","v":64.858100306803962},540.39646391425026,104.12274236991382,1.3811722079011006,-4.1321045904531957,8.9658141530872992,0.20820401652937903,-0.90910412264520346,-0.28256397637356656,2.8168587414198116,-3.8804458158928723,8.6624006585599584,4.0053243853005167,null,null,null,null,null,null,null,null,null,null,null,-97.22176893048848,257.67491087487588,85.416757929615756]
[932,{"$f":"OFFSET(Calculations!AS$43,$A1110,0)-U$3-B$10","v":68.555288570832062},{"$f":"OFFSET(Calculations!AT$43,$A1110,0)-V$3-B$11","v":299.07746508731111},{"$f":"OFFSET(Calculations!AU$43,$A1110,0)-W$3-B$12","v":81.631002282804758},68.555288570832062,299.07746508731111,81.631002282804758,68.555288570832062,299.07746508731111,81.631002282804758,68.555288570832062,299.07746508731111,81.631002282804758,null,null,null,{"$f":"IF(P1109=1,K1110*B$1/(B$1+B$2+L1110),99999)","v":4.436123387479312},5.2822357825242845,null,null,{"$f":"(5*U1105+5*U1115)/10","v":65.343069100727107},538.70698829905439,103.56030314501622,1.7227151657068092,-4.0948347952243012,8.9169445457230694,0.20315124445583876,-0.9224899511239073,-0.28407402253549208,3.2401547101477086,-3.7841192482587722,8.5501172492146722,4.0286274889966789,null,null,null,null,null,null,null,null,null,null,null,-97.218723758705849,248.44859742656752,81.553019930613161]
[931,{"$f":"OFFSET(Calculations!AS$43,$A1111,0)-U$3-B$10","v":72.026718497181861},{"$f":"OFFSET(Calculations!AT$43,$A1111,0)-V$3-B$11","v":297.20524910646719},{"$f":"OFFSET(Calculations!AU$43,$A1111,0)-W$3-B$12","v":85.929841380458313},72.026718497181861,297.20524910646719,85.929841380458313,72.026718497181861,297.20524910646719,85.929841380458313,72.026718497181861,297.20524910646719,85.929841380458313,null,null,null,{"$f":"IF(P1109=1,K1111*B$1/(B$1+B$2+L1111),99999)","v":4.6891593621318481},5.5942951255157665,null,null,{"$f":"(4*U1105+6*U1115)/10","v":65.585553497688664},537.86225049145628,103.27908353256744,1.8934866446096634,-4.0761998976098539,8.8925097420409536,0.20190740354142633,-0.92872396681991631,-0.28543469492795737,3.4561388571612759,-3.729880365090954,8.485554784267924,4.0402120600738574,null,null,null,null,null,null,null,null,null,null,null,-97.285991326302479,257.60905538559712,77.800489443702219]
[932,{"$f":"OFFSET(Calculations!AS$43,$A1115,0)-U$3-B$10","v":68.555288570832062},{"$f":"OFFSET(Calculations!AT$43,$A1115,0)-V$3-B$11","v":299.07746508731111},{"$f":"OFFSET(Calculations!AU$43,$A1115,0)-W$3-B$12","v":81.631002282804758},68.555288570832062,299.07746508731111,81.631002282804758,68.555288570832062,299.07746508731111,81.631002282804758,68.555288570832062,299.07746508731111,81.631002282804758,null,null,null,{"$f":"IF(P1109=1,K1115*B$1/(B$1+B$2+L1115),99999)","v":4.436123387479312},5.2822357825242845,null,{"$f":"T1105+7","v":749},{"$f":"OFFSET(Calculations!AS$46,$T1115,0)","v":66.555491085534953},{"$f":"OFFSET(Calculations!AT$46,$T1115,0)","v":534.48329926106442},{"$f":"OFFSET(Calculations!AU$46,$T1115,0)","v":102.15420508277226},{"$f":"OFFSET(Calculations!AS$43,$T1115,0)-OFFSET(Calculations!AS$45,$T1115,0)","v":2.5765725602210807},{"$f":"OFFSET(Calculations!AT$43,$T1115,0)-OFFSET(Calculations!AT$45,$T1115,0)","v":-4.0016603071520649},{"$f":"OFFSET(Calculations!AU$43,$T1115,0)-OFFSET(Calculations!AU$45,$T1115,0)","v":8.7947705273124939},0.19693203988371977,-0.95366002960327023,-0.29087738449793221,4.3419231214690495,-3.4677100948081088,8.1597851643664736,4.0861155167406356,null,null,null,null,null,null,null,null,null,null,null,-107.22854490671359,257.84526459830863,84.745540114099583]
[" ",null,null,null,null,null,null,null,null,null,null,null,null,null,null,null,null,null,null,null,{"$f":"(9*U1115+U1125)/10","v":66.737032583950452},533.52413244893819,101.87059549001275,2.8161886799005145,-3.9332933906700758,8.7169346272252781,0.19949713012843517,-0.95274223251612966,-0.29208868312100833,4.5688311066093696,-3.3908638428345035,8.0614628193624966,4.0975815374025579,null,null,null,null,null,null,null,null,null,null,null,-107.17587462699828,254.1947468959512,89.296032652980429]
[945,{"$f":"OFFSET(Calculations!AS$43,$A1120,0)-U$3-B$10","v":66.533089702299634},{"$f":"OFFSET(Calculations!AT$43,$A1120,0)-V$3-B$11","v":277.10744091399249},{"$f":"OFFSET(Calculations!AU$43,$A1120,0)-W$3-B$12","v":81.568336272104844},66.533089702299634,277.10744091399249,81.568336272104844,66.533089702299634,277.10744091399249,81.568336272104844,66.533089702299634,277.10744091399249,81.568336272104844,null,null,null,{"$f":"IF(P1117=1,K1120*B$1/(B$1+B$2+L1120),99999)","v":4.6347171978890414},5.6820774837765287,null,null,{"$f":"(5*U1115+5*U1125)/10","v":67.463198577612417},529.68746520043283,100.73615711897469,3.7746531586182499,-3.6598257247421202,8.4055910268764151,0.21135252739983912,-0.94159264891004568,-0.2961265689532695,5.455282822938794,-3.0693466091207249,7.6340293644853201,4.1430273580763997,null,null,null,null,null,null,null,null,null,null,null,-107.15805591675674,253.92602814809126,91.277817890616873]
[940,{"$f":"OFFSET(Calculations!AS$43,$A1122,0)-U$3-B$10","v":62.446471420626771},{"$f":"OFFSET(Calculations!AT$43,$A1122,0)-V$3-B$11","v":290.79451723453923},{"$f":"OFFSET(Calculations!AU$43,$A1122,0)-W$3-B$12","v":78.718479329912483},62.446471420626771,290.79451723453923,78.718479329912483,62.446471420626771,290.79451723453923,78.718479329912483,62.446471420626771,290.79451723453923,78.718479329912483,null,null,null,{"$f":"IF(P1117=1,K1122*B$1/(B$1+B$2+L1122),99999)","v":4.1521017068230153},5.2340368470568324,null,null,{"$f":"(3*U1115+7*U1125)/10","v":67.826281574443399},527.76913157618014,100.16893793345564,4.2538853979771174,-3.5230918917781424,8.2499192267019836,0.21967278047445404,-0.92480026422094852,-0.29693454887940618,5.8768177279964569,-2.8970314951974943,7.3912756010970915,4.1655056104825459,null,null,null,null,null,null,null,null,null,null,null,-117.23309271510013,257.83350956608319,84.254157291828363]
[{"$f":"A1117+7","v":953},{"$f":"OFFSET(Calculations!AS$43,$A1125,0)-U$3-B$10","v":59.523242532551677},{"$f":"OFFSET(Calculations!AT$43,$A1125,0)-V$3-B$11","v":270.070278121282},{"$f":"OFFSET(Calculations!AU$43,$A1125,0)-W$3-B$12","v":74.824773197640326},{"$f":"B1125*F$5+C1125*F$4","v":59.523242532551677},{"$f":"C1125*F$5-B1125*F$4","v":270.070278121282},{"$f":"D1125","v":74.824773197640326},59.523242532551677,{"$f":"F1125*F$7+G1125*F$6","v":270.070278121282},{"$f":"G1125*F$7-F1125*F$6","v":74.824773197640326},{"$f":"H1125*F$9+J1125*F$8","v":59.523242532551677},{"$f":"I1125","v":270.070278121282},{"$f":"J1125*F$9-H1125*F$8","v":74.824773197640326},null,null,{"$f":"IF(MIN(L1125:L1131)+B$2+B$1>0,1,0)","v":1},{"$f":"IF(P1125=1,K1125*B$1/(B$1+B$2+L1125),99999)","v":4.2505933104958498},{"$f":"M1125*B$1/(B$1+B$2+L1125)","v":5.3432855281586216},null,{"$f":"T1115+7","v":756},{"$f":"OFFSET(Calculations!AS$46,$T1125,0)","v":68.370906069689866},{"$f":"OFFSET(Calculations!AT$46,$T1125,0)","v":524.89163113980123},{"$f":"OFFSET(Calculations!AU$46,$T1125,0)","v":99.318109155177098},{"$f":"OFFSET(Calculations!AS$43,$T1125,0)-OFFSET(Calculations!AS$45,$T1125,0)","v":4.9727337570154191},{"$f":"OFFSET(Calculations!AT$43,$T1125,0)-OFFSET(Calculations!AT$45,$T1125,0)","v":-3.3179911423321755},{"$f":"OFFSET(Calculations!AU$43,$T1125,0)-OFFSET(Calculations!AU$45,$T1125,0)","v":8.0164115264403364},0.23215316008638354,-0.89961168718718909,-0.29814651876858989,6.4707778709892256,-2.6202667510113127,6.9801604222865983,4.1989268457665787,null,null,null,null,null,null,null,null,null,null,null,-117.27759811528117,254.42748622163825,77.437916537260563]
[946,{"$f":"OFFSET(Calculations!AS$43,$A1126,0)-U$3-B$10","v":65.024286100397816},{"$f":"OFFSET(Calculations!AT$43,$A1126,0)-V$3-B$11","v":279.0223962571165},{"$f":"OFFSET(Calculations!AU$43,$A1126,0)-W$3-B$12","v":76.262044204897549},65.024286100397816,279.0223962571165,76.262044204897549,65.024286100397816,279.0223962571165,76.262044204897549,65.024286100397816,279.0223962571165,76.262044204897549,null,null,null,{"$f":"IF(P1125=1,K1126*B$1/(B$1+B$2+L1126),99999)","v":4.4996018953874923},5.2772411544920041,null,null,{"$f":"(9*U1125+U1135)/10","v":68.59348901202064},523.94714908106971,99.015118784448461,5.1784615179238829,-3.227012664539211,7.8839451065750907,0.2337481963789827,-0.89213329192978108,-0.29733921010860342,6.6585399947618207,-2.5231339500688965,6.8305928203555935,4.2107445487376083,null,null,null,null,null,null,null,null,null,null,null,-117.15469653908607,239.85245268330416,85.283507181629901]
[947,{"$f":"OFFSET(Calculations!AS$43,$A1130,0)-U$3-B$10","v":60.141927019635766},{"$f":"OFFSET(Calculations!AT$43,$A1130,0)-V$3-B$11","v":282.192152085896},{"$f":"OFFSET(Calculations!AU$43,$A1130,0)-W$3-B$12","v":75.797829200620953},60.141927019635766,282.192152085896,75.797829200620953,60.141927019635766,282.192152085896,75.797829200620953,60.141927019635766,282.192152085896,75.797829200620953,null,null,null,{"$f":"IF(P1125=1,K1130*B$1/(B$1+B$2+L1130),99999)","v":4.1166011195232777},5.1882180037702454,null,null,{"$f":"(5*U1125+5*U1135)/10","v":69.483820781343738},520.16922084614339,97.803157301533957,6.0013725615577371,-2.8630987533673533,7.3540794271141081,0.23714090547598232,-0.86209898616641567,-0.28934457515242684,7.3796457612924202,-2.1243455410501451,6.2038204425219803,4.2575866723660472,null,null,null,null,null,null,null,null,null,null,null,-127.4412006902277,255.51026155869445,89.453621282977636]
[946,{"$f":"OFFSET(Calculations!AS$43,$A1131,0)-U$3-B$10","v":65.024286100397816},{"$f":"OFFSET(Calculations!AT$43,$A1131,0)-V$3-B$11","v":279.0223962571165},{"$f":"OFFSET(Calculations!AU$43,$A1131,0)-W$3-B$12","v":76.262044204897549},65.024286100397816,279.0223962571165,76.262044204897549,65.024286100397816,279.0223962571165,76.262044204897549,65.024286100397816,279.0223962571165,76.262044204897549,null,null,null,{"$f":"IF(P1125=1,K1131*B$1/(B$1+B$2+L1131),99999)","v":4.4996018953874923},5.2772411544920041,null,null,{"$f":"(4*U1125+6*U1135)/10","v":69.706403723674526},519.22473878741187,97.500166930805307,6.2071003224662009,-2.7721202755743888,7.2216130072488625,0.23574850569517025,-0.85449986617470586,-0.28377186617632333,7.5489545242023581,-2.0238584405653635,6.0369502811240139,4.2691923346079008,null,null,null,null,null,null,null,null,null,null,null,-126.57396596730807,247.89610681893583,85.545610083610882]
[{"$f":"A1125+7","v":960},{"$f":"OFFSET(Calculations!AS$43,$A1133,0)-U$3-B$10","v":52.019982528020947},{"$f":"OFFSET(Calculations!AT$43,$A1133,0)-V$3-B$11","v":262.60812843483933},{"$f":"OFFSET(Calculations!AU$43,$A1133,0)-W$3-B$12","v":74.102408441395696},{"$f":"B1133*F$5+C1133*F$4","v":52.019982528020947},{"$f":"C1133*F$5-B1133*F$4","v":262.60812843483933},{"$f":"D1133","v":74.102408441395696},52.019982528020947,{"$f":"F1133*F$7+G1133*F$6","v":262.60812843483933},{"$f":"G1133*F$7-F1133*F$6","v":74.102408441395696},{"$f":"H1133*F$9+J1133*F$8","v":52.019982528020947},{"$f":"I1133","v":262.60812843483933},{"$f":"J1133*F$9-H1133*F$8","v":74.102408441395696},null,null,{"$f":"IF(MIN(L1133:L1139)+B$2+B$1>0,1,0)","v":1},{"$f":"IF(P1133=1,K1133*B$1/(B$1+B$2+L1133),99999)","v":3.8164659892344419},{"$f":"M1133*B$1/(B$1+B$2+L1133)","v":5.4365516440650206},null,null,{"$f":"(2*U1125+8*U1135)/10","v":70.151569608336075},517.33577466994871,96.894186189348062,6.6185558442831276,-2.5901633199884602,6.9566801675183711,{"$f":"(SUM(U1134:U1149)-SUM(U1133:U1148))/16","v":0.23296370613357453},{"$f":"(SUM(V1134:V1149)-SUM(V1133:V1148))/16","v":-0.83930162619208204},{"$f":"(SUM(W1134:W1149)-SUM(W1133:W1148))/16","v":-0.27262644822407367},{"$f":"SUM(X1133:X1148)/16","v":7.8681432417059991},{"$f":"SUM(Y1133:Y1148)/16","v":-1.825129987267609},{"$f":"SUM(Z1133:Z1148)/16","v":5.6855046440587129},4.2922809275672957,null,null,null,null,null,null,null,null,null,null,null,-125.83615040256178,240.01846753988443,86.728161385485976]
[959,{"$f":"OFFSET(Calculations!AS$43,$A1136,0)-U$3-B$10","v":52.672343853870217},{"$f":"OFFSET(Calculations!AT$43,$A1136,0)-V$3-B$11","v":261.13939324128182},{"$f":"OFFSET(Calculations!AU$43,$A1136,0)-W$3-B$12","v":79.725068731938848},52.672343853870217,261.13939324128182,79.725068731938848,52.672343853870217,261.13939324128182,79.725068731938848,52.672343853870217,261.13939324128182,79.725068731938848,null,null,null,{"$f":"IF(P1133=1,K1136*B$1/(B$1+B$2+L1136),99999)","v":3.8852594028635363},5.8807440541104272,null,null,{"$f":"(9*U1135+U1145)/10","v":70.844839016010013},514.62198281787244,95.998132015722277,7.1878307613128696,-2.3008163582110286,6.5136777557472785,0.22719147049853916,-0.82398266147544064,-0.2567156299557638,8.2983542971708708,-1.5326516765004972,5.1140729027873411,4.3261279664844245,null,null,null,null,null,null,null,null,null,null,null,-138.04449963317288,256.68399780974772,83.853570451764853]
[953,{"$f":"OFFSET(Calculations!AS$43,$A1139,0)-U$3-B$10","v":59.523242532551677},{"$f":"OFFSET(Calculations!AT$43,$A1139,0)-V$3-B$11","v":270.070278121282},{"$f":"OFFSET(Calculations!AU$43,$A1139,0)-W$3-B$12","v":74.824773197640326},59.523242532551677,270.070278121282,74.824773197640326,59.523242532551677,270.070278121282,74.824773197640326,59.523242532551677,270.070278121282,74.824773197640326,null,null,null,{"$f":"IF(P1133=1,K1139*B$1/(B$1+B$2+L1139),99999)","v":4.2505933104958498},5.3432855281586216,null,null,{"$f":"(6*U1135+4*U1145)/10","v":71.589149585047224},512.14749961403265,95.127911719216755,7.6612889469513137,-1.9786463396365206,5.9794690396254735,0.21822916227829126,-0.82362048727350157,-0.24241942900745528,8.6882445648229059,-1.2530649318982616,4.5066264007736212,4.3586727026544576,null,null,null,null,null,null,null,null,null,null,null,-136.29726679325751,253.22493159675534,77.286484771095346]
[{"$f":"A1133+7","v":967},{"$f":"OFFSET(Calculations!AS$43,$A1141,0)-U$3-B$10","v":42.937109134946205},{"$f":"OFFSET(Calculations!AT$43,$A1141,0)-V$3-B$11","v":257.1288655192036},{"$f":"OFFSET(Calculations!AU$43,$A1141,0)-W$3-B$12","v":73.94138062246698},{"$f":"B1141*F$5+C1141*F$4","v":42.937109134946205},{"$f":"C1141*F$5-B1141*F$4","v":257.1288655192036},{"$f":"D1141","v":73.94138062246698},42.937109134946205,{"$f":"F1141*F$7+G1141*F$6","v":257.1288655192036},{"$f":"G1141*F$7-F1141*F$6","v":73.94138062246698},{"$f":"H1141*F$9+J1141*F$8","v":42.937109134946205},{"$f":"I1141","v":257.1288655192036},{"$f":"J1141*F$9-H1141*F$8","v":73.94138062246698},null,null,{"$f":"IF(MIN(L1141:L1147)+B$2+B$1>0,1,0)","v":1},{"$f":"IF(P1141=1,K1141*B$1/(B$1+B$2+L1141),99999)","v":3.2147113005920738},{"$f":"M1141*B$1/(B$1+B$2+L1141)","v":5.5360082841478926},null,null,{"$f":"(4*U1135+6*U1145)/10","v":72.085356631072017},510.49784414480627,94.54776485487973,7.9769277373769425,-1.7638663272535156,5.6233298955442708,0.20009421144280282,-0.82245112557808397,-0.21854549657685141,8.9263820017269886,-1.0792547641802632,4.0899468813146633,4.3801951185753243,null,null,null,null,null,null,null,null,null,null,null,-138.03685794330684,254.39868025909863,91.12831039881948]
[968,{"$f":"OFFSET(Calculations!AS$43,$A1145,0)-U$3-B$10","v":41.324085233383251},{"$f":"OFFSET(Calculations!AT$43,$A1145,0)-V$3-B$11","v":262.51344749276456},{"$f":"OFFSET(Calculations!AU$43,$A1145,0)-W$3-B$12","v":72.309739942834057},41.324085233383251,262.51344749276456,72.309739942834057,41.324085233383251,262.51344749276456,72.309739942834057,41.324085233383251,262.51344749276456,72.309739942834057,null,null,null,{"$f":"IF(P1141=1,K1145*B$1/(B$1+B$2+L1145),99999)","v":3.0328107191466533},5.3068749897014857,null,{"$f":"T1135+7","v":770},{"$f":"OFFSET(Calculations!AS$46,$T1145,0)","v":73.077770723121603},{"$f":"OFFSET(Calculations!AT$46,$T1145,0)","v":507.19853320635332},{"$f":"OFFSET(Calculations!AU$46,$T1145,0)","v":93.387471126205696},{"$f":"OFFSET(Calculations!AS$43,$T1145,0)-OFFSET(Calculations!AS$45,$T1145,0)","v":8.608205318228201},{"$f":"OFFSET(Calculations!AT$43,$T1145,0)-OFFSET(Calculations!AT$45,$T1145,0)","v":-1.334306302487505},{"$f":"OFFSET(Calculations!AU$43,$T1145,0)-OFFSET(Calculations!AU$45,$T1145,0)","v":4.9110516073818644},0.16382430977179752,-0.82011240218707826,-0.17079763171560103,9.3083198131406668,-0.7974398250016268,3.2624811967828329,4.4228339825076182,null,null,null,null,null,null,null,null,null,null,null,-143.31274492213009,244.68705284745576,83.966656335163961]
[961,{"$f":"OFFSET(Calculations!AS$43,$A1146,0)-U$3-B$10","v":49.147289829872349},{"$f":"OFFSET(Calculations!AT$43,$A1146,0)-V$3-B$11","v":267.56240862735052},{"$f":"OFFSET(Calculations!AU$43,$A1146,0)-W$3-B$12","v":72.919272123295684},49.147289829872349,267.56240862735052,72.919272123295684,49.147289829872349,267.56240862735052,72.919272123295684,49.147289829872349,267.56240862735052,72.919272123295684,null,null,null,{"$f":"IF(P1141=1,K1146*B$1/(B$1+B$2+L1146),99999)","v":3.5413505793471098},5.2542613737867923,null,null,{"$f":"(9*U1145+U1155)/10","v":73.278075268959441},506.37563706748358,93.173644099094872,8.7103127681167436,-1.2553051456108506,4.6841568447466528,0.15774427042745742,-0.81964844607335863,-0.16362606581641614,9.3841507113285711,-0.74069554776058444,3.0568425578136433,4.4306339397532151,null,null,null,null,null,null,null,null,null,null,null,-145.01654162371813,250.91927013042238,76.466220045350937]
[967,{"$f":"OFFSET(Calculations!AS$43,$A1150,0)-U$3-B$10","v":42.937109134946205},{"$f":"OFFSET(Calculations!AT$43,$A1150,0)-V$3-B$11","v":257.1288655192036},{"$f":"OFFSET(Calculations!AU$43,$A1150,0)-W$3-B$12","v":73.94138062246698},42.937109134946205,257.1288655192036,73.94138062246698,42.937109134946205,257.1288655192036,73.94138062246698,42.937109134946205,257.1288655192036,73.94138062246698,null,null,null,{"$f":"IF(P1149=1,K1150*B$1/(B$1+B$2+L1150),99999)","v":3.2147113005920738},5.5360082841478926,null,null,{"$f":"(5*U1145+5*U1155)/10","v":74.07929345231085},503.08405251200458,92.31833599065159,9.118742567670914,-0.93930051810423265,3.7765777942058065,0.12908167624473776,-0.81783536687407832,-0.12281971584977214,9.6436800512457754,-0.55081323818910199,2.2697148747135891,4.461658021194105,null,null,null,null,null,null,null,null,null,null,null,-157.08497484925942,248.22602629928159,80.818938966723721]
[966,{"$f":"OFFSET(Calculations!AS$43,$A1151,0)-U$3-B$10","v":43.270760217239356},{"$f":"OFFSET(Calculations!AT$43,$A1151,0)-V$3-B$11","v":256.04523976803443},{"$f":"OFFSET(Calculations!AU$43,$A1151,0)-W$3-B$12","v":79.683527662654328},43.270760217239356,256.04523976803443,79.683527662654328,43.270760217239356,256.04523976803443,79.683527662654328,43.270760217239356,256.04523976803443,79.683527662654328,null,null,null,{"$f":"IF(P1149=1,K1151*B$1/(B$1+B$2+L1151),99999)","v":3.2528873852407392},5.9902238981708988,null,null,{"$f":"(4*U1145+6*U1155)/10","v":74.279597998148688},502.2611563731349,92.104508963540781,9.2208500175594565,-0.86029936122757822,3.5496830315705949,0.11865920009503839,-0.81741415601607059,-0.10352806358072542,9.6958461254716983,-0.51477766414108284,2.085957067107362,4.4693706940128477,null,null,null,null,null,null,null,null,null,null,null,-156.7102144511276,245.23219304329257,85.834348972273972]
[968,{"$f":"OFFSET(Calculations!AS$43,$A1154,0)-U$3-B$10","v":41.324085233383251},{"$f":"OFFSET(Calculations!AT$43,$A1154,0)-V$3-B$11","v":262.51344749276456},{"$f":"OFFSET(Calculations!AU$43,$A1154,0)-W$3-B$12","v":72.309739942834057},41.324085233383251,262.51344749276456,72.309739942834057,41.324085233383251,262.51344749276456,72.309739942834057,41.324085233383251,262.51344749276456,72.309739942834057,null,null,null,{"$f":"IF(P1149=1,K1154*B$1/(B$1+B$2+L1154),99999)","v":3.0328107191466533},5.3068749897014857,null,null,{"$f":"(1*U1145+9*U1155)/10","v":74.880511635662231},499.79246795652563,91.463027882208308,9.5271723672250843,-0.6232958905976147,2.8689987436649602,8.7391771645982885E-2,-0.8161505234421611,-4.5653106773627883E-2,9.8154616111801634,-0.44189564261271636,1.5809441378023639,4.4924065174043397,null,null,null,null,null,null,null,null,null,null,null,-145.4556519155162,234.56587678792911,82.741693208601362]
[" ",null,null,null,null,null,null,null,null,null,null,null,null,null,null,null,null,null,null,null,{"$f":"(9*U1155+U1165)/10","v":75.183840097828465},498.15409897660646,91.150118882373889,9.6613164624671271,-0.5246452558726048,2.4718922148372626,7.2626858690952645E-2,-0.81577205784003581,-1.4241368134761956E-2,9.8644696541780554,-0.42266154544021434,1.2828192628604353,4.5035882367605513,null,null,null,null,null,null,null,null,null,null,null,-160.23806041857173,240.89060762691199,73.404471784046308]
[973,{"$f":"OFFSET(Calculations!AS$43,$A1159,0)-U$3-B$10","v":33.102442149637},{"$f":"OFFSET(Calculations!AT$43,$A1159,0)-V$3-B$11","v":253.64732537066317},{"$f":"OFFSET(Calculations!AU$43,$A1159,0)-W$3-B$12","v":80.159415078682571},33.102442149637,253.64732537066317,80.159415078682571,33.102442149637,253.64732537066317,80.159415078682571,33.102442149637,253.64732537066317,80.159415078682571,null,null,null,{"$f":"IF(P1157=1,K1159*B$1/(B$1+B$2+L1159),99999)","v":2.5111153396377603},6.0808062411394488,null,null,{"$f":"(6*U1155+4*U1165)/10","v":75.492911846813612},495.70768045345841,90.852872964203101,9.7574263985276275,-0.46569682232753851,1.961256916259805,5.9599548274889003E-2,-0.81590029360762628,2.2118890974752503E-2,9.9181548491638996,-0.41558439581546269,0.87220144367362573,4.5141772881158984,null,null,null,null,null,null,null,null,null,null,null,-156.61480491110069,235.2709911753864,78.816673781876659]
[982,{"$f":"OFFSET(Calculations!AS$43,$A1161,0)-U$3-B$10","v":22.727418209885446},{"$f":"OFFSET(Calculations!AT$43,$A1161,0)-V$3-B$11","v":257.30156789878589},{"$f":"OFFSET(Calculations!AU$43,$A1161,0)-W$3-B$12","v":71.629333786616641},22.727418209885446,257.30156789878589,71.629333786616641,22.727418209885446,257.30156789878589,71.629333786616641,22.727418209885446,257.30156789878589,71.629333786616641,null,null,null,{"$f":"IF(P1157=1,K1161*B$1/(B$1+B$2+L1161),99999)","v":1.7005076617052404},5.3594398528735301,null,null,{"$f":"(4*U1155+6*U1165)/10","v":75.698959679470391},494.07673477135967,90.654709018755881,9.8214996892346278,-0.42639786663082757,1.620833383874833,4.2339276735106068E-2,-0.80918328696697017,7.1915284738864216E-2,9.9448718986407609,-0.4207396024178699,0.62576404616789094,4.521218964885799,null,null,null,null,null,null,null,null,null,null,null,-150.3687433356146,230.39558908679786,79.91992772808436]
[" ",null,null,null,null,null,null,null,null,null,null,null,null,null,null,null,null,null,null,null,{"$f":"(1*U1155+9*U1165)/10","v":76.008031428455539},491.63031624821161,90.357463100585093,9.9176096252951282,-0.36744943308576128,1.1101980852973754,1.6448869425417456E-2,-0.7991077770060997,0.14660987538502468,9.969930295346602,-0.43768310506290004,0.33589471531201409,4.531755155473566,null,null,null,null,null,null,null,null,null,null,null,-169.81882579496855,233.43134561725461,72.905016962925131]
[980,{"$f":"OFFSET(Calculations!AS$43,$A1167,0)-U$3-B$10","v":22.820470375070109},{"$f":"OFFSET(Calculations!AT$43,$A1167,0)-V$3-B$11","v":253.43905313986025},{"$f":"OFFSET(Calculations!AU$43,$A1167,0)-W$3-B$12","v":80.852799568611871},22.820470375070109,253.43905313986025,80.852799568611871,22.820470375070109,253.43905313986025,80.852799568611871,22.820470375070109,253.43905313986025,80.852799568611871,null,null,null,{"$f":"IF(P1165=1,K1167*B$1/(B$1+B$2+L1167),99999)","v":1.7325047370979338},6.1382546440969019,null,null,{"$f":"(8*U1165+2*U1175)/10","v":76.178145199669501},489.1825298768772,90.448059946248989,9.9571532399227554,-0.37766271143444785,0.73291942590744841,-7.5666427353837662E-4,-0.78894677653357803,0.19706429329151831,9.9787357765858733,-0.46351813550095355,0.13760210796479802,4.5285471892548266,null,null,null,null,null,null,null,null,null,null,null,-164.43573699552951,234.93587238259798,67.693184402859174]
[989,{"$f":"OFFSET(Calculations!AS$43,$A1169,0)-U$3-B$10","v":12.729830924944487},{"$f":"OFFSET(Calculations!AT$43,$A1169,0)-V$3-B$11","v":256.00335610022535},{"$f":"OFFSET(Calculations!AU$43,$A1169,0)-W$3-B$12","v":71.371257651313385},12.729830924944487,256.00335610022535,71.371257651313385,12.729830924944487,256.00335610022535,71.371257651313385,12.729830924944487,256.00335610022535,71.371257651313385,null,null,null,{"$f":"IF(P1165=1,K1169*B$1/(B$1+B$2+L1169),99999)","v":0.95711806885234274},5.3661922689743777,null,null,{"$f":"(6*U1165+4*U1175)/10","v":76.245235054555067},487.55021634659215,90.637738764636481,9.9646602091968823,-0.40752546763148983,0.52585253271000743,-9.3320622026027422E-3,-0.78214427938138442,0.2226205143159774,9.9822546684331233,-0.47751630246832305,4.0539501778493039E-2,4.5218213416073887,null,null,null,null,null,null,null,null,null,null,null,-169.81787903265479,229.23427562286383,79.291647295915467]
[982,{"$f":"OFFSET(Calculations!AS$43,$A1170,0)-U$3-B$10","v":22.727418209885446},{"$f":"OFFSET(Calculations!AT$43,$A1170,0)-V$3-B$11","v":257.30156789878589},{"$f":"OFFSET(Calculations!AU$43,$A1170,0)-W$3-B$12","v":71.629333786616641},22.727418209885446,257.30156789878589,71.629333786616641,22.727418209885446,257.30156789878589,71.629333786616641,22.727418209885446,257.30156789878589,71.629333786616641,null,null,null,{"$f":"IF(P1165=1,K1170*B$1/(B$1+B$2+L1170),99999)","v":1.7005076617052404},5.3594398528735301,null,null,{"$f":"(5*U1165+5*U1175)/10","v":76.278779981997857},486.73405958144969,90.732578173830234,9.9684136938339449,-0.42245684573001085,0.42231908611128688,-1.329952051102623E-2,-0.77522661211025934,0.25060858375839246,9.9836622251720222,-0.48311556925527205,1.7144593039701847E-3,4.5184535963833348,null,null,null,null,null,null,null,null,null,null,null,-168.16181842555039,226.77232251306978,64.433414299970906]
[988,{"$f":"OFFSET(Calculations!AS$43,$A1174,0)-U$3-B$10","v":12.782630921292309},{"$f":"OFFSET(Calculations!AT$43,$A1174,0)-V$3-B$11","v":252.30527399335367},{"$f":"OFFSET(Calculations!AU$43,$A1174,0)-W$3-B$12","v":75.915299562566048},12.782630921292309,252.30527399335367,75.915299562566048,12.782630921292309,252.30527399335367,75.915299562566048,12.782630921292309,252.30527399335367,75.915299562566048,null,null,null,{"$f":"IF(P1173=1,K1174*B$1/(B$1+B$2+L1174),99999)","v":0.97463773615289151},5.7883166744477723,null,null,{"$f":"(1*U1165+9*U1175)/10","v":76.412959691769004},483.46943252087965,91.111935810605218,9.9834276323821989,-0.48218235812409488,8.1852997164048695E-3,-2.9169353744691762E-2,-0.74755594302564532,0.3625608615280953,9.9869465242294648,-0.49618052509148497,-8.8877306469911141E-2,4.5049502565242037,null,null,null,null,null,null,null,null,null,null,null,-167.43306764193775,227.8507684307144,62.914902957208028]
[994,{"$f":"OFFSET(Calculations!AS$43,$A1176,0)-U$3-B$10","v":2.814342788094558},{"$f":"OFFSET(Calculations!AT$43,$A1176,0)-V$3-B$11","v":255.92625342845966},{"$f":"OFFSET(Calculations!AU$43,$A1176,0)-W$3-B$12","v":81.3699296381549},2.814342788094558,255.92625342845966,81.3699296381549,2.814342788094558,255.92625342845966,81.3699296381549,2.814342788094558,255.92625342845966,81.3699296381549,null,null,null,{"$f":"IF(P1173=1,K1176*B$1/(B$1+B$2+L1176),99999)","v":0.21166340305333425},6.1197364749881906,null,null,{"$f":"(9*U1175+U1185)/10","v":76.411446363221927},481.89153896781255,91.506064397188254,9.987181117019265,-0.49711373622262156,-9.5348146882319892E-2,-3.2816571396978134E-2,-0.73712185705949196,0.40575888990075271,9.9871811170192881,-0.49711373622264182,-9.5348146882325763E-2,4.4908658172526943,null,null,null,null,null,null,null,null,null,null,null,-172.53432312722626,220.30164700720093,73.544482356547718]
[988,{"$f":"OFFSET(Calculations!AS$43,$A1179,0)-U$3-B$10","v":12.782630921292309},{"$f":"OFFSET(Calculations!AT$43,$A1179,0)-V$3-B$11","v":252.30527399335367},{"$f":"OFFSET(Calculations!AU$43,$A1179,0)-W$3-B$12","v":75.915299562566048},12.782630921292309,252.30527399335367,75.915299562566048,12.782630921292309,252.30527399335367,75.915299562566048,12.782630921292309,252.30527399335367,75.915299562566048,null,null,null,{"$f":"IF(P1173=1,K1179*B$1/(B$1+B$2+L1179),99999)","v":0.97463773615289151},5.7883166744477723,null,null,{"$f":"(6*U1175+4*U1185)/10","v":76.306271595252383},479.60632860403865,92.403931929356119,9.9871811170192721,-0.49711373622263866,-9.5348146882332688E-2,-3.1855849428595207E-2,-0.72657260097440712,0.45138876669136607,9.9871811170193023,-0.49711373622263333,-9.5348146882308707E-2,4.4585657823758904,null,null,null,null,null,null,null,null,null,null,null,-172.05267347565049,212.76165298905246,65.712134930110452]
[{"$f":"A1173+7","v":1002},{"$f":"OFFSET(Calculations!AS$43,$A1181,0)-U$3-B$10","v":-7.2041483602896506},{"$f":"OFFSET(Calculations!AT$43,$A1181,0)-V$3-B$11","v":252.44779070904539},{"$f":"OFFSET(Calculations!AU$43,$A1181,0)-W$3-B$12","v":77.644600065795657},{"$f":"B1181*F$5+C1181*F$4","v":-7.2041483602896506},{"$f":"C1181*F$5-B1181*F$4","v":252.44779070904539},{"$f":"D1181","v":77.644600065795657},-7.2041483602896506,{"$f":"F1181*F$7+G1181*F$6","v":252.44779070904539},{"$f":"G1181*F$7-F1181*F$6","v":77.644600065795657},{"$f":"H1181*F$9+J1181*F$8","v":-7.2041483602896506},{"$f":"I1181","v":252.44779070904539},{"$f":"J1181*F$9-H1181*F$8","v":77.644600065795657},null,null,{"$f":"IF(MIN(L1181:L1187)+B$2+B$1>0,1,0)","v":1},{"$f":"IF(P1181=1,K1181*B$1/(B$1+B$2+L1181),99999)","v":-0.548996685460866},{"$f":"M1181*B$1/(B$1+B$2+L1181)","v":5.9169558910003497},null,null,{"$f":"(4*U1175+6*U1185)/10","v":76.236155083272678},478.08285502818933,93.002510284134686,9.9871811170192792,-0.49711373622264998,-9.5348146882341209E-2,-3.1050966338654007E-2,-0.72181654826533759,0.51089924750256444,9.9871811170193112,-0.49711373622262334,-9.5348146882291915E-2,4.4368637858266524,null,null,null,null,null,null,null,null,null,null,null,-168.33920926181884,220.66363610514276,57.479951357957987]
[1001,{"$f":"OFFSET(Calculations!AS$43,$A1184,0)-U$3-B$10","v":-7.1929329185903912},{"$f":"OFFSET(Calculations!AT$43,$A1184,0)-V$3-B$11","v":257.14957623289888},{"$f":"OFFSET(Calculations!AU$43,$A1184,0)-W$3-B$12","v":81.121689971544754},-7.1929329185903912,257.14957623289888,81.121689971544754,-7.1929329185903912,257.14957623289888,81.121689971544754,-7.1929329185903912,257.14957623289888,81.121689971544754,null,null,null,{"$f":"IF(P1181=1,K1184*B$1/(B$1+B$2+L1184),99999)","v":-0.538494802800634},6.0731288527909557,null,null,{"$f":"(1*U1175+9*U1185)/10","v":76.13098031530312},475.79764466441549,93.900377816302552,9.9871811170192863,-0.49711373622266708,-9.5348146882354004E-2,-2.9843641703735102E-2,-0.71468246920176171,0.6001649687193833,9.987181117019329,-0.49711373622260846,-9.534814688226341E-2,4.4040513802357255,null,null,null,null,null,null,null,null,null,null,null,-167.57505142940994,212.35216774987495,52.844340610100517]
[1003,{"$f":"OFFSET(Calculations!AS$43,$A1185,0)-U$3-B$10","v":-7.2565780480295023},{"$f":"OFFSET(Calculations!AT$43,$A1185,0)-V$3-B$11","v":253.35853707326027},{"$f":"OFFSET(Calculations!AU$43,$A1185,0)-W$3-B$12","v":71.86836779042585},-7.2565780480295023,253.35853707326027,71.86836779042585,-7.2565780480295023,253.35853707326027,71.86836779042585,-7.2565780480295023,253.35853707326027,71.86836779042585,null,null,null,{"$f":"IF(P1181=1,K1185*B$1/(B$1+B$2+L1185),99999)","v":-0.55107976590945973},5.4578346758080398,null,{"$f":"T1175+7","v":798},{"$f":"OFFSET(Calculations!AS$46,$T1185,0)","v":76.095922059313281},{"$f":"OFFSET(Calculations!AT$46,$T1185,0)","v":475.03590787649085},{"$f":"OFFSET(Calculations!AU$46,$T1185,0)","v":94.199666993691835},{"$f":"OFFSET(Calculations!AS$43,$T1185,0)-OFFSET(Calculations!AS$45,$T1185,0)","v":9.9871811170192899},{"$f":"OFFSET(Calculations!AT$43,$T1185,0)-OFFSET(Calculations!AT$45,$T1185,0)","v":-0.49711373622267274},{"$f":"OFFSET(Calculations!AU$43,$T1185,0)-OFFSET(Calculations!AU$45,$T1185,0)","v":-9.5348146882358265E-2},-2.9441200158728975E-2,-0.71230444284725536,0.62992020912498958,9.9871811170193396,-0.49711373622260346,-9.5348146882253015E-2,4.3930433986227504,null,null,null,null,null,null,null,null,null,null,null,-171.38497762851037,208.25806446732986,54.553096818683393]
[995,{"$f":"OFFSET(Calculations!AS$43,$A1187,0)-U$3-B$10","v":2.789769641637041},{"$f":"OFFSET(Calculations!AT$43,$A1187,0)-V$3-B$11","v":252.27468067051652},{"$f":"OFFSET(Calculations!AU$43,$A1187,0)-W$3-B$12","v":76.795737578526797},2.789769641637041,252.27468067051652,76.795737578526797,2.789769641637041,252.27468067051652,76.795737578526797,2.789769641637041,252.27468067051652,76.795737578526797,null,null,null,{"$f":"IF(P1181=1,K1187*B$1/(B$1+B$2+L1187),99999)","v":0.21273648180639276},5.8561304798614318,null,null,{"$f":"(8*U1185+2*U1195)/10","v":76.03605324832958},473.62495969888221,95.284964034237049,9.9871811170193006,-0.49711373622264998,-9.5348146882326998E-2,-2.9276798381076219E-2,-0.71458122752824238,0.65901077207580272,9.9871811170193592,-0.49711373622259458,-9.5348146882232143E-2,4.3528225787836021,null,null,null,null,null,null,null,null,null,null,null,-162.47063266622462,209.26843401997363,59.04397732309539]
[1002,{"$f":"OFFSET(Calculations!AS$43,$A1190,0)-U$3-B$10","v":-7.2041483602896506},{"$f":"OFFSET(Calculations!AT$43,$A1190,0)-V$3-B$11","v":252.44779070904539},{"$f":"OFFSET(Calculations!AU$43,$A1190,0)-W$3-B$12","v":77.644600065795657},-7.2041483602896506,252.44779070904539,77.644600065795657,-7.2041483602896506,252.44779070904539,77.644600065795657,-7.2041483602896506,252.44779070904539,77.644600065795657,null,null,null,{"$f":"IF(P1189=1,K1190*B$1/(B$1+B$2+L1190),99999)","v":-0.548996685460866},5.9169558910003497,null,null,{"$f":"(5*U1185+5*U1195)/10","v":75.946250031854063},471.50853743246915,96.912909595054856,9.9871811170193183,-0.4971137362226159,-9.5348146882280105E-2,-2.9406485998080711E-2,-0.72517986977726423,0.70068454400951907,9.9871811170193894,-0.49711373622258931,-9.534814688220683E-2,4.2915699680542527,null,null,null,null,null,null,null,null,null,null,null,-170.25178330052341,203.25931280338634,60.203355178116851]
[1008,{"$f":"OFFSET(Calculations!AS$43,$A1192,0)-U$3-B$10","v":-17.202377280471811},{"$f":"OFFSET(Calculations!AT$43,$A1192,0)-V$3-B$11","v":258.24372251046736},{"$f":"OFFSET(Calculations!AU$43,$A1192,0)-W$3-B$12","v":80.558150997532096},-17.202377280471811,258.24372251046736,80.558150997532096,-17.202377280471811,258.24372251046736,80.558150997532096,-17.202377280471811,258.24372251046736,80.558150997532096,null,null,null,{"$f":"IF(P1189=1,K1192*B$1/(B$1+B$2+L1192),99999)","v":-1.2825930925410971},6.0063400733926642,null,null,{"$f":"(3*U1185+7*U1195)/10","v":75.886381220870362},470.09758925486051,97.998206635600056,9.987181117019329,-0.49711373622259314,-9.5348146882248838E-2,-2.9994664787508896E-2,-0.74182358491344758,0.72585096197535393,9.9871811170194054,-0.49711373622259419,-9.5348146882194493E-2,4.2500936285683171,null,null,null,null,null,null,null,null,null,null,null,-167.03398718681697,201.54685641361218,47.590391836050166]
[1002,{"$f":"OFFSET(Calculations!AS$43,$A1195,0)-U$3-B$10","v":-7.2041483602896506},{"$f":"OFFSET(Calculations!AT$43,$A1195,0)-V$3-B$11","v":252.44779070904539},{"$f":"OFFSET(Calculations!AU$43,$A1195,0)-W$3-B$12","v":77.644600065795657},-7.2041483602896506,252.44779070904539,77.644600065795657,-7.2041483602896506,252.44779070904539,77.644600065795657,-7.2041483602896506,252.44779070904539,77.644600065795657,null,null,null,{"$f":"IF(P1189=1,K1195*B$1/(B$1+B$2+L1195),99999)","v":-0.548996685460866},5.9169558910003497,null,{"$f":"T1185+7","v":805},{"$f":"OFFSET(Calculations!AS$46,$T1195,0)","v":75.796578004394831},{"$f":"OFFSET(Calculations!AT$46,$T1195,0)","v":467.98116698844751},{"$f":"OFFSET(Calculations!AU$46,$T1195,0)","v":99.626152196417863},{"$f":"OFFSET(Calculations!AS$43,$T1195,0)-OFFSET(Calculations!AS$45,$T1195,0)","v":9.9871811170193467},{"$f":"OFFSET(Calculations!AT$43,$T1195,0)-OFFSET(Calculations!AT$45,$T1195,0)","v":-0.49711373622255906},{"$f":"OFFSET(Calculations!AU$43,$T1195,0)-OFFSET(Calculations!AU$45,$T1195,0)","v":-9.5348146882201945E-2},-3.0876932971665383E-2,-0.76678915761766575,0.76360058892413463,9.9871811170194249,-0.49711373622261773,-9.5348146882183293E-2,4.1868671456864845,null,null,null,null,null,null,null,null,null,null,null,-163.36730742350528,208.00162315302998,45.847973443978788]
[1009,{"$f":"OFFSET(Calculations!AS$43,$A1198,0)-U$3-B$10","v":-17.199492701042814},{"$f":"OFFSET(Calculations!AT$43,$A1198,0)-V$3-B$11","v":252.80911981944524},{"$f":"OFFSET(Calculations!AU$43,$A1198,0)-W$3-B$12","v":78.411138824781617},-17.199492701042814,252.80911981944524,78.411138824781617,-17.199492701042814,252.80911981944524,78.411138824781617,-17.199492701042814,252.80911981944524,78.411138824781617,null,null,null,{"$f":"IF(P1197=1,K1198*B$1/(B$1+B$2+L1198),99999)","v":-1.3088961838812281},5.9671550879704274,null,null,{"$f":"(7*U1195+3*U1205)/10","v":75.710720430584004},465.81010188969128,101.95227126805483,9.9871811170193894,-0.4971137362225761,-9.5348146882193424E-2,-3.2005803822372059E-2,-0.78833955330048866,0.75771437144670983,9.9871811170194267,-0.49711373622265709,-9.5348146882178492E-2,4.0942838325445639,null,null,null,null,null,null,null,null,null,null,null,-157.66387911086662,201.51433893830719,41.229193408266148]
[1015,{"$f":"OFFSET(Calculations!AS$43,$A1200,0)-U$3-B$10","v":-27.213317143851025},{"$f":"OFFSET(Calculations!AT$43,$A1200,0)-V$3-B$11","v":259.13148716422256},{"$f":"OFFSET(Calculations!AU$43,$A1200,0)-W$3-B$12","v":79.723486000725828},-27.213317143851025,259.13148716422256,79.723486000725828,-27.213317143851025,259.13148716422256,79.723486000725828,-27.213317143851025,259.13148716422256,79.723486000725828,null,null,null,{"$f":"IF(P1197=1,K1200*B$1/(B$1+B$2+L1200),99999)","v":-2.0223064518084879},5.9245008334590734,null,null,{"$f":"(5*U1195+5*U1205)/10","v":75.653482048043458},464.36272515718719,103.5030173158128,9.9871811170194178,-0.49711373622258748,-9.5348146882187734E-2,-3.3279258436735404E-2,-0.8113938929020037,0.74452488613772516,9.9871811170194178,-0.49711373622268867,-9.5348146882176188E-2,4.0309909146032066,null,null,null,null,null,null,null,null,null,null,null,-159.70961296746015,192.56624398521132,45.19738817394547]
[" ",null,null,null,null,null,null,null,null,null,null,null,null,null,null,null,null,null,null,null,{"$f":"(1*U1195+9*U1205)/10","v":75.53900528296235},461.46797169217888,106.60450941132873,9.9871811170194746,-0.49711373622261024,-9.5348146882176368E-2,-3.6867915759955849E-2,-0.87487739039784174,0.69961523487161514,9.987181117019384,-0.4971137362227328,-9.5348146882170151E-2,3.9002642811523573,null,null,null,null,null,null,null,null,null,null,null,-160.118759738779,190.77662499459214,45.991027127081303]
[{"$f":"A1197+7","v":1023},{"$f":"OFFSET(Calculations!AS$43,$A1205,0)-U$3-B$10","v":-37.195440353899542},{"$f":"OFFSET(Calculations!AT$43,$A1205,0)-V$3-B$11","v":253.9749283434156},{"$f":"OFFSET(Calculations!AU$43,$A1205,0)-W$3-B$12","v":79.525869182455722},{"$f":"B1205*F$5+C1205*F$4","v":-37.195440353899542},{"$f":"C1205*F$5-B1205*F$4","v":253.9749283434156},{"$f":"D1205","v":79.525869182455722},-37.195440353899542,{"$f":"F1205*F$7+G1205*F$6","v":253.9749283434156},{"$f":"G1205*F$7-F1205*F$6","v":79.525869182455722},{"$f":"H1205*F$9+J1205*F$8","v":-37.195440353899542},{"$f":"I1205","v":253.9749283434156},{"$f":"J1205*F$9-H1205*F$8","v":79.525869182455722},null,null,{"$f":"IF(MIN(L1205:L1211)+B$2+B$1>0,1,0)","v":1},{"$f":"IF(P1205=1,K1205*B$1/(B$1+B$2+L1205),99999)","v":-2.8181040212660267},{"$f":"M1205*B$1/(B$1+B$2+L1205)","v":6.0252592684860824},null,{"$f":"T1195+7","v":812},{"$f":"OFFSET(Calculations!AS$46,$T1205,0)","v":75.510386091692069},{"$f":"OFFSET(Calculations!AT$46,$T1205,0)","v":460.74428332592686},{"$f":"OFFSET(Calculations!AU$46,$T1205,0)","v":107.37988243520773},{"$f":"OFFSET(Calculations!AS$43,$T1205,0)-OFFSET(Calculations!AS$45,$T1205,0)","v":9.9871811170194889},{"$f":"OFFSET(Calculations!AT$43,$T1205,0)-OFFSET(Calculations!AT$45,$T1205,0)","v":-0.4971137362226159},{"$f":"OFFSET(Calculations!AU$43,$T1205,0)-OFFSET(Calculations!AU$45,$T1205,0)","v":-9.5348146882173523E-2},-3.7765080090778724E-2,-0.89074826477195757,0.68838782205504856,9.9871811170193734,-0.49711373622273841,-9.5348146882168194E-2,3.8666512945523128,null,null,null,null,null,null,null,null,null,null,null,-150.01664956626541,197.62265844845405,36.559224693555166]
[1015,{"$f":"OFFSET(Calculations!AS$43,$A1207,0)-U$3-B$10","v":-27.213317143851025},{"$f":"OFFSET(Calculations!AT$43,$A1207,0)-V$3-B$11","v":259.13148716422256},{"$f":"OFFSET(Calculations!AU$43,$A1207,0)-W$3-B$12","v":79.723486000725828},-27.213317143851025,259.13148716422256,79.723486000725828,-27.213317143851025,259.13148716422256,79.723486000725828,-27.213317143851025,259.13148716422256,79.723486000725828,null,null,null,{"$f":"IF(P1205=1,K1207*B$1/(B$1+B$2+L1207),99999)","v":-2.0223064518084879},5.9245008334590734,null,null,{"$f":"(8*U1205+2*U1215)/10","v":75.441106420077475},459.06703570613962,108.86784216320648,9.9871811170194551,-0.49711373622266136,-9.5348146882173523E-2,-3.8806828185244058E-2,-0.90812308306459499,0.66985714140696473,9.9871811170193538,-0.49711373622274235,-9.5348146882163573E-2,3.8010176208940147,null,null,null,null,null,null,null,null,null,null,null,-152.63051286678427,188.30214407118072,39.068354102182631]
[1017,{"$f":"OFFSET(Calculations!AS$43,$A1210,0)-U$3-B$10","v":-27.234460190485798},{"$f":"OFFSET(Calculations!AT$43,$A1210,0)-V$3-B$11","v":251.22162098694517},{"$f":"OFFSET(Calculations!AU$43,$A1210,0)-W$3-B$12","v":73.605188032406303},-27.234460190485798,251.22162098694517,73.605188032406303,-27.234460190485798,251.22162098694517,73.605188032406303,-27.234460190485798,251.22162098694517,73.605188032406303,null,null,null,{"$f":"IF(P1205=1,K1210*B$1/(B$1+B$2+L1210),99999)","v":-2.0851612579072754},5.6354590982409389,null,null,{"$f":"(5*U1205+5*U1215)/10","v":75.337186912655554},456.55116427645879,111.09978175520457,9.9871811170194036,-0.49711373622272959,-9.5348146882173523E-2,-4.0816713773125457E-2,-0.94057610988369333,0.62853231123878572,9.987181117019329,-0.49711373622272426,-9.5348146882153983E-2,3.6995767843421756,null,null,null,null,null,null,null,null,null,null,null,-143.24530692508156,194.08589705955205,50.402643263895854]
[" ",null,null,null,null,null,null,null,null,null,null,null,null,null,null,null,null,null,null,null,{"$f":"(3*U1205+7*U1215)/10","v":75.267907241040959},454.87391665667144,112.5877414832033,9.9871811170193698,-0.49711373622277505,-9.5348146882173523E-2,-4.2752988759872323E-2,-0.9707325269362741,0.58294401219863801,9.9871811170193183,-0.49711373622270577,-9.5348146882152748E-2,3.6297765841530261,null,null,null,null,null,null,null,null,null,null,null,-141.55867293800574,194.07189108885646,32.483161045472656]
[1022,{"$f":"OFFSET(Calculations!AS$43,$A1215,0)-U$3-B$10","v":-37.224977439074181},{"$f":"OFFSET(Calculations!AT$43,$A1215,0)-V$3-B$11","v":259.74972966382313},{"$f":"OFFSET(Calculations!AU$43,$A1215,0)-W$3-B$12","v":78.680345056132097},-37.224977439074181,259.74972966382313,78.680345056132097,-37.224977439074181,259.74972966382313,78.680345056132097,-37.224977439074181,259.74972966382313,78.680345056132097,null,null,null,{"$f":"IF(P1213=1,K1215*B$1/(B$1+B$2+L1215),99999)","v":-2.7599640218706414},5.8335810126065999,null,{"$f":"T1205+7","v":819},{"$f":"OFFSET(Calculations!AS$46,$T1215,0)","v":75.163987733619052},{"$f":"OFFSET(Calculations!AT$46,$T1215,0)","v":452.35804522699067},{"$f":"OFFSET(Calculations!AU$46,$T1215,0)","v":114.8196810752014},{"$f":"OFFSET(Calculations!AS$43,$T1215,0)-OFFSET(Calculations!AS$45,$T1215,0)","v":9.9871811170193183},{"$f":"OFFSET(Calculations!AT$43,$T1215,0)-OFFSET(Calculations!AT$45,$T1215,0)","v":-0.49711373622284327},{"$f":"OFFSET(Calculations!AU$43,$T1215,0)-OFFSET(Calculations!AU$45,$T1215,0)","v":-9.5348146882173523E-2},-4.5657401240021045E-2,-1.0159671525152021,0.5145615636383809,9.9871811170193023,-0.49711373622267807,-9.534814688216553E-2,3.5214559255636484,null,null,null,null,null,null,null,null,null,null,null,-140.11623342784179,188.88777090685807,39.194663574572388]
[1024,{"$f":"OFFSET(Calculations!AS$43,$A1218,0)-U$3-B$10","v":-37.221933079121136},{"$f":"OFFSET(Calculations!AT$43,$A1218,0)-V$3-B$11","v":250.52587590984916},{"$f":"OFFSET(Calculations!AU$43,$A1218,0)-W$3-B$12","v":74.817637112581053},-37.221933079121136,250.52587590984916,74.817637112581053,-37.221933079121136,250.52587590984916,74.817637112581053,-37.221933079121136,250.52587590984916,74.817637112581053,null,null,null,{"$f":"IF(P1213=1,K1218*B$1/(B$1+B$2+L1218),99999)","v":-2.8574461518748482},5.7435858800045265,null,null,{"$f":"(7*U1215+3*U1225)/10","v":75.035066271929438},449.42517815828387,116.60688433164509,9.9871811170193148,-0.49711373622275801,-9.5348146882156468E-2,-4.6999191578407817E-2,-1.0351395506549466,0.47397513605031349,9.9871811170192899,-0.49711373622265997,-9.5348146882196963E-2,3.4312423101059077,null,null,null,null,null,null,null,null,null,null,null,-145.76987843792617,182.90111890530326,33.699547933184718]
[" ",null,null,null,null,null,null,null,null,null,null,null,null,null,null,null,null,null,null,null,{"$f":"(5*U1215+5*U1225)/10","v":74.949118630803028},447.46993344581261,117.79835316927422,9.9871811170193112,-0.49711373622270116,-9.5348146882145102E-2,-4.8204049222405843E-2,-1.0513622159378428,0.43235270404542803,9.9871811170192828,-0.4971137362226638,-9.5348146882229479E-2,3.3691922591976002,null,null,null,null,null,null,null,null,null,null,null,-136.19751390489566,186.56227012459721,25.756383430329031]
[1029,{"$f":"OFFSET(Calculations!AS$43,$A1223,0)-U$3-B$10","v":-47.236534000247389},{"$f":"OFFSET(Calculations!AT$43,$A1223,0)-V$3-B$11","v":260.05367696832667},{"$f":"OFFSET(Calculations!AU$43,$A1223,0)-W$3-B$12","v":77.505585530075024},-47.236534000247389,260.05367696832667,77.505585530075024,-47.236534000247389,260.05367696832667,77.505585530075024,-47.236534000247389,260.05367696832667,77.505585530075024,{"$f":"IF(P1221=1,K1223*B$1/(B$1+B$2+L1223),99999)","v":-3.4983070425504734},5.7400133484696294,null,null,null,null,null,{"$f":"(2*U1215+8*U1225)/10","v":74.820197169113413},444.53706637710582,119.58555642571791,9.9871811170193077,-0.4971137362226159,-9.5348146882128046E-2,-5.0476831815942091E-2,-1.0808578136467872,0.34807183561895272,9.9871811170192721,-0.49711373622266386,-9.5348146882279564E-2,3.2729432784235746,null,null,null,null,null,null,null,null,null,null,null,-132.11728632491685,192.13932440411068,28.960164878876054]
[1031,{"$f":"OFFSET(Calculations!AS$43,$A1226,0)-U$3-B$10","v":-47.209509701806425},{"$f":"OFFSET(Calculations!AT$43,$A1226,0)-V$3-B$11","v":250.1444260278503},{"$f":"OFFSET(Calculations!AU$43,$A1226,0)-W$3-B$12","v":76.16170477421889},-47.209509701806425,250.1444260278503,76.16170477421889,-47.209509701806425,250.1444260278503,76.16170477421889,-47.209509701806425,250.1444260278503,76.16170477421889,{"$f":"IF(P1221=1,K1226*B$1/(B$1+B$2+L1226),99999)","v":-3.6294846230341542},5.8553401229565649,null,null,null,null,null,{"$f":"(9*U1225+U1235)/10","v":74.684119492285632},441.50194651832027,121.15629873502515,9.987181117019297,-0.49711373622258181,-9.5348146882147947E-2,-5.2302350963330468E-2,-1.1039626119758736,0.27731977638846672,9.987181117019265,-0.49711373622264787,-9.5348146882326471E-2,3.1848536723552217,null,null,null,null,null,null,null,null,null,null,null,-124.38106097054138,186.37040189515423,25.473555134346988]
[" ",null,null,null,null,null,null,null,null,null,null,null,null,null,null,null,null,null,null,null,{"$f":"(7*U1225+3*U1235)/10","v":74.583859420882888},439.34219622569145,121.91484567838134,9.9871811170192828,-0.49711373622262728,-9.5348146882210466E-2,-5.2923012466763453E-2,-1.1108447450220069,0.24819014916286619,9.987181117019265,-0.49711373622261879,-9.5348146882349022E-2,3.1410158415492981,null,null,null,null,null,null,null,null,null,null,null,-129.29092311358337,177.99861277275568,23.063907727273616]
[{"$f":"A1221+7","v":1044},{"$f":"OFFSET(Calculations!AS$43,$A1229,0)-U$3-B$10","v":-67.20305725304496},{"$f":"OFFSET(Calculations!AT$43,$A1229,0)-V$3-B$11","v":256.15911340442824},{"$f":"OFFSET(Calculations!AU$43,$A1229,0)-W$3-B$12","v":79.779566830208722},{"$f":"B1229*F$5+C1229*F$4","v":-67.20305725304496},{"$f":"C1229*F$5-B1229*F$4","v":256.15911340442824},{"$f":"D1229","v":79.779566830208722},-67.20305725304496,{"$f":"F1229*F$7+G1229*F$6","v":256.15911340442824},{"$f":"G1229*F$7-F1229*F$6","v":79.779566830208722},{"$f":"H1229*F$9+J1229*F$8","v":-67.20305725304496},{"$f":"I1229","v":256.15911340442824},{"$f":"J1229*F$9-H1229*F$8","v":79.779566830208722},{"$f":"IF(P1229=1,K1229*B$1/(B$1+B$2+L1229),99999)","v":-5.0498407808362398},{"$f":"M1229*B$1/(B$1+B$2+L1229)","v":5.9948777112872209},{"$f":"IF(MIN(L1229:L1235)+B$2+B$1>0,1,0)","v":1},null,null,null,null,{"$f":"(6*U1225+4*U1235)/10","v":74.533729385181516},438.26232107937705,122.29411915005944,9.9871811170192757,-0.49711373622264998,-9.5348146882241733E-2,-5.3233343218465734E-2,-1.1142858115450736,0.23362533555005882,9.9871811170192668,-0.49711373622259669,-9.5348146882356308E-2,3.1187568208375218,null,null,null,null,null,null,null,null,null,null,null,-124.98954973700502,179.33915019409156,30.392014337938122]
[1045,{"$f":"OFFSET(Calculations!AS$43,$A1233,0)-U$3-B$10","v":-67.18817978259878},{"$f":"OFFSET(Calculations!AT$43,$A1233,0)-V$3-B$11","v":250.39481896230379},{"$f":"OFFSET(Calculations!AU$43,$A1233,0)-W$3-B$12","v":78.898267397659097},-67.18817978259878,250.39481896230379,78.898267397659097,-67.18817978259878,250.39481896230379,78.898267397659097,-67.18817978259878,250.39481896230379,78.898267397659097,{"$f":"IF(P1229=1,K1233*B$1/(B$1+B$2+L1233),99999)","v":-5.1604851471584245},6.0598953321786979,null,null,null,null,null,{"$f":"(2*U1225+8*U1235)/10","v":74.333209242376029},433.94282049411942,123.81121303677182,9.9871811170192473,-0.49711373622274097,-9.5348146882366785E-2,-5.511400668255817E-2,-1.1294138478256173,0.11550901795898483,9.9871811170192739,-0.49711373622249938,-9.534814688235986E-2,3.0272782231769346,null,null,null,null,null,null,null,null,null,null,null,-115.88660011875615,182.29457226041683,22.010700823886889]
[1037,{"$f":"OFFSET(Calculations!AS$43,$A1235,0)-U$3-B$10","v":-57.198848351708534},{"$f":"OFFSET(Calculations!AT$43,$A1235,0)-V$3-B$11","v":255.44070533891292},{"$f":"OFFSET(Calculations!AU$43,$A1235,0)-W$3-B$12","v":79.896677210819846},-57.198848351708534,255.44070533891292,79.896677210819846,-57.198848351708534,255.44070533891292,79.896677210819846,-57.198848351708534,255.44070533891292,79.896677210819846,{"$f":"IF(P1229=1,K1235*B$1/(B$1+B$2+L1235),99999)","v":-4.3097269711273123},6.0199265300179405,null,null,null,null,{"$f":"T1225+7","v":833},{"$f":"OFFSET(Calculations!AS$46,$T1235,0)","v":74.232949170973285},{"$f":"OFFSET(Calculations!AT$46,$T1235,0)","v":431.7830702014906},{"$f":"OFFSET(Calculations!AU$46,$T1235,0)","v":124.56975998012801},{"$f":"OFFSET(Calculations!AS$43,$T1235,0)-OFFSET(Calculations!AS$45,$T1235,0)","v":9.9871811170192331},{"$f":"OFFSET(Calculations!AT$43,$T1235,0)-OFFSET(Calculations!AT$45,$T1235,0)","v":-0.49711373622278643},{"$f":"OFFSET(Calculations!AU$43,$T1235,0)-OFFSET(Calculations!AU$45,$T1235,0)","v":-9.5348146882429319E-2},-5.6054338414611493E-2,-1.1369778659658323,5.6450859163447831E-2,9.9871811170192757,-0.49711373622246136,-9.5348146882346718E-2,2.9799546101687233,null,null,null,null,null,null,null,null,null,null,null,-121.17991519693079,174.75581382916496,18.118665778001443]
[1044,{"$f":"OFFSET(Calculations!AS$43,$A1238,0)-U$3-B$10","v":-67.20305725304496},{"$f":"OFFSET(Calculations!AT$43,$A1238,0)-V$3-B$11","v":256.15911340442824},{"$f":"OFFSET(Calculations!AU$43,$A1238,0)-W$3-B$12","v":79.779566830208722},-67.20305725304496,256.15911340442824,79.779566830208722,-67.20305725304496,256.15911340442824,79.779566830208722,-67.20305725304496,256.15911340442824,79.779566830208722,{"$f":"IF(P1237=1,K1238*B$1/(B$1+B$2+L1238),99999)","v":-5.0498407808362398},5.9948777112872209,null,null,null,null,null,{"$f":"(7*U1235+3*U1245)/10","v":74.067663187787062},428.37827356944035,125.00846934174774,9.9871811170192579,-0.4971137362226159,-9.5348146882395207E-2,-5.6533843757534896E-2,-1.1380006936070686,1.1558061808557341E-2,9.9871811170192721,-0.4971137362224326,-9.534814688231634E-2,2.9520611972792885,null,null,null,null,null,null,null,null,null,null,null,-115.91558908378165,170.34001036150309,32.359015152557092]
[1052,{"$f":"OFFSET(Calculations!AS$43,$A1241,0)-U$3-B$10","v":-77.180667767362962},{"$f":"OFFSET(Calculations!AT$43,$A1241,0)-V$3-B$11","v":251.00431624149044},{"$f":"OFFSET(Calculations!AU$43,$A1241,0)-W$3-B$12","v":80.115808208702475},-77.180667767362962,251.00431624149044,80.115808208702475,-77.180667767362962,251.00431624149044,80.115808208702475,-77.180667767362962,251.00431624149044,80.115808208702475,{"$f":"IF(P1237=1,K1241*B$1/(B$1+B$2+L1241),99999)","v":-5.9141296112477066},6.1390408681652984,null,null,null,null,null,{"$f":"(4*U1235+6*U1245)/10","v":73.902377204600839},424.9734769373901,125.44717870336747,9.9871811170192846,-0.49711373622244537,-9.5348146882361109E-2,-5.6869493529063675E-2,-1.1307557022925607,-6.1372351512588352E-2,9.9871811170192579,-0.49711373622246102,-9.5348146882288459E-2,2.9237633891719943,null,null,null,null,null,null,null,null,null,null,null,-110.42077676101056,176.78709521432239,13.563521466051888]
[1044,{"$f":"OFFSET(Calculations!AS$43,$A1243,0)-U$3-B$10","v":-67.20305725304496},{"$f":"OFFSET(Calculations!AT$43,$A1243,0)-V$3-B$11","v":256.15911340442824},{"$f":"OFFSET(Calculations!AU$43,$A1243,0)-W$3-B$12","v":79.779566830208722},-67.20305725304496,256.15911340442824,79.779566830208722,-67.20305725304496,256.15911340442824,79.779566830208722,-67.20305725304496,256.15911340442824,79.779566830208722,{"$f":"IF(P1237=1,K1243*B$1/(B$1+B$2+L1243),99999)","v":-5.0498407808362398},5.9948777112872209,null,null,null,null,null,{"$f":"(2*U1235+8*U1245)/10","v":73.792186549143338},422.70361251602327,125.73965161111394,9.9871811170193006,-0.49711373622233168,-9.5348146882338364E-2,-5.7045308186317811E-2,-1.1231697684309552,-0.11933849904876581,9.987181117019249,-0.49711373622249833,-9.5348146882274595E-2,2.9046646294247971,null,null,null,null,null,null,null,null,null,null,null,-109.78669709776298,170.38403631699015,21.219376318106796]
[1051,{"$f":"OFFSET(Calculations!AS$43,$A1246,0)-U$3-B$10","v":-77.208554749954345},{"$f":"OFFSET(Calculations!AT$43,$A1246,0)-V$3-B$11","v":256.79984791952637},{"$f":"OFFSET(Calculations!AU$43,$A1246,0)-W$3-B$12","v":79.474688184771892},-77.208554749954345,256.79984791952637,79.474688184771892,-77.208554749954345,256.79984791952637,79.474688184771892,-77.208554749954345,256.79984791952637,79.474688184771892,{"$f":"IF(P1245=1,K1246*B$1/(B$1+B$2+L1246),99999)","v":-5.7877510314955218},5.9576261984034922,null,null,null,null,null,{"$f":"(9*U1245+U1255)/10","v":73.624343204128166},419.2933608032198,125.93893272017419,9.9871811170193041,-0.49711373622226918,-9.5348146882307111E-2,-5.7149195057860425E-2,-1.111449925091506,-0.19132345456799271,9.9871811170192508,-0.49711373622257826,-9.5348146882261814E-2,2.8915409256256752,null,null,null,null,null,null,null,null,null,null,null,-114.27914062113798,170.32498400578672,12.398125612349084]
[1057,{"$f":"OFFSET(Calculations!AS$43,$A1248,0)-U$3-B$10","v":-87.266622932683816},{"$f":"OFFSET(Calculations!AT$43,$A1248,0)-V$3-B$11","v":258.00315223351618},{"$f":"OFFSET(Calculations!AU$43,$A1248,0)-W$3-B$12","v":73.217540710677},-87.266622932683816,258.00315223351618,73.217540710677,-87.266622932683816,258.00315223351618,73.217540710677,-87.266622932683816,258.00315223351618,73.217540710677,{"$f":"IF(P1245=1,K1248*B$1/(B$1+B$2+L1248),99999)","v":-6.5123579484353806},5.463931308306492,null,null,null,null,null,{"$f":"(7*U1245+3*U1255)/10","v":73.509037825012769},417.01258622034658,125.75254912280175,9.9871811170192757,-0.49711373622237148,-9.5348146882290055E-2,-5.70053394864658E-2,-1.1031821061356482,-0.2193610705342337,9.9871811170192615,-0.49711373622262728,-9.5348146882258081E-2,2.9038179988276047,null,null,null,null,null,null,null,null,null,null,null,-101.83787740201149,172.67070909519069,9.4513143919837663]
[1059,{"$f":"OFFSET(Calculations!AS$43,$A1249,0)-U$3-B$10","v":-87.175953504803871},{"$f":"OFFSET(Calculations!AT$43,$A1249,0)-V$3-B$11","v":251.88494045267794},{"$f":"OFFSET(Calculations!AU$43,$A1249,0)-W$3-B$12","v":81.126982135939713},-87.175953504803871,251.88494045267794,81.126982135939713,-87.175953504803871,251.88494045267794,81.126982135939713,-87.175953504803871,251.88494045267794,81.126982135939713,{"$f":"IF(P1245=1,K1249*B$1/(B$1+B$2+L1249),99999)","v":-6.6575766711989601},6.1956202594703376,null,null,null,null,null,{"$f":"(6*U1245+4*U1255)/10","v":73.45138513545507},415.87219892891,125.65935732411553,9.9871811170192615,-0.49711373622242261,-9.534814688228152E-2,-5.6933411700768488E-2,-1.0990481966578045,-0.23337987851736841,9.9871811170192704,-0.49711373622264643,-9.534814688225754E-2,2.9099269416214595,null,null,null,null,null,null,null,null,null,null,null,-105.21363679764956,167.93275246574399,9.0365583295139391]
[1051,{"$f":"OFFSET(Calculations!AS$43,$A1251,0)-U$3-B$10","v":-77.208554749954345},{"$f":"OFFSET(Calculations!AT$43,$A1251,0)-V$3-B$11","v":256.79984791952637},{"$f":"OFFSET(Calculations!AU$43,$A1251,0)-W$3-B$12","v":79.474688184771892},-77.208554749954345,256.79984791952637,79.474688184771892,-77.208554749954345,256.79984791952637,79.474688184771892,-77.208554749954345,256.79984791952637,79.474688184771892,{"$f":"IF(P1245=1,K1251*B$1/(B$1+B$2+L1251),99999)","v":-5.7877510314955218},5.9576261984034922,null,null,null,null,null,{"$f":"(4*U1245+6*U1255)/10","v":73.336079756339672},413.59142434603672,125.47297372674306,9.9871811170192331,-0.49711373622252497,-9.5348146882264478E-2,-5.620517549118631E-2,-1.0754832159083207,-0.27996126314420167,9.9871811170192935,-0.49711373622267274,-9.5348146882258081E-2,2.9220865801713041,null,null,null,null,null,null,null,null,null,null,null,-97.734865487030888,174.6985869937773,15.539746995294999]
[1058,{"$f":"OFFSET(Calculations!AS$43,$A1254,0)-U$3-B$10","v":-87.214943895217033},{"$f":"OFFSET(Calculations!AT$43,$A1254,0)-V$3-B$11","v":257.31753352069222},{"$f":"OFFSET(Calculations!AU$43,$A1254,0)-W$3-B$12","v":79.008158700335656},-87.214943895217033,257.31753352069222,79.008158700335656,-87.214943895217033,257.31753352069222,79.008158700335656,-87.214943895217033,257.31753352069222,79.008158700335656,{"$f":"IF(P1253=1,K1254*B$1/(B$1+B$2+L1254),99999)","v":-6.5251944192778515},5.9111841755954169,null,null,null,null,null,{"$f":"(1*U1245+9*U1255)/10","v":73.163121687666575},410.17026247172691,125.19339833068439,9.9871811170191904,-0.4971137362226784,-9.5348146882238888E-2,-5.5112821176820148E-2,-1.0401357447841519,-0.34983334008445865,9.9871811170193112,-0.49711373622267485,-9.534814688225754E-2,2.9401831539030763,null,null,null,null,null,null,null,null,null,null,null,-90.971571729348639,168.00314455625966,11.005611265679544]
[1066,{"$f":"OFFSET(Calculations!AS$43,$A1257,0)-U$3-B$10","v":-97.174328728080766},{"$f":"OFFSET(Calculations!AT$43,$A1257,0)-V$3-B$11","v":252.97403767488638},{"$f":"OFFSET(Calculations!AU$43,$A1257,0)-W$3-B$12","v":81.868648382096595},-97.174328728080766,252.97403767488638,81.868648382096595,-97.174328728080766,252.97403767488638,81.868648382096595,-97.174328728080766,252.97403767488638,81.868648382096595,{"$f":"IF(P1253=1,K1257*B$1/(B$1+B$2+L1257),99999)","v":-7.3904123454359354},6.2263673711631125,null,null,null,null,null,{"$f":"(8*U1255+2*U1265)/10","v":72.992465308135664},406.88138570070913,124.4652210791661,9.9871811170192295,-0.49711373622271821,-9.5348146882241733E-2,-5.4164322433848611E-2,-1.0130560926154999,-0.39166780105851728,9.987181117019313,-0.49711373622263577,-9.5348146882254528E-2,2.9865434763852665,null,null,null,null,null,null,null,null,null,null,null,-95.923926242772197,161.54128754149747,13.783846081914902]
[1058,{"$f":"OFFSET(Calculations!AS$43,$A1259,0)-U$3-B$10","v":-87.214943895217033},{"$f":"OFFSET(Calculations!AT$43,$A1259,0)-V$3-B$11","v":257.31753352069222},{"$f":"OFFSET(Calculations!AU$43,$A1259,0)-W$3-B$12","v":79.008158700335656},-87.214943895217033,257.31753352069222,79.008158700335656,-87.214943895217033,257.31753352069222,79.008158700335656,-87.214943895217033,257.31753352069222,79.008158700335656,{"$f":"IF(P1253=1,K1259*B$1/(B$1+B$2+L1259),99999)","v":-6.5251944192778515},5.9111841755954169,null,null,null,null,null,{"$f":"(6*U1255+4*U1265)/10","v":72.879461618162438},404.73289622112804,123.83023562633403,9.9871811170192846,-0.49711373622270683,-9.5348146882253099E-2,-5.3579941795646846E-2,-0.99775893082187395,-0.41021156971909534,9.9871811170192935,-0.49711373622260024,-9.5348146882247783E-2,3.0261049693381823,null,null,null,null,null,null,null,null,null,null,null,-97.751222155321173,156.9941659922124,20.107189759433069]
[1064,{"$f":"OFFSET(Calculations!AS$43,$A1263,0)-U$3-B$10","v":-97.267380893265397},{"$f":"OFFSET(Calculations!AT$43,$A1263,0)-V$3-B$11","v":256.8365524338123},{"$f":"OFFSET(Calculations!AU$43,$A1263,0)-W$3-B$12","v":72.645182600101151},-97.267380893265397,256.8365524338123,72.645182600101151,-97.267380893265397,256.8365524338123,72.645182600101151,-97.267380893265397,256.8365524338123,72.645182600101151,{"$f":"IF(P1261=1,K1263*B$1/(B$1+B$2+L1263),99999)","v":-7.2904090542387117},5.4449198910348304,null,null,null,null,null,{"$f":"(2*U1255+8*U1265)/10","v":72.653454238216},400.43591726196576,122.56026472066992,9.9871811170193929,-0.49711373622268412,-9.5348146882275844E-2,-5.0304699767991679E-2,-0.92444390073626437,-0.44938876735739086,9.9871811170192295,-0.49711373622252919,-9.534814688222415E-2,3.1029964510652186,null,null,null,null,null,null,null,null,null,null,null,-90.850925626281494,156.91277022114295,2.7497733640996458]
[1071,{"$f":"OFFSET(Calculations!AS$43,$A1264,0)-U$3-B$10","v":-107.26496817820632},{"$f":"OFFSET(Calculations!AT$43,$A1264,0)-V$3-B$11","v":255.53834063525164},{"$f":"OFFSET(Calculations!AU$43,$A1264,0)-W$3-B$12","v":72.387106464798094},-107.26496817820632,255.53834063525164,72.387106464798094,-107.26496817820632,255.53834063525164,72.387106464798094,-107.26496817820632,255.53834063525164,72.387106464798094,{"$f":"IF(P1261=1,K1264*B$1/(B$1+B$2+L1264),99999)","v":-8.0790569016583156},5.4521020423359774,null,null,null,null,null,{"$f":"(1*U1255+9*U1265)/10","v":72.596952393229387},399.36167252217518,122.24277199425387,9.9871811170194196,-0.4971137362226784,-9.534814688228152E-2,-4.9485889261077887E-2,-0.9061151432148904,-0.45918306676692566,9.9871811170192135,-0.49711373622251498,-9.5348146882216697E-2,3.1217839792959405,null,null,null,null,null,null,null,null,null,null,null,-89.860934172152284,155.72229954910435,11.211611019111025]
[1066,{"$f":"OFFSET(Calculations!AS$43,$A1266,0)-U$3-B$10","v":-97.174328728080766},{"$f":"OFFSET(Calculations!AT$43,$A1266,0)-V$3-B$11","v":252.97403767488638},{"$f":"OFFSET(Calculations!AU$43,$A1266,0)-W$3-B$12","v":81.868648382096595},-97.174328728080766,252.97403767488638,81.868648382096595,-97.174328728080766,252.97403767488638,81.868648382096595,-97.174328728080766,252.97403767488638,81.868648382096595,{"$f":"IF(P1261=1,K1266*B$1/(B$1+B$2+L1266),99999)","v":-7.3904123454359354},6.2263673711631125,null,null,null,null,null,{"$f":"(9*U1265+U1275)/10","v":72.48862374836169},397.33556033694401,121.45943639213689,9.9871811170194054,-0.49711373622264432,-9.5348146882275844E-2,-4.8140458566351185E-2,-0.87710620906898384,-0.46949978125577729,9.9871811170191762,-0.49711373622249083,-9.5348146882199905E-2,3.1674411538323621,null,null,null,null,null,null,null,null,null,null,null,-92.824116660405622,152.02170100207678,17.655609772606013]
[{"$f":"A1261+7","v":1079},{"$f":"OFFSET(Calculations!AS$43,$A1269,0)-U$3-B$10","v":-117.23309271510013},{"$f":"OFFSET(Calculations!AT$43,$A1269,0)-V$3-B$11","v":257.83350956608319},{"$f":"OFFSET(Calculations!AU$43,$A1269,0)-W$3-B$12","v":77.254157291828363},{"$f":"B1269*F$5+C1269*F$4","v":-117.23309271510013},{"$f":"C1269*F$5-B1269*F$4","v":257.83350956608319},{"$f":"D1269","v":77.254157291828363},-117.23309271510013,{"$f":"F1269*F$7+G1269*F$6","v":257.83350956608319},{"$f":"G1269*F$7-F1269*F$6","v":77.254157291828363},{"$f":"H1269*F$9+J1269*F$8","v":-117.23309271510013},{"$f":"I1269","v":257.83350956608319},{"$f":"J1269*F$9-H1269*F$8","v":77.254157291828363},null,null,{"$f":"IF(MIN(L1269:L1275)+B$2+B$1>0,1,0)","v":1},{"$f":"IF(P1269=1,K1269*B$1/(B$1+B$2+L1269),99999)","v":-8.7541766454114978},{"$f":"M1269*B$1/(B$1+B$2+L1269)","v":5.7688193995581623},null,null,{"$f":"(6*U1265+4*U1275)/10","v":72.333143348718437},394.47995800062222,120.06190776503404,9.987181117019281,-0.49711373622255906,-9.5348146882241733E-2,-4.6560598002898246E-2,-0.8450656791954998,-0.47106702649357146,9.9871811170191442,-0.49711373622247379,-9.5348146882176452E-2,3.2465937131804394,null,null,null,null,null,null,null,null,null,null,null,-79.901154923904201,152.145871227594,1.3506572848904135]
[1078,{"$f":"OFFSET(Calculations!AS$43,$A1272,0)-U$3-B$10","v":-117.26113808078134},{"$f":"OFFSET(Calculations!AT$43,$A1272,0)-V$3-B$11","v":254.54185943741405},{"$f":"OFFSET(Calculations!AU$43,$A1272,0)-W$3-B$12","v":72.434575705666077},-117.26113808078134,254.54185943741405,72.434575705666077,-117.26113808078134,254.54185943741405,72.434575705666077,-117.26113808078134,254.54185943741405,72.434575705666077,null,null,null,{"$f":"IF(P1269=1,K1272*B$1/(B$1+B$2+L1272),99999)","v":-8.8652236988243658},5.4762279103736953,null,null,{"$f":"(3*U1265+7*U1275)/10","v":72.17766294907517},391.62435566430042,118.66437913793118,9.9871811170191584,-0.49711373622247379,-9.5348146882207635E-2,-4.4362318971650438E-2,-0.8049401133642391,-0.4500111282093826,9.9871811170191407,-0.49711373622248228,-9.5348146882157259E-2,3.3230508967471182,null,null,null,null,null,null,null,null,null,null,null,-76.135472362749468,153.31899131722207,7.8732106102150237]
[1073,{"$f":"OFFSET(Calculations!AS$43,$A1274,0)-U$3-B$10","v":-107.17587462699828},{"$f":"OFFSET(Calculations!AT$43,$A1274,0)-V$3-B$11","v":254.1947468959512},{"$f":"OFFSET(Calculations!AU$43,$A1274,0)-W$3-B$12","v":82.296032652980429},-107.17587462699828,254.1947468959512,82.296032652980429,-107.17587462699828,254.1947468959512,82.296032652980429,-107.17587462699828,254.1947468959512,82.296032652980429,null,null,null,{"$f":"IF(P1269=1,K1274*B$1/(B$1+B$2+L1274),99999)","v":-8.1133993681719758},6.2299522318202172,null,null,{"$f":"(1*U1265+9*U1275)/10","v":72.074009349313002},389.72062077341923,117.73269338652926,9.987181117019075,-0.49711373622241695,-9.5348146882184889E-2,-4.2896799617494707E-2,-0.77818973614341758,-0.43597386268660898,9.9871811170191513,-0.49711373622250221,-9.5348146882147142E-2,3.3726539795612989,null,null,null,null,null,null,null,null,null,null,null,-86.579590324798801,148.87491881120732,-0.32255778305246707]
[{"$f":"A1269+7","v":1086},{"$f":"OFFSET(Calculations!AS$43,$A1277,0)-U$3-B$10","v":-127.49777253900041},{"$f":"OFFSET(Calculations!AT$43,$A1277,0)-V$3-B$11","v":257.75956766624813},{"$f":"OFFSET(Calculations!AU$43,$A1277,0)-W$3-B$12","v":77.064957307721158},{"$f":"B1277*F$5+C1277*F$4","v":-127.49777253900041},{"$f":"C1277*F$5-B1277*F$4","v":257.75956766624813},{"$f":"D1277","v":77.064957307721158},-127.49777253900041,{"$f":"F1277*F$7+G1277*F$6","v":257.75956766624813},{"$f":"G1277*F$7-F1277*F$6","v":77.064957307721158},{"$f":"H1277*F$9+J1277*F$8","v":-127.49777253900041},{"$f":"I1277","v":257.75956766624813},{"$f":"J1277*F$9-H1277*F$8","v":77.064957307721158},null,null,{"$f":"IF(MIN(L1277:L1283)+B$2+B$1>0,1,0)","v":1},{"$f":"IF(P1277=1,K1277*B$1/(B$1+B$2+L1277),99999)","v":-9.5233028384570293},{"$f":"M1277*B$1/(B$1+B$2+L1277)","v":5.7562803808960155},null,null,{"$f":"(8*U1275+2*U1285)/10","v":71.935380795679933},387.20678408908191,116.31844747689009,9.9871811170190732,-0.49711373622242261,-9.5348146882165002E-2,-4.1751760961901141E-2,-0.75942452356127887,-0.41387313424392858,9.9871811170191815,-0.49711373622255051,-9.5348146882135498E-2,3.4460270612030977,null,null,null,null,null,null,null,null,null,null,null,-80.56737806050063,141.1573629709896,-0.34163993364396816]
[1085,{"$f":"OFFSET(Calculations!AS$43,$A1280,0)-U$3-B$10","v":-126.99790848269397},{"$f":"OFFSET(Calculations!AT$43,$A1280,0)-V$3-B$11","v":254.06782081751723},{"$f":"OFFSET(Calculations!AU$43,$A1280,0)-W$3-B$12","v":72.568134105962315},-126.99790848269397,254.06782081751723,72.568134105962315,-126.99790848269397,254.06782081751723,72.568134105962315,-126.99790848269397,254.06782081751723,72.568134105962315,null,null,null,{"$f":"IF(P1277=1,K1280*B$1/(B$1+B$2+L1280),99999)","v":-9.6185826875479261},5.4961739663167943,null,null,{"$f":"(5*U1275+5*U1285)/10","v":71.805178165051942},384.86383023073677,114.89584292598269,9.9871811170191336,-0.49711373622247379,-9.5348146882152207E-2,-4.1218432187477561E-2,-0.75548596643005794,-0.37854428597152889,9.9871811170191993,-0.49711373622260169,-9.5348146882125118E-2,3.5176774062347049,null,null,null,null,null,null,null,null,null,null,null,-85.281713702452834,138.79011099115689,14.563767055734134]
[1080,{"$f":"OFFSET(Calculations!AS$43,$A1282,0)-U$3-B$10","v":-117.17883790828199},{"$f":"OFFSET(Calculations!AT$43,$A1282,0)-V$3-B$11","v":255.11372551629313},{"$f":"OFFSET(Calculations!AU$43,$A1282,0)-W$3-B$12","v":82.417871547692954},-117.17883790828199,255.11372551629313,82.417871547692954,-117.17883790828199,255.11372551629313,82.417871547692954,-117.17883790828199,255.11372551629313,82.417871547692954,null,null,null,{"$f":"IF(P1277=1,K1282*B$1/(B$1+B$2+L1282),99999)","v":-8.8398922145643883},6.2175484416877378,null,null,{"$f":"(3*U1275+7*U1285)/10","v":71.718376411299943},383.30186099184004,113.94743989204449,9.9871811170191727,-0.49711373622250787,-9.5348146882143686E-2,-4.0976332595690224E-2,-0.75838890011112881,-0.33805078078943041,9.9871811170192117,-0.49711373622263155,-9.5348146882121301E-2,3.5643323264251969,null,null,null,null,null,null,null,null,null,null,null,-69.793388324811843,133.45909240847487,5.4106726414207689]
[{"$f":"A1277+7","v":1093},{"$f":"OFFSET(Calculations!AS$43,$A1285,0)-U$3-B$10","v":-138.04449963317288},{"$f":"OFFSET(Calculations!AT$43,$A1285,0)-V$3-B$11","v":256.68399780974772},{"$f":"OFFSET(Calculations!AU$43,$A1285,0)-W$3-B$12","v":76.853570451764853},{"$f":"B1285*F$5+C1285*F$4","v":-138.04449963317288},{"$f":"C1285*F$5-B1285*F$4","v":256.68399780974772},{"$f":"D1285","v":76.853570451764853},-138.04449963317288,{"$f":"F1285*F$7+G1285*F$6","v":256.68399780974772},{"$f":"G1285*F$7-F1285*F$6","v":76.853570451764853},{"$f":"H1285*F$9+J1285*F$8","v":-138.04449963317288},{"$f":"I1285","v":256.68399780974772},{"$f":"J1285*F$9-H1285*F$8","v":76.853570451764853},null,null,{"$f":"IF(MIN(L1285:L1291)+B$2+B$1>0,1,0)","v":1},{"$f":"IF(P1285=1,K1285*B$1/(B$1+B$2+L1285),99999)","v":-10.352664634317788},{"$f":"M1285*B$1/(B$1+B$2+L1285)","v":5.7636431944141},null,{"$f":"T1275+7","v":868},{"$f":"OFFSET(Calculations!AS$46,$T1285,0)","v":71.588173780671966},{"$f":"OFFSET(Calculations!AT$46,$T1285,0)","v":380.9589071334949},{"$f":"OFFSET(Calculations!AU$46,$T1285,0)","v":112.52483534113711},{"$f":"OFFSET(Calculations!AS$43,$T1285,0)-OFFSET(Calculations!AS$45,$T1285,0)","v":9.9871811170192331},{"$f":"OFFSET(Calculations!AT$43,$T1285,0)-OFFSET(Calculations!AT$45,$T1285,0)","v":-0.49711373622255906},{"$f":"OFFSET(Calculations!AU$43,$T1285,0)-OFFSET(Calculations!AU$45,$T1285,0)","v":-9.5348146882130891E-2},-4.0613183207980796E-2,-0.76274330063279194,-0.27731052301622583,9.9871811170192331,-0.49711373622266564,-9.5348146882122897E-2,3.6327649758525937,null,null,null,null,null,null,null,null,null,null,null,-77.950965915574329,131.83048196614232,7.6019179215786705]
[1085,{"$f":"OFFSET(Calculations!AS$43,$A1287,0)-U$3-B$10","v":-126.99790848269397},{"$f":"OFFSET(Calculations!AT$43,$A1287,0)-V$3-B$11","v":254.06782081751723},{"$f":"OFFSET(Calculations!AU$43,$A1287,0)-W$3-B$12","v":72.568134105962315},-126.99790848269397,254.06782081751723,72.568134105962315,-126.99790848269397,254.06782081751723,72.568134105962315,-126.99790848269397,254.06782081751723,72.568134105962315,null,null,null,{"$f":"IF(P1285=1,K1287*B$1/(B$1+B$2+L1287),99999)","v":-9.6185826875479261},5.4961739663167943,null,null,{"$f":"(8*U1285+2*U1295)/10","v":71.50796849057636},379.48317827814662,111.81774583809968,9.9871811170192242,-0.49711373622259314,-9.5348146882125201E-2,-4.078336259470916E-2,-0.77103625828573286,-0.25189911351539251,9.9871811170192508,-0.49711373622268129,-9.5348146882128754E-2,3.6661252397131427,null,null,null,null,null,null,null,null,null,null,null,-82.939775742087221,130.7129346241683,13.75519870936467]
[1092,{"$f":"OFFSET(Calculations!AS$43,$A1288,0)-U$3-B$10","v":-136.54577981469299},{"$f":"OFFSET(Calculations!AT$43,$A1288,0)-V$3-B$11","v":253.39260997709016},{"$f":"OFFSET(Calculations!AU$43,$A1288,0)-W$3-B$12","v":72.263888432198783},-136.54577981469299,253.39260997709016,72.263888432198783,-136.54577981469299,253.39260997709016,72.263888432198783,-136.54577981469299,253.39260997709016,72.263888432198783,null,null,null,{"$f":"IF(P1285=1,K1288*B$1/(B$1+B$2+L1288),99999)","v":-10.368231654378588},5.4871614232824744,null,null,{"$f":"(7*U1285+3*U1295)/10","v":71.467865845528564},378.74531385047243,111.46420108658094,9.9871811170192206,-0.49711373622261024,-9.534814688212237E-2,-4.0868452288052026E-2,-0.77518273711211805,-0.23919340876499007,9.9871811170192633,-0.49711373622268695,-9.5348146882133028E-2,3.6826498060155277,null,null,null,null,null,null,null,null,null,null,null,-78.895073906964754,131.8972767650223,-2.2522283405504684]
[" ",null,null,null,null,null,null,null,null,null,null,null,null,null,null,null,null,null,null,null,{"$f":"(3*U1285+7*U1295)/10","v":71.307455265337367},375.79385613977581,110.0500220805061,9.9871811170192029,-0.4971137362226784,-9.534814688211099E-2,-4.1753061811434122E-2,-0.81141467240445309,-0.14294993161317393,9.9871811170193237,-0.49711373622269439,-9.5348146882158161E-2,3.7477544892573391,null,null,null,null,null,null,null,null,null,null,null,-76.303602058616818,122.3442374301066,7.1966454426868545]
[1093,{"$f":"OFFSET(Calculations!AS$43,$A1294,0)-U$3-B$10","v":-138.04449963317288},{"$f":"OFFSET(Calculations!AT$43,$A1294,0)-V$3-B$11","v":256.68399780974772},{"$f":"OFFSET(Calculations!AU$43,$A1294,0)-W$3-B$12","v":76.853570451764853},-138.04449963317288,256.68399780974772,76.853570451764853,-138.04449963317288,256.68399780974772,76.853570451764853,-138.04449963317288,256.68399780974772,76.853570451764853,null,null,null,{"$f":"IF(P1293=1,K1294*B$1/(B$1+B$2+L1294),99999)","v":-10.352664634317788},5.7636431944141,null,null,{"$f":"(1*U1285+9*U1295)/10","v":71.227249975241762},374.31812728442753,109.34293257746864,9.987181117019194,-0.49711373622271254,-9.5348146882105314E-2,-4.228607503146975E-2,-0.83280497671501053,-8.7258083345588489E-2,9.9871811170193485,-0.49711373622268767,-9.5348146882174592E-2,3.7797350789226702,null,null,null,null,null,null,null,null,null,null,null,-81.573275193503804,121.60359904070815,13.170086647520215]
[1101,{"$f":"OFFSET(Calculations!AS$43,$A1297,0)-U$3-B$10","v":-147.82676511983081},{"$f":"OFFSET(Calculations!AT$43,$A1297,0)-V$3-B$11","v":250.71073084587505},{"$f":"OFFSET(Calculations!AU$43,$A1297,0)-W$3-B$12","v":81.130659820526574},-147.82676511983081,250.71073084587505,81.130659820526574,-147.82676511983081,250.71073084587505,81.130659820526574,-147.82676511983081,250.71073084587505,81.130659820526574,null,null,null,{"$f":"IF(P1293=1,K1297*B$1/(B$1+B$2+L1297),99999)","v":-11.340290032574217},6.2238067115456612,null,null,{"$f":"(8*U1295+2*U1305)/10","v":71.104219169910749},371.97184667895897,108.68888087492579,9.9871811170192508,-0.49711373622271821,-9.5348146882125201E-2,-4.2915415474752194E-2,-0.8565974755280763,-2.9131720445008114E-2,9.9871811170193681,-0.49711373622266558,-9.5348146882203014E-2,3.8089927081836539,null,null,null,null,null,null,null,null,null,null,null,-68.804340376799317,113.21335241938691,-0.76664183274201747]
[" ",null,null,null,null,null,null,null,null,null,null,null,null,null,null,null,null,null,null,null,{"$f":"(5*U1295+5*U1305)/10","v":70.979826929485924},369.55922241226733,108.23812044838955,9.9871811170193396,-0.49711373622270116,-9.5348146882159313E-2,-4.3757929181140298E-2,-0.88398428800604734,2.5405508278765865E-2,9.9871811170193538,-0.49711373622263899,-9.5348146882229923E-2,3.8289804066594377,null,null,null,null,null,null,null,null,null,null,null,-65.015697143960367,113.41546743061342,5.861498779564009]
[1100,{"$f":"OFFSET(Calculations!AS$43,$A1302,0)-U$3-B$10","v":-148.10419422766486},{"$f":"OFFSET(Calculations!AT$43,$A1302,0)-V$3-B$11","v":253.44495364780732},{"$f":"OFFSET(Calculations!AU$43,$A1302,0)-W$3-B$12","v":75.9688649901763},-148.10419422766486,253.44495364780732,75.9688649901763,-148.10419422766486,253.44495364780732,75.9688649901763,-148.10419422766486,253.44495364780732,75.9688649901763,null,null,null,{"$f":"IF(P1301=1,K1302*B$1/(B$1+B$2+L1302),99999)","v":-11.243653915319364},5.7673425843439832,null,null,{"$f":"(3*U1295+7*U1305)/10","v":70.896898769202707},367.95080623447291,107.93761349736542,9.9871811170194,-0.49711373622268978,-9.5348146882182044E-2,-4.4717288927344612E-2,-0.91256321964675635,7.3919088192823779E-2,9.9871811170193325,-0.49711373622262051,-9.5348146882246271E-2,3.8422274502613316,null,null,null,null,null,null,null,null,null,null,null,-76.225273956832325,112.69265924723103,-2.494513188256148]
[1108,{"$f":"OFFSET(Calculations!AS$43,$A1305,0)-U$3-B$10","v":-156.7102144511276},{"$f":"OFFSET(Calculations!AT$43,$A1305,0)-V$3-B$11","v":245.23219304329257},{"$f":"OFFSET(Calculations!AU$43,$A1305,0)-W$3-B$12","v":78.834348972273972},-156.7102144511276,245.23219304329257,78.834348972273972,-156.7102144511276,245.23219304329257,78.834348972273972,-156.7102144511276,245.23219304329257,78.834348972273972,null,null,null,{"$f":"IF(P1301=1,K1305*B$1/(B$1+B$2+L1305),99999)","v":-12.279815691161371},6.1774612389042991,null,{"$f":"T1295+7","v":882},{"$f":"OFFSET(Calculations!AS$46,$T1305,0)","v":70.772506528777882},{"$f":"OFFSET(Calculations!AT$46,$T1305,0)","v":365.53818196778127},{"$f":"OFFSET(Calculations!AU$46,$T1305,0)","v":107.4868530708292},{"$f":"OFFSET(Calculations!AS$43,$T1305,0)-OFFSET(Calculations!AS$45,$T1305,0)","v":9.9871811170194889},{"$f":"OFFSET(Calculations!AT$43,$T1305,0)-OFFSET(Calculations!AT$45,$T1305,0)","v":-0.49711373622267274},{"$f":"OFFSET(Calculations!AU$43,$T1305,0)-OFFSET(Calculations!AU$45,$T1305,0)","v":-9.5348146882216156E-2},-4.6156328546658187E-2,-0.95543161710787672,0.14668945806390354,9.9871811170192863,-0.49711373622259281,-9.5348146882268114E-2,3.8619830512518911,null,null,null,null,null,null,null,null,null,null,null,-74.353896303509046,102.78152032256082,-0.66948491897559492]
[1100,{"$f":"OFFSET(Calculations!AS$43,$A1307,0)-U$3-B$10","v":-148.10419422766486},{"$f":"OFFSET(Calculations!AT$43,$A1307,0)-V$3-B$11","v":253.44495364780732},{"$f":"OFFSET(Calculations!AU$43,$A1307,0)-W$3-B$12","v":75.9688649901763},-148.10419422766486,253.44495364780732,75.9688649901763,-148.10419422766486,253.44495364780732,75.9688649901763,-148.10419422766486,253.44495364780732,75.9688649901763,null,null,null,{"$f":"IF(P1301=1,K1307*B$1/(B$1+B$2+L1307),99999)","v":-11.243653915319364},5.7673425843439832,null,null,{"$f":"(8*U1305+2*U1315)/10","v":70.683773027162076},363.72020824346362,107.67083314007326,9.9871811170194267,-0.49711373622264998,-9.5348146882230367E-2,-4.6752854459555238E-2,-0.97091320209091236,0.16492259921120933,9.9871811170192544,-0.49711373622257471,-9.5348146882281173E-2,3.8539362235940153,null,null,null,null,null,null,null,null,null,null,null,-63.652481855847618,103.5003425487734,4.7122456044235221]
[" ",null,null,null,null,null,null,null,null,null,null,null,null,null,null,null,null,null,null,null,{"$f":"(7*U1305+3*U1315)/10","v":70.639406276354194},362.81122138130479,107.76282317469528,9.9871811170193947,-0.49711373622263866,-9.5348146882237472E-2,-4.7051117416032184E-2,-0.9786539945823165,0.1740391697848338,9.9871811170192402,-0.49711373622256616,-9.5348146882287557E-2,3.8499042895659783,null,null,null,null,null,null,null,null,null,null,null,-76.594059320111896,102.44503219548845,14.978788001681837]
[1106,{"$f":"OFFSET(Calculations!AS$43,$A1311,0)-U$3-B$10","v":-153.5374599097027},{"$f":"OFFSET(Calculations!AT$43,$A1311,0)-V$3-B$11","v":246.61263797902038},{"$f":"OFFSET(Calculations!AU$43,$A1311,0)-W$3-B$12","v":69.45202514502887},-153.5374599097027,246.61263797902038,69.45202514502887,-153.5374599097027,246.61263797902038,69.45202514502887,-153.5374599097027,246.61263797902038,69.45202514502887,null,null,null,{"$f":"IF(P1309=1,K1311*B$1/(B$1+B$2+L1311),99999)","v":-11.966476874942947},5.4129855561289215,null,null,{"$f":"(4*U1305+6*U1315)/10","v":70.506306023930478},360.08426079482825,108.03879327856139,9.9871811170193006,-0.49711373622260452,-9.5348146882258789E-2,-4.8921284088166317E-2,-1.01919273975534,0.18950537284455038,9.9871811170192135,-0.4971137362225434,-9.5348146882305598E-2,3.837774116049415,null,null,null,null,null,null,null,null,null,null,null,-68.299181598676853,93.203750424156652,-1.4634964241593895]
[1115,{"$f":"OFFSET(Calculations!AS$43,$A1313,0)-U$3-B$10","v":-163.92215716073002},{"$f":"OFFSET(Calculations!AT$43,$A1313,0)-V$3-B$11","v":238.18332837889028},{"$f":"OFFSET(Calculations!AU$43,$A1313,0)-W$3-B$12","v":75.298181373843335},-163.92215716073002,238.18332837889028,75.298181373843335,-163.92215716073002,238.18332837889028,75.298181373843335,-163.92215716073002,238.18332837889028,75.298181373843335,null,null,null,{"$f":"IF(P1309=1,K1313*B$1/(B$1+B$2+L1313),99999)","v":-13.209763784816154},6.0679483884500902,null,null,{"$f":"(2*U1305+8*U1315)/10","v":70.417572522314686},358.2662870705106,108.22277334780543,9.9871811170192384,-0.49711373622258181,-9.5348146882272999E-2,-5.0493187803851924E-2,-1.0519906924367888,0.19585500533061406,9.9871811170192046,-0.49711373622253308,-9.5348146882314466E-2,3.829658445185395,null,null,null,null,null,null,null,null,null,null,null,-71.164209749797891,92.888519019661516,8.1684898120693781]
[" ",null,null,null,null,null,null,null,null,null,null,null,null,null,null,null,null,null,null,null,{"$f":"(9*U1315+U1325)/10","v":70.279700062587665},355.41547380417001,108.64460858084983,9.9871811170191798,-0.49711373622255339,-9.53481468822929E-2,-5.2552780420924705E-2,-1.0934468289676147,0.19626288348608512,9.9871811170191993,-0.49711373622252564,-9.5348146882322474E-2,3.810962132108493,null,null,null,null,null,null,null,null,null,null,null,-75.859981846097313,92.643514601420861,-0.54297948160609444]
[1114,{"$f":"OFFSET(Calculations!AS$43,$A1318,0)-U$3-B$10","v":-164.46454279609296},{"$f":"OFFSET(Calculations!AT$43,$A1318,0)-V$3-B$11","v":241.39815275021979},{"$f":"OFFSET(Calculations!AU$43,$A1318,0)-W$3-B$12","v":70.430159384980101},-164.46454279609296,241.39815275021979,70.430159384980101,-164.46454279609296,241.39815275021979,70.430159384980101,-164.46454279609296,241.39815275021979,70.430159384980101,null,null,null,{"$f":"IF(P1317=1,K1318*B$1/(B$1+B$2+L1318),99999)","v":-13.083989758627943},5.6030769211702989,null,null,{"$f":"(7*U1315+3*U1325)/10","v":70.181422146365207},353.34979472012429,109.12031890845056,9.9871811170191886,-0.49711373622254201,-9.5348146882304266E-2,-5.3528158223684841E-2,-1.1107631966660847,0.18437937482485722,9.9871811170191993,-0.49711373622252497,-9.5348146882324514E-2,3.7897276795859027,null,null,null,null,null,null,null,null,null,null,null,-68.095065972796078,83.193853383167792,-1.6703017418477568]
[1115,{"$f":"OFFSET(Calculations!AS$43,$A1322,0)-U$3-B$10","v":-163.92215716073002},{"$f":"OFFSET(Calculations!AT$43,$A1322,0)-V$3-B$11","v":238.18332837889028},{"$f":"OFFSET(Calculations!AU$43,$A1322,0)-W$3-B$12","v":75.298181373843335},-163.92215716073002,238.18332837889028,75.298181373843335,-163.92215716073002,238.18332837889028,75.298181373843335,-163.92215716073002,238.18332837889028,75.298181373843335,null,null,null,{"$f":"IF(P1317=1,K1322*B$1/(B$1+B$2+L1322),99999)","v":-13.209763784816154},6.0679483884500902,null,null,{"$f":"(3*U1315+7*U1325)/10","v":69.984866313920307},349.21843655203281,110.07173956365196,9.9871811170192064,-0.49711373622251925,-9.5348146882326998E-2,-5.6001585422876587E-2,-1.1448061777537077,0.10279066909841106,9.987181117019194,-0.49711373622253413,-9.5348146882320864E-2,3.7467663465332093,null,null,null,null,null,null,null,null,null,null,null,-70.163907022429271,82.844634621309922,16.249959512167717]
[1114,{"$f":"OFFSET(Calculations!AS$43,$A1323,0)-U$3-B$10","v":-164.46454279609296},{"$f":"OFFSET(Calculations!AT$43,$A1323,0)-V$3-B$11","v":241.39815275021979},{"$f":"OFFSET(Calculations!AU$43,$A1323,0)-W$3-B$12","v":70.430159384980101},-164.46454279609296,241.39815275021979,70.430159384980101,-164.46454279609296,241.39815275021979,70.430159384980101,-164.46454279609296,241.39815275021979,70.430159384980101,null,null,null,{"$f":"IF(P1317=1,K1323*B$1/(B$1+B$2+L1323),99999)","v":-13.083989758627943},5.6030769211702989,null,null,{"$f":"(2*U1315+8*U1325)/10","v":69.935727355809078},348.18559701000993,110.30959472745228,9.98718111701921,-0.49711373622251359,-9.5348146882332688E-2,-5.6663498188797234E-2,-1.1532677768332178,7.7575018633140758E-2,9.9871811170191958,-0.49711373622253985,-9.5348146882318199E-2,3.7359206076743736,null,null,null,null,null,null,null,null,null,null,null,-75.379210244503696,82.639425611681148,0.5414108343240045]
[{"$f":"A1317+7","v":1128},{"$f":"OFFSET(Calculations!AS$43,$A1325,0)-U$3-B$10","v":-172.82327307055186},{"$f":"OFFSET(Calculations!AT$43,$A1325,0)-V$3-B$11","v":224.85903228420165},{"$f":"OFFSET(Calculations!AU$43,$A1325,0)-W$3-B$12","v":60.422908754341734},{"$f":"B1325*F$5+C1325*F$4","v":-172.82327307055186},{"$f":"C1325*F$5-B1325*F$4","v":224.85903228420165},{"$f":"D1325","v":60.422908754341734},-172.82327307055186,{"$f":"F1325*F$7+G1325*F$6","v":224.85903228420165},{"$f":"G1325*F$7-F1325*F$6","v":60.422908754341734},{"$f":"H1325*F$9+J1325*F$8","v":-172.82327307055186},{"$f":"I1325","v":224.85903228420165},{"$f":"J1325*F$9-H1325*F$8","v":60.422908754341734},null,null,{"$f":"IF(MIN(L1325:L1331)+B$2+B$1>0,1,0)","v":1},{"$f":"IF(P1325=1,K1325*B$1/(B$1+B$2+L1325),99999)","v":-14.717191958912558},{"$f":"M1325*B$1/(B$1+B$2+L1325)","v":5.145461783324075},null,{"$f":"T1315+7","v":896},{"$f":"OFFSET(Calculations!AS$46,$T1325,0)","v":69.837449439586621},{"$f":"OFFSET(Calculations!AT$46,$T1325,0)","v":346.11991792596422},{"$f":"OFFSET(Calculations!AU$46,$T1325,0)","v":110.78530505505299},{"$f":"OFFSET(Calculations!AS$43,$T1325,0)-OFFSET(Calculations!AS$45,$T1325,0)","v":9.9871811170192188},{"$f":"OFFSET(Calculations!AT$43,$T1325,0)-OFFSET(Calculations!AT$45,$T1325,0)","v":-0.49711373622250221},{"$f":"OFFSET(Calculations!AU$43,$T1325,0)-OFFSET(Calculations!AU$45,$T1325,0)","v":-9.5348146882344054E-2},{"$f":"(SUM(U1326:U1341)-SUM(U1325:U1340))/16","v":-5.7987323720709583E-2},{"$f":"(SUM(V1326:V1341)-SUM(V1325:V1340))/16","v":-1.1701909749921242},{"$f":"(SUM(W1326:W1341)-SUM(W1325:W1340))/16","v":2.7143717702600156E-2},{"$f":"SUM(X1325:X1340)/16","v":9.9871811170191975},{"$f":"SUM(Y1325:Y1340)/16","v":-0.49711373622255556},{"$f":"SUM(Z1325:Z1340)/16","v":-9.5348146882310747E-2},3.7140991119701465,null,null,null,null,null,null,null,null,null,null,null,-67.686673829638153,73.197863802013273,-1.7911545781598992]
[1127,{"$f":"OFFSET(Calculations!AS$43,$A1328,0)-U$3-B$10","v":-168.16181842555039},{"$f":"OFFSET(Calculations!AT$43,$A1328,0)-V$3-B$11","v":226.77232251306978},{"$f":"OFFSET(Calculations!AU$43,$A1328,0)-W$3-B$12","v":57.433414299970906},-168.16181842555039,226.77232251306978,57.433414299970906,-168.16181842555039,226.77232251306978,57.433414299970906,-168.16181842555039,226.77232251306978,57.433414299970906,null,null,null,{"$f":"IF(P1325=1,K1328*B$1/(B$1+B$2+L1328),99999)","v":-14.204516528004905},4.8513621601021875,null,null,{"$f":"(7*U1325+3*U1335)/10","v":69.666623497986578},342.60580647513206,111.21366633858472,9.9871811170192011,-0.49711373622251925,-9.5348146882331258E-2,-5.8509995314366847E-2,-1.1696012206828073,-3.0677970701376012E-2,9.9871811170192117,-0.49711373622258748,-9.5348146882296092E-2,3.6942983629721127,null,null,null,null,null,null,null,null,null,null,null,-60.737269976109424,73.668912335923181,1.3202705728555291]
[1121,{"$f":"OFFSET(Calculations!AS$43,$A1331,0)-U$3-B$10","v":-169.81882579496855},{"$f":"OFFSET(Calculations!AT$43,$A1331,0)-V$3-B$11","v":233.43134561725461},{"$f":"OFFSET(Calculations!AU$43,$A1331,0)-W$3-B$12","v":65.905016962925131},-169.81882579496855,233.43134561725461,65.905016962925131,-169.81882579496855,233.43134561725461,65.905016962925131,-169.81882579496855,233.43134561725461,65.905016962925131,null,null,null,{"$f":"IF(P1325=1,K1331*B$1/(B$1+B$2+L1331),99999)","v":-13.952091943161133},5.414669733333942,null,null,{"$f":"(4*U1325+6*U1335)/10","v":69.495797556386535},339.09169502429984,111.64202762211644,9.9871811170191851,-0.4971137362225363,-9.5348146882318477E-2,-6.5735976960340281E-2,-1.1452365848978161,-0.11781238406904038,9.9868907105784128,-0.49913363982307501,-9.0292004607556819E-2,3.6743510143268914,null,null,null,null,null,null,null,null,null,null,null,-62.006222923399584,63.55200485792956,1.099810058636379]
[{"$f":"A1325+7","v":1135},{"$f":"OFFSET(Calculations!AS$43,$A1333,0)-U$3-B$10","v":-173.34551649935628},{"$f":"OFFSET(Calculations!AT$43,$A1333,0)-V$3-B$11","v":216.27520709583547},{"$f":"OFFSET(Calculations!AU$43,$A1333,0)-W$3-B$12","v":54.213100044803454},{"$f":"B1333*F$5+C1333*F$4","v":-173.34551649935628},{"$f":"C1333*F$5-B1333*F$4","v":216.27520709583547},{"$f":"D1333","v":54.213100044803454},-173.34551649935628,{"$f":"F1333*F$7+G1333*F$6","v":216.27520709583547},{"$f":"G1333*F$7-F1333*F$6","v":54.213100044803454},{"$f":"H1333*F$9+J1333*F$8","v":-173.34551649935628},{"$f":"I1333","v":216.27520709583547},{"$f":"J1333*F$9-H1333*F$8","v":54.213100044803454},null,null,{"$f":"IF(MIN(L1333:L1339)+B$2+B$1>0,1,0)","v":1},{"$f":"IF(P1333=1,K1333*B$1/(B$1+B$2+L1333),99999)","v":-15.321653549603285},{"$f":"M1333*B$1/(B$1+B$2+L1333)","v":4.7917843709534038},null,null,{"$f":"(2*U1325+8*U1335)/10","v":69.381913595319844},336.74895405707844,111.92760181113761,9.9871811170191727,-0.49711373622254768,-9.5348146882309942E-2,-7.2787734741808663E-2,-1.1210685338824646,-0.18567290130204128,9.9854386783743312,-0.50923315782534995,-6.5011293233926987E-2,3.6609697105709382,null,null,null,null,null,null,null,null,null,null,null,-71.979628843265132,62.825784265518053,1.1612755672046164]
[1134,{"$f":"OFFSET(Calculations!AS$43,$A1336,0)-U$3-B$10","v":-168.95811996412436},{"$f":"OFFSET(Calculations!AT$43,$A1336,0)-V$3-B$11","v":219.34663891912797},{"$f":"OFFSET(Calculations!AU$43,$A1336,0)-W$3-B$12","v":51.851981953316781},-168.95811996412436,219.34663891912797,51.851981953316781,-168.95811996412436,219.34663891912797,51.851981953316781,-168.95811996412436,219.34663891912797,51.851981953316781,null,null,null,{"$f":"IF(P1333=1,K1336*B$1/(B$1+B$2+L1336),99999)","v":-14.733864926941635},4.5217128271586127,null,null,{"$f":"(9*U1335+U1345)/10","v":69.208300071886867},333.23798796256244,112.04758075651473,9.9871811170191798,-0.4971137362225761,-9.5348146882295731E-2,-8.3191147549371181E-2,-1.0850130421292192,-0.26818978101684365,9.9810825817620525,-0.53953171183213655,1.083084088694708E-2,3.6553276754916144,null,null,null,null,null,null,null,null,null,null,null,-66.888929334649418,63.030139816782025,16.129342153161843]
[1129,{"$f":"OFFSET(Calculations!AS$43,$A1338,0)-U$3-B$10","v":-171.80557234361356},{"$f":"OFFSET(Calculations!AT$43,$A1338,0)-V$3-B$11","v":221.38009292484566},{"$f":"OFFSET(Calculations!AU$43,$A1338,0)-W$3-B$12","v":65.025971013784797},-171.80557234361356,221.38009292484566,65.025971013784797,-171.80557234361356,221.38009292484566,65.025971013784797,-171.80557234361356,221.38009292484566,65.025971013784797,null,null,null,{"$f":"IF(P1333=1,K1338*B$1/(B$1+B$2+L1338),99999)","v":-14.850505950779228},5.6207057566448313,null,null,{"$f":"(7*U1335+3*U1345)/10","v":69.088840947154324},330.90153770797349,111.71639026922666,9.9871811170192135,-0.49711373622261024,-9.5348146882284365E-2,-8.989445760168735E-2,-1.0612381606534314,-0.29750250598050343,9.976726485149765,-0.56983026583890817,8.6672975007815733E-2,3.6708730194551964,null,null,null,null,null,null,null,null,null,null,null,-61.289401644121682,53.68332119660969,0.99038481336181183]
[{"$f":"A1333+7","v":1142},{"$f":"OFFSET(Calculations!AS$43,$A1341,0)-U$3-B$10","v":-171.38497762851037},{"$f":"OFFSET(Calculations!AT$43,$A1341,0)-V$3-B$11","v":208.25806446732986},{"$f":"OFFSET(Calculations!AU$43,$A1341,0)-W$3-B$12","v":47.553096818683393},{"$f":"B1341*F$5+C1341*F$4","v":-171.38497762851037},{"$f":"C1341*F$5-B1341*F$4","v":208.25806446732986},{"$f":"D1341","v":47.553096818683393},-171.38497762851037,{"$f":"F1341*F$7+G1341*F$6","v":208.25806446732986},{"$f":"G1341*F$7-F1341*F$6","v":47.553096818683393},{"$f":"H1341*F$9+J1341*F$8","v":-171.38497762851037},{"$f":"I1341","v":208.25806446732986},{"$f":"J1341*F$9-H1341*F$8","v":47.553096818683393},null,null,{"$f":"IF(MIN(L1341:L1347)+B$2+B$1>0,1,0)","v":1},{"$f":"IF(P1341=1,K1341*B$1/(B$1+B$2+L1341),99999)","v":-15.704801382417122},{"$f":"M1341*B$1/(B$1+B$2+L1341)","v":4.3575110898870291},null,null,{"$f":"(4*U1335+6*U1345)/10","v":68.909652260055509},327.39686232608994,111.21960453829456,9.987181117019265,-0.49711373622266136,-9.5348146882267309E-2,-0.10144705756043493,-1.0135282689461746,-0.34932468290935503,9.9670747589986632,-0.63177081201727714,0.24003967438651,3.694022850457424,null,null,null,null,null,null,null,null,null,null,null,-66.218882227200965,53.141775258644465,8.0193925084864013]
[1135,{"$f":"OFFSET(Calculations!AS$43,$A1342,0)-U$3-B$10","v":-173.34551649935628},{"$f":"OFFSET(Calculations!AT$43,$A1342,0)-V$3-B$11","v":216.27520709583547},{"$f":"OFFSET(Calculations!AU$43,$A1342,0)-W$3-B$12","v":54.213100044803454},-173.34551649935628,216.27520709583547,54.213100044803454,-173.34551649935628,216.27520709583547,54.213100044803454,-173.34551649935628,216.27520709583547,54.213100044803454,null,null,null,{"$f":"IF(P1341=1,K1342*B$1/(B$1+B$2+L1342),99999)","v":-15.321653549603285},4.7917843709534038,null,null,{"$f":"(3*U1335+7*U1345)/10","v":68.849922697689237},326.22863719879541,111.05400929465054,9.987181117019281,-0.4971137362226784,-9.5348146882261633E-2,-0.10554753002672612,-0.99561704346155011,-0.36790759013285879,9.9617108158558096,-0.65869653155236951,0.30407824395712685,3.7016953806263482,null,null,null,null,null,null,null,null,null,null,null,-59.298196721802697,53.87030535274004,0.97855761215716441]
[1136,{"$f":"OFFSET(Calculations!AS$43,$A1346,0)-U$3-B$10","v":-172.05267347565049},{"$f":"OFFSET(Calculations!AT$43,$A1346,0)-V$3-B$11","v":212.76165298905246},{"$f":"OFFSET(Calculations!AU$43,$A1346,0)-W$3-B$12","v":58.712134930110452},-172.05267347565049,212.76165298905246,58.712134930110452,-172.05267347565049,212.76165298905246,58.712134930110452,-172.05267347565049,212.76165298905246,58.712134930110452,null,null,null,{"$f":"IF(P1341=1,K1346*B$1/(B$1+B$2+L1346),99999)","v":-15.4472433802694},5.2712963961526924,null,null,{"$f":"(9*U1345+U1355)/10","v":68.55737796780565},321.74593574142375,110.15712652036514,9.9825346139662052,-0.52943219382993334,-1.4449870486657801E-2,-0.11859776486578255,-0.93585958226071853,-0.42758285654504391,9.9279556496111034,-0.80003282734565784,0.62761825635645907,3.7428777995508842,null,null,null,null,null,null,null,null,null,null,null,-65.354067141660039,43.292086959778231,-2.1023258433602341]
[1135,{"$f":"OFFSET(Calculations!AS$43,$A1347,0)-U$3-B$10","v":-173.34551649935628},{"$f":"OFFSET(Calculations!AT$43,$A1347,0)-V$3-B$11","v":216.27520709583547},{"$f":"OFFSET(Calculations!AU$43,$A1347,0)-W$3-B$12","v":54.213100044803454},-173.34551649935628,216.27520709583547,54.213100044803454,-173.34551649935628,216.27520709583547,54.213100044803454,-173.34551649935628,216.27520709583547,54.213100044803454,null,null,null,{"$f":"IF(P1341=1,K1347*B$1/(B$1+B$2+L1347),99999)","v":-15.321653549603285},4.7917843709534038,null,null,{"$f":"(8*U1345+2*U1355)/10","v":68.444021925020863},320.76790966593552,109.75702947701181,9.9778881109130761,-0.56175065143713709,6.6448405908928976E-2,-0.11934658230590856,-0.9298357975138174,-0.43150940128671778,9.9167324160724242,-0.84175535210676034,0.72029355071078449,3.7610510469941389,null,null,null,null,null,null,null,null,null,null,null,-70.311206184619806,42.792762728200969,0.9376678405638974]
[1141,{"$f":"OFFSET(Calculations!AS$43,$A1351,0)-U$3-B$10","v":-167.57505142940994},{"$f":"OFFSET(Calculations!AT$43,$A1351,0)-V$3-B$11","v":212.35216774987495},{"$f":"OFFSET(Calculations!AU$43,$A1351,0)-W$3-B$12","v":45.844340610100517},-167.57505142940994,212.35216774987495,45.844340610100517,-167.57505142940994,212.35216774987495,45.844340610100517,-167.57505142940994,212.35216774987495,45.844340610100517,null,null,null,{"$f":"IF(P1349=1,K1351*B$1/(B$1+B$2+L1351),99999)","v":-15.072940653127874},4.1235793717712745,null,null,{"$f":"(4*U1345+6*U1355)/10","v":67.990597753881758},316.85580536398277,108.15664130359851,9.9593020987005652,-0.69102448186595211,0.39004151149127608,-0.12548893325347876,-0.89307347769994294,-0.4449582757611239,9.8603495850109333,-1.0232896636084288,1.1103929939569235,3.8325783179747668,null,null,null,null,null,null,null,null,null,null,null,-72.302411106938891,42.60577857207079,0.94949504176884103]
[1150,{"$f":"OFFSET(Calculations!AS$43,$A1353,0)-U$3-B$10","v":-165.61923707422648},{"$f":"OFFSET(Calculations!AT$43,$A1353,0)-V$3-B$11","v":197.9120976596125},{"$f":"OFFSET(Calculations!AU$43,$A1353,0)-W$3-B$12","v":44.941436184151812},-165.61923707422648,197.9120976596125,44.941436184151812,-165.61923707422648,197.9120976596125,44.941436184151812,-165.61923707422648,197.9120976596125,44.941436184151812,null,null,null,{"$f":"IF(P1349=1,K1353*B$1/(B$1+B$2+L1353),99999)","v":-15.931659479033621},4.3231189228563887,null,null,{"$f":"(2*U1345+8*U1355)/10","v":67.763885668312213},314.89975321300642,107.35644721689187,9.9500090925943088,-0.75566139708035962,0.55183806428244964,-0.13013364932074012,-0.86835872737964337,-0.45055406075218229,9.8170954175334249,-1.1275616869880611,1.327120097468216,3.8676730024773427,null,null,null,null,null,null,null,null,null,null,null,-64.419814716080523,33.336399881656106,-2.2095125290538635]
[" ",null,null,null,null,null,null,null,null,null,null,null,null,null,null,null,null,null,null,null,{"$f":"(9*U1355+U1365)/10","v":67.411836460915595},312.06205554249044,106.0933313709651,9.9210370566108139,-0.87411178053945382,0.82145179166061266,-0.13635190598149904,-0.83731038664592461,-0.45502119349708892,9.7294584120554859,-1.3031192393600666,1.6841336447064532,3.9222127593005798,null,null,null,null,null,null,null,null,null,null,null,-57.429756579607577,33.959029977225967,0.75485165451334746]
[1148,{"$f":"OFFSET(Calculations!AS$43,$A1359,0)-U$3-B$10","v":-163.74262903195878},{"$f":"OFFSET(Calculations!AT$43,$A1359,0)-V$3-B$11","v":206.32003557079395},{"$f":"OFFSET(Calculations!AU$43,$A1359,0)-W$3-B$12","v":39.863550567341029},-163.74262903195878,206.32003557079395,39.863550567341029,-163.74262903195878,206.32003557079395,39.863550567341029,-163.74262903195878,206.32003557079395,39.863550567341029,null,null,null,{"$f":"IF(P1357=1,K1359*B$1/(B$1+B$2+L1359),99999)","v":-15.138924011351836},3.6856087289515158,null,null,{"$f":"(6*U1355+4*U1365)/10","v":67.035825095434419},309.41711898387177,104.70456609330475,9.8619999669790985,-1.0355521852735137,1.1449033154215811,-0.14107252776199175,-0.81830961540578073,-0.45163523675861939,9.6201516990225837,-1.4935955835060841,2.0693600754884725,3.981026455775627,null,null,null,null,null,null,null,null,null,null,null,-58.486741430829149,23.816408133338953,0.6548258768966253]
[1157,{"$f":"OFFSET(Calculations!AS$43,$A1361,0)-U$3-B$10","v":-159.70961296746015},{"$f":"OFFSET(Calculations!AT$43,$A1361,0)-V$3-B$11","v":192.56624398521132},{"$f":"OFFSET(Calculations!AU$43,$A1361,0)-W$3-B$12","v":38.19738817394547},-159.70961296746015,192.56624398521132,38.19738817394547,-159.70961296746015,192.56624398521132,38.19738817394547,-159.70961296746015,192.56624398521132,38.19738817394547,null,null,null,{"$f":"IF(P1357=1,K1361*B$1/(B$1+B$2+L1361),99999)","v":-15.768630530476736},3.7713478240465506,null,null,{"$f":"(4*U1355+6*U1365)/10","v":66.785150851780287},307.65382794479262,103.77872257486449,9.8226419072246216,-1.1431791217628871,1.3605376645955602,-0.1481315219480166,-0.8050801468908162,-0.43710967338039097,9.5329217184560626,-1.6330950777382878,2.3373078999009769,4.0195992465299533,null,null,null,null,null,null,null,null,null,null,null,-68.442766042424495,22.881487352687458,0.71396188292075802]
[1150,{"$f":"OFFSET(Calculations!AS$43,$A1362,0)-U$3-B$10","v":-165.61923707422648},{"$f":"OFFSET(Calculations!AT$43,$A1362,0)-V$3-B$11","v":197.9120976596125},{"$f":"OFFSET(Calculations!AU$43,$A1362,0)-W$3-B$12","v":44.941436184151812},-165.61923707422648,197.9120976596125,44.941436184151812,-165.61923707422648,197.9120976596125,44.941436184151812,-165.61923707422648,197.9120976596125,44.941436184151812,null,null,null,{"$f":"IF(P1357=1,K1362*B$1/(B$1+B$2+L1362),99999)","v":-15.931659479033621},4.3231189228563887,null,null,{"$f":"(3*U1355+7*U1365)/10","v":66.659813729953228},306.77218242525305,103.31580081564439,9.8029628773473831,-1.1969925900075737,1.4683548391825496,-0.15166101904105744,-0.79846541263339077,-0.42984689169126966,9.4803358762062118,-1.7143587372036879,2.472533391188704,4.0387020336731414,null,null,null,null,null,null,null,null,null,null,null,-63.416222013908211,23.274862195373714,7.6838335720211939]
[1156,{"$f":"OFFSET(Calculations!AS$43,$A1366,0)-U$3-B$10","v":-160.63240896972923},{"$f":"OFFSET(Calculations!AT$43,$A1366,0)-V$3-B$11","v":196.49208682790112},{"$f":"OFFSET(Calculations!AU$43,$A1366,0)-W$3-B$12","v":33.974062080630659},-160.63240896972923,196.49208682790112,33.974062080630659,-160.63240896972923,196.49208682790112,33.974062080630659,-160.63240896972923,196.49208682790112,33.974062080630659,null,null,null,{"$f":"IF(P1365=1,K1366*B$1/(B$1+B$2+L1366),99999)","v":-15.558214499871541},3.290592158037128,null,null,{"$f":"(9*U1365+U1375)/10","v":66.133288593149103},303.34693779370883,101.48217221470227,9.6907336755709714,-1.4316037559276253,1.9408068088778747,-0.1642054668196522,-0.77834006601682404,-0.40192441718090777,9.2101868274295704,-2.116172790727278,3.021779216882778,4.1132165359455506,null,null,null,null,null,null,null,null,null,null,null,-57.552521359731578,13.860770445582038,0.54297289807502469]
[1155,{"$f":"OFFSET(Calculations!AS$43,$A1367,0)-U$3-B$10","v":-157.66387911086662},{"$f":"OFFSET(Calculations!AT$43,$A1367,0)-V$3-B$11","v":201.51433893830719},{"$f":"OFFSET(Calculations!AU$43,$A1367,0)-W$3-B$12","v":34.229193408266148},-157.66387911086662,201.51433893830719,34.229193408266148,-157.66387911086662,201.51433893830719,34.229193408266148,-157.66387911086662,201.51433893830719,34.229193408266148,null,null,null,{"$f":"IF(P1365=1,K1367*B$1/(B$1+B$2+L1367),99999)","v":-14.908103148208101},3.2365837304533613,null,null,{"$f":"(8*U1365+2*U1375)/10","v":65.982774821826183},302.56662972078328,101.03730889142052,9.6375415634262751,-1.5047745171136171,2.0898072548122313,-0.16616142331919548,-0.77805892217270411,-0.39579028773793823,9.1297927129328134,-2.2346063272148413,3.158602683982878,4.1310274720138196,null,null,null,null,null,null,null,null,null,null,null,-62.55133759733495,13.425068060010481,-2.4278855802654555]
[1156,{"$f":"OFFSET(Calculations!AS$43,$A1371,0)-U$3-B$10","v":-160.63240896972923},{"$f":"OFFSET(Calculations!AT$43,$A1371,0)-V$3-B$11","v":196.49208682790112},{"$f":"OFFSET(Calculations!AU$43,$A1371,0)-W$3-B$12","v":33.974062080630659},-160.63240896972923,196.49208682790112,33.974062080630659,-160.63240896972923,196.49208682790112,33.974062080630659,-160.63240896972923,196.49208682790112,33.974062080630659,null,null,null,{"$f":"IF(P1365=1,K1371*B$1/(B$1+B$2+L1371),99999)","v":-15.558214499871541},3.290592158037128,null,null,{"$f":"(4*U1365+6*U1375)/10","v":65.380719736534459},299.44539742908103,99.25785559829356,9.4247731148474898,-1.7974575618575841,2.685809038549658,-0.19547330777441374,-0.77321343856760905,-0.36179245821153927,8.7661470038782827,-2.7696390801089215,3.6889093009598097,4.2012804241095463,null,null,null,null,null,null,null,null,null,null,null,-62.42653711684634,13.234555310314525,15.571340241328256]
[" ",null,null,null,null,null,null,null,null,null,null,null,null,null,null,null,null,null,null,null,{"$f":"(3*U1365+7*U1375)/10","v":65.230205965211525},298.66508935615548,98.812992275011823,9.3715810027027935,-1.8706283230435758,2.8348094844840146,-0.20817329350248315,-0.77107184060912459,-0.35092767289134486,8.6599043922866308,-2.9136781691236284,3.8178517912863863,4.2186040739127,null,null,null,null,null,null,null,null,null,null,null,-69.499750893646294,12.738865508799611,0.61393610530361165]
[1169,{"$f":"OFFSET(Calculations!AS$43,$A1376,0)-U$3-B$10","v":-141.55867293800574},{"$f":"OFFSET(Calculations!AT$43,$A1376,0)-V$3-B$11","v":194.07189108885646},{"$f":"OFFSET(Calculations!AU$43,$A1376,0)-W$3-B$12","v":25.483161045472656},-141.55867293800574,194.07189108885646,25.483161045472656,-141.55867293800574,194.07189108885646,25.483161045472656,-141.55867293800574,194.07189108885646,25.483161045472656,null,null,null,{"$f":"IF(P1373=1,K1376*B$1/(B$1+B$2+L1376),99999)","v":-13.87341217672831},2.4974689958037231,null,null,{"$f":"(9*U1375+U1385)/10","v":64.596855575927293},295.54835536595886,97.131685052972472,9.0966365487478722,-2.2667691399054206,3.402978173743139,-0.25701727991523882,-0.7627865926193067,-0.31360266105347989,8.1639814654856835,-3.5208706264576661,4.3203103947984856,4.2832512834258161,null,null,null,null,null,null,null,null,null,null,null,-61.547781871713028,3.363586819859341,7.4601276143776669]
[1171,{"$f":"OFFSET(Calculations!AS$43,$A1377,0)-U$3-B$10","v":-145.06801085460629},{"$f":"OFFSET(Calculations!AT$43,$A1377,0)-V$3-B$11","v":184.7629142692287},{"$f":"OFFSET(Calculations!AU$43,$A1377,0)-W$3-B$12","v":26.496816785232539},-145.06801085460629,184.7629142692287,26.496816785232539,-145.06801085460629,184.7629142692287,26.496816785232539,-145.06801085460629,184.7629142692287,26.496816785232539,null,null,null,{"$f":"IF(P1373=1,K1377*B$1/(B$1+B$2+L1377),99999)","v":-14.8968823350089},2.7209304075831309,null,null,{"$f":"(8*U1375+2*U1385)/10","v":64.415046500611837},294.77254559453894,96.784967800778347,8.9812684312270399,-2.4433976732092901,3.5241455251991938,-0.26776130914377205,-0.76092613850499902,-0.30887200517622659,8.0261486140128664,-3.6739616553526102,4.4443367746328528,4.2964250792587109,null,null,null,null,null,null,null,null,null,null,null,-54.627096366314909,4.0921169139546896,0.41929271804829304]
[{"$f":"A1373+7","v":1177},{"$f":"OFFSET(Calculations!AS$43,$A1381,0)-U$3-B$10","v":-136.19751390489566},{"$f":"OFFSET(Calculations!AT$43,$A1381,0)-V$3-B$11","v":186.56227012459721},{"$f":"OFFSET(Calculations!AU$43,$A1381,0)-W$3-B$12","v":18.756383430329031},{"$f":"B1381*F$5+C1381*F$4","v":-136.19751390489566},{"$f":"C1381*F$5-B1381*F$4","v":186.56227012459721},{"$f":"D1381","v":18.756383430329031},-136.19751390489566,{"$f":"F1381*F$7+G1381*F$6","v":186.56227012459721},{"$f":"G1381*F$7-F1381*F$6","v":18.756383430329031},{"$f":"H1381*F$9+J1381*F$8","v":-136.19751390489566},{"$f":"I1381","v":186.56227012459721},{"$f":"J1381*F$9-H1381*F$8","v":18.756383430329031},{"$f":"IF(P1381=1,K1381*B$1/(B$1+B$2+L1381),99999)","v":-13.857950848711969},{"$f":"M1381*B$1/(B$1+B$2+L1381)","v":1.9084418813884989},{"$f":"IF(MIN(L1381:L1387)+B$2+B$1>0,1,0)","v":1},null,null,null,null,{"$f":"(4*U1375+6*U1385)/10","v":63.687810199349997},291.66930650885922,95.398098792001861,8.5197959611437124,-3.1499118064247682,4.0088149310234114,-0.32604572395142384,-0.74746813360820852,-0.27738275343288876,7.4446994409589946,-4.2504411075429962,4.9396003038857552,4.3486020300059423,null,null,null,null,null,null,null,null,null,null,null,-60.682897455139695,-6.4862073155031226,-2.6515915379089048]
[1170,{"$f":"OFFSET(Calculations!AS$43,$A1382,0)-U$3-B$10","v":-144.68627161862076},{"$f":"OFFSET(Calculations!AT$43,$A1382,0)-V$3-B$11","v":189.64484169435511},{"$f":"OFFSET(Calculations!AU$43,$A1382,0)-W$3-B$12","v":23.32552434026487},-144.68627161862076,189.64484169435511,23.32552434026487,-144.68627161862076,189.64484169435511,23.32552434026487,-144.68627161862076,189.64484169435511,23.32552434026487,{"$f":"IF(P1381=1,K1382*B$1/(B$1+B$2+L1382),99999)","v":-14.494366134450619},2.3367019295169089,null,null,null,null,null,{"$f":"(3*U1375+7*U1385)/10","v":63.50600112403454},290.89349673743936,95.051381539807721,8.4044278436228801,-3.3265403397286377,4.1299822824794656,-0.34444390212672715,-0.74259958527414938,-0.26636878343843762,7.2947697707723576,-4.3822003191068548,5.0558162141688925,4.3615197260180487,null,null,null,null,null,null,null,null,null,null,null,-65.252119625732973,-8.5007771882661416,0.35967354971814669]
[1176,{"$f":"OFFSET(Calculations!AS$43,$A1384,0)-U$3-B$10","v":-132.98055492530645},{"$f":"OFFSET(Calculations!AT$43,$A1384,0)-V$3-B$11","v":190.34060932382747},{"$f":"OFFSET(Calculations!AU$43,$A1384,0)-W$3-B$12","v":21.820911930818934},-132.98055492530645,190.34060932382747,21.820911930818934,-132.98055492530645,190.34060932382747,21.820911930818934,-132.98055492530645,190.34060932382747,21.820911930818934,{"$f":"IF(P1381=1,K1384*B$1/(B$1+B$2+L1384),99999)","v":-13.275446787761211},2.1783813081598398,null,null,null,null,null,{"$f":"(1*U1375+9*U1385)/10","v":63.14238297340362},289.34187719459948,94.357947035419485,8.1736916085812172,-3.6797974063363768,4.3723169853915751,-0.38124025847729826,-0.73286248860614478,-0.24434084344957796,6.9912068170117676,-4.6288522690722544,5.2746943835936921,4.3872073297195016,null,null,null,null,null,null,null,null,null,null,null,-54.236056979976055,-3.7420287050475078,0.33366089465874849]
[1170,{"$f":"OFFSET(Calculations!AS$43,$A1387,0)-U$3-B$10","v":-144.68627161862076},{"$f":"OFFSET(Calculations!AT$43,$A1387,0)-V$3-B$11","v":189.64484169435511},{"$f":"OFFSET(Calculations!AU$43,$A1387,0)-W$3-B$12","v":23.32552434026487},-144.68627161862076,189.64484169435511,23.32552434026487,-144.68627161862076,189.64484169435511,23.32552434026487,-144.68627161862076,189.64484169435511,23.32552434026487,{"$f":"IF(P1381=1,K1387*B$1/(B$1+B$2+L1387),99999)","v":-14.494366134450619},2.3367019295169089,null,null,null,null,null,{"$f":"(8*U1385+2*U1395)/10","v":62.253146812143974},287.07398241199951,93.469176266908676,7.7248913293810819,-4.1020829860928982,4.7488888837748817,-0.41494673454608488,-0.7219777518328101,-0.22076024522074533,6.5298126006100174,-4.9600265117444016,5.5687190772517345,4.419848854355001,null,null,null,null,null,null,null,null,null,null,null,-52.944280472160052,-12.393361102471189,0.23313415698898821]
[1177,{"$f":"OFFSET(Calculations!AS$43,$A1390,0)-U$3-B$10","v":-136.19751390489566},{"$f":"OFFSET(Calculations!AT$43,$A1390,0)-V$3-B$11","v":186.56227012459721},{"$f":"OFFSET(Calculations!AU$43,$A1390,0)-W$3-B$12","v":18.756383430329031},-136.19751390489566,186.56227012459721,18.756383430329031,-136.19751390489566,186.56227012459721,18.756383430329031,-136.19751390489566,186.56227012459721,18.756383430329031,{"$f":"IF(P1389=1,K1390*B$1/(B$1+B$2+L1390),99999)","v":-13.857950848711969},1.9084418813884989,null,null,null,null,null,{"$f":"(5*U1385+5*U1395)/10","v":61.192006183227662},284.83585489522949,92.656095992433663,7.2247430868621265,-4.4705685557718766,5.1319957041657602,-0.44761235077121597,-0.70528981090984644,-0.19844319905729435,6.0829815257057316,-5.2675013399683657,5.8188153564815677,4.4494399915423912,null,null,null,null,null,null,null,null,null,null,null,-56.648484912946245,-15.771518555097042,7.2236221003398473]
[1183,{"$f":"OFFSET(Calculations!AS$43,$A1392,0)-U$3-B$10","v":-124.38106097054138},{"$f":"OFFSET(Calculations!AT$43,$A1392,0)-V$3-B$11","v":186.37040189515423},{"$f":"OFFSET(Calculations!AU$43,$A1392,0)-W$3-B$12","v":18.473555134346988},-124.38106097054138,186.37040189515423,18.473555134346988,-124.38106097054138,186.37040189515423,18.473555134346988,-124.38106097054138,186.37040189515423,18.473555134346988,{"$f":"IF(P1389=1,K1392*B$1/(B$1+B$2+L1392),99999)","v":-12.66800493049362},1.8815009753058771,null,null,null,null,null,{"$f":"(3*U1385+7*U1395)/10","v":60.484579097283451},283.34376988404949,92.114042476116992,6.8913109251828235,-4.7162256022245286,5.3874002510930126,-0.4823269874344831,-0.68394630594258388,-0.17894236319922641,5.7918984254894337,-5.4537767236809929,5.9619958519136302,4.4690271884681358,null,null,null,null,null,null,null,null,null,null,null,-56.593020086981582,-15.856187752399173,15.222981748468618]
[" ",null,null,null,null,null,null,null,null,null,null,null,null,null,null,null,null,null,null,null,{"$f":"(9*U1395+U1405)/10","v":58.947258542247098},280.40772936920382,91.130468469358817,6.2560419604106867,-5.1713851816750092,5.8193882835187498,-0.54410211181428281,-0.64426739022758284,-0.14622400560025994,5.2211516779765166,-5.7695734074202649,6.1935659439408388,4.5042892483384822,null,null,null,null,null,null,null,null,null,null,null,-52.637314545580182,-27.504086802845322,7.1066331010119388E-2]
[{"$f":"A1389+7","v":1191},{"$f":"OFFSET(Calculations!AS$43,$A1397,0)-U$3-B$10","v":-119.0567913726557},{"$f":"OFFSET(Calculations!AT$43,$A1397,0)-V$3-B$11","v":180.16222958144871},{"$f":"OFFSET(Calculations!AU$43,$A1397,0)-W$3-B$12","v":10.605816930621742},{"$f":"B1397*F$5+C1397*F$4","v":-119.0567913726557},{"$f":"C1397*F$5-B1397*F$4","v":180.16222958144871},{"$f":"D1397","v":10.605816930621742},-119.0567913726557,{"$f":"F1397*F$7+G1397*F$6","v":180.16222958144871},{"$f":"G1397*F$7-F1397*F$6","v":10.605816930621742},{"$f":"H1397*F$9+J1397*F$8","v":-119.0567913726557},{"$f":"I1397","v":180.16222958144871},{"$f":"J1397*F$9-H1397*F$8","v":10.605816930621742},{"$f":"IF(P1397=1,K1397*B$1/(B$1+B$2+L1397),99999)","v":-12.521602384942829},{"$f":"M1397*B$1/(B$1+B$2+L1397)","v":1.1154493669921077},{"$f":"IF(MIN(L1397:L1403)+B$2+B$1>0,1,0)","v":1},null,null,null,null,{"$f":"(8*U1395+2*U1405)/10","v":58.471078616127024},279.70981637112817,90.959974737075655,6.1209212381575053,-5.2580591914465113,5.8682694955536077,-0.55380528119917471,-0.63660373196353248,-0.14275690178843092,5.0788693338782309,-5.8389584680114304,6.244970012695914,4.5103655890934595,null,null,null,null,null,null,null,null,null,null,null,-50.040680560785148,-23.276265987402702,7.0983718673812142]
[1190,{"$f":"OFFSET(Calculations!AS$43,$A1400,0)-U$3-B$10","v":-115.88660011875615},{"$f":"OFFSET(Calculations!AT$43,$A1400,0)-V$3-B$11","v":182.29457226041683},{"$f":"OFFSET(Calculations!AU$43,$A1400,0)-W$3-B$12","v":15.010700823886889},-115.88660011875615,182.29457226041683,15.010700823886889,-115.88660011875615,182.29457226041683,15.010700823886889,-115.88660011875615,182.29457226041683,15.010700823886889,{"$f":"IF(P1397=1,K1400*B$1/(B$1+B$2+L1400),99999)","v":-12.053028721145138},1.561219398700292,null,null,null,null,null,{"$f":"(5*U1395+5*U1405)/10","v":57.042538837766848},277.61607737690122,90.448493540226167,5.715559071397962,-5.5180812207610188,6.014913131658183,-0.59046025775445088,-0.60357438511908867,-0.12967213062809435,4.6458837685732863,-6.0322945504874923,6.4013446675784689,4.5285318290053507,null,null,null,null,null,null,null,null,null,null,null,-53.656555450410949,-29.224849348078919,5.9919993306131403E-2]
[1192,{"$f":"OFFSET(Calculations!AS$43,$A1401,0)-U$3-B$10","v":-121.17991519693079},{"$f":"OFFSET(Calculations!AT$43,$A1401,0)-V$3-B$11","v":174.75581382916496},{"$f":"OFFSET(Calculations!AU$43,$A1401,0)-W$3-B$12","v":11.118665778001443},-121.17991519693079,174.75581382916496,11.118665778001443,-121.17991519693079,174.75581382916496,11.118665778001443,-121.17991519693079,174.75581382916496,11.118665778001443,{"$f":"IF(P1397=1,K1401*B$1/(B$1+B$2+L1401),99999)","v":-13.11784594870505},1.2036065926761419,null,null,null,null,null,{"$f":"(4*U1395+6*U1405)/10","v":56.566358911646773},276.91816437882551,90.277999807943019,5.5804383491447807,-5.604755230532521,6.0637943436930417,-0.60770889553997165,-0.58587235480280242,-0.12352156709145845,4.4991123341098946,-6.0891353879358556,6.4543248293348876,4.5345664941226715,null,null,null,null,null,null,null,null,null,null,null,-40.391456038557294,-23.418950396637257,2.9396846806543753E-2]
[{"$f":"A1397+7","v":1198},{"$f":"OFFSET(Calculations!AS$43,$A1405,0)-U$3-B$10","v":-110.42077676101056},{"$f":"OFFSET(Calculations!AT$43,$A1405,0)-V$3-B$11","v":176.78709521432239},{"$f":"OFFSET(Calculations!AU$43,$A1405,0)-W$3-B$12","v":6.5635214660518884},{"$f":"B1405*F$5+C1405*F$4","v":-110.42077676101056},{"$f":"C1405*F$5-B1405*F$4","v":176.78709521432239},{"$f":"D1405","v":6.5635214660518884},-110.42077676101056,{"$f":"F1405*F$7+G1405*F$6","v":176.78709521432239},{"$f":"G1405*F$7-F1405*F$6","v":6.5635214660518884},{"$f":"H1405*F$9+J1405*F$8","v":-110.42077676101056},{"$f":"I1405","v":176.78709521432239},{"$f":"J1405*F$9-H1405*F$8","v":6.5635214660518884},{"$f":"IF(P1405=1,K1405*B$1/(B$1+B$2+L1405),99999)","v":-11.823169757451611},{"$f":"M1405*B$1/(B$1+B$2+L1405)","v":0.70278104154045573},{"$f":"IF(MIN(L1405:L1411)+B$2+B$1>0,1,0)","v":1},null,null,null,{"$f":"T1395+7","v":952},{"$f":"OFFSET(Calculations!AS$46,$T1405,0)","v":54.661639207166523},{"$f":"OFFSET(Calculations!AT$46,$T1405,0)","v":274.1265123865229},{"$f":"OFFSET(Calculations!AU$46,$T1405,0)","v":89.596024878810397},{"$f":"OFFSET(Calculations!AS$43,$T1405,0)-OFFSET(Calculations!AS$45,$T1405,0)","v":5.039955460132056},{"$f":"OFFSET(Calculations!AT$43,$T1405,0)-OFFSET(Calculations!AT$45,$T1405,0)","v":-5.9514512696185307},{"$f":"OFFSET(Calculations!AU$43,$T1405,0)-OFFSET(Calculations!AU$45,$T1405,0)","v":6.2593191918324749},-0.67670344668202631,-0.51506423353720265,-9.8919312944943272E-2,3.8978283576557056,-6.2651520027884615,6.6711941632873444,4.5586028204420037,null,null,null,null,null,null,null,null,null,null,null,-39.953839095532146,-21.467494295351539,4.7017741513637468E-2]
[1190,{"$f":"OFFSET(Calculations!AS$43,$A1407,0)-U$3-B$10","v":-115.88660011875615},{"$f":"OFFSET(Calculations!AT$43,$A1407,0)-V$3-B$11","v":182.29457226041683},{"$f":"OFFSET(Calculations!AU$43,$A1407,0)-W$3-B$12","v":15.010700823886889},-115.88660011875615,182.29457226041683,15.010700823886889,-115.88660011875615,182.29457226041683,15.010700823886889,-115.88660011875615,182.29457226041683,15.010700823886889,{"$f":"IF(P1405=1,K1407*B$1/(B$1+B$2+L1407),99999)","v":-12.053028721145138},1.561219398700292,null,null,null,null,null,{"$f":"(8*U1405+2*U1415)/10","v":53.398777934609974},272.97592345481996,89.365984736223012,4.7369751729052183,-6.0457640929085645,6.3686146751946122,-0.69179438348326272,-0.49498748943238979,-9.3552393495343722E-2,3.5896905151032525,-6.3248221191331595,6.7822376343167532,4.56667409070476,null,null,null,null,null,null,null,null,null,null,null,-43.017157696710065,-35.127687004354613,-7.6328521434903429E-2]
[1192,{"$f":"OFFSET(Calculations!AS$43,$A1410,0)-U$3-B$10","v":-121.17991519693079},{"$f":"OFFSET(Calculations!AT$43,$A1410,0)-V$3-B$11","v":174.75581382916496},{"$f":"OFFSET(Calculations!AU$43,$A1410,0)-W$3-B$12","v":11.118665778001443},-121.17991519693079,174.75581382916496,11.118665778001443,-121.17991519693079,174.75581382916496,11.118665778001443,-121.17991519693079,174.75581382916496,11.118665778001443,{"$f":"IF(P1405=1,K1410*B$1/(B$1+B$2+L1410),99999)","v":-13.11784594870505},1.2036065926761419,null,null,null,null,null,{"$f":"(5*U1405+5*U1415)/10","v":51.504486025775158},271.25004005726555,89.020924522341943,4.2825047420649618,-6.1872333278436145,6.5325579002378191,-0.72133700353248997,-0.45162988031199802,-8.602545844068743E-2,3.1245082385867176,-6.3943411165663591,6.9498112952842908,4.5787468648641383,null,null,null,null,null,null,null,null,null,null,null,-31.174149247974352,-35.453791773783458,-0.16189554950646379]
[" ",null,null,null,null,null,null,null,null,null,null,null,null,null,null,null,null,null,null,null,{"$f":"(3*U1405+7*U1415)/10","v":50.241624753218602},270.09945112556261,88.790884379754559,3.9795244548381241,-6.2815461511336483,6.6418533835999565,-0.75024037002845034,-0.40506815028089704,-8.1705427230573946E-2,2.8199631713858131,-6.4089927605286112,7.0687956287992417,4.5867728055205479,null,null,null,null,null,null,null,null,null,null,null,-32.503550495426587,-23.528426039624627,-2.645393908603122E-2]
[1197,{"$f":"OFFSET(Calculations!AS$43,$A1415,0)-U$3-B$10","v":-107.33865373968639},{"$f":"OFFSET(Calculations!AT$43,$A1415,0)-V$3-B$11","v":178.10937500551248},{"$f":"OFFSET(Calculations!AU$43,$A1415,0)-W$3-B$12","v":11.333856284456139},-107.33865373968639,178.10937500551248,11.333856284456139,-107.33865373968639,178.10937500551248,11.333856284456139,-107.33865373968639,178.10937500551248,11.333856284456139,{"$f":"IF(P1413=1,K1415*B$1/(B$1+B$2+L1415),99999)","v":-11.412366208387102},1.2050283282397813,null,null,null,null,{"$f":"T1405+7","v":959},{"$f":"OFFSET(Calculations!AS$46,$T1415,0)","v":48.347332844383786},{"$f":"OFFSET(Calculations!AT$46,$T1415,0)","v":268.3735677280082},{"$f":"OFFSET(Calculations!AU$46,$T1415,0)","v":88.445824165873489},{"$f":"OFFSET(Calculations!AS$43,$T1415,0)-OFFSET(Calculations!AS$45,$T1415,0)","v":3.5250540239978676},{"$f":"OFFSET(Calculations!AT$43,$T1415,0)-OFFSET(Calculations!AT$45,$T1415,0)","v":-6.4230153860686983},{"$f":"OFFSET(Calculations!AU$43,$T1415,0)-OFFSET(Calculations!AU$45,$T1415,0)","v":6.8057966086431634},-0.79359541977238024,-0.33522555523416031,-7.5225380415417931E-2,2.3790703719016584,-6.3650584587115198,7.2647712249641971,4.5987781554149754,null,null,null,null,null,null,null,null,null,null,null,-23.931382897777393,-24.858622396090304,-9.996987880697894E-2]
[1199,{"$f":"OFFSET(Calculations!AS$43,$A1418,0)-U$3-B$10","v":-113.12239280756252},{"$f":"OFFSET(Calculations!AT$43,$A1418,0)-V$3-B$11","v":171.62238250574126},{"$f":"OFFSET(Calculations!AU$43,$A1418,0)-W$3-B$12","v":6.387414057700294},-113.12239280756252,171.62238250574126,6.387414057700294,-113.12239280756252,171.62238250574126,6.387414057700294,-113.12239280756252,171.62238250574126,6.387414057700294,{"$f":"IF(P1413=1,K1418*B$1/(B$1+B$2+L1418),99999)","v":-12.456877973615022},0.70337300607741804,null,null,null,null,null,{"$f":"(7*U1415+3*U1425)/10","v":46.090858452319019},267.12952618896827,88.229570018782525,3.051540311955339,-6.4365730876671252,6.9761939419962955,-0.81431406431443776,-0.29549807634435865,-7.6795712774625713E-2,1.9584775390732874,-6.2500245064154036,7.4813423544308124,4.6062817067812034,null,null,null,null,null,null,null,null,null,null,null,-21.741330839252797,-29.450446709233006,6.8368032512718244]
[" ",null,null,null,null,null,null,null,null,null,null,null,null,null,null,null,null,null,null,null,{"$f":"(5*U1415+5*U1425)/10","v":44.586542190942517},266.30016516294165,88.085400587388534,2.7358645039269867,-6.4456115553994096,7.0897921642317172,-0.83313141233458765,-0.25866147753504265,-7.8910215630031644E-2,1.6906825265244108,-6.1427181444335766,7.6367168683879578,4.6112754127196185,null,null,null,null,null,null,null,null,null,null,null,-21.685866013288276,-29.53511590653531,14.836162899400447]
[{"$f":"A1413+7","v":1212},{"$f":"OFFSET(Calculations!AS$43,$A1421,0)-U$3-B$10","v":-93.638435880151519},{"$f":"OFFSET(Calculations!AT$43,$A1421,0)-V$3-B$11","v":167.22859981926575},{"$f":"OFFSET(Calculations!AU$43,$A1421,0)-W$3-B$12","v":-1.1250760227409664},{"$f":"B1421*F$5+C1421*F$4","v":-93.638435880151519},{"$f":"C1421*F$5-B1421*F$4","v":167.22859981926575},{"$f":"D1421","v":-1.1250760227409664},-93.638435880151519,{"$f":"F1421*F$7+G1421*F$6","v":167.22859981926575},{"$f":"G1421*F$7-F1421*F$6","v":-1.1250760227409664},{"$f":"H1421*F$9+J1421*F$8","v":-93.638435880151519},{"$f":"I1421","v":167.22859981926575},{"$f":"J1421*F$9-H1421*F$8","v":-1.1250760227409664},{"$f":"IF(P1421=1,K1421*B$1/(B$1+B$2+L1421),99999)","v":-10.566966728354471},{"$f":"M1421*B$1/(B$1+B$2+L1421)","v":-0.12696325806199416},{"$f":"IF(MIN(L1421:L1427)+B$2+B$1>0,1,0)","v":1},null,null,null,null,{"$f":"(4*U1415+6*U1425)/10","v":43.834384060254258},265.88548464992829,88.01331587169156,2.5780265999128105,-6.4501307892655522,7.1465912753494276,-0.84504254550739688,-0.23506737168889913,-8.0501274365701647E-2,1.5636695947013775,-6.0752761842182261,7.7177653482674691,4.6137696779730568,null,null,null,null,null,null,null,null,null,null,null,-18.791734091842752,-35.701195433298508,-0.25036962768836357]
[1213,{"$f":"OFFSET(Calculations!AS$43,$A1425,0)-U$3-B$10","v":-97.678512909234456},{"$f":"OFFSET(Calculations!AT$43,$A1425,0)-V$3-B$11","v":163.0368932379842},{"$f":"OFFSET(Calculations!AU$43,$A1425,0)-W$3-B$12","v":-1.5037705375063801},-97.678512909234456,163.0368932379842,-1.5037705375063801,-97.678512909234456,163.0368932379842,-1.5037705375063801,-97.678512909234456,163.0368932379842,-1.5037705375063801,{"$f":"IF(P1421=1,K1425*B$1/(B$1+B$2+L1425),99999)","v":-11.289905994196682},-0.17380923910118837,null,null,null,null,{"$f":"T1415+7","v":966},{"$f":"OFFSET(Calculations!AS$46,$T1425,0)","v":40.82575153750124},{"$f":"OFFSET(Calculations!AT$46,$T1425,0)","v":264.22676259787499},{"$f":"OFFSET(Calculations!AU$46,$T1425,0)","v":87.724977008903608},{"$f":"OFFSET(Calculations!AS$43,$T1425,0)-OFFSET(Calculations!AS$45,$T1425,0)","v":1.9466749838561057},{"$f":"OFFSET(Calculations!AT$43,$T1425,0)-OFFSET(Calculations!AT$45,$T1425,0)","v":-6.4682077247301208},{"$f":"OFFSET(Calculations!AU$43,$T1425,0)-OFFSET(Calculations!AU$45,$T1425,0)","v":7.373787719820271},-0.89268707819861959,-0.14069094830438189,-8.6865509308339028E-2,1.1118634025865912,-5.6982376115635285,8.0645777358155115,4.6237295706405135,null,null,null,null,null,null,null,null,null,null,null,-12.705250061987684,-25.166879921769372,6.8194895546363989]
[1205,{"$f":"OFFSET(Calculations!AS$43,$A1427,0)-U$3-B$10","v":-101.83787740201149},{"$f":"OFFSET(Calculations!AT$43,$A1427,0)-V$3-B$11","v":172.67070909519069},{"$f":"OFFSET(Calculations!AU$43,$A1427,0)-W$3-B$12","v":2.4513143919837663},-101.83787740201149,172.67070909519069,2.4513143919837663,-101.83787740201149,172.67070909519069,2.4513143919837663,-101.83787740201149,172.67070909519069,2.4513143919837663,{"$f":"IF(P1421=1,K1427*B$1/(B$1+B$2+L1427),99999)","v":-11.149885814363728},0.26838614730579202,null,null,null,null,null,{"$f":"(8*U1425+2*U1435)/10","v":39.100436401009439},263.82116134667115,87.564057365678011,1.7116405155826597,-6.2812970055754818,7.5577460123238582,-0.9026969148495283,-0.11998772253843981,-8.900073854019297E-2,0.91718758576826553,-5.451479298250419,8.24935625821165,4.6292762242547596,null,null,null,null,null,null,null,null,null,null,null,-12.649785236023536,-25.251549119072223,14.818849202764742]
[1212,{"$f":"OFFSET(Calculations!AS$43,$A1430,0)-U$3-B$10","v":-93.638435880151519},{"$f":"OFFSET(Calculations!AT$43,$A1430,0)-V$3-B$11","v":167.22859981926575},{"$f":"OFFSET(Calculations!AU$43,$A1430,0)-W$3-B$12","v":-1.1250760227409664},-93.638435880151519,167.22859981926575,-1.1250760227409664,-93.638435880151519,167.22859981926575,-1.1250760227409664,-93.638435880151519,167.22859981926575,-1.1250760227409664,null,null,null,{"$f":"IF(P1429=1,K1430*B$1/(B$1+B$2+L1430),99999)","v":-10.566966728354471},-0.12696325806199416,null,null,{"$f":"(5*U1425+5*U1435)/10","v":36.51246369627173},263.21275946986543,87.322677900839622,1.359088813172491,-6.0009309268435231,7.8336834510792386,-0.92139285691550654,-8.385304053621212E-2,-9.659800994370471E-2,0.64845769791873042,-5.0468143701124086,8.5269972513592514,4.6375803466247287,null,null,null,null,null,null,null,null,null,null,null,-5.6255163282500078,-18.068736144314212,-3.1979392048672444]
[1211,{"$f":"OFFSET(Calculations!AS$43,$A1431,0)-U$3-B$10","v":-90.971571729348639},{"$f":"OFFSET(Calculations!AT$43,$A1431,0)-V$3-B$11","v":168.00314455625966},{"$f":"OFFSET(Calculations!AU$43,$A1431,0)-W$3-B$12","v":4.0056112656795442},-90.971571729348639,168.00314455625966,4.0056112656795442,-90.971571729348639,168.00314455625966,4.0056112656795442,-90.971571729348639,168.00314455625966,4.0056112656795442,null,null,null,{"$f":"IF(P1429=1,K1431*B$1/(B$1+B$2+L1431),99999)","v":-10.221344342666505},0.45006073074327413,null,null,{"$f":"(4*U1425+6*U1435)/10","v":35.64980612802583},263.00995884426351,87.242218079226831,1.241571579035768,-5.9074755672662036,7.9256625973310317,-0.93007896233057608,-6.8421584299869664E-2,-0.10206005211539093,0.5693056660821364,-4.8974201032448823,8.6181427745801695,4.640344177897699,null,null,null,null,null,null,null,null,null,null,null,-1.1352967411794594,-20.342351867545272,-0.21022769814359688]
[1212,{"$f":"OFFSET(Calculations!AS$43,$A1435,0)-U$3-B$10","v":-93.638435880151519},{"$f":"OFFSET(Calculations!AT$43,$A1435,0)-V$3-B$11","v":167.22859981926575},{"$f":"OFFSET(Calculations!AU$43,$A1435,0)-W$3-B$12","v":-1.1250760227409664},-93.638435880151519,167.22859981926575,-1.1250760227409664,-93.638435880151519,167.22859981926575,-1.1250760227409664,-93.638435880151519,167.22859981926575,-1.1250760227409664,null,null,null,{"$f":"IF(P1429=1,K1435*B$1/(B$1+B$2+L1435),99999)","v":-10.566966728354471},-0.12696325806199416,null,{"$f":"T1425+7","v":973},{"$f":"OFFSET(Calculations!AS$46,$T1435,0)","v":32.199175855042228},{"$f":"OFFSET(Calculations!AT$46,$T1435,0)","v":262.19875634185587},{"$f":"OFFSET(Calculations!AU$46,$T1435,0)","v":86.920378792775637},{"$f":"OFFSET(Calculations!AS$43,$T1435,0)-OFFSET(Calculations!AS$45,$T1435,0)","v":0.77150264248887623},{"$f":"OFFSET(Calculations!AT$43,$T1435,0)-OFFSET(Calculations!AT$45,$T1435,0)","v":-5.5336541289569254},{"$f":"OFFSET(Calculations!AU$43,$T1435,0)-OFFSET(Calculations!AU$45,$T1435,0)","v":8.2935791823382061},-0.96482338399087553,-6.6957593543293115E-3,-0.12390822080209318,0.32589839669766357,-4.2008200717840252,8.9680791764431707,4.651378582832308,null,null,null,null,null,null,null,null,null,null,null,0.65235304479202938,-21.23891714962139,-0.23211234325564067]
[" ",null,null,null,null,null,null,null,null,null,null,null,null,null,null,null,null,null,null,null,{"$f":"(9*U1435+U1445)/10","v":31.256439593589072},262.1615815223808,86.822837137308056,0.70365759475845491,-5.3665401919537974,8.3865678423039078,-0.96850457108049426,-1.6159160007873652E-3,-0.12830264835783112,0.28334679384202127,-4.001914322921122,9.051901854153753,4.6547162638204043,null,null,null,null,null,null,null,null,null,null,null,-6.0762985898227022,-8.4983603565738122,-5.0605788656037598E-2]
[1225,{"$f":"OFFSET(Calculations!AS$43,$A1440,0)-U$3-B$10","v":-77.627489214470913},{"$f":"OFFSET(Calculations!AT$43,$A1440,0)-V$3-B$11","v":152.6841238163627},{"$f":"OFFSET(Calculations!AU$43,$A1440,0)-W$3-B$12","v":-0.29761344596600203},-77.627489214470913,152.6841238163627,-0.29761344596600203,-77.627489214470913,152.6841238163627,-0.29761344596600203,-77.627489214470913,152.6841238163627,-0.29761344596600203,null,null,null,{"$f":"IF(P1437=1,K1440*B$1/(B$1+B$2+L1440),99999)","v":-9.5433392507429389},-3.6587890567852471E-2,null,null,{"$f":"(5*U1435+5*U1445)/10","v":27.485494547776465},262.01288224448047,86.432670515437749,0.43227740383676938,-4.6980844439412834,8.7585224821667182,-0.98322126217088268,1.5749023956459496E-2,-0.14628103531114789,0.15529612387741704,-3.1533049743698838,9.3719159279042081,4.6680366171156127,null,null,null,null,null,null,null,null,null,null,null,-8.0584998169799178,-8.2326458819906598,-3.4049428747983557E-2]
[1227,{"$f":"OFFSET(Calculations!AS$43,$A1441,0)-U$3-B$10","v":-85.087573473077427},{"$f":"OFFSET(Calculations!AT$43,$A1441,0)-V$3-B$11","v":149.50978631206669},{"$f":"OFFSET(Calculations!AU$43,$A1441,0)-W$3-B$12","v":-6.151733726871365},-85.087573473077427,149.50978631206669,-6.151733726871365,-85.087573473077427,149.50978631206669,-6.151733726871365,-85.087573473077427,149.50978631206669,-6.151733726871365,null,null,null,{"$f":"IF(P1437=1,K1441*B$1/(B$1+B$2+L1441),99999)","v":-10.668633623094594},-0.77132994396168841,null,null,{"$f":"(4*U1435+6*U1445)/10","v":26.542758286323313},261.97570742500528,86.335128859970183,0.364432356106348,-4.5309705069381554,8.85151114213242,-0.9868943919924078,1.7874433853421579E-2,-0.15107613959722244,0.13378444438650411,-2.9273337758762938,9.4438798061660414,4.6713591540964554,null,null,null,null,null,null,null,null,null,null,null,-1.0167989732463938,-9.3214012879723498,14.906802651816099]
[1219,{"$f":"OFFSET(Calculations!AS$43,$A1443,0)-U$3-B$10","v":-86.153005151850849},{"$f":"OFFSET(Calculations!AT$43,$A1443,0)-V$3-B$11","v":160.35298186428435},{"$f":"OFFSET(Calculations!AU$43,$A1443,0)-W$3-B$12","v":-3.8519794210959315},-86.153005151850849,160.35298186428435,-3.8519794210959315,-86.153005151850849,160.35298186428435,-3.8519794210959315,-86.153005151850849,160.35298186428435,-3.8519794210959315,null,null,null,{"$f":"IF(P1437=1,K1443*B$1/(B$1+B$2+L1443),99999)","v":-10.114645979074982},-0.45223504501549622,null,null,{"$f":"(2*U1435+8*U1445)/10","v":24.657285763417004},261.90135778605514,86.140045549035023,0.22874226064550526,-4.1967426329318984,9.0374884620638252,-0.9942406516354545,2.2125253647288901E-2,-0.16066634816935732,0.10329396574930841,-2.4577786537166038,9.5705631288537205,4.6779952237736291,null,null,null,null,null,null,null,null,null,null,null,-4.7912341478412106,0.71630414729476222,3.8016601448899623E-2]
[1226,{"$f":"OFFSET(Calculations!AS$43,$A1446,0)-U$3-B$10","v":-79.901154923904201},{"$f":"OFFSET(Calculations!AT$43,$A1446,0)-V$3-B$11","v":152.145871227594},{"$f":"OFFSET(Calculations!AU$43,$A1446,0)-W$3-B$12","v":-5.6493427151095865},-79.901154923904201,152.145871227594,-5.6493427151095865,-79.901154923904201,152.145871227594,-5.6493427151095865,-79.901154923904201,152.145871227594,-5.6493427151095865,null,null,null,{"$f":"IF(P1445=1,K1446*B$1/(B$1+B$2+L1446),99999)","v":-9.8554658615700372},-0.69682227149403742,null,null,{"$f":"(9*U1445+U1455)/10","v":21.770177985623615},261.8711108212853,85.777109741740261,9.2656303786985278E-2,-3.6106226569631135,9.2920118226139419,-1.0015788540104111,2.3421639984519516E-2,-0.1706572334718004,8.8890448655090118E-2,-1.709414157545794,9.7174770282952583,4.6903093119581882,null,null,null,null,null,null,null,null,null,null,null,0.25707836304217979,0.67405466346384202,7.0031264910036413]
[1234,{"$f":"OFFSET(Calculations!AS$43,$A1449,0)-U$3-B$10","v":-80.56737806050063},{"$f":"OFFSET(Calculations!AT$43,$A1449,0)-V$3-B$11","v":141.1573629709896},{"$f":"OFFSET(Calculations!AU$43,$A1449,0)-W$3-B$12","v":-7.3416399336439682},-80.56737806050063,141.1573629709896,-7.3416399336439682,-80.56737806050063,141.1573629709896,-7.3416399336439682,-80.56737806050063,141.1573629709896,-7.3416399336439682,null,null,null,{"$f":"IF(P1445=1,K1449*B$1/(B$1+B$2+L1449),99999)","v":-10.660066632144577},-0.97139031660045427,null,null,{"$f":"(6*U1445+4*U1455)/10","v":18.765272220962363},262.00341884382641,85.273552252661489,9.1468719593953557E-2,-2.8549463510755286,9.4976499444700782,-1.001554682206125,1.4558339614950455E-2,-0.17185926366275339,8.6792127719983125E-2,-0.94000329771722879,9.821823608483939,4.7073268253817346,null,null,null,null,null,null,null,null,null,null,null,7.2082397437534818,0.79271070043614245,-4.4374924689523754E-2]
[1226,{"$f":"OFFSET(Calculations!AS$43,$A1451,0)-U$3-B$10","v":-79.901154923904201},{"$f":"OFFSET(Calculations!AT$43,$A1451,0)-V$3-B$11","v":152.145871227594},{"$f":"OFFSET(Calculations!AU$43,$A1451,0)-W$3-B$12","v":-5.6493427151095865},-79.901154923904201,152.145871227594,-5.6493427151095865,-79.901154923904201,152.145871227594,-5.6493427151095865,-79.901154923904201,152.145871227594,-5.6493427151095865,null,null,null,{"$f":"IF(P1445=1,K1451*B$1/(B$1+B$2+L1451),99999)","v":-9.8554658615700372},-0.69682227149403742,null,null,{"$f":"(4*U1445+6*U1455)/10","v":16.762001711188198},262.09162419218717,84.937847259942288,9.0676996798599058E-2,-2.3511621471504727,9.6347420257075012,-1.0015092521224354,2.7345843051307384E-3,-0.17190538795503585,8.5169835042473857E-2,-0.42474096238251013,9.8660607724464775,4.7186285695636254,null,null,null,null,null,null,null,null,null,null,null,0.12443258117077827,10.779699872887607,-2.9437954448422379]
[1232,{"$f":"OFFSET(Calculations!AS$43,$A1455,0)-U$3-B$10","v":-72.973850680713653},{"$f":"OFFSET(Calculations!AT$43,$A1455,0)-V$3-B$11","v":143.39188059248781},{"$f":"OFFSET(Calculations!AU$43,$A1455,0)-W$3-B$12","v":-1.2305620474080214},-72.973850680713653,143.39188059248781,-1.2305620474080214,-72.973850680713653,143.39188059248781,-1.2305620474080214,-72.973850680713653,143.39188059248781,-1.2305620474080214,null,null,null,{"$f":"IF(P1453=1,K1455*B$1/(B$1+B$2+L1455),99999)","v":-9.5146953539974355},-0.16044682973503968,null,{"$f":"T1445+7","v":987},{"$f":"OFFSET(Calculations!AS$46,$T1455,0)","v":12.755460691639858},{"$f":"OFFSET(Calculations!AT$46,$T1455,0)","v":262.26803488890869},{"$f":"OFFSET(Calculations!AU$46,$T1455,0)","v":84.266437274503915},{"$f":"OFFSET(Calculations!AS$43,$T1455,0)-OFFSET(Calculations!AS$45,$T1455,0)","v":8.9093551207890087E-2},{"$f":"OFFSET(Calculations!AT$43,$T1455,0)-OFFSET(Calculations!AT$45,$T1455,0)","v":-1.3435937393003599},{"$f":"OFFSET(Calculations!AU$43,$T1455,0)-OFFSET(Calculations!AU$45,$T1455,0)","v":9.9089261881823489},-1.0014183919550543,-2.0912926314451852E-2,-0.1719976365395155,8.106577852235039E-2,0.60617574579306766,9.8531915097474538,4.7411296335110347,null,null,null,null,null,null,null,null,null,null,null,0.2496028271655546,10.588622661875757,15.108759441072261]
[1239,{"$f":"OFFSET(Calculations!AS$43,$A1456,0)-U$3-B$10","v":-69.793388324811843},{"$f":"OFFSET(Calculations!AT$43,$A1456,0)-V$3-B$11","v":133.45909240847487},{"$f":"OFFSET(Calculations!AU$43,$A1456,0)-W$3-B$12","v":-1.5893273585792311},-69.793388324811843,133.45909240847487,-1.5893273585792311,-69.793388324811843,133.45909240847487,-1.5893273585792311,-69.793388324811843,133.45909240847487,-1.5893273585792311,null,null,null,{"$f":"IF(P1453=1,K1456*B$1/(B$1+B$2+L1456),99999)","v":-9.7300752643948538},-0.22157220318303664,null,null,{"$f":"(9*U1455+U1465)/10","v":11.753954353042312},262.26486662778439,84.092173950459241,8.8090531982162684E-2,-1.0825452680438445,9.9099445343560912,-1.0014037341813067,-2.3870370512952377E-2,-0.17162002195532011,7.9860707899589337E-2,0.86398659731740801,9.8288609460260119,4.7469476598620339,null,null,null,null,null,null,null,null,null,null,null,7.0710471260670769,11.765651532645537,7.2719380126457289E-2]
[1234,{"$f":"OFFSET(Calculations!AS$43,$A1458,0)-U$3-B$10","v":-80.56737806050063},{"$f":"OFFSET(Calculations!AT$43,$A1458,0)-V$3-B$11","v":141.1573629709896},{"$f":"OFFSET(Calculations!AU$43,$A1458,0)-W$3-B$12","v":-7.3416399336439682},-80.56737806050063,141.1573629709896,-7.3416399336439682,-80.56737806050063,141.1573629709896,-7.3416399336439682,-80.56737806050063,141.1573629709896,-7.3416399336439682,null,null,null,{"$f":"IF(P1453=1,K1458*B$1/(B$1+B$2+L1458),99999)","v":-10.660066632144577},-0.97139031660045427,null,null,{"$f":"(7*U1455+3*U1465)/10","v":9.7509416758472209},262.25853010553567,83.743647302369908,8.6084493530707865E-2,-0.56044832553081392,9.9119812267035776,-1.0013744186338094,-2.9785258909612367E-2,-0.17086479278692934,7.7349540955550369E-2,1.3779894905000014,9.7675253636355297,4.7585566947656792]
[{"$f":"A1453+7","v":1247},{"$f":"OFFSET(Calculations!AS$43,$A1461,0)-U$3-B$10","v":-69.688405716622256},{"$f":"OFFSET(Calculations!AT$43,$A1461,0)-V$3-B$11","v":123.27398548826407},{"$f":"OFFSET(Calculations!AU$43,$A1461,0)-W$3-B$12","v":-7.3020144164471805},{"$f":"B1461*F$5+C1461*F$4","v":-69.688405716622256},{"$f":"C1461*F$5-B1461*F$4","v":123.27398548826407},{"$f":"D1461","v":-7.3020144164471805},-69.688405716622256,{"$f":"F1461*F$7+G1461*F$6","v":123.27398548826407},{"$f":"G1461*F$7-F1461*F$6","v":-7.3020144164471805},{"$f":"H1461*F$9+J1461*F$8","v":-69.688405716622256},{"$f":"I1461","v":123.27398548826407},{"$f":"J1461*F$9-H1461*F$8","v":-7.3020144164471805},null,null,{"$f":"IF(MIN(L1461:L1467)+B$2+B$1>0,1,0)","v":1},{"$f":"IF(P1461=1,K1461*B$1/(B$1+B$2+L1461),99999)","v":-10.457915768229039},{"$f":"M1461*B$1/(B$1+B$2+L1461)","v":-1.095789908239847},null,null,{"$f":"(4*U1455+6*U1465)/10","v":6.746422660054586},262.24902532216271,83.220857330235916,8.3075435853525642E-2,0.22269708823873202,9.9150362652248045,-1.0012899265598723,-4.4175411515595897E-2,-0.16747160485670065,7.3303118103244136E-2,2.1433320990227882,9.6398946113382955,4.7759033251397476]
[1246,{"$f":"OFFSET(Calculations!AS$43,$A1464,0)-U$3-B$10","v":-67.969040489756054},{"$f":"OFFSET(Calculations!AT$43,$A1464,0)-V$3-B$11","v":123.29824914142178},{"$f":"OFFSET(Calculations!AU$43,$A1464,0)-W$3-B$12","v":-1.7072834187831738},-67.969040489756054,123.29824914142178,-1.7072834187831738,-67.969040489756054,123.29824914142178,-1.7072834187831738,-67.969040489756054,123.29824914142178,-1.7072834187831738,null,null,null,{"$f":"IF(P1461=1,K1464*B$1/(B$1+B$2+L1464),99999)","v":-10.198039498275001},-0.25615991654501696,null,null,{"$f":"(1*U1455+9*U1465)/10","v":3.7419036442619484},262.23952053878975,82.698067358101895,8.0066378176343406E-2,1.005842502008278,9.9180913037460332,-1.0011851751095886,-6.1324474127161466E-2,-0.16294824483765069,6.8736752635741388E-2,2.8909006252602394,9.4427105634580109,4.7931706280939839]
[1241,{"$f":"OFFSET(Calculations!AS$43,$A1466,0)-U$3-B$10","v":-77.378126309939418},{"$f":"OFFSET(Calculations!AT$43,$A1466,0)-V$3-B$11","v":132.15757937226465},{"$f":"OFFSET(Calculations!AU$43,$A1466,0)-W$3-B$12","v":-7.97507817688839},-77.378126309939418,132.15757937226465,-7.97507817688839,-77.378126309939418,132.15757937226465,-7.97507817688839,-77.378126309939418,132.15757937226465,-7.97507817688839,null,null,null,{"$f":"IF(P1461=1,K1466*B$1/(B$1+B$2+L1466),99999)","v":-10.886247029757193},-1.1220053425367131,null,null,{"$f":"(9*U1465+U1475)/10","v":1.7391254914468335},262.18586490936724,82.355582543359645,7.7521535999465513E-2,1.5193057919021755,9.852530903039689,-1.0011299985831483,-6.9799738336428163E-2,-0.16031028607581277,6.53885918767661E-2,3.3785080933789731,9.2704242332458371,4.8044401187980963]
[{"$f":"A1461+7","v":1254},{"$f":"OFFSET(Calculations!AS$43,$A1469,0)-U$3-B$10","v":-68.804340376799317},{"$f":"OFFSET(Calculations!AT$43,$A1469,0)-V$3-B$11","v":113.21335241938691},{"$f":"OFFSET(Calculations!AU$43,$A1469,0)-W$3-B$12","v":-7.7666418327420175},{"$f":"B1469*F$5+C1469*F$4","v":-68.804340376799317},{"$f":"C1469*F$5-B1469*F$4","v":113.21335241938691},{"$f":"D1469","v":-7.7666418327420175},-68.804340376799317,{"$f":"F1469*F$7+G1469*F$6","v":113.21335241938691},{"$f":"G1469*F$7-F1469*F$6","v":-7.7666418327420175},{"$f":"H1469*F$9+J1469*F$8","v":-68.804340376799317},{"$f":"I1469","v":113.21335241938691},{"$f":"J1469*F$9-H1469*F$8","v":-7.7666418327420175},null,null,{"$f":"IF(MIN(L1469:L1475)+B$2+B$1>0,1,0)","v":1},{"$f":"IF(P1469=1,K1469*B$1/(B$1+B$2+L1469),99999)","v":-11.16832535204575},{"$f":"M1469*B$1/(B$1+B$2+L1469)","v":-1.2606818466080436},null,null,{"$f":"(6*U1465+4*U1475)/10","v":-1.2646899512058769},262.03440280447273,81.850918071266904,7.2896067146014071E-2,2.2765502478143218,9.6527946623994261,-1.0010692204541112,-7.8076468352776374E-2,-0.15691976980933475,6.0112526464376599E-2,4.0969995912298982,8.976098200384774,4.8209855712294516]
[1246,{"$f":"OFFSET(Calculations!AS$43,$A1471,0)-U$3-B$10","v":-67.969040489756054},{"$f":"OFFSET(Calculations!AT$43,$A1471,0)-V$3-B$11","v":123.29824914142178},{"$f":"OFFSET(Calculations!AU$43,$A1471,0)-W$3-B$12","v":-1.7072834187831738},-67.969040489756054,123.29824914142178,-1.7072834187831738,-67.969040489756054,123.29824914142178,-1.7072834187831738,-67.969040489756054,123.29824914142178,-1.7072834187831738,null,null,null,{"$f":"IF(P1469=1,K1471*B$1/(B$1+B$2+L1471),99999)","v":-10.198039498275001},-0.25615991654501696,null,null,{"$f":"(4*U1465+6*U1475)/10","v":-3.2672335796410175},261.93342806787643,81.514475089871738,6.9812421243713091E-2,2.7813798850890863,9.5196371686392531,-1.0009797410295729,-8.8339009673688906E-2,-0.15104800516508021,5.6440914804283038E-2,4.5653406199034325,8.7567855631464848,4.8319761848023601]
[1248,{"$f":"OFFSET(Calculations!AS$43,$A1474,0)-U$3-B$10","v":-75.416235641425871},{"$f":"OFFSET(Calculations!AT$43,$A1474,0)-V$3-B$11","v":122.68634290023768},{"$f":"OFFSET(Calculations!AU$43,$A1474,0)-W$3-B$12","v":-8.3529478043013548},-75.416235641425871,122.68634290023768,-8.3529478043013548,-75.416235641425871,122.68634290023768,-8.3529478043013548,-75.416235641425871,122.68634290023768,-8.3529478043013548,null,null,null,{"$f":"IF(P1469=1,K1474*B$1/(B$1+B$2+L1474),99999)","v":-11.3675957891354},-1.259051628332488,null,null,{"$f":"(1*U1465+9*U1475)/10","v":-6.2710490222937283},261.78196596298199,81.009810617778982,6.5186952390261649E-2,3.5386243410012326,9.3199009279989902,-1.0008455218927672,-0.10373282165511455,-0.14224035819870551,5.0589982624061065E-2,5.2363935862871376,8.3728392325831571,4.8484032531578132]
[{"$f":"A1469+7","v":1261},{"$f":"OFFSET(Calculations!AS$43,$A1477,0)-U$3-B$10","v":-68.525382762121794},{"$f":"OFFSET(Calculations!AT$43,$A1477,0)-V$3-B$11","v":103.21105571613869},{"$f":"OFFSET(Calculations!AU$43,$A1477,0)-W$3-B$12","v":-8.1678559534193376},{"$f":"B1477*F$5+C1477*F$4","v":-68.525382762121794},{"$f":"C1477*F$5-B1477*F$4","v":103.21105571613869},{"$f":"D1477","v":-8.1678559534193376},-68.525382762121794,{"$f":"F1477*F$7+G1477*F$6","v":103.21105571613869},{"$f":"G1477*F$7-F1477*F$6","v":-8.1678559534193376},{"$f":"H1477*F$9+J1477*F$8","v":-68.525382762121794},{"$f":"I1477","v":103.21105571613869},{"$f":"J1477*F$9-H1477*F$8","v":-8.1678559534193376},null,null,{"$f":"IF(MIN(L1477:L1483)+B$2+B$1>0,1,0)","v":1},{"$f":"IF(P1477=1,K1477*B$1/(B$1+B$2+L1477),99999)","v":-12.105775770511295},{"$f":"M1477*B$1/(B$1+B$2+L1477)","v":-1.4429431651797548},null,null,{"$f":"(8*U1475+2*U1485)/10","v":-9.2742161649033648},261.54221873791278,80.541311652528663,5.9694021458226131E-2,4.2441981861650842,8.9940449643976645,-1.0007518215086542,-0.11360881362566033,-0.13569305540995913,4.4353941005696874E-2,5.8713109673048098,7.9268612937152962,4.8635906020472994]
[1253,{"$f":"OFFSET(Calculations!AS$43,$A1479,0)-U$3-B$10","v":-66.617065260084715},{"$f":"OFFSET(Calculations!AT$43,$A1479,0)-V$3-B$11","v":113.31220911870174},{"$f":"OFFSET(Calculations!AU$43,$A1479,0)-W$3-B$12","v":-2.3322172158388197},-66.617065260084715,113.31220911870174,-2.3322172158388197,-66.617065260084715,113.31220911870174,-2.3322172158388197,-66.617065260084715,113.31220911870174,-2.3322172158388197,null,null,null,{"$f":"IF(P1477=1,K1479*B$1/(B$1+B$2+L1479),99999)","v":-10.80461792651178},-0.3782621741199691,null,null,{"$f":"(6*U1475+4*U1485)/10","v":-11.276111493295433},261.3529588811416,80.241034177975905,5.5742913477341102E-2,4.6973572126915544,8.7347677476764254,-1.0007028608368103,-0.11835353493569301,-0.13208163494336134,4.0085038956541245E-2,6.2806138987710263,7.6099697971504394,4.87329339307861]
[1260,{"$f":"OFFSET(Calculations!AS$43,$A1480,0)-U$3-B$10","v":-65.436050930457768},{"$f":"OFFSET(Calculations!AT$43,$A1480,0)-V$3-B$11","v":103.38053884440433},{"$f":"OFFSET(Calculations!AU$43,$A1480,0)-W$3-B$12","v":-3.1847094828095699},-65.436050930457768,103.38053884440433,-3.1847094828095699,-65.436050930457768,103.38053884440433,-3.1847094828095699,-65.436050930457768,103.38053884440433,-3.1847094828095699,null,null,null,{"$f":"IF(P1477=1,K1480*B$1/(B$1+B$2+L1480),99999)","v":-11.542730630387586},-0.56177356630489239,null,null,{"$f":"(5*U1475+5*U1485)/10","v":-12.277059157491466},261.25832895275607,80.090895440699541,5.3767359486898592E-2,4.923936725954789,8.6051291393158067,-1.0006513474998187,-0.12255003443715395,-0.1279177325005918,3.7922547278880725E-2,6.4813957090576411,7.4464404359406329,4.8781356852469067]
[" ",null,null,null,null,null,null,null,null,null,null,null,null,null,null,null,null,null,null,null,{"$f":"(1*U1475+9*U1485)/10","v":-16.280849814275605},260.87980923921384,79.490340491594026,4.5865143525128535E-2,5.8302547790077286,8.0865747058733284,-1.0004452941518807,-0.1393360324429409,-0.11126212272955627,2.8995588900526663E-2,7.2250349779581153,6.7323727447787647,4.8974446924185955]
[1261,{"$f":"OFFSET(Calculations!AS$43,$A1486,0)-U$3-B$10","v":-68.525382762121794},{"$f":"OFFSET(Calculations!AT$43,$A1486,0)-V$3-B$11","v":103.21105571613869},{"$f":"OFFSET(Calculations!AU$43,$A1486,0)-W$3-B$12","v":-8.1678559534193376},-68.525382762121794,103.21105571613869,-8.1678559534193376,-68.525382762121794,103.21105571613869,-8.1678559534193376,-68.525382762121794,103.21105571613869,-8.1678559534193376,null,null,null,{"$f":"IF(P1485=1,K1486*B$1/(B$1+B$2+L1486),99999)","v":-12.105775770511295},-1.4429431651797548,null,null,{"$f":"(9*U1485+U1495)/10","v":-18.28235345729291},260.65259161196252,79.218954380774093,4.1614935244694708E-2,6.2421374807716061,7.7730722845933915,-1.0003667478138247,-0.1453566707907612,-0.1047400280773445,2.4365914710722421E-2,7.5611618290607607,6.3393687514042449,4.9061389706674365]
[1269,{"$f":"OFFSET(Calculations!AS$43,$A1489,0)-U$3-B$10","v":-73.948404656804115},{"$f":"OFFSET(Calculations!AT$43,$A1489,0)-V$3-B$11","v":92.776223523313107},{"$f":"OFFSET(Calculations!AU$43,$A1489,0)-W$3-B$12","v":-6.9700388289871036},-73.948404656804115,92.776223523313107,-6.9700388289871036,-73.948404656804115,92.776223523313107,-6.9700388289871036,-73.948404656804115,92.776223523313107,-6.9700388289871036,null,null,null,{"$f":"IF(P1485=1,K1489*B$1/(B$1+B$2+L1489),99999)","v":-14.390177440218967},-1.3563523916416453,null,null,{"$f":"(6*U1485+4*U1495)/10","v":-21.284021393756735},260.25482851536515,78.855212260143432,3.4790972374720751E-2,6.7980470462735356,7.2214808458354351,-1.0002856488106424,-0.15082908733006661,-9.7665451448975205E-2,1.7325822287562874E-2,8.0362147483162119,5.7252345283099944,4.9177617574738424]
[" ",null,null,null,null,null,null,null,null,null,null,null,null,null,null,null,null,null,null,null,{"$f":"(3*U1485+7*U1495)/10","v":-24.285689330220556},259.85706541876777,78.491470139512757,2.7967009504746797E-2,7.3539566117754642,6.6698894070774797,-1.0001213195718854,-0.15975631883929964,-8.2340972969689119E-2,1.0208571308831816E-2,8.4691603554130932,5.082711064284763,4.9293501649105025]
[1268,{"$f":"OFFSET(Calculations!AS$43,$A1494,0)-U$3-B$10","v":-68.299181598676853},{"$f":"OFFSET(Calculations!AT$43,$A1494,0)-V$3-B$11","v":93.203750424156652},{"$f":"OFFSET(Calculations!AU$43,$A1494,0)-W$3-B$12","v":-8.4634964241593895},-68.299181598676853,93.203750424156652,-8.4634964241593895,-68.299181598676853,93.203750424156652,-8.4634964241593895,-68.299181598676853,93.203750424156652,-8.4634964241593895,null,null,null,{"$f":"IF(P1493=1,K1494*B$1/(B$1+B$2+L1494),99999)","v":-13.2357944973849},-1.6401528799826173,null,null,{"$f":"(1*U1485+9*U1495)/10","v":-26.286801287863106},259.59189002103619,78.248975392425635,2.3417700924764161E-2,7.7245629887767508,6.3021617812388424,-1.0000117667460415,-0.16570780651215955,-7.2124653983493658E-2,5.4251937108859231E-3,8.7213021758160973,4.6331061801897651,4.9370568201708718]
[1267,{"$f":"OFFSET(Calculations!AS$43,$A1495,0)-U$3-B$10","v":-64.390518710337204},{"$f":"OFFSET(Calculations!AT$43,$A1495,0)-V$3-B$11","v":93.439768132773168},{"$f":"OFFSET(Calculations!AU$43,$A1495,0)-W$3-B$12","v":-4.1053355658914539},-64.390518710337204,93.439768132773168,-4.1053355658914539,-64.390518710337204,93.439768132773168,-4.1053355658914539,-64.390518710337204,93.439768132773168,-4.1053355658914539,null,null,null,{"$f":"IF(P1493=1,K1495*B$1/(B$1+B$2+L1495),99999)","v":-12.449857510834104},-0.79376348961299481,null,{"$f":"T1485+7","v":1015},{"$f":"OFFSET(Calculations!AS$46,$T1495,0)","v":-27.287357266684381},{"$f":"OFFSET(Calculations!AT$46,$T1495,0)","v":259.4593023221704},{"$f":"OFFSET(Calculations!AU$46,$T1495,0)","v":78.127728018882081},{"$f":"OFFSET(Calculations!AS$43,$T1495,0)-OFFSET(Calculations!AS$45,$T1495,0)","v":2.1143046634772844E-2},{"$f":"OFFSET(Calculations!AT$43,$T1495,0)-OFFSET(Calculations!AT$45,$T1495,0)","v":7.9098661772773937},{"$f":"OFFSET(Calculations!AU$43,$T1495,0)-OFFSET(Calculations!AU$45,$T1495,0)","v":6.1182979683195242},-0.9999569903331178,-0.16868355034864635,-6.7016494490403034E-2,3.0219418282754207E-3,8.8364265107191216,4.4019269657188111,4.9409044962596926]
[1276,{"$f":"OFFSET(Calculations!AS$43,$A1497,0)-U$3-B$10","v":-73.397707246119069},{"$f":"OFFSET(Calculations!AT$43,$A1497,0)-V$3-B$11","v":82.781007457659001},{"$f":"OFFSET(Calculations!AU$43,$A1497,0)-W$3-B$12","v":-6.2270714594791583},-73.397707246119069,82.781007457659001,-6.2270714594791583,-73.397707246119069,82.781007457659001,-6.2270714594791583,-73.397707246119069,82.781007457659001,-6.2270714594791583,null,null,null,{"$f":"IF(P1493=1,K1497*B$1/(B$1+B$2+L1497),99999)","v":-15.821709476395677},-1.3423159825723834,null,null,{"$f":"(8*U1495+2*U1505)/10","v":-29.287604168292898},259.13575448135316,77.96069542249765,1.6305565317209413E-2,8.1726636926167089,5.667179963365828,-0.9999015035094132,-0.17098676032856019,-6.151655992313465E-2,-1.7986827061712953E-3,9.0481510568551595,3.9294209412773426,4.946198981011471]
[" ",null,null,null,null,null,null,null,null,null,null,null,null,null,null,null,null,null,null,null,{"$f":"(5*U1495+5*U1505)/10","v":-32.287974520705674},258.6504327201273,77.710146527920983,9.0493433408642687E-3,8.5668599656256816,4.990502955935284,-0.99979171011886336,-0.17484216645516426,-5.0312321440273422E-2,-9.019894440658649E-3,9.3362727015188653,3.2083226626029635,4.9541274159263171]
[1275,{"$f":"OFFSET(Calculations!AS$43,$A1502,0)-U$3-B$10","v":-68.095065972796078},{"$f":"OFFSET(Calculations!AT$43,$A1502,0)-V$3-B$11","v":83.193853383167792},{"$f":"OFFSET(Calculations!AU$43,$A1502,0)-W$3-B$12","v":-8.6703017418477568},-68.095065972796078,83.193853383167792,-8.6703017418477568,-68.095065972796078,83.193853383167792,-8.6703017418477568,-68.095065972796078,83.193853383167792,-8.6703017418477568,null,null,null,{"$f":"IF(P1501=1,K1502*B$1/(B$1+B$2+L1502),99999)","v":-14.613638882989909},-1.8607024877916989,null,null,{"$f":"(3*U1495+7*U1505)/10","v":-34.288221422314187},258.32688487931006,77.543113931536553,4.2118620233008389E-3,8.8296574809649968,4.5393849509815878,-0.9996830969851942,-0.17794655874843102,-3.8903713609059309E-2,-1.3793021069879518E-2,9.496048490596861,2.7176471294915228,4.9594042191314909]
[1283,{"$f":"OFFSET(Calculations!AS$43,$A1505,0)-U$3-B$10","v":-72.704986274342247},{"$f":"OFFSET(Calculations!AT$43,$A1505,0)-V$3-B$11","v":72.799796875191959},{"$f":"OFFSET(Calculations!AU$43,$A1505,0)-W$3-B$12","v":-5.8153941643818943},-72.704986274342247,72.799796875191959,-5.8153941643818943,-72.704986274342247,72.799796875191959,-5.8153941643818943,-72.704986274342247,72.799796875191959,-5.8153941643818943,null,null,null,{"$f":"IF(P1501=1,K1505*B$1/(B$1+B$2+L1505),99999)","v":-17.561633969690504},-1.4046880267466626,null,{"$f":"T1495+7","v":1022},{"$f":"OFFSET(Calculations!AS$46,$T1505,0)","v":-37.28859177472696},{"$f":"OFFSET(Calculations!AT$46,$T1505,0)","v":257.8415631180842},{"$f":"OFFSET(Calculations!AU$46,$T1505,0)","v":77.2925650369599},{"$f":"OFFSET(Calculations!AS$43,$T1505,0)-OFFSET(Calculations!AS$45,$T1505,0)","v":-3.0443599530443066E-3},{"$f":"OFFSET(Calculations!AT$43,$T1505,0)-OFFSET(Calculations!AT$45,$T1505,0)","v":9.2238537539739696},{"$f":"OFFSET(Calculations!AU$43,$T1505,0)-OFFSET(Calculations!AU$45,$T1505,0)","v":3.8627079435510439},-0.99952017728467979,-0.18260314718821746,-2.1790801862266562E-2,-2.0856658074072554E-2,9.6745923554962374,1.9650016228445102,4.967306264220146]
[" ",null,null,null,null,null,null,null,null,null,null,null,null,null,null,null,null,null,null,null,{"$f":"(7*U1505+3*U1515)/10","v":-40.287630443370631},257.30096431733853,77.174014571997716,-1.0238341499420045E-2,9.429472909924689,3.1070597872425707,-0.99944048781974004,-0.1838049206580763,-1.2927791966362179E-2,-2.7808921577572754E-2,9.7915785077506108,1.1973331646265455,4.9710397392069687]
[1282,{"$f":"OFFSET(Calculations!AS$43,$A1510,0)-U$3-B$10","v":-67.686673829638153},{"$f":"OFFSET(Calculations!AT$43,$A1510,0)-V$3-B$11","v":73.197863802013273},{"$f":"OFFSET(Calculations!AU$43,$A1510,0)-W$3-B$12","v":-8.7911545781598992},-67.686673829638153,73.197863802013273,-8.7911545781598992,-67.686673829638153,73.197863802013273,-8.7911545781598992,-67.686673829638153,73.197863802013273,-8.7911545781598992,null,null,null,{"$f":"IF(P1509=1,K1510*B$1/(B$1+B$2+L1510),99999)","v":-16.271252827046798},-2.1133125723228403,null,null,{"$f":"(5*U1505+5*U1515)/10","v":-42.286989555799749},256.94056511684147,77.094980928689594,-1.5034329197003871E-2,9.5665523472251692,2.6032943497035888,-0.999363788846793,-0.18422838066919667,-4.0617458813159146E-3,-3.2386211998269188E-2,9.848466179802017,0.68269221583611905,4.9735267736845543]
[1283,{"$f":"OFFSET(Calculations!AS$43,$A1514,0)-U$3-B$10","v":-72.704986274342247},{"$f":"OFFSET(Calculations!AT$43,$A1514,0)-V$3-B$11","v":72.799796875191959},{"$f":"OFFSET(Calculations!AU$43,$A1514,0)-W$3-B$12","v":-5.8153941643818943},-72.704986274342247,72.799796875191959,-5.8153941643818943,-72.704986274342247,72.799796875191959,-5.8153941643818943,-72.704986274342247,72.799796875191959,-5.8153941643818943,null,null,null,{"$f":"IF(P1509=1,K1514*B$1/(B$1+B$2+L1514),99999)","v":-17.561633969690504},-1.4046880267466626,null,null,{"$f":"(1*U1505+9*U1515)/10","v":-46.28570778065798},256.2197667158473,76.93691364207335,-2.4626304592171522E-2,9.8407112218261297,1.5957634746256246,-0.99916324557494818,-0.18431985608731338,1.9585091930991894E-2,-4.1193271475885362E-2,9.8693448903874561,-0.34806393163311372,4.9784961785632076]
[1282,{"$f":"OFFSET(Calculations!AS$43,$A1515,0)-U$3-B$10","v":-67.686673829638153},{"$f":"OFFSET(Calculations!AT$43,$A1515,0)-V$3-B$11","v":73.197863802013273},{"$f":"OFFSET(Calculations!AU$43,$A1515,0)-W$3-B$12","v":-8.7911545781598992},-67.686673829638153,73.197863802013273,-8.7911545781598992,-67.686673829638153,73.197863802013273,-8.7911545781598992,-67.686673829638153,73.197863802013273,-8.7911545781598992,null,null,null,{"$f":"IF(P1509=1,K1515*B$1/(B$1+B$2+L1515),99999)","v":-16.271252827046798},-2.1133125723228403,null,{"$f":"T1505+7","v":1029},{"$f":"OFFSET(Calculations!AS$46,$T1515,0)","v":-47.285387336872539},{"$f":"OFFSET(Calculations!AT$46,$T1515,0)","v":256.03956711559874},{"$f":"OFFSET(Calculations!AU$46,$T1515,0)","v":76.897396820419289},{"$f":"OFFSET(Calculations!AS$43,$T1515,0)-OFFSET(Calculations!AS$45,$T1515,0)","v":-2.7024298440963435E-2},{"$f":"OFFSET(Calculations!AT$43,$T1515,0)-OFFSET(Calculations!AT$45,$T1515,0)","v":9.9092509404763689},{"$f":"OFFSET(Calculations!AU$43,$T1515,0)-OFFSET(Calculations!AU$45,$T1515,0)","v":1.3438807558561336},-0.99911310975699053,-0.18434272494184256,2.5496801384051082E-2,-4.331391119584227E-2,9.8534507192662915,-0.6058353333080051,4.9797375602237341]
[{"$f":"A1509+7","v":1296},{"$f":"OFFSET(Calculations!AS$43,$A1517,0)-U$3-B$10","v":-66.28832881137717},{"$f":"OFFSET(Calculations!AT$43,$A1517,0)-V$3-B$11","v":53.247788149433418},{"$f":"OFFSET(Calculations!AU$43,$A1517,0)-W$3-B$12","v":-8.9964723842746555},{"$f":"B1517*F$5+C1517*F$4","v":-66.28832881137717},{"$f":"C1517*F$5-B1517*F$4","v":53.247788149433418},{"$f":"D1517","v":-8.9964723842746555},-66.28832881137717,{"$f":"F1517*F$7+G1517*F$6","v":53.247788149433418},{"$f":"G1517*F$7-F1517*F$6","v":-8.9964723842746555},{"$f":"H1517*F$9+J1517*F$8","v":-66.28832881137717},{"$f":"I1517","v":53.247788149433418},{"$f":"J1517*F$9-H1517*F$8","v":-8.9964723842746555},null,null,{"$f":"IF(MIN(L1517:L1523)+B$2+B$1>0,1,0)","v":1},{"$f":"IF(P1517=1,K1517*B$1/(B$1+B$2+L1517),99999)","v":-20.961469404988506},{"$f":"M1517*B$1/(B$1+B$2+L1517)","v":-2.8448338345110167},null,null,{"$f":"(8*U1515+2*U1525)/10","v":-49.283896428342317},255.66634899809,76.912901949334113,-3.1451953882736916E-2,9.911270562620512,0.82179866778840283,{"$f":"(SUM(U1518:U1533)-SUM(U1517:U1532))/16","v":-0.99906596443101137},{"$f":"(SUM(V1518:V1533)-SUM(V1517:V1532))/16","v":-0.1835872803376617},{"$f":"(SUM(W1518:W1533)-SUM(W1517:W1532))/16","v":3.1411547026266362E-2},{"$f":"SUM(X1517:X1532)/16","v":-4.7469350839413588E-2},{"$f":"SUM(Y1517:Y1532)/16","v":9.8005463777265689},{"$f":"SUM(Z1517:Z1532)/16","v":-1.120904579097864},4.97925052818076]
[1295,{"$f":"OFFSET(Calculations!AS$43,$A1520,0)-U$3-B$10","v":-61.289401644121682},{"$f":"OFFSET(Calculations!AT$43,$A1520,0)-V$3-B$11","v":53.68332119660969},{"$f":"OFFSET(Calculations!AU$43,$A1520,0)-W$3-B$12","v":-6.0096151866381877},-61.289401644121682,53.68332119660969,-6.0096151866381877,-61.289401644121682,53.68332119660969,-6.0096151866381877,-61.289401644121682,53.68332119660969,-6.0096151866381877,null,null,null,{"$f":"IF(P1517=1,K1520*B$1/(B$1+B$2+L1520),99999)","v":-19.248180054838141},-1.8873435222025203,null,null,{"$f":"(5*U1515+5*U1525)/10","v":-52.281660065547001},255.10652182182693,76.936159642706372,-3.8093437045397138E-2,9.9142999958367284,3.8675535686806484E-2,-0.99897627070908612,-0.18132381882122672,4.3042534429346802E-2,-5.3545462728884718E-2,9.6895029632916732,-1.8894625772377269,4.9785198683283953]
[1289,{"$f":"OFFSET(Calculations!AS$43,$A1523,0)-U$3-B$10","v":-67.013891587546837},{"$f":"OFFSET(Calculations!AT$43,$A1523,0)-V$3-B$11","v":63.220899518303959},{"$f":"OFFSET(Calculations!AU$43,$A1523,0)-W$3-B$12","v":-8.893215134072193},-67.013891587546837,63.220899518303959,-8.893215134072193,-67.013891587546837,63.220899518303959,-8.893215134072193,-67.013891587546837,63.220899518303959,-8.893215134072193,null,null,null,{"$f":"IF(P1517=1,K1523*B$1/(B$1+B$2+L1523),99999)","v":-18.304580257387997},-2.4291466487239872,null,null,{"$f":"(2*U1515+8*U1525)/10","v":-55.279423702751671},254.54669464556383,76.959417336078602,-4.473492020805736E-2,9.9173294290529448,-0.74444759641478986,-0.99884862552122655,-0.17679976808463493,6.0191259711984912E-2,-5.9259465730055097E-2,9.5167874662595491,-2.643478341390896,4.9777890742648401]
[{"$f":"A1517+7","v":1303},{"$f":"OFFSET(Calculations!AS$43,$A1525,0)-U$3-B$10","v":-65.354067141660039},{"$f":"OFFSET(Calculations!AT$43,$A1525,0)-V$3-B$11","v":43.292086959778231},{"$f":"OFFSET(Calculations!AU$43,$A1525,0)-W$3-B$12","v":-9.1023258433602336},{"$f":"B1525*F$5+C1525*F$4","v":-65.354067141660039},{"$f":"C1525*F$5-B1525*F$4","v":43.292086959778231},{"$f":"D1525","v":-9.1023258433602336},-65.354067141660039,{"$f":"F1525*F$7+G1525*F$6","v":43.292086959778231},{"$f":"G1525*F$7-F1525*F$6","v":-9.1023258433602336},{"$f":"H1525*F$9+J1525*F$8","v":-65.354067141660039},{"$f":"I1525","v":43.292086959778231},{"$f":"J1525*F$9-H1525*F$8","v":-9.1023258433602336},null,null,{"$f":"IF(MIN(L1525:L1531)+B$2+B$1>0,1,0)","v":1},{"$f":"IF(P1525=1,K1525*B$1/(B$1+B$2+L1525),99999)","v":-24.52674341351484},{"$f":"M1525*B$1/(B$1+B$2+L1525)","v":-3.4160140323384747},null,{"$f":"T1515+7","v":1036},{"$f":"OFFSET(Calculations!AS$46,$T1525,0)","v":-57.277932794221449},{"$f":"OFFSET(Calculations!AT$46,$T1525,0)","v":254.17347652805509},{"$f":"OFFSET(Calculations!AU$46,$T1525,0)","v":76.974922464993426},{"$f":"OFFSET(Calculations!AS$43,$T1525,0)-OFFSET(Calculations!AS$45,$T1525,0)","v":-4.9162575649830842E-2},{"$f":"OFFSET(Calculations!AT$43,$T1525,0)-OFFSET(Calculations!AT$45,$T1525,0)","v":9.9193490511970879},{"$f":"OFFSET(Calculations!AU$43,$T1525,0)-OFFSET(Calculations!AU$45,$T1525,0)","v":-1.2665296844825207},-0.99876352872931307,-0.17378373426021199,7.1623743233743653E-2,-6.281939284921334E-2,9.3608127001155452,-3.1353856126857393,4.9773018036241634]
[1302,{"$f":"OFFSET(Calculations!AS$43,$A1528,0)-U$3-B$10","v":-60.355181573024268},{"$f":"OFFSET(Calculations!AT$43,$A1528,0)-V$3-B$11","v":43.727683508852742},{"$f":"OFFSET(Calculations!AU$43,$A1528,0)-W$3-B$12","v":-6.1214681654598113},-60.355181573024268,43.727683508852742,-6.1214681654598113,-60.355181573024268,43.727683508852742,-6.1214681654598113,-60.355181573024268,43.727683508852742,-6.1214681654598113,null,null,null,{"$f":"IF(P1525=1,K1528*B$1/(B$1+B$2+L1528),99999)","v":-22.467070095467452},-2.2787016918200735,null,null,{"$f":"(7*U1525+3*U1535)/10","v":-60.274564943602854},253.63178002229225,77.140134053778738,-5.479895432682156E-2,9.7195823108113295,-2.0237592450965907,-0.99870660153040092,-0.1703928504298915,7.990035005308016E-2,-6.7847990235872041E-2,9.078278659565779,-3.8587100106350709,4.9721060836684234]
[1296,{"$f":"OFFSET(Calculations!AS$43,$A1531,0)-U$3-B$10","v":-66.28832881137717},{"$f":"OFFSET(Calculations!AT$43,$A1531,0)-V$3-B$11","v":53.247788149433418},{"$f":"OFFSET(Calculations!AU$43,$A1531,0)-W$3-B$12","v":-8.9964723842746555},-66.28832881137717,53.247788149433418,-8.9964723842746555,-66.28832881137717,53.247788149433418,-8.9964723842746555,-66.28832881137717,53.247788149433418,-8.9964723842746555,null,null,null,{"$f":"IF(P1525=1,K1531*B$1/(B$1+B$2+L1531),99999)","v":-20.961469404988506},-2.8448338345110167,null,null,{"$f":"(4*U1525+6*U1535)/10","v":-63.271197092984245},253.09008351652943,77.305345642564049,-6.0435333003812278E-2,9.5198155704255729,-2.7809888057106606,-0.9986235030552848,-0.16339028818279644,9.292166227128007E-2,-7.2581138018213046E-2,8.7568838322957117,-4.5649240385376535,4.9669035585352175]
[{"$f":"A1525+7","v":1310},{"$f":"OFFSET(Calculations!AS$43,$A1533,0)-U$3-B$10","v":-64.419814716080523},{"$f":"OFFSET(Calculations!AT$43,$A1533,0)-V$3-B$11","v":33.336399881656106},{"$f":"OFFSET(Calculations!AU$43,$A1533,0)-W$3-B$12","v":-9.209512529053864},{"$f":"B1533*F$5+C1533*F$4","v":-64.419814716080523},{"$f":"C1533*F$5-B1533*F$4","v":33.336399881656106},{"$f":"D1533","v":-9.209512529053864},-64.419814716080523,{"$f":"F1533*F$7+G1533*F$6","v":33.336399881656106},{"$f":"G1533*F$7-F1533*F$6","v":-9.209512529053864},{"$f":"H1533*F$9+J1533*F$8","v":-64.419814716080523},{"$f":"I1533","v":33.336399881656106},{"$f":"J1533*F$9-H1533*F$8","v":-9.209512529053864},null,null,{"$f":"IF(MIN(L1533:L1539)+B$2+B$1>0,1,0)","v":1},{"$f":"IF(P1533=1,K1533*B$1/(B$1+B$2+L1533),99999)","v":-29.730118280244515},{"$f":"M1533*B$1/(B$1+B$2+L1533)","v":-4.2502434693252704},null,null,{"$f":"(2*U1525+8*U1535)/10","v":-65.268951859238513},252.72895251268756,77.415486701754247,-6.4192918788472747E-2,9.3866377435017334,-3.2858085127867072,-0.99855938031312519,-0.15751802054580821,0.10318410554968693,-7.5440315105410702E-2,8.5082280719265597,-5.0164825264892272,4.9634314145600928]
[1309,{"$f":"OFFSET(Calculations!AS$43,$A1536,0)-U$3-B$10","v":-59.420961501926477},{"$f":"OFFSET(Calculations!AT$43,$A1536,0)-V$3-B$11","v":33.772045821095681},{"$f":"OFFSET(Calculations!AU$43,$A1536,0)-W$3-B$12","v":-6.2333211442816019},-59.420961501926477,33.772045821095681,-6.2333211442816019,-59.420961501926477,33.772045821095681,-6.2333211442816019,-59.420961501926477,33.772045821095681,-6.2333211442816019,null,null,null,{"$f":"IF(P1533=1,K1536*B$1/(B$1+B$2+L1536),99999)","v":-27.150187014237702},-2.8480830755584603,null,null,{"$f":"(9*U1535+U1545)/10","v":-68.265280396892393},252.20534072068659,77.62484019357592,-6.9366226006162893E-2,9.1238102029910184,-4.017205568513357,-0.9984821719328778,-0.14983991370050376,0.11581890152757524,-7.9249726676201518E-2,8.0802665314391593,-5.6623643763937936,4.9568232466167101]
[1304,{"$f":"OFFSET(Calculations!AS$43,$A1538,0)-U$3-B$10","v":-70.311206184619806},{"$f":"OFFSET(Calculations!AT$43,$A1538,0)-V$3-B$11","v":42.792762728200969},{"$f":"OFFSET(Calculations!AU$43,$A1538,0)-W$3-B$12","v":-6.062332159436103},-70.311206184619806,42.792762728200969,-6.062332159436103,-70.311206184619806,42.792762728200969,-6.062332159436103,-70.311206184619806,42.792762728200969,-6.062332159436103,null,null,null,{"$f":"IF(P1533=1,K1538*B$1/(B$1+B$2+L1538),99999)","v":-26.63668372371836},-2.2966527403187831,null,null,{"$f":"(7*U1535+3*U1545)/10","v":-70.262427939691591},251.88037914436845,77.823265058838899,-7.2197668872222204E-2,8.8645107758172621,-4.4703602658145645,-0.99845600065665963,-0.14622823528375761,0.12056360692646706,-8.1556590915343827E-2,7.7701308045152073,-6.0768252829813649,4.9505498337131071]
[1303,{"$f":"OFFSET(Calculations!AS$43,$A1539,0)-U$3-B$10","v":-65.354067141660039},{"$f":"OFFSET(Calculations!AT$43,$A1539,0)-V$3-B$11","v":43.292086959778231},{"$f":"OFFSET(Calculations!AU$43,$A1539,0)-W$3-B$12","v":-9.1023258433602336},-65.354067141660039,43.292086959778231,-9.1023258433602336,-65.354067141660039,43.292086959778231,-9.1023258433602336,-65.354067141660039,43.292086959778231,-9.1023258433602336,null,null,null,{"$f":"IF(P1533=1,K1539*B$1/(B$1+B$2+L1539),99999)","v":-24.52674341351484},-3.4160140323384747,null,null,{"$f":"(6*U1535+4*U1545)/10","v":-71.261001711091197},251.71789835620945,77.922477491470389,-7.3613390305251866E-2,8.7348610622303848,-4.6969376144651678,-0.99844291501855764,-0.14442239607541296,0.12293595962589166,-8.2657565172223266E-2,7.6099793110782112,-6.2801863572037879,4.9474093885094801]
[1309,{"$f":"OFFSET(Calculations!AS$43,$A1543,0)-U$3-B$10","v":-59.420961501926477},{"$f":"OFFSET(Calculations!AT$43,$A1543,0)-V$3-B$11","v":33.772045821095681},{"$f":"OFFSET(Calculations!AU$43,$A1543,0)-W$3-B$12","v":-6.2333211442816019},-59.420961501926477,33.772045821095681,-6.2333211442816019,-59.420961501926477,33.772045821095681,-6.2333211442816019,-59.420961501926477,33.772045821095681,-6.2333211442816019,{"$f":"IF(P1541=1,K1543*B$1/(B$1+B$2+L1543),99999)","v":-27.150187014237702},-2.8480830755584603,null,null,null,null,null,{"$f":"(2*U1535+8*U1545)/10","v":-75.25529679668962},251.06797520357318,78.319327221996303,-7.9276276037370502E-2,8.216262207882874,-5.6032470090675819,-0.99836535735160226,-0.12776576384655414,0.13972202859623906,-8.648003167743612E-2,6.9198469950035406,-7.0476217175366749,4.9348225433761694]
[1318,{"$f":"OFFSET(Calculations!AS$43,$A1545,0)-U$3-B$10","v":-68.442766042424495},{"$f":"OFFSET(Calculations!AT$43,$A1545,0)-V$3-B$11","v":22.881487352687458},{"$f":"OFFSET(Calculations!AU$43,$A1545,0)-W$3-B$12","v":-6.2860381170792419},-68.442766042424495,22.881487352687458,-6.2860381170792419,-68.442766042424495,22.881487352687458,-6.2860381170792419,-68.442766042424495,22.881487352687458,-6.2860381170792419,{"$f":"IF(P1541=1,K1545*B$1/(B$1+B$2+L1545),99999)","v":-41.629969659405056},-3.82345120198188,null,null,null,null,{"$f":"T1535+7","v":1050},{"$f":"OFFSET(Calculations!AS$46,$T1545,0)","v":-77.252444339488832},{"$f":"OFFSET(Calculations!AT$46,$T1545,0)","v":250.74301362725507},{"$f":"OFFSET(Calculations!AU$46,$T1545,0)","v":78.517752087259282},{"$f":"OFFSET(Calculations!AS$43,$T1545,0)-OFFSET(Calculations!AS$45,$T1545,0)","v":-8.2107718903429827E-2},{"$f":"OFFSET(Calculations!AT$43,$T1545,0)-OFFSET(Calculations!AT$45,$T1545,0)","v":7.9569627807091194},{"$f":"OFFSET(Calculations!AU$43,$T1545,0)-OFFSET(Calculations!AU$45,$T1545,0)","v":-6.0564017063687885},-0.99832657851813167,-0.11943744773208209,0.14811506308140565,-8.7949722041582135E-2,6.5388108412395738,-7.3956488053366183,4.9285139978808221]
[" ",null,null,null,null,null,null,null,null,null,null,null,null,null,null,null,null,null,null,null,{"$f":"(7*U1545+3*U1555)/10","v":-80.247537543058641},250.34225154477946,78.929262314726927,-8.4676231596384349E-2,7.4053374807478551,-6.6123136220369663,-0.99830766718221753,-0.11236249118556429,0.15358755671083202,-8.9707244702609046E-2,5.9324613758853717,-7.8808149547211404,4.9153984056132334]
[1316,{"$f":"OFFSET(Calculations!AS$43,$A1551,0)-U$3-B$10","v":-58.486741430829149},{"$f":"OFFSET(Calculations!AT$43,$A1551,0)-V$3-B$11","v":23.816408133338953},{"$f":"OFFSET(Calculations!AU$43,$A1551,0)-W$3-B$12","v":-6.3451741231033747},-58.486741430829149,23.816408133338953,-6.3451741231033747,-58.486741430829149,23.816408133338953,-6.3451741231033747,-58.486741430829149,23.816408133338953,-6.3451741231033747,{"$f":"IF(P1549=1,K1551*B$1/(B$1+B$2+L1551),99999)","v":-34.590747308356612},-3.7527191522436047,null,null,null,null,null,{"$f":"(4*U1545+6*U1555)/10","v":-83.24263074662845},249.94148946230379,79.340772542194571,-8.7244744289338885E-2,6.8537121807865899,-7.1682255377051431,-0.99829057119218589,-9.9787368724776115E-2,0.16136337551587587,-9.1077566761587556E-2,5.3010135468056312,-8.3317329652931811,4.9022387315247311]
[1325,{"$f":"OFFSET(Calculations!AS$43,$A1553,0)-U$3-B$10","v":-67.508545971327166},{"$f":"OFFSET(Calculations!AT$43,$A1553,0)-V$3-B$11","v":12.925849664930301},{"$f":"OFFSET(Calculations!AU$43,$A1553,0)-W$3-B$12","v":-6.3978910959011541},-67.508545971327166,12.925849664930301,-6.3978910959011541,-67.508545971327166,12.925849664930301,-6.3978910959011541,-67.508545971327166,12.925849664930301,-6.3978910959011541,{"$f":"IF(P1549=1,K1553*B$1/(B$1+B$2+L1553),99999)","v":-58.892950061166168},-5.5813775187473347,null,null,null,null,null,{"$f":"(2*U1545+8*U1555)/10","v":-85.239359549008313},249.67431474065339,79.615112693839677,-8.8957086084641895E-2,6.485961980812414,-7.5388334814839286,-0.99827977898078757,-8.9570565112865097E-2,0.16731502977775392,-9.1626277005627269E-2,4.8598897809589445,-8.5984771352797225,4.8934409048938274]
[1318,{"$f":"OFFSET(Calculations!AS$43,$A1554,0)-U$3-B$10","v":-68.442766042424495},{"$f":"OFFSET(Calculations!AT$43,$A1554,0)-V$3-B$11","v":22.881487352687458},{"$f":"OFFSET(Calculations!AU$43,$A1554,0)-W$3-B$12","v":-6.2860381170792419},-68.442766042424495,22.881487352687458,-6.2860381170792419,-68.442766042424495,22.881487352687458,-6.2860381170792419,-68.442766042424495,22.881487352687458,-6.2860381170792419,{"$f":"IF(P1549=1,K1554*B$1/(B$1+B$2+L1554),99999)","v":-41.629969659405056},-3.82345120198188,null,null,null,null,null,{"$f":"(1*U1545+9*U1555)/10","v":-86.237723950198259},249.54072737982816,79.75228276966223,-8.9813256982293407E-2,6.3020868808253256,-7.7241374533733209,-0.9982743828750813,-8.4462163306909588E-2,0.17029085690872137,-9.1783254099961728E-2,4.6329513041004029,-8.7209031642163648,4.8890345281245349]
[" ",null,null,null,null,null,null,null,null,null,null,null,null,null,null,null,null,null,null,null,{"$f":"(9*U1555+U1565)/10","v":-88.23435189211996},249.31128575975941,80.055809553997605,-9.0907701610413477E-2,5.8926420786470057,-8.0408438609359862,-0.99826989444234471,-7.6603678543847309E-2,0.17441834662744782,-9.1862452233259881E-2,4.1663211625129186,-8.943863109976391,4.8792664080803974]
[1323,{"$f":"OFFSET(Calculations!AS$43,$A1559,0)-U$3-B$10","v":-57.552521359731578},{"$f":"OFFSET(Calculations!AT$43,$A1559,0)-V$3-B$11","v":13.860770445582038},{"$f":"OFFSET(Calculations!AU$43,$A1559,0)-W$3-B$12","v":-6.4570271019249752},-57.552521359731578,13.860770445582038,-6.4570271019249752,-57.552521359731578,13.860770445582038,-6.4570271019249752,-57.552521359731578,13.860770445582038,-6.4570271019249752,{"$f":"IF(P1557=1,K1559*B$1/(B$1+B$2+L1559),99999)","v":-48.240287538902805},-5.4122536542993585,null,null,null,null,null,{"$f":"(6*U1555+4*U1565)/10","v":-91.229142514315257},249.02372298202877,80.554879679536128,-9.1622522801819178E-2,5.215932972073313,-8.4350511679558053,-0.99827261746114004,-6.8353429672555421E-2,0.17787333439086694,-9.1626070732473766E-2,3.4501284562822501,-9.2437858244143367,4.8631516063282261]
[1325,{"$f":"OFFSET(Calculations!AS$43,$A1562,0)-U$3-B$10","v":-67.508545971327166},{"$f":"OFFSET(Calculations!AT$43,$A1562,0)-V$3-B$11","v":12.925849664930301},{"$f":"OFFSET(Calculations!AU$43,$A1562,0)-W$3-B$12","v":-6.3978910959011541},-67.508545971327166,12.925849664930301,-6.3978910959011541,-67.508545971327166,12.925849664930301,-6.3978910959011541,-67.508545971327166,12.925849664930301,-6.3978910959011541,{"$f":"IF(P1557=1,K1562*B$1/(B$1+B$2+L1562),99999)","v":-58.892950061166168},-5.5813775187473347,null,null,null,null,null,{"$f":"(3*U1555+7*U1565)/10","v":-94.223933136510553},248.73616020429813,81.053949805074652,-9.2337343993224866E-2,4.5392238654996193,-8.8292584749756244,-0.9983734708545029,-5.2082647328177245E-2,0.17340838134219894,-9.0979836383388871E-2,2.7304442977073271,-9.4968938650276566,4.8469693009032087]
[" ",null,null,null,null,null,null,null,null,null,null,null,null,null,null,null,null,null,null,null,{"$f":"(1*U1555+9*U1565)/10","v":-96.220460217974079},248.54445168581105,81.386663222100324,-9.2813891454161995E-2,4.0880844611171572,-9.0920633463221705,-0.99844070645009708,-4.1235459098658112E-2,0.17043174597642974,-9.0262259858580843E-2,2.261287271274028,-9.6268933493046163,4.8361431735318874]
[1330,{"$f":"OFFSET(Calculations!AS$43,$A1567,0)-U$3-B$10","v":-56.618301288633795},{"$f":"OFFSET(Calculations!AT$43,$A1567,0)-V$3-B$11","v":3.9051327578249513},{"$f":"OFFSET(Calculations!AU$43,$A1567,0)-W$3-B$12","v":-6.5688800807467134},-56.618301288633795,3.9051327578249513,-6.5688800807467134,-56.618301288633795,3.9051327578249513,-6.5688800807467134,-56.618301288633795,3.9051327578249513,-6.5688800807467134,{"$f":"IF(P1565=1,K1567*B$1/(B$1+B$2+L1567),99999)","v":-81.435110724523653},-9.4481371665439902,null,null,null,null,null,{"$f":"(8*U1565+2*U1575)/10","v":-99.215279885703396},248.34489156270757,81.922586550448528,-9.2260442389311942E-2,3.3587305550008297,-9.3605578632328221,-0.99853974449756322,-3.0464842668521896E-2,0.16366346775215845,-8.8795398078749713E-2,1.5751455005347608,-9.7677122862130776,4.8186402836282252]
[1339,{"$f":"OFFSET(Calculations!AS$43,$A1569,0)-U$3-B$10","v":-65.252119625732973},{"$f":"OFFSET(Calculations!AT$43,$A1569,0)-V$3-B$11","v":-8.5007771882661416},{"$f":"OFFSET(Calculations!AU$43,$A1569,0)-W$3-B$12","v":-6.6403264502818535},-65.252119625732973,-8.5007771882661416,-6.6403264502818535,-65.252119625732973,-8.5007771882661416,-6.6403264502818535,-65.252119625732973,-8.5007771882661416,-6.6403264502818535,{"$f":"IF(P1565=1,K1569*B$1/(B$1+B$2+L1569),99999)","v":-870.47927919758081},-88.583583418161624,null,null,null,null,null,{"$f":"(6*U1565+4*U1575)/10","v":-101.21183601270096},248.24118569884757,82.29215317028391,-9.1468719593993345E-2,2.8549463510757334,-9.4976499444702007,-0.99860516474724648,-2.5117820353131037E-2,0.15838350721078598,-8.7702481530645485E-2,1.1354790492632971,-9.839875975014083,4.8065236057050011]
[{"$f":"A1565+7","v":1345},{"$f":"OFFSET(Calculations!AS$43,$A1573,0)-U$3-B$10","v":-56.717834433676728},{"$f":"OFFSET(Calculations!AT$43,$A1573,0)-V$3-B$11","v":-15.665653835403596},{"$f":"OFFSET(Calculations!AU$43,$A1573,0)-W$3-B$12","v":-9.7782439130369809},{"$f":"B1573*F$5+C1573*F$4","v":-56.717834433676728},{"$f":"C1573*F$5-B1573*F$4","v":-15.665653835403596},{"$f":"D1573","v":-9.7782439130369809},-56.717834433676728,{"$f":"F1573*F$7+G1573*F$6","v":-15.665653835403596},{"$f":"G1573*F$7-F1573*F$6","v":-9.7782439130369809},{"$f":"H1573*F$9+J1573*F$8","v":-56.717834433676728},{"$f":"I1573","v":-15.665653835403596},{"$f":"J1573*F$9-H1573*F$8","v":-9.7782439130369809},{"$f":"IF(P1573=1,K1573*B$1/(B$1+B$2+L1573),99999)","v":99999},{"$f":"M1573*B$1/(B$1+B$2+L1573)","v":34.517618608940033},{"$f":"IF(MIN(L1573:L1579)+B$2+B$1>0,1,0)","v":0},null,null,null,null,{"$f":"(2*U1565+8*U1575)/10","v":-105.20494826669608},248.03377397112772,83.031286409954646,-8.9885274003356136E-2,1.8473779432255413,-9.7718341069449561,-0.98364683183885404,-1.0734431227177765E-2,0.13017069968022099,-6.584907852986524E-2,0.34058893017436842,-9.9319148592333075,4.7821737996649123]
[1338,{"$f":"OFFSET(Calculations!AS$43,$A1574,0)-U$3-B$10","v":-60.682897455139695},{"$f":"OFFSET(Calculations!AT$43,$A1574,0)-V$3-B$11","v":-6.4862073155031226},{"$f":"OFFSET(Calculations!AU$43,$A1574,0)-W$3-B$12","v":-9.6515915379089048},-60.682897455139695,-6.4862073155031226,-9.6515915379089048,-60.682897455139695,-6.4862073155031226,-9.6515915379089048,-60.682897455139695,-6.4862073155031226,-9.6515915379089048,{"$f":"IF(P1573=1,K1574*B$1/(B$1+B$2+L1574),99999)","v":99999},-54.935463782439221,null,null,null,null,null,{"$f":"(1*U1565+9*U1575)/10","v":-106.20322633019484},247.98192103919774,83.216069719872323,-8.948941260569683E-2,1.5954858412629931,-9.8403801475636463,-0.97990724861172396,-7.1385839457036582E-3,0.12311749779759396,-5.223520018503762E-2,0.16762181223537601,-9.9426860010506406,4.7760618140322206]
[1344,{"$f":"OFFSET(Calculations!AS$43,$A1576,0)-U$3-B$10","v":-52.944280472160052},{"$f":"OFFSET(Calculations!AT$43,$A1576,0)-V$3-B$11","v":-12.393361102471189},{"$f":"OFFSET(Calculations!AU$43,$A1576,0)-W$3-B$12","v":-6.7668658430110113},-52.944280472160052,-12.393361102471189,-6.7668658430110113,-52.944280472160052,-12.393361102471189,-6.7668658430110113,-52.944280472160052,-12.393361102471189,-6.7668658430110113,{"$f":"IF(P1573=1,K1576*B$1/(B$1+B$2+L1576),99999)","v":99999},56.546969331323197,null,null,null,null,null,{"$f":"(9*U1575+U1585)/10","v":-108.20030581918998},247.9209913538607,83.543396655376654,-8.8414213337168229E-2,1.1520477574824923,-9.9163631535667882,-0.97239537203267901,-2.62040054039403E-3,0.1116510743029977,-1.5226810381823431E-2,-0.14740592944272138,-9.9495419896003341,4.7652106301661554]
[1338,{"$f":"OFFSET(Calculations!AS$43,$A1579,0)-U$3-B$10","v":-60.682897455139695},{"$f":"OFFSET(Calculations!AT$43,$A1579,0)-V$3-B$11","v":-6.4862073155031226},{"$f":"OFFSET(Calculations!AU$43,$A1579,0)-W$3-B$12","v":-9.6515915379089048},-60.682897455139695,-6.4862073155031226,-9.6515915379089048,-60.682897455139695,-6.4862073155031226,-9.6515915379089048,-60.682897455139695,-6.4862073155031226,-9.6515915379089048,{"$f":"IF(P1573=1,K1579*B$1/(B$1+B$2+L1579),99999)","v":99999},-54.935463782439221,null,null,null,null,null,{"$f":"(6*U1575+4*U1585)/10","v":-111.19671009567898},247.89376109363957,83.97102753213656,-8.6376199724560371E-2,0.57740981202863395,-9.9386740497201522,-0.96107849197682071,1.4660783102726782E-4,9.8411409467132671E-2,6.463105342944174E-2,-0.56531110151437147,-9.9460261379252799,4.7509869861579421]
[1345,{"$f":"OFFSET(Calculations!AS$43,$A1582,0)-U$3-B$10","v":-56.717834433676728},{"$f":"OFFSET(Calculations!AT$43,$A1582,0)-V$3-B$11","v":-15.665653835403596},{"$f":"OFFSET(Calculations!AU$43,$A1582,0)-W$3-B$12","v":-9.7782439130369809},-56.717834433676728,-15.665653835403596,-9.7782439130369809,-56.717834433676728,-15.665653835403596,-9.7782439130369809,-56.717834433676728,-15.665653835403596,-9.7782439130369809,{"$f":"IF(P1581=1,K1582*B$1/(B$1+B$2+L1582),99999)","v":99999},34.517618608940033,null,null,null,null,null,{"$f":"(3*U1575+7*U1585)/10","v":-114.19311437216803},247.86653083341844,84.398658408896466,-8.4338186111952498E-2,2.7718665747755722E-3,-9.9609849458735145,-0.93434056759251405,-1.1893248593395356E-2,6.1950075753600231E-2,0.1788028708079164,-0.89679229290891016,-9.9346878769429452,4.7367092007722871]
[1351,{"$f":"OFFSET(Calculations!AS$43,$A1584,0)-U$3-B$10","v":-47.541110021427698},{"$f":"OFFSET(Calculations!AT$43,$A1584,0)-V$3-B$11","v":-18.900274076681445},{"$f":"OFFSET(Calculations!AU$43,$A1584,0)-W$3-B$12","v":-6.8732019804725004},-47.541110021427698,-18.900274076681445,-6.8732019804725004,-47.541110021427698,-18.900274076681445,-6.8732019804725004,-47.541110021427698,-18.900274076681445,-6.8732019804725004,{"$f":"IF(P1581=1,K1584*B$1/(B$1+B$2+L1584),99999)","v":99999},15.444922080501236,null,null,null,null,null,{"$f":"(1*U1575+9*U1585)/10","v":-116.19071722316069},247.84837732660435,84.683745660069775,-8.2979510370213921E-2,-0.38032009706113001,-9.9758588766424232,-0.91651528466965715,-1.991981954299149E-2,3.7642519944583341E-2,0.27968240075614148,-1.0390451082860039,-9.9248528323711014,4.7271602914743198]
[1345,{"$f":"OFFSET(Calculations!AS$43,$A1587,0)-U$3-B$10","v":-56.717834433676728},{"$f":"OFFSET(Calculations!AT$43,$A1587,0)-V$3-B$11","v":-15.665653835403596},{"$f":"OFFSET(Calculations!AU$43,$A1587,0)-W$3-B$12","v":-9.7782439130369809},-56.717834433676728,-15.665653835403596,-9.7782439130369809,-56.717834433676728,-15.665653835403596,-9.7782439130369809,-56.717834433676728,-15.665653835403596,-9.7782439130369809,{"$f":"IF(P1581=1,K1587*B$1/(B$1+B$2+L1587),99999)","v":99999},34.517618608940033,null,null,null,null,null,{"$f":"(8*U1585+2*U1595)/10","v":-119.06640811238724},247.85066182234499,84.970153445247291,2.2818303507270342E-2,-0.74598101133871064,-9.9637341090245659,-0.89732194698925127,-3.3804348215028313E-2,1.0007629454932498E-2,0.46490667946406461,-1.140852895247005,-9.9077620741307406,4.7175424532947243]
[1352,{"$f":"OFFSET(Calculations!AS$43,$A1590,0)-U$3-B$10","v":-50.110053191860082},{"$f":"OFFSET(Calculations!AT$43,$A1590,0)-V$3-B$11","v":-23.170365988877123},{"$f":"OFFSET(Calculations!AU$43,$A1590,0)-W$3-B$12","v":-9.9068272125157293},-50.110053191860082,-23.170365988877123,-9.9068272125157293,-50.110053191860082,-23.170365988877123,-9.9068272125157293,-50.110053191860082,-23.170365988877123,-9.9068272125157293,null,null,null,{"$f":"IF(P1589=1,K1590*B$1/(B$1+B$2+L1590),99999)","v":99999},15.044118319691986,null,null,{"$f":"(5*U1585+5*U1595)/10","v":-121.88174230798253},247.86770369606657,85.185949684633641,0.1804960175171928,-1.0071534100281525,-9.9343915095210988,-0.87949337586425713,-5.9506635207100089E-2,-1.6592897739883483E-2,0.66876798115840419,-1.1531825780073974,-9.8951830647826569,4.7102793469228121]
[1358,{"$f":"OFFSET(Calculations!AS$43,$A1592,0)-U$3-B$10","v":-40.391456038557294},{"$f":"OFFSET(Calculations!AT$43,$A1592,0)-V$3-B$11","v":-23.418950396637257},{"$f":"OFFSET(Calculations!AU$43,$A1592,0)-W$3-B$12","v":-6.9706031531934567},-40.391456038557294,-23.418950396637257,-6.9706031531934567,-40.391456038557294,-23.418950396637257,-6.9706031531934567,-40.391456038557294,-23.418950396637257,-6.9706031531934567,null,null,null,{"$f":"IF(P1589=1,K1592*B$1/(B$1+B$2+L1592),99999)","v":99999},10.389192816362547,null,null,{"$f":"(3*U1585+7*U1595)/10","v":-123.75863177171277},247.87906494521431,85.329813844224532,0.28561449352380774,-1.1812683424877803,-9.9148297765187881,-0.86439762605223791,-9.116872279687982E-2,-3.8831726959188018E-2,0.81885331135798745,-1.1076680233462841,-9.8867479966971565,4.7054293667946574]
[1360,{"$f":"OFFSET(Calculations!AS$43,$A1593,0)-U$3-B$10","v":-42.579540753684824},{"$f":"OFFSET(Calculations!AT$43,$A1593,0)-V$3-B$11","v":-33.176230903068081},{"$f":"OFFSET(Calculations!AU$43,$A1593,0)-W$3-B$12","v":-7.0587076267279381},-42.579540753684824,-33.176230903068081,-7.0587076267279381,-42.579540753684824,-33.176230903068081,-7.0587076267279381,-42.579540753684824,-33.176230903068081,-7.0587076267279381,null,null,null,{"$f":"IF(P1589=1,K1593*B$1/(B$1+B$2+L1593),99999)","v":99999},6.0913335358541874,null,null,{"$f":"(2*U1585+8*U1595)/10","v":-124.69707650357786},247.88474556978812,85.401745924019991,0.33817373152711527,-1.2683258087175944,-9.9050489100176318,-0.85684975114619988,-0.10699976659168442,-4.9951141568840285E-2,0.89927437107855324,-1.067259971317968,-9.8818850580182271,4.7030019946464225]
[{"$f":"A1589+7","v":1366},{"$f":"OFFSET(Calculations!AS$43,$A1597,0)-U$3-B$10","v":-31.748981295870301},{"$f":"OFFSET(Calculations!AT$43,$A1597,0)-V$3-B$11","v":-30.452962041401463},{"$f":"OFFSET(Calculations!AU$43,$A1597,0)-W$3-B$12","v":-10.121886745813717},{"$f":"B1597*F$5+C1597*F$4","v":-31.748981295870301},{"$f":"C1597*F$5-B1597*F$4","v":-30.452962041401463},{"$f":"D1597","v":-10.121886745813717},-31.748981295870301,{"$f":"F1597*F$7+G1597*F$6","v":-30.452962041401463},{"$f":"G1597*F$7-F1597*F$6","v":-10.121886745813717},{"$f":"H1597*F$9+J1597*F$8","v":-31.748981295870301},{"$f":"I1597","v":-30.452962041401463},{"$f":"J1597*F$9-H1597*F$8","v":-10.121886745813717},null,null,{"$f":"IF(MIN(L1597:L1603)+B$2+B$1>0,1,0)","v":0},{"$f":"IF(P1597=1,K1597*B$1/(B$1+B$2+L1597),99999)","v":99999},{"$f":"M1597*B$1/(B$1+B$2+L1597)","v":9.8977221248684746},null,null,{"$f":"(8*U1595+2*U1605)/10","v":-128.28636429153488},247.7495281769281,85.441776441839693,0.6031467874626173,-1.3216309732764955,-9.8857934027156862,-0.83693894774108912,-0.16045269857406197,-7.8947687422342483E-2,1.2551040708517394,-0.7971723287725645,-9.8575097320185101,4.7016504620102175]
[1359,{"$f":"OFFSET(Calculations!AS$43,$A1598,0)-U$3-B$10","v":-41.506371658959161},{"$f":"OFFSET(Calculations!AT$43,$A1598,0)-V$3-B$11","v":-28.265726808600924},{"$f":"OFFSET(Calculations!AU$43,$A1598,0)-W$3-B$12","v":-10.025081070872968},-41.506371658959161,-28.265726808600924,-10.025081070872968,-41.506371658959161,-28.265726808600924,-10.025081070872968,-41.506371658959161,-28.265726808600924,-10.025081070872968,null,null,null,{"$f":"IF(P1597=1,K1598*B$1/(B$1+B$2+L1598),99999)","v":99999},10.976930921962964,null,null,{"$f":"(7*U1595+3*U1605)/10","v":-129.14256345364828},247.67623885592428,85.389859620954113,0.68307407742706094,-1.2612260893261322,-9.8859465155658679,-0.83453142094455757,-0.17134812077028982,-8.2326545739434209E-2,1.3500321061464102,-0.7163611548575709,-9.8492536971333919,4.7034032116584141]
[1360,{"$f":"OFFSET(Calculations!AS$43,$A1602,0)-U$3-B$10","v":-42.579540753684824},{"$f":"OFFSET(Calculations!AT$43,$A1602,0)-V$3-B$11","v":-33.176230903068081},{"$f":"OFFSET(Calculations!AU$43,$A1602,0)-W$3-B$12","v":-7.0587076267279381},-42.579540753684824,-33.176230903068081,-7.0587076267279381,-42.579540753684824,-33.176230903068081,-7.0587076267279381,-42.579540753684824,-33.176230903068081,-7.0587076267279381,null,null,null,{"$f":"IF(P1597=1,K1602*B$1/(B$1+B$2+L1602),99999)","v":99999},6.0913335358541874,null,null,{"$f":"(3*U1595+7*U1605)/10","v":-132.56736010210193},247.38308157190886,85.182192337411749,1.0027832372848351,-1.0196065535246788,-9.8865589669665983,-0.8084479100267572,-0.24470845916215467,-0.11492412026304066,1.7434629381456668,-0.3639619549953913,-9.802504544938861,4.7104059304889336]
[" ",null,null,null,null,null,null,null,null,null,null,null,null,null,null,null,null,null,null,null,{"$f":"(1*U1595+9*U1605)/10","v":-134.27975842632875},247.23650292990115,85.07835869564056,1.1626378172137222,-0.89879678562395215,-9.8868651926669635,-0.7926639206125401,-0.28635173662590319,-0.13440326440068873,1.9422031382655796,-0.16577212772239722,-9.7669315484010539,4.7139023384373271]
[1365,{"$f":"OFFSET(Calculations!AS$43,$A1607,0)-U$3-B$10","v":-32.281983620851356},{"$f":"OFFSET(Calculations!AT$43,$A1607,0)-V$3-B$11","v":-25.515986995318414},{"$f":"OFFSET(Calculations!AU$43,$A1607,0)-W$3-B$12","v":-7.0490275408229977},-32.281983620851356,-25.515986995318414,-7.0490275408229977,-32.281983620851356,-25.515986995318414,-7.0490275408229977,-32.281983620851356,-25.515986995318414,-7.0490275408229977,null,null,null,{"$f":"IF(P1605=1,K1607*B$1/(B$1+B$2+L1607),99999)","v":99999},9.0861477815750646,null,null,{"$f":"(8*U1605+2*U1615)/10","v":-136.77131505517974},246.66798145660897,84.81448476683677,1.462422668427962,-0.63595697391434103,-9.8536879402763162,-0.7738029900843344,-0.32702580842902762,-0.15686426397302,2.2399209419207318,0.15720932814939914,-9.6987056760970525,4.7227730338621488]
[1367,{"$f":"OFFSET(Calculations!AS$43,$A1610,0)-U$3-B$10","v":-31.174149247974352},{"$f":"OFFSET(Calculations!AT$43,$A1610,0)-V$3-B$11","v":-35.453791773783458},{"$f":"OFFSET(Calculations!AU$43,$A1610,0)-W$3-B$12","v":-7.1618955495064638},-31.174149247974352,-35.453791773783458,-7.1618955495064638,-31.174149247974352,-35.453791773783458,-7.1618955495064638,-31.174149247974352,-35.453791773783458,-7.1618955495064638,null,null,null,{"$f":"IF(P1605=1,K1610*B$1/(B$1+B$2+L1610),99999)","v":99999},5.6273702662115541,null,null,{"$f":"(5*U1605+5*U1615)/10","v":-139.22435125528614},245.92513322817649,84.49654910495947,1.7922090103026562,-0.33230458227546933,-9.8036923924150727,-0.74924655543372864,-0.36485040089704057,-0.18216504943791278,2.5244171162155298,0.49368149550602602,-9.6197879263713002,4.7334331354827448]
[" ",null,null,null,null,null,null,null,null,null,null,null,null,null,null,null,null,null,null,null,{"$f":"(3*U1605+7*U1615)/10","v":-140.8597087220237},245.42990107588821,84.284591997041261,2.0120665715524524,-0.12986965451622154,-9.7703620271742437,-0.7220715577747967,-0.40079471969065139,-0.20732376536075492,2.6997024250805048,0.72632723711946989,-9.5589969126866787,4.7405229920560661]
[{"$f":"A1605+7","v":1380},{"$f":"OFFSET(Calculations!AS$43,$A1613,0)-U$3-B$10","v":-12.774807575816045},{"$f":"OFFSET(Calculations!AT$43,$A1613,0)-V$3-B$11","v":-25.060697692586579},{"$f":"OFFSET(Calculations!AU$43,$A1613,0)-W$3-B$12","v":-10.212374057421226},{"$f":"B1613*F$5+C1613*F$4","v":-12.774807575816045},{"$f":"C1613*F$5-B1613*F$4","v":-25.060697692586579},{"$f":"D1613","v":-10.212374057421226},-12.774807575816045,{"$f":"F1613*F$7+G1613*F$6","v":-25.060697692586579},{"$f":"G1613*F$7-F1613*F$6","v":-10.212374057421226},{"$f":"H1613*F$9+J1613*F$8","v":-12.774807575816045},{"$f":"I1613","v":-25.060697692586579},{"$f":"J1613*F$9-H1613*F$8","v":-10.212374057421226},null,null,{"$f":"IF(MIN(L1613:L1619)+B$2+B$1>0,1,0)","v":0},{"$f":"IF(P1613=1,K1613*B$1/(B$1+B$2+L1613),99999)","v":99999},{"$f":"M1613*B$1/(B$1+B$2+L1613)","v":13.561621467839602},null,null,{"$f":"(2*U1605+8*U1615)/10","v":-141.67738745539251},245.18228499974407,84.17861344308217,2.1219953521773505,-2.8652190636597651E-2,-9.7536968445538292,-0.7084840589452881,-0.4187668790874568,-0.21990312332216888,2.7818330894612835,0.84560004236523234,-9.5255830082389554,4.7440628857685923]
[1381,{"$f":"OFFSET(Calculations!AS$43,$A1617,0)-U$3-B$10","v":-9.2580044560879369},{"$f":"OFFSET(Calculations!AT$43,$A1617,0)-V$3-B$11","v":-28.667103829874534},{"$f":"OFFSET(Calculations!AU$43,$A1617,0)-W$3-B$12","v":-7.2420209300781719},-9.2580044560879369,-28.667103829874534,-7.2420209300781719,-9.2580044560879369,-28.667103829874534,-7.2420209300781719,-9.2580044560879369,-28.667103829874534,-7.2420209300781719,null,null,null,{"$f":"IF(P1613=1,K1617*B$1/(B$1+B$2+L1617),99999)","v":99999},7.7591264248374276,null,null,{"$f":"(8*U1615+2*U1625)/10","v":-144.77259941572987},243.87418176602802,83.551156387190105,2.5080332390266959,0.41511517684368188,-9.6527579488994206,-0.66510299944852136,-0.4708030836034709,-0.25749912766436012,3.0752865602537449,1.34114194569308,-9.3728759324069664,4.7649530085464358]
[1374,{"$f":"OFFSET(Calculations!AS$43,$A1618,0)-U$3-B$10","v":-19.648342226165234},{"$f":"OFFSET(Calculations!AT$43,$A1618,0)-V$3-B$11","v":-33.894099927096953},{"$f":"OFFSET(Calculations!AU$43,$A1618,0)-W$3-B$12","v":-7.2253030028750587},-19.648342226165234,-33.894099927096953,-7.2253030028750587,-19.648342226165234,-33.894099927096953,-7.2253030028750587,-19.648342226165234,-33.894099927096953,-7.2253030028750587,null,null,null,{"$f":"IF(P1613=1,K1618*B$1/(B$1+B$2+L1618),99999)","v":99999},6.0477716464902276,null,null,{"$f":"(7*U1615+3*U1625)/10","v":-145.50252666252973},243.4677462253141,83.343406413203169,2.5911234018264708,0.53578139670419778,-9.6189536836926308,-0.65699996852964659,-0.47884902646464411,-0.26371777187404177,3.142398751690302,1.4678167712380328,-9.331543087931168,4.7718441974794761]
[{"$f":"A1613+7","v":1387},{"$f":"OFFSET(Calculations!AS$43,$A1621,0)-U$3-B$10","v":-5.6255163282500078},{"$f":"OFFSET(Calculations!AT$43,$A1621,0)-V$3-B$11","v":-18.068736144314212},{"$f":"OFFSET(Calculations!AU$43,$A1621,0)-W$3-B$12","v":-10.197939204867245},{"$f":"B1621*F$5+C1621*F$4","v":-5.6255163282500078},{"$f":"C1621*F$5-B1621*F$4","v":-18.068736144314212},{"$f":"D1621","v":-10.197939204867245},-5.6255163282500078,{"$f":"F1621*F$7+G1621*F$6","v":-18.068736144314212},{"$f":"G1621*F$7-F1621*F$6","v":-10.197939204867245},{"$f":"H1621*F$9+J1621*F$8","v":-5.6255163282500078},{"$f":"I1621","v":-18.068736144314212},{"$f":"J1621*F$9-H1621*F$8","v":-10.197939204867245},null,null,{"$f":"IF(MIN(L1621:L1627)+B$2+B$1>0,1,0)","v":0},{"$f":"IF(P1621=1,K1621*B$1/(B$1+B$2+L1621),99999)","v":99999},{"$f":"M1621*B$1/(B$1+B$2+L1621)","v":25.277661885259235},null,null,{"$f":"(4*U1615+6*U1625)/10","v":-147.6923084029294},242.24843960317247,82.720156491242392,2.840393890225795,0.89778005628574531,-9.5175408880722614,-0.61224578060460999,-0.514327132570088,-0.29376087091578995,3.3295577738930815,1.8525880493473426,-9.2011451263009771,4.7924426337849582]
[1379,{"$f":"OFFSET(Calculations!AS$43,$A1623,0)-U$3-B$10","v":-16.24955911332497},{"$f":"OFFSET(Calculations!AT$43,$A1623,0)-V$3-B$11","v":-21.518484918385912},{"$f":"OFFSET(Calculations!AU$43,$A1623,0)-W$3-B$12","v":-7.1178793448741811},-16.24955911332497,-21.518484918385912,-7.1178793448741811,-16.24955911332497,-21.518484918385912,-7.1178793448741811,-16.24955911332497,-21.518484918385912,-7.1178793448741811,null,null,null,{"$f":"IF(P1621=1,K1623*B$1/(B$1+B$2+L1623),99999)","v":99999},12.359054850195717,null,null,{"$f":"(2*U1615+8*U1625)/10","v":-149.15216289652918},241.4355685217447,82.304656543268521,3.0065742158253443,1.1391124960067771,-9.4499323576586818,-0.57559462359853342,-0.54175929581430182,-0.31758532574785647,3.4348365710601843,2.1138991178878568,-9.1062448169165613,4.8061129932705953]
[1380,{"$f":"OFFSET(Calculations!AS$43,$A1627,0)-U$3-B$10","v":-12.774807575816045},{"$f":"OFFSET(Calculations!AT$43,$A1627,0)-V$3-B$11","v":-25.060697692586579},{"$f":"OFFSET(Calculations!AU$43,$A1627,0)-W$3-B$12","v":-10.212374057421226},-12.774807575816045,-25.060697692586579,-10.212374057421226,-12.774807575816045,-25.060697692586579,-10.212374057421226,-12.774807575816045,-25.060697692586579,-10.212374057421226,null,null,null,{"$f":"IF(P1621=1,K1627*B$1/(B$1+B$2+L1627),99999)","v":99999},13.561621467839602,null,null,{"$f":"(8*U1625+2*U1635)/10","v":-151.81257489432329},239.55235618733087,81.274660032611067,3.2750229815715728,1.6458117981865883,-9.2846009797554867,-0.51849837142418664,-0.58053173658035462,-0.3527969469926262,3.5970955717562263,2.6476672543184687,-8.8970564766403957,4.8397910418677235]
[" ",null,null,null,null,null,null,null,null,null,null,null,null,null,null,null,null,null,null,null,{"$f":"(7*U1625+3*U1635)/10","v":-152.41285364642044},239.01718556083779,80.967411751269267,3.3261572016449121,1.7784952294159779,-9.2357395560106799,-0.50827582384007997,-0.58620187534123147,-0.35849053019897781,3.6306772031537391,2.7822734632368458,-8.842171102887292,4.8497801645734349]
[1393,{"$f":"OFFSET(Calculations!AS$43,$A1632,0)-U$3-B$10","v":-6.0762985898227022},{"$f":"OFFSET(Calculations!AT$43,$A1632,0)-V$3-B$11","v":-8.4983603565738122},{"$f":"OFFSET(Calculations!AU$43,$A1632,0)-W$3-B$12","v":-7.0506057886560374},-6.0762985898227022,-8.4983603565738122,-7.0506057886560374,-6.0762985898227022,-8.4983603565738122,-7.0506057886560374,-6.0762985898227022,-8.4983603565738122,-7.0506057886560374,null,null,null,{"$f":"IF(P1629=1,K1632*B$1/(B$1+B$2+L1632),99999)","v":99999},-93.905429568563534,null,null,{"$f":"(3*U1625+7*U1635)/10","v":-154.81396865480914},236.87650305486559,79.738418625902057,3.5306940819382704,2.3092289543335367,-9.0402938610314489,-0.43224818771000173,-0.61771780340913551,-0.39571846701339553,3.7362956739265925,3.3222462199226235,-8.6135440503503489,4.8894801191013784]
[1395,{"$f":"OFFSET(Calculations!AS$43,$A1633,0)-U$3-B$10","v":3.8347075459637305},{"$f":"OFFSET(Calculations!AT$43,$A1633,0)-V$3-B$11","v":-9.8269327294870727},{"$f":"OFFSET(Calculations!AU$43,$A1633,0)-W$3-B$12","v":-7.1333875881941875},3.8347075459637305,-9.8269327294870727,-7.1333875881941875,3.8347075459637305,-9.8269327294870727,-7.1333875881941875,3.8347075459637305,-9.8269327294870727,-7.1333875881941875,null,null,null,{"$f":"IF(P1629=1,K1633*B$1/(B$1+B$2+L1633),99999)","v":99999},-824.34853996976392,null,null,{"$f":"(2*U1625+8*U1635)/10","v":-155.41424740690633},236.34133242837251,79.431170344560257,3.5818283020116097,2.4419123855629268,-8.9914324372866421,-0.4103131581946684,-0.62633306651144949,-0.40622991821607002,3.7521396184292977,3.4571986137976518,-8.5533380878279015,4.8993419531018718]
[1387,{"$f":"OFFSET(Calculations!AS$43,$A1635,0)-U$3-B$10","v":-5.6255163282500078},{"$f":"OFFSET(Calculations!AT$43,$A1635,0)-V$3-B$11","v":-18.068736144314212},{"$f":"OFFSET(Calculations!AU$43,$A1635,0)-W$3-B$12","v":-10.197939204867245},-5.6255163282500078,-18.068736144314212,-10.197939204867245,-5.6255163282500078,-18.068736144314212,-10.197939204867245,-5.6255163282500078,-18.068736144314212,-10.197939204867245,null,null,null,{"$f":"IF(P1629=1,K1635*B$1/(B$1+B$2+L1635),99999)","v":99999},25.277661885259235,null,{"$f":"T1625+7","v":1113},{"$f":"OFFSET(Calculations!AS$46,$T1635,0)","v":-156.61480491110069},{"$f":"OFFSET(Calculations!AT$46,$T1635,0)","v":235.2709911753864},{"$f":"OFFSET(Calculations!AU$46,$T1635,0)","v":78.816673781876659},{"$f":"OFFSET(Calculations!AS$43,$T1635,0)-OFFSET(Calculations!AS$45,$T1635,0)","v":3.6840967421582889},{"$f":"OFFSET(Calculations!AT$43,$T1635,0)-OFFSET(Calculations!AT$45,$T1635,0)","v":2.7072792480217061},{"$f":"OFFSET(Calculations!AU$43,$T1635,0)-OFFSET(Calculations!AU$45,$T1635,0)","v":-8.8937095897970266},-0.36644309916397333,-0.64356359271604902,-0.42725282062149006,3.770477967708858,3.7269688920821125,-8.4291115615157395,4.9189911722139943]
[1394,{"$f":"OFFSET(Calculations!AS$43,$A1638,0)-U$3-B$10","v":-1.1419692192413233},{"$f":"OFFSET(Calculations!AT$43,$A1638,0)-V$3-B$11","v":-9.1303240769602745},{"$f":"OFFSET(Calculations!AU$43,$A1638,0)-W$3-B$12","v":-10.145752234098218},-1.1419692192413233,-9.1303240769602745,-10.145752234098218,-1.1419692192413233,-9.1303240769602745,-10.145752234098218,-1.1419692192413233,-9.1303240769602745,-10.145752234098218,null,null,null,{"$f":"IF(P1637=1,K1638*B$1/(B$1+B$2+L1638),99999)","v":-26.261948594595275},-233.32259673549166,null,null,{"$f":"(7*U1635+3*U1645)/10","v":-157.92495888335444},233.39331263538344,77.62163694394637,3.7321838703233481,3.1168662078438016,-8.7109816185128288,-0.33130565337037865,-0.65239896574027512,-0.44170642461047294,3.7711938630670052,4.130566994211442,-8.2354942501324295,4.9569244391792209]
[1402,{"$f":"OFFSET(Calculations!AS$43,$A1641,0)-U$3-B$10","v":5.2083274284877561},{"$f":"OFFSET(Calculations!AT$43,$A1641,0)-V$3-B$11","v":0.7799762749126522},{"$f":"OFFSET(Calculations!AU$43,$A1641,0)-W$3-B$12","v":-7.0306430036660466},5.2083274284877561,0.7799762749126522,-7.0306430036660466,5.2083274284877561,0.7799762749126522,-7.0306430036660466,5.2083274284877561,0.7799762749126522,-7.0306430036660466,null,null,null,{"$f":"IF(P1637=1,K1641*B$1/(B$1+B$2+L1641),99999)","v":9.6629664030127156},-13.043893278369973,null,null,{"$f":"(4*U1635+6*U1645)/10","v":-159.23511285560818},231.51563409538048,76.426600106016082,3.7802709984884073,3.5264531676658977,-8.5282536472286328,-0.27120606266038294,-0.66131179224402104,-0.46345089218003466,3.749429256787749,4.5308052922171385,-8.0369579280900698,4.9944974936600435]
[1394,{"$f":"OFFSET(Calculations!AS$43,$A1643,0)-U$3-B$10","v":-1.1419692192413233},{"$f":"OFFSET(Calculations!AT$43,$A1643,0)-V$3-B$11","v":-9.1303240769602745},{"$f":"OFFSET(Calculations!AU$43,$A1643,0)-W$3-B$12","v":-10.145752234098218},-1.1419692192413233,-9.1303240769602745,-10.145752234098218,-1.1419692192413233,-9.1303240769602745,-10.145752234098218,-1.1419692192413233,-9.1303240769602745,-10.145752234098218,null,null,null,{"$f":"IF(P1637=1,K1643*B$1/(B$1+B$2+L1643),99999)","v":-26.261948594595275},-233.32259673549166,null,null,{"$f":"(2*U1635+8*U1645)/10","v":-160.10854883711067},230.2638484020452,75.629908880729232,3.8123290839317803,3.7995111408806279,-8.4064349997058336,-0.22281895388150019,-0.66727949440638668,-0.48037749175318822,3.7142002938602059,4.7927679188068124,-7.9009150273664339,5.0193510711529141]
[null,null,null,null,null,null,null,null,null,null,null,null,null,null,null,null,null,null,null,null,{"$f":"(9*U1645+U1655)/10","v":-161.23130309846513},228.33904787257984,74.357786154857507,3.8243238442439549,4.2045351615082351,-8.2154103883461218,-0.16195077264438851,-0.67328592330852643,-0.50094952311664542,3.6280994666366779,5.1776243497434029,-7.691070496621311,5.0587206992654723]
[null,null,null,null,null,null,null,null,null,null,null,null,null,null,null,null,null,null,null,null,{"$f":"(6*U1645+4*U1655)/10","v":-161.97925793802102},226.3200033641896,72.931491653102924,3.7641338688503594,4.6004333037468657,-8.0077924968353784,-0.1245075552697017,-0.67340210352787722,-0.5118858184874,3.5156244179593243,5.5544868721404255,-7.4774009903129048,5.1024123805493584]
[null,null,null,null,null,null,null,null,null,null,null,null,null,null,null,null,null,null,null,null,{"$f":"(4*U1645+6*U1655)/10","v":-162.47789449772489},224.9739736919295,71.980628651933188,3.7240072185879627,4.8643653985726187,-7.8693805691615495,-7.4583443336848632E-2,-0.6677394451087082,-0.52367364634190494,3.427781183496172,5.8005105299181912,-7.3337236678176234,5.1312834676861723]
[null,null,null,null,null,null,null,null,null,null,null,null,null,null,null,null,null,null,null,null,{"$f":"(3*U1645+7*U1655)/10","v":-162.72721277757688},224.30095885579939,71.505197151348341,3.7039438934567643,4.9963314459854953,-7.800174605324635,-4.9621387370336834E-2,-0.66490811589918053,-0.5295675602691432,3.3776410315681606,5.9204542280371015,-7.2615514328348798,5.1456436129415781]
[null,null,null,null,null,null,null,null,null,null,null,null,null,null,null,null,null,null,null,null,{"$f":"(9*U1655+U1665)/10","v":-163.52478873765307},221.60827988344263,69.545144240364834,3.5888338774094648,5.511505222409264,-7.5193163401118692,3.7745764037168783E-2,-0.65354407232115364,-0.54949778418790629,3.1356235258798786,6.3797748153796041,-6.9706386680032333,5.2043280311209275]
[null,null,null,null,null,null,null,null,null,null,null,null,null,null,null,null,null,null,null,null,{"$f":"(8*U1655+2*U1665)/10","v":-163.57440985817342},220.93464541947611,69.011385831135911,3.5339138367557608,5.6307808565944013,-7.4460759664098477,5.0226747545423223E-2,-0.65067401637173816,-0.55174626632492618,3.0669334696839057,6.4902845617586769,-6.897606671186721,5.220167507999701]
[null,null,null,null,null,null,null,null,null,null,null,null,null,null,null,null,null,null,null,null,{"$f":"(4*U1655+6*U1665)/10","v":-163.77289434025482},218.24010756360994,66.876352194220232,3.3142336741409451,6.1078833933349532,-7.153114471601759,0.12184865690105084,-0.63366398644456012,-0.55760848516169403,2.7756889301791263,6.9187893853910944,-6.603732704645541,5.2829396685927446]
[null,null,null,null,null,null,null,null,null,null,null,null,null,null,null,null,null,null,null,null,{"$f":"(2*U1655+8*U1665)/10","v":-163.87213658129548},216.89283863567684,65.808835375762385,3.2043935928335374,6.3464346617052287,-7.006633724197715,0.1685085992403117,-0.62239406841609934,-0.55897373972446474,2.6326059022039523,7.1209765865065098,-6.4477778577033149,5.3139832416711803]
["Index",{"$f":"Calculations!C21","v":0},null,{"$f":"8*TRUNC($B$1666/10)","v":0},null,null,null,null,null,null,null,null,null,null,null,null,null,null,null,null,{"$f":"(9*U1665+U1675)/10","v":-163.82130420672505},214.91785613896673,64.171584433883623,3.0081591496329536,6.684225249275352,-6.7873888931156703,0.2260175292410338,-0.60835924732259627,-0.55877313943163642,2.4271312925635526,7.4072793778947625,-6.1987413941876648,5.3611654571787897]
[null,null,"A",null,null,"C",null,null,"A'",null,null,"C'",null,null,null,null,null,null,null,null,{"$f":"(6*U1665+4*U1675)/10","v":-163.37108035989155},213.03471543263572,62.462382063620886,2.7489760639534269,6.9819432068748934,-6.5690966420816697,0.25856449222524702,-0.60006453812789573,-0.55407557486479675,2.2444394721747867,7.6807221750606551,-5.9314012901902302,5.4098826217321436]
[null,{"$f":"(9*B1670+B1680)/10","v":-5},1,-7,5,1,-7,-5,10.994521895368274,-6.8954715367323463,5,10.994521895368274,-6.8954715367323463,null,null,null,null,null,null,null,{"$f":"(4*U1665+6*U1675)/10","v":-163.07093112866923},211.7792882950817,61.322913816779057,2.5761873401670754,7.1804218452745889,-6.4235684747256681,0.30308142034328966,-0.58561677090438025,-0.54770733133754845,2.1418501534219296,7.8561450371609487,-5.7426120994416729,5.4420639120982512]
[null,{"$f":"(8*B1670+2*B1680)/10","v":-5},2,-7,5,2,-7,-5,11.989043790736547,-6.7909430734646934,5,11.989043790736547,-6.7909430734646934,null,null,null,null,null,null,null,{"$f":"(3*U1665+7*U1675)/10","v":-162.92085651305808},211.15157472630466,60.753179693358128,2.4897929782738997,7.2796611644744358,-6.3508043910476681,0.3253398844023252,-0.57839288729266514,-0.54452320957391009,2.1002405199822909,7.9396167543040583,-5.6446357851828495,5.4580674434132161]
[null,{"$f":"(4*B1670+6*B1680)/10","v":-5},6,-7,5,6,-7,-5,15.967131372209639,-6.3728292203940793,5,15.967131372209639,-6.3728292203940793,null,null,null,null,null,null,null,{"$f":"(9*U1675+U1685)/10","v":-162.14697424803089},208.68495890023519,58.499296877364273,2.1952097075617045,7.6604350009847249,-6.027049487693378,0.40352475297692081,-0.55226225591047751,-0.53335257737501962,1.9983688258023364,8.2452388634962404,-5.2288524022505891,5.5208224953009726]
[null,{"$f":"(3*B1670+7*B1680)/10","v":-5},7,-7,5,7,-7,-5,16.961653267577912,-6.2683007571264255,5,16.961653267577912,-6.2683007571264255,null,null,null,null,null,null,null,{"$f":"(8*U1675+2*U1685)/10","v":-161.82331582983716},208.10148378049675,57.954616431633141,2.1598095225290366,7.7434908798954725,-5.9215868353730894,0.41493422937452351,-0.54780327536366258,-0.5317343104670087,1.9858554760982159,8.315589665967293,-5.1209806855834259,5.5358578180375204]
["plus 10",{"$f":"OFFSET(B47,$D$1666+8,0)","v":-5},{"$f":"OFFSET(C47,$D$1666+8,0)","v":10},{"$f":"OFFSET(D47,$D$1666+8,0)","v":-7},{"$f":"OFFSET(B50,$D$1666+8,0)","v":5},{"$f":"OFFSET(C50,$D$1666+8,0)","v":10},{"$f":"OFFSET(D50,$D$1666+8,0)","v":-7},{"$f":"OFFSET(B55,$D$1666+8,0)","v":-5},{"$f":"OFFSET(C55,$D$1666+8,0)","v":19.945218953682733},{"$f":"OFFSET(D55,$D$1666+8,0)","v":-5.9547153673234652},{"$f":"OFFSET(B58,$D$1666+8,0)","v":5},{"$f":"OFFSET(C58,$D$1666+8,0)","v":19.945218953682733},{"$f":"OFFSET(D58,$D$1666+8,0)","v":-5.9547153673234652},null,null,null,null,null,null,null,{"$f":"(5*U1675+5*U1685)/10","v":-160.85234057525597},206.35105842128149,56.320575094439789,2.0536089674310318,7.9926585166277135,-5.6051988784122244,0.45888845727148464,-0.53257855186757297,-0.52395964407448758,1.9679327144103238,8.5157520078607085,-4.7953006232846125,5.5806676892949172]
[null,{"$f":"(8*B1680+2*B1690)/10","v":-5},11.989043790736547,-6.7909430734646934,5,11.989043790736547,-6.7909430734646934,-5,21.901514155150345,-5.5388919856879468,5,21.901514155150345,-5.5388919856879468,null,null,null,null,null,null,null,{"$f":"(3*U1675+7*U1685)/10","v":-160.2050237388685},205.18410818180465,55.231214202977547,1.9828085973656955,8.158770274449207,-5.3942735737716472,0.50115900747496767,-0.51996502706288084,-0.51488337892151748,1.979813264193778,8.6369734341906348,-4.5699090495182961,5.6102989819116935]
[null,{"$f":"(4*B1680+6*B1690)/10","v":-5},15.967131372209639,-6.3728292203940793,5,15.967131372209639,-6.3728292203940793,-5,25.814104558085567,-4.7072452224169092,5,25.814104558085567,-4.7072452224169092,null,null,null,null,null,null,null,{"$f":"(9*U1685+U1695)/10","v":-158.727838443732},202.92155139160047,53.078384690581302,1.8935206237002746,8.4619536153728916,-4.9669165316976365,0.57429063148435944,-0.4991969580003115,-0.49834911552360239,2.0727342108295863,8.8450558344807337,-4.088792989446989,5.6683041975341597]
[null,{"$f":"(3*B1680+7*B1690)/10","v":-5},16.961653267577912,-6.2683007571264255,5,16.961653267577912,-6.2683007571264255,-5,26.792252158819373,-4.4993335315991505,5,26.792252158819373,-4.4993335315991505,null,null,null,null,null,null,null,{"$f":"(8*U1685+2*U1695)/10","v":-158.22162840317668},202.40941996061156,52.559596515378402,1.9104332051328583,8.5159693195643342,-4.8559474465844898,0.58401643018848404,-0.49734917614478036,-0.49542924985513537,2.1071032010571478,8.8917330178961844,-3.9625387696998251,5.6821748284868416]
[null,{"$f":"(9*B1690+B1700)/10","v":-5},20.923366554416539,-5.7468036765057056,5,20.923366554416539,-5.7468036765057056,-5,29.726694961020787,-3.8755984591458712,5,30.640240418663389,-3.4688618160700715,null,null,null,null,null,null,null,{"$f":"(4*U1685+6*U1695)/10","v":-156.19678824095544},200.36089423665598,50.484443814566852,1.9780835308631937,8.7320321363301048,-4.412071106131906,0.63316035318581498,-0.48712378847056925,-0.48091505029420745,2.2715627961433396,9.0655584193130281,-3.435458432142299,5.7372512388217993]
[null,{"$f":"(8*B1690+2*B1700)/10","v":-5},21.901514155150345,-5.5388919856879468,5,21.901514155150345,-5.5388919856879468,-5,29.72669496102079,-3.8755984591458712,5,31.553785876305994,-3.0621251729942713,null,null,null,null,null,null,null,{"$f":"(3*U1685+7*U1695)/10","v":-155.69057820040013},199.84876280566709,49.965655639363959,1.9949961122957773,8.7860478405215474,-4.3011020210187594,0.64800651598034165,-0.48385887648902326,-0.47657781618219275,2.3224924644478397,9.1021943399014091,-3.2978311551874269,5.7509205785320594]
[null,{"$f":"(6*B1690+4*B1700)/10","v":-5},23.857809356617956,-5.1230686040524276,5,23.857809356617956,-5.1230686040524276,-5,29.72669496102079,-3.8755984591458712,5,33.380876791591191,-2.248651886842671,null,null,null,null,null,null,null,{"$f":"(1*U1685+9*U1695)/10","v":-154.67815811928952},198.82449994368932,48.92807928895818,2.0288212751609449,8.8940792489044327,-4.079163850792467,0.67769884156936655,-0.47732905252584601,-0.46790334795819888,2.4379708410897618,9.1651219073364238,-3.0153431734451304,5.7781419433835204]
[null,{"$f":"(3*B1690+7*B1700)/10","v":-5},26.792252158819373,-4.4993335315991505,5,26.792252158819373,-4.4993335315991505,-5,29.72669496102079,-3.8755984591458721,5,36.121513164518994,-1.0284419576152706,null,null,null,null,null,null,null,{"$f":"(8*U1695+2*U1705)/10","v":-152.8483024390909},197.34723467009908,47.465150464740532,2.1593597453785947,9.0225788379313663,-3.67638169426895,0.70278573254461207,-0.4712298802921282,-0.46073137695915278,2.6427422334499542,9.2347009342454243,-2.5757112219123068,5.816261271689406]
["plus 30",{"$f":"OFFSET(B47,$D$1666+24,0)","v":-5},{"$f":"OFFSET(C47,$D$1666+24,0)","v":29.72669496102079},{"$f":"OFFSET(D47,$D$1666+24,0)","v":-3.8755984591458716},{"$f":"OFFSET(B50,$D$1666+24,0)","v":5},{"$f":"OFFSET(C50,$D$1666+24,0)","v":29.72669496102079},{"$f":"OFFSET(D50,$D$1666+24,0)","v":-3.8755984591458716},{"$f":"OFFSET(B55,$D$1666+16,0)","v":-5},{"$f":"OFFSET(C55,$D$1666+16,0)","v":29.72669496102079},{"$f":"OFFSET(D55,$D$1666+16,0)","v":-3.8755984591458716},{"$f":"OFFSET(B58,$D$1666+24,0)","v":5},{"$f":"OFFSET(C58,$D$1666+24,0)","v":38.862149537446797},{"$f":"OFFSET(D58,$D$1666+24,0)","v":0.19176797161212988},null,null,null,null,null,null,null,{"$f":"(5*U1695+5*U1705)/10","v":-150.86283397962592},195.89953390619706,46.048939491218391,2.3297985785561934,9.1343046651846009,-3.2386620871533935,0.71819889114237867,-0.46772793951168978,-0.45582509091319423,2.8684205644289378,9.2816340208160266,-2.1318477121778461,5.8528780512759422]
[null,null,null,null,null,null,null,null,null,null,null,null,null,null,null,null,null,null,null,null,{"$f":"(3*U1695+7*U1705)/10","v":-149.53918833998259},194.93440006359572,45.104798842203635,2.4434244673412593,9.2087885500200919,-2.9468490157430223,0.72854375197638888,-0.46639257845515658,-0.45168199259539676,3.0274435180102306,9.2952266421288527,-1.8307800682343838,5.8771365105776434]
["C",{"$f":"OFFSET(E1670,$D$1667,0)","v":5},{"$f":"OFFSET(F1670,$D$1667,0)","v":0},{"$f":"OFFSET(G1670,$D$1667,0)","v":-7},{"$f":"B1706*E$1704+C1706*C$1704","v":5},{"$f":"C1706*E$1704-B1706*C$1704","v":0},-7,5,{"$f":"F1706*I$1704+G1706*G$1704","v":0},{"$f":"G1706*I$1704-F1706*G$1704","v":-7},{"$f":"H1706*M$1704+J1706*K$1704","v":5},{"$f":"I1706","v":0},{"$f":"J1706*M$1704-H1706*K$1704","v":-7},null,null,null,null,null,null,null,{"$f":"(9*U1705+U1715)/10","v":-146.80997123525},193.02680646041017,43.239195439270588,2.7034107621270267,9.3193606215087694,-2.3595820417407074,0.74411310955406407,-0.46513898646810503,-0.4448131644033424,3.3634050982795443,9.2708253215753604,-1.2098306461229602,5.9247194228242828]
["A'",{"$f":"OFFSET(H1670,$D$1667,0)","v":-5},{"$f":"OFFSET(I1670,$D$1667,0)","v":10},{"$f":"OFFSET(J1670,$D$1667,0)","v":-7},{"$f":"B1707*E$1704+C1707*C$1704","v":-5},{"$f":"C1707*E$1704-B1707*C$1704","v":10},-7,-5,{"$f":"F1707*I$1704+G1707*G$1704","v":10},{"$f":"G1707*I$1704-F1707*G$1704","v":-7},{"$f":"H1707*M$1704+J1707*K$1704","v":-5},{"$f":"I1707","v":10},{"$f":"J1707*M$1704-H1707*K$1704","v":-7},null,null,null,null,null,null,null,{"$f":"(8*U1705+2*U1715)/10","v":-146.06622258998246},192.56691362112662,42.789803009859675,2.7929582237351953,9.3182068657442123,-2.2100346748539494,0.74416517588073816,-0.46588843606582486,-0.44415898368797713,3.4490820179181307,9.2563775219110571,-1.0509012312471817,5.9361127925621258]
["index x ",null,null,null,null,null,null,null,null,null,null,null,null,null,null,null,null,null,null,null,{"$f":"(5*U1705+5*U1715)/10","v":-143.83497665417968},191.1872351032759,41.441625721626941,3.0616006085597007,9.3147455984505427,-1.7613925741936747,0.74579043461665151,-0.46883016020794344,-0.44234730702521574,3.7027951694313908,9.2016392281469432,-0.56607123120068603,5.9701361976261422]
["index y","x","y","z",null,null,null,null,null,null,null,null,null,null,null,null,null,null,null,null,{"$f":"(4*U1705+6*U1715)/10","v":-143.09122800891211},190.72734226399231,40.992233292216028,3.1511480701678694,9.3135918426859856,-1.6118452073069165,0.74731156069924509,-0.47027298515453708,-0.44184399179317069,3.7849260636500488,9.1776799265884588,-0.40175900737832448,5.9814256925408795]
[null,{"$f":"OFFSET(AL$1867,A1713,A1712)-B$10-U$3","v":-3044.8215228285248},{"$f":"OFFSET(AL$1890,A1713,A1712)-B$11-V$3","v":-2731.9879138534225},{"$f":"OFFSET(AL$1844,A1713,A1712)-B$12-W$3","v":-207},{"$f":"B1715*F$5+C1715*F$4","v":-3044.8215228285248},{"$f":"C1715*F$5-B1715*F$4","v":-2731.9879138534225},-207,-3044.8215228285248,{"$f":"F1715*F$7+G1715*F$6","v":-2731.9879138534225},{"$f":"G1715*F$7-F1715*F$6","v":-207},{"$f":"H1715*F$9+J1715*F$8","v":-3044.8215228285248},{"$f":"I1715","v":-2731.9879138534225},{"$f":"J1715*F$9-H1715*F$8","v":-207},{"$f":"IF(P1712=1,K1715*B$1/(B$1+B$2+L1715),99999)","v":99999},{"$f":"M1715*B$1/(B$1+B$2+L1715)","v":1.5209472382039888},null,null,null,null,{"$f":"T1705+7","v":1169},{"$f":"OFFSET(Calculations!AS$46,$T1715,0)","v":-140.11623342784179},{"$f":"OFFSET(Calculations!AT$46,$T1715,0)","v":188.88777090685807},{"$f":"OFFSET(Calculations!AU$46,$T1715,0)","v":39.194663574572388},{"$f":"OFFSET(Calculations!AS$43,$T1715,0)-OFFSET(Calculations!AS$45,$T1715,0)","v":3.5093379166005434},{"$f":"OFFSET(Calculations!AT$43,$T1715,0)-OFFSET(Calculations!AT$45,$T1715,0)","v":9.3089768196277589},{"$f":"OFFSET(Calculations!AU$43,$T1715,0)-OFFSET(Calculations!AU$45,$T1715,0)","v":-1.0136557397598835},0.7533960650298468,-0.47604428494079798,-0.43983073086505442,4.094577423337892,9.0437021752687414,0.26910920028115237,6.0263301085103125]
[{"$f":"A1712+1","v":1},{"$f":"OFFSET(AL$1867,A1718,A1717)-B$10-U$3","v":-2744.8215228285248},{"$f":"OFFSET(AL$1890,A1718,A1717)-B$11-V$3","v":-2731.9879138534225},{"$f":"OFFSET(AL$1844,A1718,A1717)-B$12-W$3","v":-207},{"$f":"B1717*F$5+C1717*F$4","v":-2744.8215228285248},{"$f":"C1717*F$5-B1717*F$4","v":-2731.9879138534225},{"$f":"D1717","v":-207},-2744.8215228285248,{"$f":"F1717*F$7+G1717*F$6","v":-2731.9879138534225},{"$f":"G1717*F$7-F1717*F$6","v":-207},{"$f":"H1717*F$9+J1717*F$8","v":-2744.8215228285248},{"$f":"I1717","v":-2731.9879138534225},{"$f":"J1717*F$9-H1717*F$8","v":-207},{"$f":"IF(P1717=1,K1717*B$1/(B$1+B$2+L1717),99999)","v":99999},{"$f":"M1717*B$1/(B$1+B$2+L1717)","v":1.5209472382039888},{"$f":"IF(MIN(L1717:L1720)+B$2+B$1>0,1,0)","v":0},null,null,null,null,{"$f":"(8*U1715+2*U1725)/10","v":-138.62707001485407},187.94400284116179,38.316812498642307,3.6707389336702194,9.2458965359855263,-0.67167164375084598,0.75633418454182788,-0.47743103563834666,-0.44013246183170907,4.2386327074368246,8.9557281216859472,0.61137459896304891,6.0481142151005072]
[null,{"$f":"OFFSET(AL$1867,A1718,A1717)-B$10-U$3","v":-2744.8215228285248},{"$f":"OFFSET(AL$1890,A1718,A1717)-B$11-V$3","v":-2731.9879138534225},{"$f":"OFFSET(AL$1844,A1718,A1717)-B$12-W$3","v":-207},{"$f":"B1720*F$5+C1720*F$4","v":-2744.8215228285248},{"$f":"C1720*F$5-B1720*F$4","v":-2731.9879138534225},-207,-2744.8215228285248,{"$f":"F1720*F$7+G1720*F$6","v":-2731.9879138534225},{"$f":"G1720*F$7-F1720*F$6","v":-207},{"$f":"H1720*F$9+J1720*F$8","v":-2744.8215228285248},{"$f":"I1720","v":-2731.9879138534225},{"$f":"J1720*F$9-H1720*F$8","v":-207},{"$f":"IF(P1717=1,K1720*B$1/(B$1+B$2+L1720),99999)","v":99999},{"$f":"M1720*B$1/(B$1+B$2+L1720)","v":1.5209472382039888},null,null,null,null,null,{"$f":"(5*U1715+5*U1725)/10","v":-136.3933248953725},186.52835074261742,37.000035884747177,3.912840459274733,9.1512761105221756,-0.15869549973728958,0.76072263956706365,-0.47828571595891844,-0.44168869775623421,4.4447084799482548,8.8094052509614382,1.1249349869894663,6.080615246421794]
[{"$f":"A1717+1","v":2},{"$f":"OFFSET(AL$1867,A1723,A1722)-B$10-U$3","v":-2444.8215228285248},{"$f":"OFFSET(AL$1890,A1723,A1722)-B$11-V$3","v":-2731.9879138534225},{"$f":"OFFSET(AL$1844,A1723,A1722)-B$12-W$3","v":-207},{"$f":"B1722*F$5+C1722*F$4","v":-2444.8215228285248},{"$f":"C1722*F$5-B1722*F$4","v":-2731.9879138534225},{"$f":"D1722","v":-207},-2444.8215228285248,{"$f":"F1722*F$7+G1722*F$6","v":-2731.9879138534225},{"$f":"G1722*F$7-F1722*F$6","v":-207},{"$f":"H1722*F$9+J1722*F$8","v":-2444.8215228285248},{"$f":"I1722","v":-2731.9879138534225},{"$f":"J1722*F$9-H1722*F$8","v":-207},{"$f":"IF(P1722=1,K1722*B$1/(B$1+B$2+L1722),99999)","v":99999},{"$f":"M1722*B$1/(B$1+B$2+L1722)","v":1.5209472382039888},{"$f":"IF(MIN(L1722:L1725)+B$2+B$1>0,1,0)","v":0},null,null,null,null,{"$f":"(3*U1715+7*U1725)/10","v":-134.90416148238481},185.58458267692112,36.122184808817096,4.074241476344409,9.088195826879943,0.18328859627174801,0.7636233105935446,-0.47722157520502151,-0.44419770767196098,4.5714821511694712,8.6983213108508046,1.463085615568243,6.1021675836017097]
[null,{"$f":"OFFSET(AL$1867,A1723,A1722)-B$10-U$3","v":-2444.8215228285248},{"$f":"OFFSET(AL$1890,A1723,A1722)-B$11-V$3","v":-2731.9879138534225},{"$f":"OFFSET(AL$1844,A1723,A1722)-B$12-W$3","v":-207},{"$f":"B1725*F$5+C1725*F$4","v":-2444.8215228285248},{"$f":"C1725*F$5-B1725*F$4","v":-2731.9879138534225},-207,-2444.8215228285248,{"$f":"F1725*F$7+G1725*F$6","v":-2731.9879138534225},{"$f":"G1725*F$7-F1725*F$6","v":-207},{"$f":"H1725*F$9+J1725*F$8","v":-2444.8215228285248},{"$f":"I1725","v":-2731.9879138534225},{"$f":"J1725*F$9-H1725*F$8","v":-207},{"$f":"IF(P1722=1,K1725*B$1/(B$1+B$2+L1725),99999)","v":99999},{"$f":"M1725*B$1/(B$1+B$2+L1725)","v":1.5209472382039888},null,null,null,null,{"$f":"T1715+7","v":1176},{"$f":"OFFSET(Calculations!AS$46,$T1725,0)","v":-132.67041636290324},{"$f":"OFFSET(Calculations!AT$46,$T1725,0)","v":184.16893057837675},{"$f":"OFFSET(Calculations!AU$46,$T1725,0)","v":34.805408194921966},{"$f":"OFFSET(Calculations!AS$43,$T1725,0)-OFFSET(Calculations!AS$45,$T1725,0)","v":4.3163430019489226},{"$f":"OFFSET(Calculations!AT$43,$T1725,0)-OFFSET(Calculations!AT$45,$T1725,0)","v":8.9935754014165923},{"$f":"OFFSET(Calculations!AU$43,$T1725,0)-OFFSET(Calculations!AU$45,$T1725,0)","v":0.69626474028530438},0.76797431713328024,-0.47562536407414768,-0.44796122254552984,4.7417886509599354,8.5074315285160029,1.9596459565036057,6.1343264606596541]
[{"$f":"A1723","v":0},{"$f":"OFFSET(AL$1867,A1728+1,A1727)-B$10-U$3","v":-1994.8215228285248},{"$f":"OFFSET(AL$1890,A1728+1,A1727)-B$11-V$3","v":-2472.1802927180906},{"$f":"OFFSET(AL$1844,A1728+1,A1727)-B$12-W$3","v":-207},{"$f":"B1728*F$5+C1728*F$4","v":-1994.8215228285248},{"$f":"C1728*F$5-B1728*F$4","v":-2472.1802927180906},-207,-1994.8215228285248,{"$f":"F1728*F$7+G1728*F$6","v":-2472.1802927180906},{"$f":"G1728*F$7-F1728*F$6","v":-207},{"$f":"H1728*F$9+J1728*F$8","v":-1994.8215228285248},{"$f":"I1728","v":-2472.1802927180906},{"$f":"J1728*F$9-H1728*F$8","v":-207},{"$f":"IF(P1727=1,K1728*B$1/(B$1+B$2+L1728),99999)","v":99999},{"$f":"M1728*B$1/(B$1+B$2+L1728)","v":1.6814365756415437},null,null,null,null,null,{"$f":"(7*U1725+3*U1735)/10","v":-130.36615637513378},182.71999646309118,33.481390037826813,4.4943987442768432,8.8070395177111802,1.2102795403217246,0.76791814440501582,-0.47194902689690821,-0.45127214096910606,4.8922732037555505,8.2931698157187039,2.4433426591181773,6.1664603689473587]
[null,{"$f":"OFFSET(AL$1867,A1728,A1727)-B$10-U$3","v":-2144.8215228285248},{"$f":"OFFSET(AL$1890,A1728,A1727)-B$11-V$3","v":-2731.9879138534225},{"$f":"OFFSET(AL$1844,A1728,A1727)-B$12-W$3","v":-207},{"$f":"B1730*F$5+C1730*F$4","v":-2144.8215228285248},{"$f":"C1730*F$5-B1730*F$4","v":-2731.9879138534225},-207,-2144.8215228285248,{"$f":"F1730*F$7+G1730*F$6","v":-2731.9879138534225},{"$f":"G1730*F$7-F1730*F$6","v":-207},{"$f":"H1730*F$9+J1730*F$8","v":-2144.8215228285248},{"$f":"I1730","v":-2731.9879138534225},{"$f":"J1730*F$9-H1730*F$8","v":-207},{"$f":"IF(P1727=1,K1730*B$1/(B$1+B$2+L1730),99999)","v":99999},{"$f":"M1730*B$1/(B$1+B$2+L1730)","v":1.5209472382039888},null,null,null,null,null,{"$f":"(5*U1725+5*U1735)/10","v":-128.82998304995414},181.75404038623415,32.598711266430044,4.6131025724954569,8.6826822619075728,1.5529560736793382,0.76692514057654648,-0.46754623382528848,-0.45343370538074979,4.9860316700163656,8.1437272859748191,2.7585885329036417,6.1877723963906579]
[null,null,null,null,null,null,null,null,null,null,null,null,null,null,null,null,null,null,null,null,{"$f":"(4*U1725+6*U1735)/10","v":-128.06189638736433},181.27106234780564,32.15737188073166,4.6724544866047637,8.6205036340057681,1.724294340358145,0.76595086099084142,-0.46436888647929209,-0.45449163031787521,5.0316101015569492,8.0656585094870845,2.9113710135469635,6.1983956451175848]
[null,{"$f":"OFFSET(AL$1867,A1733,A1732)-B$10-U$3","v":-1844.8215228285248},{"$f":"OFFSET(AL$1890,A1733,A1732)-B$11-V$3","v":-2731.9879138534225},{"$f":"OFFSET(AL$1844,A1733,A1732)-B$12-W$3","v":-207},{"$f":"B1735*F$5+C1735*F$4","v":-1844.8215228285248},{"$f":"C1735*F$5-B1735*F$4","v":-2731.9879138534225},-207,-1844.8215228285248,{"$f":"F1735*F$7+G1735*F$6","v":-2731.9879138534225},{"$f":"G1735*F$7-F1735*F$6","v":-207},{"$f":"H1735*F$9+J1735*F$8","v":-1844.8215228285248},{"$f":"I1735","v":-2731.9879138534225},{"$f":"J1735*F$9-H1735*F$8","v":-207},{"$f":"IF(P1732=1,K1735*B$1/(B$1+B$2+L1735),99999)","v":99999},{"$f":"M1735*B$1/(B$1+B$2+L1735)","v":1.5209472382039888},null,null,null,null,{"$f":"T1725+7","v":1183},{"$f":"OFFSET(Calculations!AS$46,$T1735,0)","v":-124.98954973700502},{"$f":"OFFSET(Calculations!AT$46,$T1735,0)","v":179.33915019409156},{"$f":"OFFSET(Calculations!AU$46,$T1735,0)","v":30.392014337938122},{"$f":"OFFSET(Calculations!AS$43,$T1735,0)-OFFSET(Calculations!AS$45,$T1735,0)","v":4.9098621430419911},{"$f":"OFFSET(Calculations!AT$43,$T1735,0)-OFFSET(Calculations!AT$45,$T1735,0)","v":8.3717891223985532},{"$f":"OFFSET(Calculations!AU$43,$T1735,0)-OFFSET(Calculations!AU$45,$T1735,0)","v":2.409647407073372},0.76205374264802117,-0.45165949709553388,-0.45872333006636268,5.2074803807573087,7.726509675257228,3.4813149682503957,6.2406733030094381]
[{"$f":"A1732+1","v":5},{"$f":"OFFSET(AL$1867,A1738,A1737)-B$10-U$3","v":-1544.8215228285248},{"$f":"OFFSET(AL$1890,A1738,A1737)-B$11-V$3","v":-2731.9879138534225},{"$f":"OFFSET(AL$1844,A1738,A1737)-B$12-W$3","v":-207},{"$f":"B1737*F$5+C1737*F$4","v":-1544.8215228285248},{"$f":"C1737*F$5-B1737*F$4","v":-2731.9879138534225},{"$f":"D1737","v":-207},-1544.8215228285248,{"$f":"F1737*F$7+G1737*F$6","v":-2731.9879138534225},{"$f":"G1737*F$7-F1737*F$6","v":-207},{"$f":"H1737*F$9+J1737*F$8","v":-1544.8215228285248},{"$f":"I1737","v":-2731.9879138534225},{"$f":"J1737*F$9-H1737*F$8","v":-207},{"$f":"IF(P1737=1,K1737*B$1/(B$1+B$2+L1737),99999)","v":99999},{"$f":"M1737*B$1/(B$1+B$2+L1737)","v":1.5209472382039888},{"$f":"IF(MIN(L1737:L1740)+B$2+B$1>0,1,0)","v":0},null,null,null,null,{"$f":"(8*U1735+2*U1745)/10","v":-123.45397558759359},178.41240838045798,29.474019103356575,4.9865527300685217,8.2051829841692161,2.706124934835787,0.76014263196209697,-0.44775569385501512,-0.45863190099156625,5.2928623659675571,7.5421312987507561,3.7430190838050494,6.2625236795211894]
[null,{"$f":"OFFSET(AL$1867,A1738,A1737)-B$10-U$3","v":-1544.8215228285248},{"$f":"OFFSET(AL$1890,A1738,A1737)-B$11-V$3","v":-2731.9879138534225},{"$f":"OFFSET(AL$1844,A1738,A1737)-B$12-W$3","v":-207},{"$f":"B1740*F$5+C1740*F$4","v":-1544.8215228285248},{"$f":"C1740*F$5-B1740*F$4","v":-2731.9879138534225},-207,-1544.8215228285248,{"$f":"F1740*F$7+G1740*F$6","v":-2731.9879138534225},{"$f":"G1740*F$7-F1740*F$6","v":-207},{"$f":"H1740*F$9+J1740*F$8","v":-1544.8215228285248},{"$f":"I1740","v":-2731.9879138534225},{"$f":"J1740*F$9-H1740*F$8","v":-207},{"$f":"IF(P1737=1,K1740*B$1/(B$1+B$2+L1740),99999)","v":99999},{"$f":"M1740*B$1/(B$1+B$2+L1740)","v":1.5209472382039888},null,null,null,null,null,{"$f":"(5*U1735+5*U1745)/10","v":-121.15061436347648},177.02229566000761,28.097026251484248,5.1015886106083173,7.9552737768252086,3.1508412264794092,0.75451988356941513,-0.44055087934836479,-0.45562269103431419,5.4259496119658426,7.2553105196003935,4.1155136731710149,6.2951301863589082]
[null,null,null,null,null,null,null,null,null,null,null,null,null,null,null,null,null,null,null,null,{"$f":"(4*U1735+6*U1745)/10","v":-120.38282728877077},176.55892475319078,27.638028634193471,5.1399339041215821,7.8719707077105401,3.2990799903606165,0.75080824586264328,-0.43724986808214794,-0.45270491015186209,5.4713875802803269,7.1582379581611235,4.2306942460720105,6.3059544942274064]
[null,{"$f":"OFFSET(AL$1867,A1743,A1742)-B$10-U$3","v":-1244.8215228285248},{"$f":"OFFSET(AL$1890,A1743,A1742)-B$11-V$3","v":-2731.9879138534225},{"$f":"OFFSET(AL$1844,A1743,A1742)-B$12-W$3","v":-207},{"$f":"B1745*F$5+C1745*F$4","v":-1244.8215228285248},{"$f":"C1745*F$5-B1745*F$4","v":-2731.9879138534225},-207,-1244.8215228285248,{"$f":"F1745*F$7+G1745*F$6","v":-2731.9879138534225},{"$f":"G1745*F$7-F1745*F$6","v":-207},{"$f":"H1745*F$9+J1745*F$8","v":-1244.8215228285248},{"$f":"I1745","v":-2731.9879138534225},{"$f":"J1745*F$9-H1745*F$8","v":-207},{"$f":"IF(P1742=1,K1745*B$1/(B$1+B$2+L1745),99999)","v":99999},{"$f":"M1745*B$1/(B$1+B$2+L1745)","v":1.5209472382039888},null,null,null,null,{"$f":"T1735+7","v":1190},{"$f":"OFFSET(Calculations!AS$46,$T1745,0)","v":-117.31167898994795},{"$f":"OFFSET(Calculations!AT$46,$T1745,0)","v":174.70544112592364},{"$f":"OFFSET(Calculations!AU$46,$T1745,0)","v":25.802038165030375},{"$f":"OFFSET(Calculations!AS$43,$T1745,0)-OFFSET(Calculations!AS$45,$T1745,0)","v":5.2933150781746434},{"$f":"OFFSET(Calculations!AT$43,$T1745,0)-OFFSET(Calculations!AT$45,$T1745,0)","v":7.5387584312518641},{"$f":"OFFSET(Calculations!AU$43,$T1745,0)-OFFSET(Calculations!AU$45,$T1745,0)","v":3.8920350458854465},0.73596169503551323,-0.42404582301711002,-0.44103378662205728,5.6572092924449393,6.7689623143667443,4.6283224140874202,6.3490326893843889]
[null,null,null,null,null,null,null,null,null,null,null,null,null,null,null,null,null,null,null,null,{"$f":"(9*U1745+U1755)/10","v":-116.55918080072945},174.2733006450303,25.343771980338015,5.3423574771447919,7.4335818381037999,3.9974757639724872,0.73320561267168216,-0.42269671337106729,-0.43816172027701228,5.7046821802127621,6.6713970539088265,4.7119559251941308,6.359731080779695]
[{"$f":"A1743","v":0},{"$f":"OFFSET(AL$1867,A1748+1,A1747)-B$10-U$3","v":-794.82152282852485},{"$f":"OFFSET(AL$1890,A1748+1,A1747)-B$11-V$3","v":-2472.1802927180906},{"$f":"OFFSET(AL$1844,A1748+1,A1747)-B$12-W$3","v":-207},{"$f":"B1748*F$5+C1748*F$4","v":-794.82152282852485},{"$f":"C1748*F$5-B1748*F$4","v":-2472.1802927180906},-207,-794.82152282852485,{"$f":"F1748*F$7+G1748*F$6","v":-2472.1802927180906},{"$f":"G1748*F$7-F1748*F$6","v":-207},{"$f":"H1748*F$9+J1748*F$8","v":-794.82152282852485},{"$f":"I1748","v":-2472.1802927180906},{"$f":"J1748*F$9-H1748*F$8","v":-207},{"$f":"IF(P1747=1,K1748*B$1/(B$1+B$2+L1748),99999)","v":99999},{"$f":"M1748*B$1/(B$1+B$2+L1748)","v":1.6814365756415437},null,null,null,null,null,{"$f":"(7*U1745+3*U1755)/10","v":-115.05418442229248},173.40901968324357,24.427239610953301,5.440442275085088,7.2232286518076707,4.2083572001465663,0.72769344794402002,-0.41999849407898182,-0.43241758758691518,5.7988432001472416,6.4800721993380632,4.8683193439173857,6.3810640537557308]
[null,null,null,null,null,null,null,null,null,null,null,null,null,null,null,null,null,null,null,null,{"$f":"(4*U1745+6*U1755)/10","v":-112.79668985463698},172.11259824056356,23.052441056876226,5.5875694719955336,6.9076988723634773,4.5246793544076862,0.71560961869060691,-0.42384684319534927,-0.4136672357112694,5.9382857247756204,6.203704414207043,5.0732128148621083,6.412905872924572]
[{"$f":"A1748","v":0},{"$f":"OFFSET(AL$1867,A1753+1,A1752)-B$10-U$3","v":-494.82152282852485},{"$f":"OFFSET(AL$1890,A1753+1,A1752)-B$11-V$3","v":-2472.1802927180906},{"$f":"OFFSET(AL$1844,A1753+1,A1752)-B$12-W$3","v":-207},{"$f":"B1753*F$5+C1753*F$4","v":-494.82152282852485},{"$f":"C1753*F$5-B1753*F$4","v":-2472.1802927180906},-207,-494.82152282852485,{"$f":"F1753*F$7+G1753*F$6","v":-2472.1802927180906},{"$f":"G1753*F$7-F1753*F$6","v":-207},{"$f":"H1753*F$9+J1753*F$8","v":-494.82152282852485},{"$f":"I1753","v":-2472.1802927180906},{"$f":"J1753*F$9-H1753*F$8","v":-207},{"$f":"IF(P1752=1,K1753*B$1/(B$1+B$2+L1753),99999)","v":99999},{"$f":"M1753*B$1/(B$1+B$2+L1753)","v":1.6814365756415437},null,null,null,null,null,{"$f":"(2*U1745+8*U1755)/10","v":-111.29169347619998},171.24831727877685,22.135908687491515,5.6856542699358297,6.6973456860673481,4.7355607905817658,0.70628187180103907,-0.42904430195775944,-0.39778895018067928,6.0306453113540615,6.0305917684320773,5.1812676465444021,6.4340300957473087]
[null,null,null,null,null,null,null,null,null,null,null,null,null,null,null,null,null,null,null,null,{"$f":"(9*U1755+U1765)/10","v":-109.07829622636579},169.97348159043344,20.807063194935232,5.8285961036400709,6.4021127937968769,4.9937303928953387,0.69504633383050418,-0.43818959974743166,-0.3768435882298391,6.1684444301905694,5.7887269471006411,5.2981460222318164,6.4645122796665557]
[null,{"$f":"OFFSET(AL$1867,A1758,A1757+1)-B$10-U$3","v":-44.821522828524849},{"$f":"OFFSET(AL$1890,A1758,A1757+1)-B$11-V$3","v":-2731.9879138534225},{"$f":"OFFSET(AL$1844,A1758,A1757+1)-B$12-W$3","v":-207},{"$f":"B1759*F$5+C1759*F$4","v":-44.821522828524849},{"$f":"C1759*F$5-B1759*F$4","v":-2731.9879138534225},-207,-44.821522828524849,{"$f":"F1759*F$7+G1759*F$6","v":-2731.9879138534225},{"$f":"G1759*F$7-F1759*F$6","v":-207},{"$f":"H1759*F$9+J1759*F$8","v":-44.821522828524849},{"$f":"I1759","v":-2731.9879138534225},{"$f":"J1759*F$9-H1759*F$8","v":-207},{"$f":"IF(P1757=1,K1759*B$1/(B$1+B$2+L1759),99999)","v":99999},{"$f":"M1759*B$1/(B$1+B$2+L1759)","v":1.5209472382039888},null,null,null,null,null,{"$f":"(6*U1755+4*U1765)/10","v":-106.95309361217423},168.7418174107633,19.570123825420541,5.9631672109319025,6.1474736758738517,5.1355948913138185,0.68932296058761722,-0.45003311682910407,-0.36164235896909958,6.3069247469920224,5.5606157698762768,5.3825869586963275,6.492734227778115]
[null,null,null,null,null,null,null,null,null,null,null,null,null,null,null,null,null,null,null,null,{"$f":"(4*U1755+6*U1765)/10","v":-105.53629186937982},167.92070795764988,18.745497579077412,6.0528812824597908,5.9777142639251677,5.2301712235928051,0.67656025254572683,-0.47145112591445582,-0.34225615685770272,6.3999592476436193,5.4128232992682781,5.4272129103479987,6.5114685754879371]
[null,{"$f":"OFFSET(AL$1867,A1763,A1762)-B$10-U$3","v":-44.821522828524849},{"$f":"OFFSET(AL$1890,A1763,A1762)-B$11-V$3","v":-2731.9879138534225},{"$f":"OFFSET(AL$1844,A1763,A1762)-B$12-W$3","v":-207},{"$f":"B1765*F$5+C1765*F$4","v":-44.821522828524849},{"$f":"C1765*F$5-B1765*F$4","v":-2731.9879138534225},-207,-44.821522828524849,{"$f":"F1765*F$7+G1765*F$6","v":-2731.9879138534225},{"$f":"G1765*F$7-F1765*F$6","v":-207},{"$f":"H1765*F$9+J1765*F$8","v":-44.821522828524849},{"$f":"I1765","v":-2731.9879138534225},{"$f":"J1765*F$9-H1765*F$8","v":-207},{"$f":"IF(P1762=1,K1765*B$1/(B$1+B$2+L1765),99999)","v":99999},{"$f":"M1765*B$1/(B$1+B$2+L1765)","v":1.5209472382039888},null,null,null,null,{"$f":"T1755+7","v":1204},{"$f":"OFFSET(Calculations!AS$46,$T1765,0)","v":-102.70268838379107},{"$f":"OFFSET(Calculations!AT$46,$T1765,0)","v":166.27848905142301},{"$f":"OFFSET(Calculations!AU$46,$T1765,0)","v":17.096245086391153},{"$f":"OFFSET(Calculations!AS$43,$T1765,0)-OFFSET(Calculations!AS$45,$T1765,0)","v":6.2323094255155667},{"$f":"OFFSET(Calculations!AT$43,$T1765,0)-OFFSET(Calculations!AT$45,$T1765,0)","v":5.6381954400278005},{"$f":"OFFSET(Calculations!AU$43,$T1765,0)-OFFSET(Calculations!AU$45,$T1765,0)","v":5.4193238881507781},0.65103483646193183,-0.51428714408507403,-0.30348375263491079,6.5867813033350906,5.1155622471538926,5.4912958656632371,6.5487475146885714]
[null,null,null,null,null,null,null,null,null,null,null,null,null,null,null,null,null,null,null,null,{"$f":"(9*U1765+U1775)/10","v":-102.02481216968917},165.80476890043047,16.765005185943529,6.279772600952592,5.5710010278525655,5.4283296796542926,0.64656127352192527,-0.5210483096005305,-0.29885772799945975,6.6336437035888505,5.040897794354799,5.502073073661192,6.5562045459895106]
[null,{"$f":"OFFSET(AL$1867,A1768,A1767+1)-B$10-U$3","v":555.17847717147515},{"$f":"OFFSET(AL$1890,A1768,A1767+1)-B$11-V$3","v":-2731.9879138534225},{"$f":"OFFSET(AL$1844,A1768,A1767+1)-B$12-W$3","v":-207},{"$f":"B1769*F$5+C1769*F$4","v":555.17847717147515},{"$f":"C1769*F$5-B1769*F$4","v":-2731.9879138534225},-207,555.17847717147515,{"$f":"F1769*F$7+G1769*F$6","v":-2731.9879138534225},{"$f":"G1769*F$7-F1769*F$6","v":-207},{"$f":"H1769*F$9+J1769*F$8","v":555.17847717147515},{"$f":"I1769","v":-2731.9879138534225},{"$f":"J1769*F$9-H1769*F$8","v":-207},{"$f":"IF(P1767=1,K1769*B$1/(B$1+B$2+L1769),99999)","v":99999},{"$f":"M1769*B$1/(B$1+B$2+L1769)","v":1.5209472382039888},null,null,null,null,null,{"$f":"(6*U1765+4*U1775)/10","v":-99.991183527383527},164.38360844745279,15.771285484600654,6.4221621272636664,5.3694177913268621,5.4553470541648368,0.63314058470194823,-0.5413318061467578,-0.28497965409310133,6.7736301291668628,4.8094343953336578,5.5361761141494954,6.5785158314922993]
[null,{"$f":"OFFSET(AL$1867,A1768,A1767)-B$10-U$3","v":255.17847717147515},{"$f":"OFFSET(AL$1890,A1768,A1767)-B$11-V$3","v":-2731.9879138534225},{"$f":"OFFSET(AL$1844,A1768,A1767)-B$12-W$3","v":-207},{"$f":"B1770*F$5+C1770*F$4","v":255.17847717147515},{"$f":"C1770*F$5-B1770*F$4","v":-2731.9879138534225},-207,255.17847717147515,{"$f":"F1770*F$7+G1770*F$6","v":-2731.9879138534225},{"$f":"G1770*F$7-F1770*F$6","v":-207},{"$f":"H1770*F$9+J1770*F$8","v":255.17847717147515},{"$f":"I1770","v":-2731.9879138534225},{"$f":"J1770*F$9-H1770*F$8","v":-207},{"$f":"IF(P1767=1,K1770*B$1/(B$1+B$2+L1770),99999)","v":99999},{"$f":"M1770*B$1/(B$1+B$2+L1770)","v":1.5209472382039888},null,null,null,null,null,{"$f":"(5*U1765+5*U1775)/10","v":-99.313307313281626},163.90988829646022,15.44004558415303,6.4696253027006918,5.3022233791516271,5.4643528456683512,0.62279810777056355,-0.55584488166778101,-0.27558953875264969,6.820092012631779,4.7297899154519918,5.5481342664770761,6.5859331232411051]
[null,{"$f":"OFFSET(AL$1867,A1773,A1772+1)-B$10-U$3","v":855.17847717147515},{"$f":"OFFSET(AL$1890,A1773,A1772+1)-B$11-V$3","v":-2731.9879138534225},{"$f":"OFFSET(AL$1844,A1773,A1772+1)-B$12-W$3","v":-207},{"$f":"B1774*F$5+C1774*F$4","v":855.17847717147515},{"$f":"C1774*F$5-B1774*F$4","v":-2731.9879138534225},-207,855.17847717147515,{"$f":"F1774*F$7+G1774*F$6","v":-2731.9879138534225},{"$f":"G1774*F$7-F1774*F$6","v":-207},{"$f":"H1774*F$9+J1774*F$8","v":855.17847717147515},{"$f":"I1774","v":-2731.9879138534225},{"$f":"J1774*F$9-H1774*F$8","v":-207},{"$f":"IF(P1772=1,K1774*B$1/(B$1+B$2+L1774),99999)","v":99999},{"$f":"M1774*B$1/(B$1+B$2+L1774)","v":1.5209472382039888},null,null,null,null,null,{"$f":"(1*U1765+9*U1775)/10","v":-96.601802456874083},162.01500769249003,14.115085982362526,6.6594780044487916,5.0334457304506888,5.5003760116824099,0.58142820004495377,-0.61389718375170332,-0.23802907739084311,6.9946833115873144,4.3956604654770857,5.6033034304414047,6.6155043190945682]
[null,null,null,null,null,null,null,null,null,null,null,null,null,null,null,null,null,null,null,null,{"$f":"(9*U1775+U1785)/10","v":-95.317627035710203},160.95938874225814,13.526622575634514,6.7528022881674676,4.8791367977699283,5.5231113720079446,0.56521680912214833,-0.63616216927826486,-0.22387487134539263,7.0752252201226042,4.2192648222206879,5.6352899452159733,6.6285881541867813]
[null,{"$f":"OFFSET(AL$1867,A1778,A1777+1)-B$10-U$3","v":1155.1784771714752},{"$f":"OFFSET(AL$1890,A1778,A1777+1)-B$11-V$3","v":-2731.9879138534225},{"$f":"OFFSET(AL$1844,A1778,A1777+1)-B$12-W$3","v":-207},{"$f":"B1779*F$5+C1779*F$4","v":1155.1784771714752},{"$f":"C1779*F$5-B1779*F$4","v":-2731.9879138534225},-207,1155.1784771714752,{"$f":"F1779*F$7+G1779*F$6","v":-2731.9879138534225},{"$f":"G1779*F$7-F1779*F$6","v":-207},{"$f":"H1779*F$9+J1779*F$8","v":1155.1784771714752},{"$f":"I1779","v":-2731.9879138534225},{"$f":"J1779*F$9-H1779*F$8","v":-207},{"$f":"IF(P1777=1,K1779*B$1/(B$1+B$2+L1779),99999)","v":99999},{"$f":"M1779*B$1/(B$1+B$2+L1779)","v":1.5209472382039888},null,null,null,null,null,{"$f":"(6*U1775+4*U1785)/10","v":-93.49872941452422},159.21369234454022,12.754952056793352,6.8903856130124179,4.6177932362533509,5.5643000784740071,0.54761006714791449,-0.65941789929493666,-0.20958259923039613,7.1881966819307088,3.9504777501237704,5.6870007168738885,6.6456994464071544]
[{"$f":"A1777+1","v":14},{"$f":"OFFSET(AL$1867,A1783,A1782)-B$10-U$3","v":1155.1784771714752},{"$f":"OFFSET(AL$1890,A1783,A1782)-B$11-V$3","v":-2731.9879138534225},{"$f":"OFFSET(AL$1844,A1783,A1782)-B$12-W$3","v":-207},{"$f":"B1782*F$5+C1782*F$4","v":1155.1784771714752},{"$f":"C1782*F$5-B1782*F$4","v":-2731.9879138534225},{"$f":"D1782","v":-207},1155.1784771714752,{"$f":"F1782*F$7+G1782*F$6","v":-2731.9879138534225},{"$f":"G1782*F$7-F1782*F$6","v":-207},{"$f":"H1782*F$9+J1782*F$8","v":1155.1784771714752},{"$f":"I1782","v":-2731.9879138534225},{"$f":"J1782*F$9-H1782*F$8","v":-207},{"$f":"IF(P1782=1,K1782*B$1/(B$1+B$2+L1782),99999)","v":99999},{"$f":"M1782*B$1/(B$1+B$2+L1782)","v":1.5209472382039888},{"$f":"IF(MIN(L1782:L1785)+B$2+B$1>0,1,0)","v":0},null,null,null,null,{"$f":"(3*U1775+7*U1785)/10","v":-91.679831793338252},157.4679959468223,11.983281537952189,7.0279689378573691,4.3564496747367745,5.6054887849400696,0.50882598359920905,-0.70058354711920856,-0.18306181126616572,7.2889182786989251,3.6785421501740956,5.7435856657755879,6.6627590332692366]
[null,{"$f":"OFFSET(AL$1867,A1783,A1782+1)-B$10-U$3","v":1455.1784771714752},{"$f":"OFFSET(AL$1890,A1783,A1782+1)-B$11-V$3","v":-2731.9879138534225},{"$f":"OFFSET(AL$1844,A1783,A1782+1)-B$12-W$3","v":-207},{"$f":"B1784*F$5+C1784*F$4","v":1455.1784771714752},{"$f":"C1784*F$5-B1784*F$4","v":-2731.9879138534225},-207,1455.1784771714752,{"$f":"F1784*F$7+G1784*F$6","v":-2731.9879138534225},{"$f":"G1784*F$7-F1784*F$6","v":-207},{"$f":"H1784*F$9+J1784*F$8","v":1455.1784771714752},{"$f":"I1784","v":-2731.9879138534225},{"$f":"J1784*F$9-H1784*F$8","v":-207},{"$f":"IF(P1782=1,K1784*B$1/(B$1+B$2+L1784),99999)","v":99999},{"$f":"M1784*B$1/(B$1+B$2+L1784)","v":1.5209472382039888},null,null,null,null,null,{"$f":"(1*U1775+9*U1785)/10","v":-90.467233379214264},156.30419834834365,11.468834525391411,7.1196911544206696,4.1822206337257226,5.632947922584111,0.4829699279000863,-0.72802731233537088,-0.16538128595668411,7.3459045110766104,3.4951056665281914,5.7850483999530855,6.6741035963412347]
[{"$f":"A1782+1","v":15},{"$f":"OFFSET(AL$1867,A1788,A1787)-B$10-U$3","v":1455.1784771714752},{"$f":"OFFSET(AL$1890,A1788,A1787)-B$11-V$3","v":-2731.9879138534225},{"$f":"OFFSET(AL$1844,A1788,A1787)-B$12-W$3","v":-207},{"$f":"B1787*F$5+C1787*F$4","v":1455.1784771714752},{"$f":"C1787*F$5-B1787*F$4","v":-2731.9879138534225},{"$f":"D1787","v":-207},1455.1784771714752,{"$f":"F1787*F$7+G1787*F$6","v":-2731.9879138534225},{"$f":"G1787*F$7-F1787*F$6","v":-207},{"$f":"H1787*F$9+J1787*F$8","v":1455.1784771714752},{"$f":"I1787","v":-2731.9879138534225},{"$f":"J1787*F$9-H1787*F$8","v":-207},{"$f":"IF(P1787=1,K1787*B$1/(B$1+B$2+L1787),99999)","v":99999},{"$f":"M1787*B$1/(B$1+B$2+L1787)","v":1.5209472382039888},{"$f":"IF(MIN(L1787:L1790)+B$2+B$1>0,1,0)","v":0},null,null,null,null,{"$f":"(8*U1785+2*U1795)/10","v":-88.836141005753291},154.3104408304477,10.84961490911023,7.2244586618831592,3.9109523914353588,5.6881660493059787,0.45592367233419395,-0.7536891401485093,-0.14838867940245493,7.4171671057346522,3.2170419618143349,5.8524132342008874,6.6877285911058406]
[null,{"$f":"OFFSET(AL$1867,A1788,A1787+1)-B$10-U$3","v":1755.1784771714752},{"$f":"OFFSET(AL$1890,A1788,A1787+1)-B$11-V$3","v":-2731.9879138534225},{"$f":"OFFSET(AL$1844,A1788,A1787+1)-B$12-W$3","v":-207},{"$f":"B1789*F$5+C1789*F$4","v":1755.1784771714752},{"$f":"C1789*F$5-B1789*F$4","v":-2731.9879138534225},-207,1755.1784771714752,{"$f":"F1789*F$7+G1789*F$6","v":-2731.9879138534225},{"$f":"G1789*F$7-F1789*F$6","v":-207},{"$f":"H1789*F$9+J1789*F$8","v":1755.1784771714752},{"$f":"I1789","v":-2731.9879138534225},{"$f":"J1789*F$9-H1789*F$8","v":-207},{"$f":"IF(P1787=1,K1789*B$1/(B$1+B$2+L1789),99999)","v":99999},{"$f":"M1789*B$1/(B$1+B$2+L1789)","v":1.5209472382039888},null,null,null,null,null,{"$f":"(6*U1785+4*U1795)/10","v":-87.811347839354312},152.89858211179109,10.487618799109432,7.2833650610639982,3.7267986696505204,5.7296546072058252,0.44180544461784166,-0.76562908535365182,-0.14023633550296921,7.4589578119760942,3.0308640421804265,5.899162741282816,6.6956786736597973]
[null,{"$f":"OFFSET(AL$1867,A1788,A1787)-B$10-U$3","v":1455.1784771714752},{"$f":"OFFSET(AL$1890,A1788,A1787)-B$11-V$3","v":-2731.9879138534225},{"$f":"OFFSET(AL$1844,A1788,A1787)-B$12-W$3","v":-207},{"$f":"B1790*F$5+C1790*F$4","v":1455.1784771714752},{"$f":"C1790*F$5-B1790*F$4","v":-2731.9879138534225},-207,1455.1784771714752,{"$f":"F1790*F$7+G1790*F$6","v":-2731.9879138534225},{"$f":"G1790*F$7-F1790*F$6","v":-207},{"$f":"H1790*F$9+J1790*F$8","v":1455.1784771714752},{"$f":"I1790","v":-2731.9879138534225},{"$f":"J1790*F$9-H1790*F$8","v":-207},{"$f":"IF(P1787=1,K1790*B$1/(B$1+B$2+L1790),99999)","v":99999},{"$f":"M1790*B$1/(B$1+B$2+L1790)","v":1.5209472382039888},null,null,null,null,null,{"$f":"(5*U1785+5*U1795)/10","v":-87.298951256154808},152.19265275246275,10.306620744109035,7.3128182606544172,3.6347218087581012,5.7503988861557476,0.42722750072972815,-0.77662121777046877,-0.13293595399971458,7.4783429568962809,2.9375964766709073,5.9230016962221983,6.6996495565370617]
[null,{"$f":"OFFSET(AL$1867,A1793,A1792+1)-B$10-U$3","v":2055.1784771714752},{"$f":"OFFSET(AL$1890,A1793,A1792+1)-B$11-V$3","v":-2731.9879138534225},{"$f":"OFFSET(AL$1844,A1793,A1792+1)-B$12-W$3","v":-207},{"$f":"B1794*F$5+C1794*F$4","v":2055.1784771714752},{"$f":"C1794*F$5-B1794*F$4","v":-2731.9879138534225},-207,2055.1784771714752,{"$f":"F1794*F$7+G1794*F$6","v":-2731.9879138534225},{"$f":"G1794*F$7-F1794*F$6","v":-207},{"$f":"H1794*F$9+J1794*F$8","v":2055.1784771714752},{"$f":"I1794","v":-2731.9879138534225},{"$f":"J1794*F$9-H1794*F$8","v":-207},{"$f":"IF(P1792=1,K1794*B$1/(B$1+B$2+L1794),99999)","v":99999},{"$f":"M1794*B$1/(B$1+B$2+L1794)","v":1.5209472382039888},null,null,null,null,null,{"$f":"(1*U1785+9*U1795)/10","v":-85.249364923356822},149.36893531514949,9.5826285241074434,7.4306310590160951,3.2664143651884245,5.8333760019554397,0.36891572517721727,-0.82058974743821977,-0.10373442798669785,7.5369259496667995,2.5637614661100931,6.0225593998906035,6.7155055001577528]
[null,null,null,null,null,null,null,null,null,null,null,null,null,null,null,null,null,null,null,null,{"$f":"(9*U1795+U1805)/10","v":-84.337517578688448},147.86155703485241,9.2858511653025335,7.4734285707245602,3.0803555160162261,5.8798160414384215,0.34681895125912376,-0.83660403966953822,-9.3209836929931456E-2,7.5548428939059251,2.3763851117160439,6.0748593820713284,6.7219924381315597]
[null,{"$f":"OFFSET(AL$1867,A1798,A1797+1)-B$10-U$3","v":2355.1784771714752},{"$f":"OFFSET(AL$1890,A1798,A1797+1)-B$11-V$3","v":-2731.9879138534225},{"$f":"OFFSET(AL$1844,A1798,A1797+1)-B$12-W$3","v":-207},{"$f":"B1799*F$5+C1799*F$4","v":2355.1784771714752},{"$f":"C1799*F$5-B1799*F$4","v":-2731.9879138534225},-207,2355.1784771714752,{"$f":"F1799*F$7+G1799*F$6","v":-2731.9879138534225},{"$f":"G1799*F$7-F1799*F$6","v":-207},{"$f":"H1799*F$9+J1799*F$8","v":2355.1784771714752},{"$f":"I1799","v":-2731.9879138534225},{"$f":"J1799*F$9-H1799*F$8","v":-207},{"$f":"IF(P1797=1,K1799*B$1/(B$1+B$2+L1799),99999)","v":99999},{"$f":"M1799*B$1/(B$1+B$2+L1799)","v":1.5209472382039888},null,null,null,null,null,{"$f":"(6*U1795+4*U1805)/10","v":-83.13916529428181},145.45721027194625,8.9385132538889991,7.5134615070786994,2.7984095511768885,5.9569033230375963,0.32426246116924062,-0.85167051911275848,-8.353720826939437E-2,7.573540952884084,2.0954614415031769,6.1546039626818976,6.7295751971579998]
[null,{"$f":"OFFSET(AL$1867,A1798,A1797)-B$10-U$3","v":2055.1784771714752},{"$f":"OFFSET(AL$1890,A1798,A1797)-B$11-V$3","v":-2731.9879138534225},{"$f":"OFFSET(AL$1844,A1798,A1797)-B$12-W$3","v":-207},{"$f":"B1800*F$5+C1800*F$4","v":2055.1784771714752},{"$f":"C1800*F$5-B1800*F$4","v":-2731.9879138534225},-207,2055.1784771714752,{"$f":"F1800*F$7+G1800*F$6","v":-2731.9879138534225},{"$f":"G1800*F$7-F1800*F$6","v":-207},{"$f":"H1800*F$9+J1800*F$8","v":2055.1784771714752},{"$f":"I1800","v":-2731.9879138534225},{"$f":"J1800*F$9-H1800*F$8","v":-207},{"$f":"IF(P1797=1,K1800*B$1/(B$1+B$2+L1800),99999)","v":99999},{"$f":"M1800*B$1/(B$1+B$2+L1800)","v":1.5209472382039888},null,null,null,null,null,{"$f":"(5*U1795+5*U1805)/10","v":-82.73971453281294},144.65576135097751,8.822733950084487,7.5268058191967455,2.7044275628971093,5.9825990835706548,0.30959281268341954,-0.8608689899023716,-7.8833954774687243E-2,7.5779957327621386,2.00190540931776,6.1814069311363715,6.732100554407543]
[null,{"$f":"OFFSET(AL$1867,A1803,A1802+1)-B$10-U$3","v":2655.1784771714752},{"$f":"OFFSET(AL$1890,A1803,A1802+1)-B$11-V$3","v":-2731.9879138534225},{"$f":"OFFSET(AL$1844,A1803,A1802+1)-B$12-W$3","v":-207},{"$f":"B1804*F$5+C1804*F$4","v":2655.1784771714752},{"$f":"C1804*F$5-B1804*F$4","v":-2731.9879138534225},-207,2655.1784771714752,{"$f":"F1804*F$7+G1804*F$6","v":-2731.9879138534225},{"$f":"G1804*F$7-F1804*F$6","v":-207},{"$f":"H1804*F$9+J1804*F$8","v":2655.1784771714752},{"$f":"I1804","v":-2731.9879138534225},{"$f":"J1804*F$9-H1804*F$8","v":-207},{"$f":"IF(P1802=1,K1804*B$1/(B$1+B$2+L1804),99999)","v":99999},{"$f":"M1804*B$1/(B$1+B$2+L1804)","v":1.5209472382039888},null,null,null,null,null,{"$f":"(1*U1795+9*U1805)/10","v":-81.141911486937417},141.44996566710256,8.3596167348664423,7.5801830676689308,2.3284996097779924,6.0853821257028882,0.25091421874010678,-0.89766287306113668,-6.0020940795855182E-2,7.5788782301094688,1.6433195985618232,6.2888035525716637,6.7421908771516623]
[null,{"$f":"OFFSET(AL$1867,A1803,A1802)-B$10-U$3","v":2355.1784771714752},{"$f":"OFFSET(AL$1890,A1803,A1802)-B$11-V$3","v":-2731.9879138534225},{"$f":"OFFSET(AL$1844,A1803,A1802)-B$12-W$3","v":-207},{"$f":"B1805*F$5+C1805*F$4","v":2355.1784771714752},{"$f":"C1805*F$5-B1805*F$4","v":-2731.9879138534225},-207,2355.1784771714752,{"$f":"F1805*F$7+G1805*F$6","v":-2731.9879138534225},{"$f":"G1805*F$7-F1805*F$6","v":-207},{"$f":"H1805*F$9+J1805*F$8","v":2355.1784771714752},{"$f":"I1805","v":-2731.9879138534225},{"$f":"J1805*F$9-H1805*F$8","v":-207},{"$f":"IF(P1802=1,K1805*B$1/(B$1+B$2+L1805),99999)","v":99999},{"$f":"M1805*B$1/(B$1+B$2+L1805)","v":1.5209472382039888},null,null,null,null,{"$f":"T1795+7","v":1232},{"$f":"OFFSET(Calculations!AS$46,$T1805,0)","v":-80.742460725468547},{"$f":"OFFSET(Calculations!AT$46,$T1805,0)","v":140.64851674613385},{"$f":"OFFSET(Calculations!AU$46,$T1805,0)","v":8.2438374310619302},{"$f":"OFFSET(Calculations!AS$43,$T1805,0)-OFFSET(Calculations!AS$45,$T1805,0)","v":7.5935273797869769},{"$f":"OFFSET(Calculations!AT$43,$T1805,0)-OFFSET(Calculations!AT$45,$T1805,0)","v":2.2345176214982132},{"$f":"OFFSET(Calculations!AU$43,$T1805,0)-OFFSET(Calculations!AU$45,$T1805,0)","v":6.1110778862359467},0.23624457025428569,-0.90686134385080663,-5.5317687301147167E-2,7.5748646989050785,1.5575827253692713,6.3156988948348376,6.7447106885895396]
[{"$f":"A1802+1","v":19},{"$f":"OFFSET(AL$1867,A1808,A1807)-B$10-U$3","v":2655.1784771714752},{"$f":"OFFSET(AL$1890,A1808,A1807)-B$11-V$3","v":-2731.9879138534225},{"$f":"OFFSET(AL$1844,A1808,A1807)-B$12-W$3","v":-207},{"$f":"B1807*F$5+C1807*F$4","v":2655.1784771714752},{"$f":"C1807*F$5-B1807*F$4","v":-2731.9879138534225},{"$f":"D1807","v":-207},2655.1784771714752,{"$f":"F1807*F$7+G1807*F$6","v":-2731.9879138534225},{"$f":"G1807*F$7-F1807*F$6","v":-207},{"$f":"H1807*F$9+J1807*F$8","v":2655.1784771714752},{"$f":"I1807","v":-2731.9879138534225},{"$f":"J1807*F$9-H1807*F$8","v":-207},{"$f":"IF(P1807=1,K1807*B$1/(B$1+B$2+L1807),99999)","v":99999},{"$f":"M1807*B$1/(B$1+B$2+L1807)","v":1.5209472382039888},{"$f":"IF(MIN(L1807:L1810)+B$2+B$1>0,1,0)","v":0},null,null,null,null,{"$f":"(8*U1805+2*U1815)/10","v":-80.184161763489698},138.88490979013554,8.1154535291652774,7.5917695008550963,2.0479167044406155,6.1660124726505892,0.22194293334257509,-0.91521396580137093,-5.2359599418753788E-2,7.5626456030708331,1.39075787877045,6.3694342828542654,6.7475035338022247]
[null,{"$f":"OFFSET(AL$1867,A1808,A1807)-B$10-U$3","v":2655.1784771714752},{"$f":"OFFSET(AL$1890,A1808,A1807)-B$11-V$3","v":-2731.9879138534225},{"$f":"OFFSET(AL$1844,A1808,A1807)-B$12-W$3","v":-207},{"$f":"B1810*F$5+C1810*F$4","v":2655.1784771714752},{"$f":"C1810*F$5-B1810*F$4","v":-2731.9879138534225},-207,2655.1784771714752,{"$f":"F1810*F$7+G1810*F$6","v":-2731.9879138534225},{"$f":"G1810*F$7-F1810*F$6","v":-207},{"$f":"H1810*F$9+J1810*F$8","v":2655.1784771714752},{"$f":"I1810","v":-2731.9879138534225},{"$f":"J1810*F$9-H1810*F$8","v":-207},{"$f":"IF(P1807=1,K1810*B$1/(B$1+B$2+L1810),99999)","v":99999},{"$f":"M1810*B$1/(B$1+B$2+L1810)","v":1.5209472382039888},null,null,null,null,null,{"$f":"(5*U1805+5*U1815)/10","v":-79.346713320521445},136.23949935613808,7.9228776763202999,7.5891326824572758,1.7680153288542186,6.2484143522725528,0.19969679015120789,-0.92879935015290016,-4.4747376801801408E-2,7.5382816418757894,1.1519298802907434,6.449345519655397,6.7516902588961019]
[{"$f":"A1808+1","v":1},{"$f":"OFFSET(AL$1867,A1813+1,A1812+1)-B$10-U$3","v":-2744.8215228285248},{"$f":"OFFSET(AL$1890,A1813+1,A1812+1)-B$11-V$3","v":-2212.3726715827588},{"$f":"OFFSET(AL$1844,A1813+1,A1812+1)-B$12-W$3","v":-207},{"$f":"B1813*F$5+C1813*F$4","v":-2744.8215228285248},{"$f":"C1813*F$5-B1813*F$4","v":-2212.3726715827588},-207,-2744.8215228285248,{"$f":"F1813*F$7+G1813*F$6","v":-2212.3726715827588},{"$f":"G1813*F$7-F1813*F$6","v":-207},{"$f":"H1813*F$9+J1813*F$8","v":-2744.8215228285248},{"$f":"I1813","v":-2212.3726715827588},{"$f":"J1813*F$9-H1813*F$8","v":-207},{"$f":"IF(P1812=1,K1813*B$1/(B$1+B$2+L1813),99999)","v":99999},{"$f":"M1813*B$1/(B$1+B$2+L1813)","v":1.8797908516657831},null,null,null,null,null,{"$f":"(2*U1805+8*U1815)/10","v":-78.509264877553179},133.59408892214063,7.7303018234753225,7.5864958640594553,1.4881139532678218,6.3308162318945165,0.17586327131225232,-0.9444976373559939,-3.0784972598125293E-2,7.5328198595887566,0.94906771176580629,6.4932891180936965,6.7558739386379507]
[null,{"$f":"OFFSET(AL$1867,A1813,A1812)-B$10-U$3","v":-2894.8215228285248},{"$f":"OFFSET(AL$1890,A1813,A1812)-B$11-V$3","v":-2472.1802927180906},{"$f":"OFFSET(AL$1844,A1813,A1812)-B$12-W$3","v":-207},{"$f":"B1815*F$5+C1815*F$4","v":-2894.8215228285248},{"$f":"C1815*F$5-B1815*F$4","v":-2472.1802927180906},-207,-2894.8215228285248,{"$f":"F1815*F$7+G1815*F$6","v":-2472.1802927180906},{"$f":"G1815*F$7-F1815*F$6","v":-207},{"$f":"H1815*F$9+J1815*F$8","v":-2894.8215228285248},{"$f":"I1815","v":-2472.1802927180906},{"$f":"J1815*F$9-H1815*F$8","v":-207},{"$f":"IF(P1812=1,K1815*B$1/(B$1+B$2+L1815),99999)","v":99999},{"$f":"M1815*B$1/(B$1+B$2+L1815)","v":1.6814365756415437},null,null,null,null,{"$f":"T1805+7","v":1239},{"$f":"OFFSET(Calculations!AS$46,$T1815,0)","v":-77.950965915574329},{"$f":"OFFSET(Calculations!AT$46,$T1815,0)","v":131.83048196614232},{"$f":"OFFSET(Calculations!AU$46,$T1815,0)","v":7.6019179215786705},{"$f":"OFFSET(Calculations!AS$43,$T1815,0)-OFFSET(Calculations!AS$45,$T1815,0)","v":7.5847379851275747},{"$f":"OFFSET(Calculations!AT$43,$T1815,0)-OFFSET(Calculations!AT$45,$T1815,0)","v":1.3015130362102241},{"$f":"OFFSET(Calculations!AU$43,$T1815,0)-OFFSET(Calculations!AU$45,$T1815,0)","v":6.3857508183091589},0.15997425875295335,-0.95496316215806587,-2.1476703129008179E-2,7.5469422596353013,0.83999470057198122,6.4928424334928749,6.758661369881521]
[{"$f":"A1813","v":1},{"$f":"OFFSET(AL$1867,A1818+1,A1817+1)-B$10-U$3","v":-2444.8215228285248},{"$f":"OFFSET(AL$1890,A1818+1,A1817+1)-B$11-V$3","v":-2212.3726715827588},{"$f":"OFFSET(AL$1844,A1818+1,A1817+1)-B$12-W$3","v":-207},{"$f":"B1818*F$5+C1818*F$4","v":-2444.8215228285248},{"$f":"C1818*F$5-B1818*F$4","v":-2212.3726715827588},-207,-2444.8215228285248,{"$f":"F1818*F$7+G1818*F$6","v":-2212.3726715827588},{"$f":"G1818*F$7-F1818*F$6","v":-207},{"$f":"H1818*F$9+J1818*F$8","v":-2444.8215228285248},{"$f":"I1818","v":-2212.3726715827588},{"$f":"J1818*F$9-H1818*F$8","v":-207},{"$f":"IF(P1817=1,K1818*B$1/(B$1+B$2+L1818),99999)","v":99999},{"$f":"M1818*B$1/(B$1+B$2+L1818)","v":1.8797908516657831},null,null,null,null,null,{"$f":"(7*U1815+3*U1825)/10","v":-77.456756758487074},128.9846086053316,7.4803361779111253,7.5434751350902474,1.0946309977023874,6.4637248884718641,0.15759319528152105,-0.95813251643529895,-1.1951430748920799E-2,7.5971853690394333,0.71107412694803329,6.4478355193433101,6.7612998714597907]
[null,{"$f":"OFFSET(AL$1867,A1818,A1817)-B$10-U$3","v":-2594.8215228285248},{"$f":"OFFSET(AL$1890,A1818,A1817)-B$11-V$3","v":-2472.1802927180906},{"$f":"OFFSET(AL$1844,A1818,A1817)-B$12-W$3","v":-207},{"$f":"B1820*F$5+C1820*F$4","v":-2594.8215228285248},{"$f":"C1820*F$5-B1820*F$4","v":-2472.1802927180906},-207,-2594.8215228285248,{"$f":"F1820*F$7+G1820*F$6","v":-2472.1802927180906},{"$f":"G1820*F$7-F1820*F$6","v":-207},{"$f":"H1820*F$9+J1820*F$8","v":-2594.8215228285248},{"$f":"I1820","v":-2472.1802927180906},{"$f":"J1820*F$9-H1820*F$8","v":-207},{"$f":"IF(P1817=1,K1820*B$1/(B$1+B$2+L1820),99999)","v":99999},{"$f":"M1820*B$1/(B$1+B$2+L1820)","v":1.6814365756415437},null,null,null,null,null,{"$f":"(5*U1815+5*U1825)/10","v":-77.127283987095581},127.08735969812446,7.3992816821327638,7.5159665683986958,0.95670963869716275,6.5157076019136699,0.15751607486231478,-0.96180450115787153,-2.9334177776370041E-3,7.6524679085092036,0.64368933140918427,6.3885497231692492,6.7630582014089704]
[null,{"$f":"OFFSET(AL$1867,A1823,A1822+1)-B$10-U$3","v":-1994.8215228285248},{"$f":"OFFSET(AL$1890,A1823,A1822+1)-B$11-V$3","v":-2472.1802927180906},{"$f":"OFFSET(AL$1844,A1823,A1822+1)-B$12-W$3","v":-207},{"$f":"B1824*F$5+C1824*F$4","v":-1994.8215228285248},{"$f":"C1824*F$5-B1824*F$4","v":-2472.1802927180906},-207,-1994.8215228285248,{"$f":"F1824*F$7+G1824*F$6","v":-2472.1802927180906},{"$f":"G1824*F$7-F1824*F$6","v":-207},{"$f":"H1824*F$9+J1824*F$8","v":-1994.8215228285248},{"$f":"I1824","v":-2472.1802927180906},{"$f":"J1824*F$9-H1824*F$8","v":-207},{"$f":"IF(P1822=1,K1824*B$1/(B$1+B$2+L1824),99999)","v":99999},{"$f":"M1824*B$1/(B$1+B$2+L1824)","v":1.6814365756415437},null,null,null,null,null,{"$f":"(1*U1815+9*U1825)/10","v":-76.468338444312565},123.29286188371017,7.2371726905760365,7.4609494350155927,0.68086692068671373,6.619673028797278,0.16038234448065225,-0.97226663434533123,2.0438270934052483E-2,7.8372820673467487,0.56461550158091145,6.1492832743711174,6.7665732528700593]
[null,{"$f":"OFFSET(AL$1867,A1823,A1822)-B$10-U$3","v":-2294.8215228285248},{"$f":"OFFSET(AL$1890,A1823,A1822)-B$11-V$3","v":-2472.1802927180906},{"$f":"OFFSET(AL$1844,A1823,A1822)-B$12-W$3","v":-207},{"$f":"B1825*F$5+C1825*F$4","v":-2294.8215228285248},{"$f":"C1825*F$5-B1825*F$4","v":-2472.1802927180906},-207,-2294.8215228285248,{"$f":"F1825*F$7+G1825*F$6","v":-2472.1802927180906},{"$f":"G1825*F$7-F1825*F$6","v":-207},{"$f":"H1825*F$9+J1825*F$8","v":-2294.8215228285248},{"$f":"I1825","v":-2472.1802927180906},{"$f":"J1825*F$9-H1825*F$8","v":-207},{"$f":"IF(P1822=1,K1825*B$1/(B$1+B$2+L1825),99999)","v":99999},{"$f":"M1825*B$1/(B$1+B$2+L1825)","v":1.6814365756415437},null,null,null,null,{"$f":"T1815+7","v":1246},{"$f":"OFFSET(Calculations!AS$46,$T1825,0)","v":-76.303602058616818},{"$f":"OFFSET(Calculations!AT$46,$T1825,0)","v":122.3442374301066},{"$f":"OFFSET(Calculations!AU$46,$T1825,0)","v":7.1966454426868545},{"$f":"OFFSET(Calculations!AS$43,$T1825,0)-OFFSET(Calculations!AS$45,$T1825,0)","v":7.4471951516698169},{"$f":"OFFSET(Calculations!AT$43,$T1825,0)-OFFSET(Calculations!AT$45,$T1825,0)","v":0.61190624118410142},{"$f":"OFFSET(Calculations!AU$43,$T1825,0)-OFFSET(Calculations!AU$45,$T1825,0)","v":6.6456643855181809},0.16109891188523306,-0.97488216764216418,2.628119311197441E-2,7.8998691637106022,0.55691475908182131,6.0622210667331835,6.767451681001643]
[{"$f":"A1822+1","v":3},{"$f":"OFFSET(AL$1867,A1828,A1827)-B$10-U$3","v":-1994.8215228285248},{"$f":"OFFSET(AL$1890,A1828,A1827)-B$11-V$3","v":-2472.1802927180906},{"$f":"OFFSET(AL$1844,A1828,A1827)-B$12-W$3","v":-207},{"$f":"B1827*F$5+C1827*F$4","v":-1994.8215228285248},{"$f":"C1827*F$5-B1827*F$4","v":-2472.1802927180906},{"$f":"D1827","v":-207},-1994.8215228285248,{"$f":"F1827*F$7+G1827*F$6","v":-2472.1802927180906},{"$f":"G1827*F$7-F1827*F$6","v":-207},{"$f":"H1827*F$9+J1827*F$8","v":-1994.8215228285248},{"$f":"I1827","v":-2472.1802927180906},{"$f":"J1827*F$9-H1827*F$8","v":-207},{"$f":"IF(P1827=1,K1827*B$1/(B$1+B$2+L1827),99999)","v":99999},{"$f":"M1827*B$1/(B$1+B$2+L1827)","v":1.6814365756415437},{"$f":"IF(MIN(L1827:L1830)+B$2+B$1>0,1,0)","v":0},null,null,null,null,{"$f":"(8*U1825+2*U1835)/10","v":-75.999527297586965},120.41318207727559,7.2171938522960817,7.5591242374604919,0.59278330485908837,6.5102475038174763,0.16411942234198307,-0.97800033138437925,3.1616855881096306E-2,8.040346197783597,0.55228208132445789,5.8612581742794383,6.7670063109282586,null,null,"x","y","z"]
[null,{"$f":"OFFSET(AL$1867,A1828,A1827)-B$10-U$3","v":-1994.8215228285248},{"$f":"OFFSET(AL$1890,A1828,A1827)-B$11-V$3","v":-2472.1802927180906},{"$f":"OFFSET(AL$1844,A1828,A1827)-B$12-W$3","v":-207},{"$f":"B1830*F$5+C1830*F$4","v":-1994.8215228285248},{"$f":"C1830*F$5-B1830*F$4","v":-2472.1802927180906},-207,-1994.8215228285248,{"$f":"F1830*F$7+G1830*F$6","v":-2472.1802927180906},{"$f":"G1830*F$7-F1830*F$6","v":-207},{"$f":"H1830*F$9+J1830*F$8","v":-1994.8215228285248},{"$f":"I1830","v":-2472.1802927180906},{"$f":"J1830*F$9-H1830*F$8","v":-207},{"$f":"IF(P1827=1,K1830*B$1/(B$1+B$2+L1830),99999)","v":99999},{"$f":"M1830*B$1/(B$1+B$2+L1830)","v":1.6814365756415437},null,null,null,null,null,{"$f":"(5*U1825+5*U1835)/10","v":-75.543415156042187},117.51659904802905,7.2480164667099221,7.7270178661465039,0.56409890037156885,6.3071221812664175,0.16924387065395763,-0.98262121399287139,3.8432301173432215E-2,8.2675317190559667,0.55369282924667207,5.5219988293951445,6.7663381913206324]
[{"$f":"A1828","v":1},{"$f":"OFFSET(AL$1867,A1833+1,A1832+1)-B$10-U$3","v":-1544.8215228285248},{"$f":"OFFSET(AL$1890,A1833+1,A1832+1)-B$11-V$3","v":-2212.3726715827588},{"$f":"OFFSET(AL$1844,A1833+1,A1832+1)-B$12-W$3","v":-207},{"$f":"B1833*F$5+C1833*F$4","v":-1544.8215228285248},{"$f":"C1833*F$5-B1833*F$4","v":-2212.3726715827588},-207,-1544.8215228285248,{"$f":"F1833*F$7+G1833*F$6","v":-2212.3726715827588},{"$f":"G1833*F$7-F1833*F$6","v":-207},{"$f":"H1833*F$9+J1833*F$8","v":-1544.8215228285248},{"$f":"I1833","v":-2212.3726715827588},{"$f":"J1833*F$9-H1833*F$8","v":-207},{"$f":"IF(P1832=1,K1833*B$1/(B$1+B$2+L1833),99999)","v":99999},{"$f":"M1833*B$1/(B$1+B$2+L1833)","v":1.8797908516657831},null,null,null,null,null,{"$f":"(2*U1825+8*U1835)/10","v":-75.087303014497408},114.62001601878251,7.2788390811237615,7.8949114948325159,0.53541449588404932,6.1039968587153606,0.17555568421953183,-0.98712937059167416,4.2871648743079582E-2,8.5043200463108235,0.56445276183875082,5.1322514408581217,6.7656699942920291]
[null,{"$f":"OFFSET(AL$1867,A1833,A1832)-B$10-U$3","v":-1694.8215228285248},{"$f":"OFFSET(AL$1890,A1833,A1832)-B$11-V$3","v":-2472.1802927180906},{"$f":"OFFSET(AL$1844,A1833,A1832)-B$12-W$3","v":-207},{"$f":"B1835*F$5+C1835*F$4","v":-1694.8215228285248},{"$f":"C1835*F$5-B1835*F$4","v":-2472.1802927180906},-207,-1694.8215228285248,{"$f":"F1835*F$7+G1835*F$6","v":-2472.1802927180906},{"$f":"G1835*F$7-F1835*F$6","v":-207},{"$f":"H1835*F$9+J1835*F$8","v":-1694.8215228285248},{"$f":"I1835","v":-2472.1802927180906},{"$f":"J1835*F$9-H1835*F$8","v":-207},{"$f":"IF(P1832=1,K1835*B$1/(B$1+B$2+L1835),99999)","v":99999},{"$f":"M1835*B$1/(B$1+B$2+L1835)","v":1.6814365756415437},null,null,null,null,{"$f":"T1825+7","v":1253},{"$f":"OFFSET(Calculations!AS$46,$T1835,0)","v":-74.783228253467556},{"$f":"OFFSET(Calculations!AT$46,$T1835,0)","v":112.6889606659515},{"$f":"OFFSET(Calculations!AU$46,$T1835,0)","v":7.2993874907329888},{"$f":"OFFSET(Calculations!AS$43,$T1835,0)-OFFSET(Calculations!AS$45,$T1835,0)","v":8.0068405806231908},{"$f":"OFFSET(Calculations!AT$43,$T1835,0)-OFFSET(Calculations!AT$45,$T1835,0)","v":0.51629155955903627},{"$f":"OFFSET(Calculations!AU$43,$T1835,0)-OFFSET(Calculations!AU$45,$T1835,0)","v":5.968579977014655},0.17976355992988147,-0.99013480832418566,4.5831213789509384E-2,8.6646912794118407,0.5766304492722707,4.8429514808573941,6.7652244865813458]
[{"$f":"A1833","v":1},{"$f":"OFFSET(AL$1867,A1838+1,A1837+1)-B$10-U$3","v":-1244.8215228285248},{"$f":"OFFSET(AL$1890,A1838+1,A1837+1)-B$11-V$3","v":-2212.3726715827588},{"$f":"OFFSET(AL$1844,A1838+1,A1837+1)-B$12-W$3","v":-207},{"$f":"B1838*F$5+C1838*F$4","v":-1244.8215228285248},{"$f":"C1838*F$5-B1838*F$4","v":-2212.3726715827588},-207,-1244.8215228285248,{"$f":"F1838*F$7+G1838*F$6","v":-2212.3726715827588},{"$f":"G1838*F$7-F1838*F$6","v":-207},{"$f":"H1838*F$9+J1838*F$8","v":-1244.8215228285248},{"$f":"I1838","v":-2212.3726715827588},{"$f":"J1838*F$9-H1838*F$8","v":-207},{"$f":"IF(P1837=1,K1838*B$1/(B$1+B$2+L1838),99999)","v":99999},{"$f":"M1838*B$1/(B$1+B$2+L1838)","v":1.8797908516657831},null,null,null,null,null,{"$f":"(7*U1835+3*U1845)/10","v":-74.254623860960308},109.71754170689174,7.4582660116057253,8.2801420183516168,0.54110964824437668,5.5234386147600656,0.18154460781029513,-0.9899657193096516,4.2267067205473907E-2,8.9024286633948808,0.59905967315744779,4.3799249918737004,6.7617786967618736,null,null,null,"Size",{"$f":"A38","v":300}]
[null,null,null,null,null,null,null,null,null,null,null,null,null,null,null,null,null,null,null,null,{"$f":"(4*U1835+6*U1845)/10","v":-73.726019468453046},106.74612274783195,7.6171445324784628,8.5534434560800428,0.56592773692971721,5.078297252505477,0.18408327332319629,-0.98971327164809964,3.6155873184635645E-2,9.1231092380087215,0.62033908867262577,3.9086894325835377,6.7583308449793646,null,null,null,"mag",100]
[{"$f":"A1838","v":1},{"$f":"OFFSET(AL$1867,A1843+1,A1842+1)-B$10-U$3","v":-944.82152282852485},{"$f":"OFFSET(AL$1890,A1843+1,A1842+1)-B$11-V$3","v":-2212.3726715827588},{"$f":"OFFSET(AL$1844,A1843+1,A1842+1)-B$12-W$3","v":-207},{"$f":"B1843*F$5+C1843*F$4","v":-944.82152282852485},{"$f":"C1843*F$5-B1843*F$4","v":-2212.3726715827588},-207,-944.82152282852485,{"$f":"F1843*F$7+G1843*F$6","v":-2212.3726715827588},{"$f":"G1843*F$7-F1843*F$6","v":-207},{"$f":"H1843*F$9+J1843*F$8","v":-944.82152282852485},{"$f":"I1843","v":-2212.3726715827588},{"$f":"J1843*F$9-H1843*F$8","v":-207},{"$f":"IF(P1842=1,K1843*B$1/(B$1+B$2+L1843),99999)","v":99999},{"$f":"M1843*B$1/(B$1+B$2+L1843)","v":1.8797908516657831},null,null,null,null,null,{"$f":"(2*U1835+8*U1845)/10","v":-73.373616540114867},104.76517677512545,7.7230635463936208,8.7356444145656607,0.58247312938661078,4.781536344335751,0.18602825620929764,-0.98951718699139235,3.1232728025141654E-2,9.2538966770248887,0.63341054861301316,3.5879166269091796,6.7560311297596343,null,null,null,"z",0,{"$f":"AL1843+1","v":1},{"$f":"AM1843+1","v":2},3,4,5,6,7,8,9,{"$f":"AU1843+1","v":10},{"$f":"AV1843+1","v":11},{"$f":"AW1843+1","v":12},13,14,15,16,17,{"$f":"BC1843+1","v":18},{"$f":"BD1843+1","v":19},{"$f":"BE1843+1","v":20},null,null,0,{"$f":"BI1843+1","v":1},{"$f":"BJ1843+1","v":2},3,4,5,6,7,8,9,{"$f":"BR1843+1","v":10},{"$f":"BS1843+1","v":11},{"$f":"BT1843+1","v":12},13,14,15,16,17,{"$f":"BZ1843+1","v":18},{"$f":"CA1843+1","v":19},{"$f":"CB1843+1","v":20}]
[null,{"$f":"OFFSET(AL$1867,A1843,A1842+1)-B$10-U$3","v":-794.82152282852485},{"$f":"OFFSET(AL$1890,A1843,A1842+1)-B$11-V$3","v":-2472.1802927180906},{"$f":"OFFSET(AL$1844,A1843,A1842+1)-B$12-W$3","v":-207},{"$f":"B1844*F$5+C1844*F$4","v":-794.82152282852485},{"$f":"C1844*F$5-B1844*F$4","v":-2472.1802927180906},-207,-794.82152282852485,{"$f":"F1844*F$7+G1844*F$6","v":-2472.1802927180906},{"$f":"G1844*F$7-F1844*F$6","v":-207},{"$f":"H1844*F$9+J1844*F$8","v":-794.82152282852485},{"$f":"I1844","v":-2472.1802927180906},{"$f":"J1844*F$9-H1844*F$8","v":-207},{"$f":"IF(P1842=1,K1844*B$1/(B$1+B$2+L1844),99999)","v":99999},{"$f":"M1844*B$1/(B$1+B$2+L1844)","v":1.6814365756415437},null,null,null,null,null,{"$f":"(1*U1835+9*U1845)/10","v":-73.197415075945784},103.7747037887722,7.7760230533511985,8.8267448938084705,0.59074582561505762,4.6331558902508885,0.18700074765237673,-0.98941914466301739,2.8771155445394214E-2,9.3140274989051051,0.63958663162830154,3.4254366910289265,6.7548809275277435,null,null,null,0,{"$f":"$A$39+BI1844","v":-200},{"$f":"$A$39+BJ1844","v":-200},{"$f":"$A$39+BK1844","v":-200},{"$f":"$A$39+BL1844","v":-200},{"$f":"$A$39+BM1844","v":-200},{"$f":"$A$39+BN1844","v":-200},{"$f":"$A$39+BO1844","v":-200},{"$f":"$A$39+BP1844","v":-200},{"$f":"$A$39+BQ1844","v":-200},{"$f":"$A$39+BR1844","v":-200},{"$f":"$A$39+BS1844","v":-200},{"$f":"$A$39+BT1844","v":-200},{"$f":"$A$39+BU1844","v":-200},{"$f":"$A$39+BV1844","v":-200},{"$f":"$A$39+BW1844","v":-200},{"$f":"$A$39+BX1844","v":-200},{"$f":"$A$39+BY1844","v":-200},{"$f":"$A$39+BZ1844","v":-200},{"$f":"$A$39+CA1844","v":-200},{"$f":"$A$39+CB1844","v":-200},{"$f":"$A$39+CC1844","v":-200},null,0,0,0,0,0,0,0,0,0,0,0,0,0,0,0,0,0,0,0,0,0,0]
[{"$f":"A1843","v":1},{"$f":"OFFSET(AL$1867,A1848+1,A1847+1)-B$10-U$3","v":-644.82152282852485},{"$f":"OFFSET(AL$1890,A1848+1,A1847+1)-B$11-V$3","v":-2212.3726715827588},{"$f":"OFFSET(AL$1844,A1848+1,A1847+1)-B$12-W$3","v":-207},{"$f":"B1848*F$5+C1848*F$4","v":-644.82152282852485},{"$f":"C1848*F$5-B1848*F$4","v":-2212.3726715827588},-207,-644.82152282852485,{"$f":"F1848*F$7+G1848*F$6","v":-2212.3726715827588},{"$f":"G1848*F$7-F1848*F$6","v":-207},{"$f":"H1848*F$9+J1848*F$8","v":-644.82152282852485},{"$f":"I1848","v":-2212.3726715827588},{"$f":"J1848*F$9-H1848*F$8","v":-207},{"$f":"IF(P1847=1,K1848*B$1/(B$1+B$2+L1848),99999)","v":99999},{"$f":"M1848*B$1/(B$1+B$2+L1848)","v":1.8797908516657831},null,null,null,null,null,{"$f":"(7*U1845+3*U1855)/10","v":-72.464112453183049},99.815517267591702,7.9308347358369584,9.1098575450759682,0.61837634812847142,3.9987537842449128,0.18910966554420838,-0.98919606436410845,2.2489011710442597E-2,9.5245453813466661,0.66223458372344413,2.7641150786582438,6.7515173275754936,null,null,null,4,-200,-200,-200,-200,-200,-200,-200,-200,-200,-200,-200,-200,-200,-200,-200,-200,-200,-200,-200,-200,-200,null,4,0,0,0,0,0,0,0,0,0,0,0,0,0,0,0,0,0,0,0,0,0]
[null,{"$f":"OFFSET(AL$1867,A1848,A1847+1)-B$10-U$3","v":-494.82152282852485},{"$f":"OFFSET(AL$1890,A1848,A1847+1)-B$11-V$3","v":-2472.1802927180906},{"$f":"OFFSET(AL$1844,A1848,A1847+1)-B$12-W$3","v":-207},{"$f":"B1849*F$5+C1849*F$4","v":-494.82152282852485},{"$f":"C1849*F$5-B1849*F$4","v":-2472.1802927180906},-207,-494.82152282852485,{"$f":"F1849*F$7+G1849*F$6","v":-2472.1802927180906},{"$f":"G1849*F$7-F1849*F$6","v":-207},{"$f":"H1849*F$9+J1849*F$8","v":-494.82152282852485},{"$f":"I1849","v":-2472.1802927180906},{"$f":"J1849*F$9-H1849*F$8","v":-207},{"$f":"IF(P1847=1,K1849*B$1/(B$1+B$2+L1849),99999)","v":99999},{"$f":"M1849*B$1/(B$1+B$2+L1849)","v":1.6814365756415437},null,null,null,null,null,{"$f":"(6*U1845+4*U1855)/10","v":-72.278412066985169},98.825946089315963,7.964785461013018,9.1738616024175315,0.62482895689012707,3.8367465669378746,0.18948847436045924,-0.98915438504062081,2.1215487992039428E-2,9.5722137902404736,0.66755310995573858,2.5972117174052345,6.7507794157059386,null,null,null,5,-200,-200,-200,-200,-200,-200,-200,-200,-200,-200,-200,-200,-200,-200,-200,-200,-200,-200,-200,-200,-200,null,5,0,0,0,0,0,0,0,0,0,0,0,0,0,0,0,0,0,0,0,0,0]
[{"$f":"A1848","v":1},{"$f":"OFFSET(AL$1867,A1853+1,A1852+1)-B$10-U$3","v":-344.82152282852485},{"$f":"OFFSET(AL$1890,A1853+1,A1852+1)-B$11-V$3","v":-2212.3726715827588},{"$f":"OFFSET(AL$1844,A1853+1,A1852+1)-B$12-W$3","v":-207},{"$f":"B1853*F$5+C1853*F$4","v":-344.82152282852485},{"$f":"C1853*F$5-B1853*F$4","v":-2212.3726715827588},-207,-344.82152282852485,{"$f":"F1853*F$7+G1853*F$6","v":-2212.3726715827588},{"$f":"G1853*F$7-F1853*F$6","v":-207},{"$f":"H1853*F$9+J1853*F$8","v":-344.82152282852485},{"$f":"I1853","v":-2212.3726715827588},{"$f":"J1853*F$9-H1853*F$8","v":-207},{"$f":"IF(P1852=1,K1853*B$1/(B$1+B$2+L1853),99999)","v":99999},{"$f":"M1853*B$1/(B$1+B$2+L1853)","v":1.8797908516657831},null,null,null,null,null,{"$f":"(2*U1845+8*U1855)/10","v":-71.53561052219365},94.867661376213007,8.1005883617172589,9.4298778317837844,0.65063939193674969,3.1887176977097247,0.17943440376100739,-0.98977393755701826,1.1128408919342192E-2,9.7340849382363004,0.68651671194664132,1.9490048680340613,6.7478268208890109,null,null,null,9,-200,-200,-200,-200,-200,-200,-200,-200,-200,-200,-200,-200,-200,-200,-200,-200,-200,-200,-200,-200,-200,null,9,0,0,0,0,0,0,0,0,0,0,0,0,0,0,0,0,0,0,0,0,0]
[null,{"$f":"OFFSET(AL$1867,A1853,A1852)-B$10-U$3","v":-494.82152282852485},{"$f":"OFFSET(AL$1890,A1853,A1852)-B$11-V$3","v":-2472.1802927180906},{"$f":"OFFSET(AL$1844,A1853,A1852)-B$12-W$3","v":-207},{"$f":"B1855*F$5+C1855*F$4","v":-494.82152282852485},{"$f":"C1855*F$5-B1855*F$4","v":-2472.1802927180906},-207,-494.82152282852485,{"$f":"F1855*F$7+G1855*F$6","v":-2472.1802927180906},{"$f":"G1855*F$7-F1855*F$6","v":-207},{"$f":"H1855*F$9+J1855*F$8","v":-494.82152282852485},{"$f":"I1855","v":-2472.1802927180906},{"$f":"J1855*F$9-H1855*F$8","v":-207},{"$f":"IF(P1852=1,K1855*B$1/(B$1+B$2+L1855),99999)","v":99999},{"$f":"M1855*B$1/(B$1+B$2+L1855)","v":1.6814365756415437},null,null,null,null,{"$f":"T1845+7","v":1267},{"$f":"OFFSET(Calculations!AS$46,$T1855,0)","v":-71.164209749797891},{"$f":"OFFSET(Calculations!AT$46,$T1855,0)","v":92.888519019661516},{"$f":"OFFSET(Calculations!AU$46,$T1855,0)","v":8.1684898120693781},{"$f":"OFFSET(Calculations!AS$43,$T1855,0)-OFFSET(Calculations!AS$45,$T1855,0)","v":9.5578859464669108},{"$f":"OFFSET(Calculations!AT$43,$T1855,0)-OFFSET(Calculations!AT$45,$T1855,0)","v":0.663544609460061},{"$f":"OFFSET(Calculations!AU$43,$T1855,0)-OFFSET(Calculations!AU$45,$T1855,0)","v":2.8647032630956497},0.17440736846124594,-0.99008371381522409,6.0848693829917977E-3,9.7934783128538143,0.69419204668353363,1.6464841029653261,6.746349954566206,null,null,null,11,-200,-200,-200,-200,-200,-200,-200,-200,-200,-200,-200,-200,-200,-200,-200,-200,-200,-200,-200,-200,-200,null,11,0,0,0,0,0,0,0,0,0,0,0,0,0,0,0,0,0,0,0,0,0]
[{"$f":"A1853","v":1},{"$f":"OFFSET(AL$1867,A1858+1,A1857+1)-B$10-U$3","v":-44.821522828524849},{"$f":"OFFSET(AL$1890,A1858+1,A1857+1)-B$11-V$3","v":-2212.3726715827588},{"$f":"OFFSET(AL$1844,A1858+1,A1857+1)-B$12-W$3","v":-207},{"$f":"B1858*F$5+C1858*F$4","v":-44.821522828524849},{"$f":"C1858*F$5-B1858*F$4","v":-2212.3726715827588},-207,-44.821522828524849,{"$f":"F1858*F$7+G1858*F$6","v":-2212.3726715827588},{"$f":"G1858*F$7-F1858*F$6","v":-207},{"$f":"H1858*F$9+J1858*F$8","v":-44.821522828524849},{"$f":"I1858","v":-2212.3726715827588},{"$f":"J1858*F$9-H1858*F$8","v":-207},{"$f":"IF(P1857=1,K1858*B$1/(B$1+B$2+L1858),99999)","v":99999},{"$f":"M1858*B$1/(B$1+B$2+L1858)","v":1.8797908516657831},null,null,null,null,null,{"$f":"(7*U1855+3*U1865)/10","v":-70.588925768023842},89.921806092362957,8.2092128491142606,9.6627746601035689,0.67685399558843495,2.3525688434626879,0.16573038906291515,-0.99067341617306681,2.3401312336783775E-3,9.8610858417038454,0.70382499347546035,1.2213133278652777,6.745464040535091,null,null,null,14,-200,-200,-200,-200,-200,-200,-200,-200,-200,-200,-200,-200,-200,-200,-200,-200,-200,-200,-200,-200,-200,null,14,0,0,0,0,0,0,0,0,0,0,0,0,0,0,0,0,0,0,0,0,0]
[null,null,null,null,null,null,null,null,null,null,null,null,null,null,null,null,null,null,null,null,{"$f":"(4*U1855+6*U1865)/10","v":-70.013641786249806},86.955093165064397,8.2499358861591432,9.7676633737402234,0.69016338171680902,1.8404344238297259,0.14945991267208569,-0.99180910787784171,-1.9833436851133257E-3,9.9123077641897801,0.71179234874899433,0.83885028068036138,6.7445779898805966,null,null,null,17,-200,-200,-200,-200,-200,-200,-200,-200,-200,-200,-200,-200,-200,-200,-200,-200,-200,-200,-200,-200,-200,null,17,0,0,0,0,0,0,0,0,0,0,0,0,0,0,0,0,0,0,0,0,0]
[{"$f":"A1858","v":1},{"$f":"OFFSET(AL$1867,A1863+1,A1862+1)-B$10-U$3","v":255.17847717147515},{"$f":"OFFSET(AL$1890,A1863+1,A1862+1)-B$11-V$3","v":-2212.3726715827588},{"$f":"OFFSET(AL$1844,A1863+1,A1862+1)-B$12-W$3","v":-207},{"$f":"B1863*F$5+C1863*F$4","v":255.17847717147515},{"$f":"C1863*F$5-B1863*F$4","v":-2212.3726715827588},-207,255.17847717147515,{"$f":"F1863*F$7+G1863*F$6","v":-2212.3726715827588},{"$f":"G1863*F$7-F1863*F$6","v":-207},{"$f":"H1863*F$9+J1863*F$8","v":255.17847717147515},{"$f":"I1863","v":-2212.3726715827588},{"$f":"J1863*F$9-H1863*F$8","v":-207},{"$f":"IF(P1862=1,K1863*B$1/(B$1+B$2+L1863),99999)","v":99999},{"$f":"M1863*B$1/(B$1+B$2+L1863)","v":1.8797908516657831},null,null,null,null,null,{"$f":"(2*U1855+8*U1865)/10","v":-69.630119131733778},84.977284546865349,8.2770845775223982,9.8375891828313282,0.69903630580239162,1.4990114774077514,0.13608176274738071,-0.99274823213001184,-5.0585725541338888E-3,9.9358114317334056,0.71583868603923051,0.62814345523127191,6.7439872135111676,null,null,null,19,-200,-200,-200,-200,-200,-200,-200,-200,-200,-200,-200,-200,-200,-200,-200,-200,-200,-200,-200,-200,-200,null,19,0,0,0,0,0,0,0,0,0,0,0,0,0,0,0,0,0,0,0,0,0]
[null,{"$f":"OFFSET(AL$1867,A1863,A1862+1)-B$10-U$3","v":405.17847717147515},{"$f":"OFFSET(AL$1890,A1863,A1862+1)-B$11-V$3","v":-2472.1802927180906},{"$f":"OFFSET(AL$1844,A1863,A1862+1)-B$12-W$3","v":-207},{"$f":"B1864*F$5+C1864*F$4","v":405.17847717147515},{"$f":"C1864*F$5-B1864*F$4","v":-2472.1802927180906},-207,405.17847717147515,{"$f":"F1864*F$7+G1864*F$6","v":-2472.1802927180906},{"$f":"G1864*F$7-F1864*F$6","v":-207},{"$f":"H1864*F$9+J1864*F$8","v":405.17847717147515},{"$f":"I1864","v":-2472.1802927180906},{"$f":"J1864*F$9-H1864*F$8","v":-207},{"$f":"IF(P1862=1,K1864*B$1/(B$1+B$2+L1864),99999)","v":99999},{"$f":"M1864*B$1/(B$1+B$2+L1864)","v":1.6814365756415437},null,null,null,null,null,{"$f":"(1*U1855+9*U1865)/10","v":-69.438357804475771},83.988380237765838,8.2906589232040258,9.8725520873768797,0.70347276784518298,1.3283000041967639,0.12939268778502822,-0.99321779425609691,-6.5961869886450586E-3,9.9442883901228658,0.71746428988472954,0.53715812321776035,6.7436918025394936,null,null,null,{"$f":"AK1863+1","v":20},-200,-200,-200,-200,-200,-200,-200,-200,-200,-200,-200,-200,-200,-200,-200,-200,-200,-200,-200,-200,-200,null,{"$f":"BH1863+1","v":20},0,0,0,0,0,0,0,0,0,0,0,0,0,0,0,0,0,0,0,0,0]
[null,null,null,null,null,null,null,null,null,null,null,null,null,null,null,null,null,null,null,null,{"$f":"(9*U1865+U1875)/10","v":-69.101112373417692},82.007426540324929,8.2978356777709248,9.9140731842496006,0.70954459529347247,1.0531350726570092,0.1189068643264477,-0.99396035105564806,-8.4231698078927053E-3,9.9546925561370845,0.71992036797648962,0.3839236206128035,6.7435356126620869,null,null,null,"x",{"$f":"AL1843","v":0},1,2,3,4,5,6,7,8,9,10,11,12,13,14,15,16,17,18,19,20]
[null,{"$f":"OFFSET(AL$1867,A1868,A1867+1)-B$10-U$3","v":705.17847717147515},{"$f":"OFFSET(AL$1890,A1868,A1867+1)-B$11-V$3","v":-2472.1802927180906},{"$f":"OFFSET(AL$1844,A1868,A1867+1)-B$12-W$3","v":-207},{"$f":"B1869*F$5+C1869*F$4","v":705.17847717147515},{"$f":"C1869*F$5-B1869*F$4","v":-2472.1802927180906},-207,705.17847717147515,{"$f":"F1869*F$7+G1869*F$6","v":-2472.1802927180906},{"$f":"G1869*F$7-F1869*F$6","v":-207},{"$f":"H1869*F$9+J1869*F$8","v":705.17847717147515},{"$f":"I1869","v":-2472.1802927180906},{"$f":"J1869*F$9-H1869*F$8","v":-207},{"$f":"IF(P1867=1,K1869*B$1/(B$1+B$2+L1869),99999)","v":99999},{"$f":"M1869*B$1/(B$1+B$2+L1869)","v":1.6814365756415437},null,null,null,null,null,{"$f":"(6*U1865+4*U1875)/10","v":-68.664660062017532},79.031278375300786,8.2786429044267411,9.9337477612311069,0.71445069150996687,0.73977469767070692,0.10751661883774943,-0.99477933507604632,-9.2912749621056889E-3,9.9645761953285508,0.7226670723550197,0.20106551467970138,6.7439533012772399,null,null,null,2,{"$f":"AL1867","v":-3044.8215228285248},{"$f":"AM1867","v":-2744.8215228285248},-2444.8215228285248,-2144.8215228285248,-1844.8215228285248,-1544.8215228285248,-1244.8215228285248,-944.82152282852485,-644.82152282852485,-344.82152282852485,-44.821522828524849,255.17847717147515,555.17847717147515,855.17847717147515,1155.1784771714752,1455.1784771714752,1755.1784771714752,2055.1784771714752,2355.1784771714752,2655.1784771714752,2955.1784771714752]
[{"$f":"A1867+1","v":12},{"$f":"OFFSET(AL$1867,A1873,A1872)-B$10-U$3","v":705.17847717147515},{"$f":"OFFSET(AL$1890,A1873,A1872)-B$11-V$3","v":-2472.1802927180906},{"$f":"OFFSET(AL$1844,A1873,A1872)-B$12-W$3","v":-207},{"$f":"B1872*F$5+C1872*F$4","v":705.17847717147515},{"$f":"C1872*F$5-B1872*F$4","v":-2472.1802927180906},{"$f":"D1872","v":-207},705.17847717147515,{"$f":"F1872*F$7+G1872*F$6","v":-2472.1802927180906},{"$f":"G1872*F$7-F1872*F$6","v":-207},{"$f":"H1872*F$9+J1872*F$8","v":705.17847717147515},{"$f":"I1872","v":-2472.1802927180906},{"$f":"J1872*F$9-H1872*F$8","v":-207},{"$f":"IF(P1872=1,K1872*B$1/(B$1+B$2+L1872),99999)","v":99999},{"$f":"M1872*B$1/(B$1+B$2+L1872)","v":1.6814365756415437},{"$f":"IF(MIN(L1872:L1875)+B$2+B$1>0,1,0)","v":0},null,null,null,null,{"$f":"(3*U1865+7*U1875)/10","v":-68.228207750617372},76.055130210276644,8.2594501310825557,9.9534223382126132,0.71935678772646128,0.42641432268440449,9.3841698126709616E-2,-0.99576445767652899,-1.0165289063344574E-2,9.9704565394811073,0.72848042629003329,7.0461677619250498E-2,6.7443709595211336,null,null,null,5,-2894.8215228285248,-2594.8215228285248,-2294.8215228285248,-1994.8215228285248,-1694.8215228285248,-1394.8215228285248,-1094.8215228285248,-794.82152282852485,-494.82152282852485,-194.82152282852485,105.17847717147515,405.17847717147515,705.17847717147515,1005.1784771714752,1305.1784771714752,1605.1784771714752,1905.1784771714752,2205.1784771714752,2505.1784771714752,2805.1784771714752,3105.1784771714752]
[null,{"$f":"OFFSET(AL$1867,A1873,A1872+1)-B$10-U$3","v":1005.1784771714752},{"$f":"OFFSET(AL$1890,A1873,A1872+1)-B$11-V$3","v":-2472.1802927180906},{"$f":"OFFSET(AL$1844,A1873,A1872+1)-B$12-W$3","v":-207},{"$f":"B1874*F$5+C1874*F$4","v":1005.1784771714752},{"$f":"C1874*F$5-B1874*F$4","v":-2472.1802927180906},-207,1005.1784771714752,{"$f":"F1874*F$7+G1874*F$6","v":-2472.1802927180906},{"$f":"G1874*F$7-F1874*F$6","v":-207},{"$f":"H1874*F$9+J1874*F$8","v":1005.1784771714752},{"$f":"I1874","v":-2472.1802927180906},{"$f":"J1874*F$9-H1874*F$8","v":-207},{"$f":"IF(P1872=1,K1874*B$1/(B$1+B$2+L1874),99999)","v":99999},{"$f":"M1874*B$1/(B$1+B$2+L1874)","v":1.6814365756415437},null,null,null,null,null,{"$f":"(1*U1865+9*U1875)/10","v":-67.93723954301727},74.071031433593873,8.2466549488530987,9.966538722866952,0.72262751853745755,0.21750740602686952,8.4725084319387634E-2,-0.99642120607684603,-1.0747965130835979E-2,9.9717841679304779,0.73836682477333326,1.6106955594535191E-2,6.7446493814807456,null,null,null,7,-2894.8215228285248,-2594.8215228285248,-2294.8215228285248,-1994.8215228285248,-1694.8215228285248,-1394.8215228285248,-1094.8215228285248,-794.82152282852485,-494.82152282852485,-194.82152282852485,105.17847717147515,405.17847717147515,705.17847717147515,1005.1784771714752,1305.1784771714752,1605.1784771714752,1905.1784771714752,2205.1784771714752,2505.1784771714752,2805.1784771714752,3105.1784771714752]
[{"$f":"A1872+1","v":13},{"$f":"OFFSET(AL$1867,A1878,A1877)-B$10-U$3","v":1005.1784771714752},{"$f":"OFFSET(AL$1890,A1878,A1877)-B$11-V$3","v":-2472.1802927180906},{"$f":"OFFSET(AL$1844,A1878,A1877)-B$12-W$3","v":-207},{"$f":"B1877*F$5+C1877*F$4","v":1005.1784771714752},{"$f":"C1877*F$5-B1877*F$4","v":-2472.1802927180906},{"$f":"D1877","v":-207},1005.1784771714752,{"$f":"F1877*F$7+G1877*F$6","v":-2472.1802927180906},{"$f":"G1877*F$7-F1877*F$6","v":-207},{"$f":"H1877*F$9+J1877*F$8","v":1005.1784771714752},{"$f":"I1877","v":-2472.1802927180906},{"$f":"J1877*F$9-H1877*F$8","v":-207},{"$f":"IF(P1877=1,K1877*B$1/(B$1+B$2+L1877),99999)","v":99999},{"$f":"M1877*B$1/(B$1+B$2+L1877)","v":1.6814365756415437},{"$f":"IF(MIN(L1877:L1880)+B$2+B$1>0,1,0)","v":0},null,null,null,null,{"$f":"(8*U1875+2*U1885)/10","v":-67.622283183496478},71.086147439018816,8.2182023871973033,9.9731587161284061,0.72465442563666616,7.8150056444834165E-2,7.8643660600818066E-2,-0.99686033933039653,-1.1043242462598357E-2,9.9702946648672857,0.76230264094813494,-2.1790967963043216E-2,6.7452684581802664,null,null,null,10,-3044.8215228285248,-2744.8215228285248,-2444.8215228285248,-2144.8215228285248,-1844.8215228285248,-1544.8215228285248,-1244.8215228285248,-944.82152282852485,-644.82152282852485,-344.82152282852485,-44.821522828524849,255.17847717147515,555.17847717147515,855.17847717147515,1155.1784771714752,1455.1784771714752,1755.1784771714752,2055.1784771714752,2355.1784771714752,2655.1784771714752,2955.1784771714752]
[null,{"$f":"OFFSET(AL$1867,A1878,A1877+1)-B$10-U$3","v":1305.1784771714752},{"$f":"OFFSET(AL$1890,A1878,A1877+1)-B$11-V$3","v":-2472.1802927180906},{"$f":"OFFSET(AL$1844,A1878,A1877+1)-B$12-W$3","v":-207},{"$f":"B1879*F$5+C1879*F$4","v":1305.1784771714752},{"$f":"C1879*F$5-B1879*F$4","v":-2472.1802927180906},-207,1305.1784771714752,{"$f":"F1879*F$7+G1879*F$6","v":-2472.1802927180906},{"$f":"G1879*F$7-F1879*F$6","v":-207},{"$f":"H1879*F$9+J1879*F$8","v":1305.1784771714752},{"$f":"I1879","v":-2472.1802927180906},{"$f":"J1879*F$9-H1879*F$8","v":-207},{"$f":"IF(P1877=1,K1879*B$1/(B$1+B$2+L1879),99999)","v":99999},{"$f":"M1879*B$1/(B$1+B$2+L1879)","v":1.6814365756415437},null,null,null,null,null,{"$f":"(6*U1875+4*U1885)/10","v":-67.452810927775758},69.093312832785159,8.1961474166562365,9.9732205170626909,0.72504596733037663,4.324616519156628E-2,7.7120543785923701E-2,-0.99697109838379561,-1.1047181760615032E-2,9.96847687005158,0.7846605711175928,-3.7904657342671372E-2,6.7457482888825133,null,null,null,12,-3044.8215228285248,-2744.8215228285248,-2444.8215228285248,-2144.8215228285248,-1844.8215228285248,-1544.8215228285248,-1244.8215228285248,-944.82152282852485,-644.82152282852485,-344.82152282852485,-44.821522828524849,255.17847717147515,555.17847717147515,855.17847717147515,1155.1784771714752,1455.1784771714752,1755.1784771714752,2055.1784771714752,2355.1784771714752,2655.1784771714752,2955.1784771714752]
[{"$f":"A1878","v":1},{"$f":"OFFSET(AL$1867,A1883+1,A1882+1)-B$10-U$3","v":1455.1784771714752},{"$f":"OFFSET(AL$1890,A1883+1,A1882+1)-B$11-V$3","v":-2212.3726715827588},{"$f":"OFFSET(AL$1844,A1883+1,A1882+1)-B$12-W$3","v":-207},{"$f":"B1883*F$5+C1883*F$4","v":1455.1784771714752},{"$f":"C1883*F$5-B1883*F$4","v":-2212.3726715827588},-207,1455.1784771714752,{"$f":"F1883*F$7+G1883*F$6","v":-2212.3726715827588},{"$f":"G1883*F$7-F1883*F$6","v":-207},{"$f":"H1883*F$9+J1883*F$8","v":1455.1784771714752},{"$f":"I1883","v":-2212.3726715827588},{"$f":"J1883*F$9-H1883*F$8","v":-207},{"$f":"IF(P1882=1,K1883*B$1/(B$1+B$2+L1883),99999)","v":99999},{"$f":"M1883*B$1/(B$1+B$2+L1883)","v":1.8797908516657831},null,null,null,null,null,{"$f":"(2*U1875+8*U1885)/10","v":-67.113866416334304},65.107643620317816,8.1520374755741045,9.9733441189312622,0.72582905071779746,-2.6561617314969511E-2,7.9292013598276867E-2,-0.99675771479850539,-1.1086634913523241E-2,9.9641663060096892,0.83705586038037716,-5.6955720536532382E-2,6.7467078300942758,null,null,null,16,-3044.8215228285248,-2744.8215228285248,-2444.8215228285248,-2144.8215228285248,-1844.8215228285248,-1544.8215228285248,-1244.8215228285248,-944.82152282852485,-644.82152282852485,-344.82152282852485,-44.821522828524849,255.17847717147515,555.17847717147515,855.17847717147515,1155.1784771714752,1455.1784771714752,1755.1784771714752,2055.1784771714752,2355.1784771714752,2655.1784771714752,2955.1784771714752]
[null,{"$f":"OFFSET(AL$1867,A1883,A1882+1)-B$10-U$3","v":1605.1784771714752},{"$f":"OFFSET(AL$1890,A1883,A1882+1)-B$11-V$3","v":-2472.1802927180906},{"$f":"OFFSET(AL$1844,A1883,A1882+1)-B$12-W$3","v":-207},{"$f":"B1884*F$5+C1884*F$4","v":1605.1784771714752},{"$f":"C1884*F$5-B1884*F$4","v":-2472.1802927180906},-207,1605.1784771714752,{"$f":"F1884*F$7+G1884*F$6","v":-2472.1802927180906},{"$f":"G1884*F$7-F1884*F$6","v":-207},{"$f":"H1884*F$9+J1884*F$8","v":1605.1784771714752},{"$f":"I1884","v":-2472.1802927180906},{"$f":"J1884*F$9-H1884*F$8","v":-207},{"$f":"IF(P1882=1,K1884*B$1/(B$1+B$2+L1884),99999)","v":99999},{"$f":"M1884*B$1/(B$1+B$2+L1884)","v":1.6814365756415437},null,null,null,null,null,{"$f":"(1*U1875+9*U1885)/10","v":-67.029130288473951},64.111226317200973,8.1410099903035711,9.9733750193984054,0.72602482156465276,-4.4013562941603454E-2,7.9834881051368711E-2,-0.9967043689022006,-1.109649820175207E-2,9.9630838368012196,0.85012409350125173,-5.8991619830833869E-2,6.7469476903643812,null,null,null,17,-2894.8215228285248,-2594.8215228285248,-2294.8215228285248,-1994.8215228285248,-1694.8215228285248,-1394.8215228285248,-1094.8215228285248,-794.82152282852485,-494.82152282852485,-194.82152282852485,105.17847717147515,405.17847717147515,705.17847717147515,1005.1784771714752,1305.1784771714752,1605.1784771714752,1905.1784771714752,2205.1784771714752,2505.1784771714752,2805.1784771714752,3105.1784771714752]
[null,null,null,null,null,null,null,null,null,null,null,null,null,null,null,null,null,null,null,null,{"$f":"(9*U1885+U1895)/10","v":-66.871842967272329},62.117505638540173,8.1189235053783744,9.9716677890385821,0.74709061123553722,-6.123255831379866E-2,8.1682174364985372E-2,-0.99654229758286306,-1.1114255129198725E-2,9.9609131045466874,0.87622385270921477,-5.9791178614440318E-2,6.7474280662758881,null,null,null,19,-2894.8215228285248,-2594.8215228285248,-2294.8215228285248,-1994.8215228285248,-1694.8215228285248,-1394.8215228285248,-1094.8215228285248,-794.82152282852485,-494.82152282852485,-194.82152282852485,105.17847717147515,405.17847717147515,705.17847717147515,1005.1784771714752,1305.1784771714752,1605.1784771714752,1905.1784771714752,2205.1784771714752,2505.1784771714752,2805.1784771714752,3105.1784771714752]
[null,{"$f":"OFFSET(AL$1867,A1888,A1887+1)-B$10-U$3","v":1905.1784771714752},{"$f":"OFFSET(AL$1890,A1888,A1887+1)-B$11-V$3","v":-2472.1802927180906},{"$f":"OFFSET(AL$1844,A1888,A1887+1)-B$12-W$3","v":-207},{"$f":"B1889*F$5+C1889*F$4","v":1905.1784771714752},{"$f":"C1889*F$5-B1889*F$4","v":-2472.1802927180906},-207,1905.1784771714752,{"$f":"F1889*F$7+G1889*F$6","v":-2472.1802927180906},{"$f":"G1889*F$7-F1889*F$6","v":-207},{"$f":"H1889*F$9+J1889*F$8","v":1905.1784771714752},{"$f":"I1889","v":-2472.1802927180906},{"$f":"J1889*F$9-H1889*F$8","v":-207},{"$f":"IF(P1887=1,K1889*B$1/(B$1+B$2+L1889),99999)","v":99999},{"$f":"M1889*B$1/(B$1+B$2+L1889)","v":1.6814365756415437},null,null,null,null,null,{"$f":"(6*U1885+4*U1895)/10","v":-66.654189387248536},59.125595511908273,8.0857465064143845,9.9664533965576858,0.80970066770762517,-6.0533707550482416E-2,8.559545194657403E-2,-0.99621612131382165,-1.1137936046855756E-2,9.9583059083061851,0.90752888094525463,-5.9441753232760956E-2,6.7481495828446212,null,null,null,"y",{"$f":"AL1866","v":0},1,2,3,4,5,6,7,8,9,10,11,12,13,14,15,16,17,18,19,20]
[{"$f":"A1887+1","v":16},{"$f":"OFFSET(AL$1867,A1893,A1892)-B$10-U$3","v":1905.1784771714752},{"$f":"OFFSET(AL$1890,A1893,A1892)-B$11-V$3","v":-2472.1802927180906},{"$f":"OFFSET(AL$1844,A1893,A1892)-B$12-W$3","v":-207},{"$f":"B1892*F$5+C1892*F$4","v":1905.1784771714752},{"$f":"C1892*F$5-B1892*F$4","v":-2472.1802927180906},{"$f":"D1892","v":-207},1905.1784771714752,{"$f":"F1892*F$7+G1892*F$6","v":-2472.1802927180906},{"$f":"G1892*F$7-F1892*F$6","v":-207},{"$f":"H1892*F$9+J1892*F$8","v":1905.1784771714752},{"$f":"I1892","v":-2472.1802927180906},{"$f":"J1892*F$9-H1892*F$8","v":-207},{"$f":"IF(P1892=1,K1892*B$1/(B$1+B$2+L1892),99999)","v":99999},{"$f":"M1892*B$1/(B$1+B$2+L1892)","v":1.6814365756415437},{"$f":"IF(MIN(L1892:L1895)+B$2+B$1>0,1,0)","v":0},null,null,null,null,{"$f":"(3*U1885+7*U1895)/10","v":-66.436535807224757},56.133685385276365,8.0525695074503911,9.9612390040767913,0.872310724179713,-5.9834856787166178E-2,8.95087295281769E-2,-0.99588994504476602,-1.1161616964516341E-2,9.9566764106558434,0.92709452359277489,-5.9223362369198521E-2,6.7488710088588517,null,null,null,2,-2212.3726715827588,-2212.3726715827588,-2212.3726715827588,-2212.3726715827588,-2212.3726715827588,-2212.3726715827588,-2212.3726715827588,-2212.3726715827588,-2212.3726715827588,-2212.3726715827588,-2212.3726715827588,-2212.3726715827588,-2212.3726715827588,-2212.3726715827588,-2212.3726715827588,-2212.3726715827588,-2212.3726715827588,-2212.3726715827588,-2212.3726715827588,-2212.3726715827588,-2212.3726715827588]
[null,{"$f":"OFFSET(AL$1867,A1893,A1892+1)-B$10-U$3","v":2205.1784771714752},{"$f":"OFFSET(AL$1890,A1893,A1892+1)-B$11-V$3","v":-2472.1802927180906},{"$f":"OFFSET(AL$1844,A1893,A1892+1)-B$12-W$3","v":-207},{"$f":"B1894*F$5+C1894*F$4","v":2205.1784771714752},{"$f":"C1894*F$5-B1894*F$4","v":-2472.1802927180906},-207,2205.1784771714752,{"$f":"F1894*F$7+G1894*F$6","v":-2472.1802927180906},{"$f":"G1894*F$7-F1894*F$6","v":-207},{"$f":"H1894*F$9+J1894*F$8","v":2205.1784771714752},{"$f":"I1894","v":-2472.1802927180906},{"$f":"J1894*F$9-H1894*F$8","v":-207},{"$f":"IF(P1892=1,K1894*B$1/(B$1+B$2+L1894),99999)","v":99999},{"$f":"M1894*B$1/(B$1+B$2+L1894)","v":1.6814365756415437},null,null,null,null,null,{"$f":"(1*U1885+9*U1895)/10","v":-66.291433420542234},54.139078634188436,8.0304515081410663,9.9577627424228581,0.91405076182777167,-5.9368956278288684E-2,9.2117581249212321E-2,-0.99567249419872894,-1.1177404242954658E-2,9.9561332447723796,0.93361640447527694,-5.9150565414669759E-2,6.7493519092437824,null,null,null,4,-1692.7574293120952,-1692.7574293120952,-1692.7574293120952,-1692.7574293120952,-1692.7574293120952,-1692.7574293120952,-1692.7574293120952,-1692.7574293120952,-1692.7574293120952,-1692.7574293120952,-1692.7574293120952,-1692.7574293120952,-1692.7574293120952,-1692.7574293120952,-1692.7574293120952,-1692.7574293120952,-1692.7574293120952,-1692.7574293120952,-1692.7574293120952,-1692.7574293120952,-1692.7574293120952]
[{"$f":"A1892+1","v":17},{"$f":"OFFSET(AL$1867,A1898,A1897)-B$10-U$3","v":2205.1784771714752},{"$f":"OFFSET(AL$1890,A1898,A1897)-B$11-V$3","v":-2472.1802927180906},{"$f":"OFFSET(AL$1844,A1898,A1897)-B$12-W$3","v":-207},{"$f":"B1897*F$5+C1897*F$4","v":2205.1784771714752},{"$f":"C1897*F$5-B1897*F$4","v":-2472.1802927180906},{"$f":"D1897","v":-207},2205.1784771714752,{"$f":"F1897*F$7+G1897*F$6","v":-2472.1802927180906},{"$f":"G1897*F$7-F1897*F$6","v":-207},{"$f":"H1897*F$9+J1897*F$8","v":2205.1784771714752},{"$f":"I1897","v":-2472.1802927180906},{"$f":"J1897*F$9-H1897*F$8","v":-207},{"$f":"IF(P1897=1,K1897*B$1/(B$1+B$2+L1897),99999)","v":99999},{"$f":"M1897*B$1/(B$1+B$2+L1897)","v":1.6814365756415437},{"$f":"IF(MIN(L1897:L1900)+B$2+B$1>0,1,0)","v":0},null,null,null,null,{"$f":"(8*U1895+2*U1905)/10","v":-66.032038212981419},51.150647721093023,7.9970219127220616,9.9560246115958222,0.93492078065179529,-5.9136006023821609E-2,9.3422007109765559E-2,-0.99556376877571751,-1.1185297882177814E-2,9.9560246115956446,0.93492078065176398,-5.9136006023744393E-2,6.5468713519664679,null,null,null,7,-913.33456590609978,-913.33456590609978,-913.33456590609978,-913.33456590609978,-913.33456590609978,-913.33456590609978,-913.33456590609978,-913.33456590609978,-913.33456590609978,-913.33456590609978,-913.33456590609978,-913.33456590609978,-913.33456590609978,-913.33456590609978,-913.33456590609978,-913.33456590609978,-913.33456590609978,-913.33456590609978,-913.33456590609978,-913.33456590609978,-913.33456590609978]
[null,{"$f":"OFFSET(AL$1867,A1898,A1897)-B$10-U$3","v":2205.1784771714752},{"$f":"OFFSET(AL$1890,A1898,A1897)-B$11-V$3","v":-2472.1802927180906},{"$f":"OFFSET(AL$1844,A1898,A1897)-B$12-W$3","v":-207},{"$f":"B1900*F$5+C1900*F$4","v":2205.1784771714752},{"$f":"C1900*F$5-B1900*F$4","v":-2472.1802927180906},-207,2205.1784771714752,{"$f":"F1900*F$7+G1900*F$6","v":-2472.1802927180906},{"$f":"G1900*F$7-F1900*F$6","v":-207},{"$f":"H1900*F$9+J1900*F$8","v":2205.1784771714752},{"$f":"I1900","v":-2472.1802927180906},{"$f":"J1900*F$9-H1900*F$8","v":-207},{"$f":"IF(P1897=1,K1900*B$1/(B$1+B$2+L1900),99999)","v":99999},{"$f":"M1900*B$1/(B$1+B$2+L1900)","v":1.6814365756415437},null,null,null,null,null,{"$f":"(5*U1895+5*U1905)/10","v":-65.751772191652123},48.16395641476587,7.9634660190755513,9.9560246115957156,0.93492078065178674,-5.9136006023779109E-2,9.3422007109751348E-2,-0.99556376877570329,-1.118529788217959E-2,9.9560246115956232,0.93492078065174589,-5.9136006023729877E-2,6.3443907946891533,null,null,null,10,-133.91170250010464,-133.91170250010464,-133.91170250010464,-133.91170250010464,-133.91170250010464,-133.91170250010464,-133.91170250010464,-133.91170250010464,-133.91170250010464,-133.91170250010464,-133.91170250010464,-133.91170250010464,-133.91170250010464,-133.91170250010464,-133.91170250010464,-133.91170250010464,-133.91170250010464,-133.91170250010464,-133.91170250010464,-133.91170250010464,-133.91170250010464]
[{"$f":"A1897+1","v":18},{"$f":"OFFSET(AL$1867,A1903,A1902)-B$10-U$3","v":2505.1784771714752},{"$f":"OFFSET(AL$1890,A1903,A1902)-B$11-V$3","v":-2472.1802927180906},{"$f":"OFFSET(AL$1844,A1903,A1902)-B$12-W$3","v":-207},{"$f":"B1902*F$5+C1902*F$4","v":2505.1784771714752},{"$f":"C1902*F$5-B1902*F$4","v":-2472.1802927180906},{"$f":"D1902","v":-207},2505.1784771714752,{"$f":"F1902*F$7+G1902*F$6","v":-2472.1802927180906},{"$f":"G1902*F$7-F1902*F$6","v":-207},{"$f":"H1902*F$9+J1902*F$8","v":2505.1784771714752},{"$f":"I1902","v":-2472.1802927180906},{"$f":"J1902*F$9-H1902*F$8","v":-207},{"$f":"IF(P1902=1,K1902*B$1/(B$1+B$2+L1902),99999)","v":99999},{"$f":"M1902*B$1/(B$1+B$2+L1902)","v":1.6814365756415437},{"$f":"IF(MIN(L1902:L1905)+B$2+B$1>0,1,0)","v":0},null,null,null,null,{"$f":"(3*U1895+7*U1905)/10","v":-65.564928177432563},46.172828877214428,7.9410954233112108,9.9560246115956446,0.93492078065178108,-5.9136006023750777E-2,9.3422007109751348E-2,-0.99556376877570329,-1.1185297882178702E-2,9.9560246115956144,0.93492078065173001,-5.9136006023732431E-2,6.209403756504277,null,null,null,12,385.70353977055879,385.70353977055879,385.70353977055879,385.70353977055879,385.70353977055879,385.70353977055879,385.70353977055879,385.70353977055879,385.70353977055879,385.70353977055879,385.70353977055879,385.70353977055879,385.70353977055879,385.70353977055879,385.70353977055879,385.70353977055879,385.70353977055879,385.70353977055879,385.70353977055879,385.70353977055879,385.70353977055879]
[{"$f":"A1898","v":1},{"$f":"OFFSET(AL$1867,A1903+1,A1902+1)-B$10-U$3","v":2655.1784771714752},{"$f":"OFFSET(AL$1890,A1903+1,A1902+1)-B$11-V$3","v":-2212.3726715827588},{"$f":"OFFSET(AL$1844,A1903+1,A1902+1)-B$12-W$3","v":-207},{"$f":"B1903*F$5+C1903*F$4","v":2655.1784771714752},{"$f":"C1903*F$5-B1903*F$4","v":-2212.3726715827588},-207,2655.1784771714752,{"$f":"F1903*F$7+G1903*F$6","v":-2212.3726715827588},{"$f":"G1903*F$7-F1903*F$6","v":-207},{"$f":"H1903*F$9+J1903*F$8","v":2655.1784771714752},{"$f":"I1903","v":-2212.3726715827588},{"$f":"J1903*F$9-H1903*F$8","v":-207},{"$f":"IF(P1902=1,K1903*B$1/(B$1+B$2+L1903),99999)","v":99999},{"$f":"M1903*B$1/(B$1+B$2+L1903)","v":1.8797908516657831},null,null,null,null,null,{"$f":"(2*U1895+8*U1905)/10","v":-65.471506170322797},45.177265108438711,7.9299101254290409,9.956024611595609,0.93492078065177819,-5.9136006023736608E-2,9.3422007109751348E-2,-0.99556376877568908,-1.118529788217959E-2,9.9560246115956108,0.93492078065172057,-5.9136006023738794E-2,6.1419102374118388,null,null,null,13,645.51116090589051,645.51116090589051,645.51116090589051,645.51116090589051,645.51116090589051,645.51116090589051,645.51116090589051,645.51116090589051,645.51116090589051,645.51116090589051,645.51116090589051,645.51116090589051,645.51116090589051,645.51116090589051,645.51116090589051,645.51116090589051,645.51116090589051,645.51116090589051,645.51116090589051,645.51116090589051,645.51116090589051]
[{"$f":"A1902+1","v":19},{"$f":"OFFSET(AL$1867,A1908,A1907)-B$10-U$3","v":2805.1784771714752},{"$f":"OFFSET(AL$1890,A1908,A1907)-B$11-V$3","v":-2472.1802927180906},{"$f":"OFFSET(AL$1844,A1908,A1907)-B$12-W$3","v":-207},{"$f":"B1907*F$5+C1907*F$4","v":2805.1784771714752},{"$f":"C1907*F$5-B1907*F$4","v":-2472.1802927180906},{"$f":"D1907","v":-207},2805.1784771714752,{"$f":"F1907*F$7+G1907*F$6","v":-2472.1802927180906},{"$f":"G1907*F$7-F1907*F$6","v":-207},{"$f":"H1907*F$9+J1907*F$8","v":2805.1784771714752},{"$f":"I1907","v":-2472.1802927180906},{"$f":"J1907*F$9-H1907*F$8","v":-207},{"$f":"IF(P1907=1,K1907*B$1/(B$1+B$2+L1907),99999)","v":99999},{"$f":"M1907*B$1/(B$1+B$2+L1907)","v":1.6814365756415437},{"$f":"IF(MIN(L1907:L1910)+B$2+B$1>0,1,0)","v":0},null,null,null,null,{"$f":"(8*U1905+2*U1915)/10","v":-65.097818141883792},41.195010033335848,7.8851689339003315,9.9560246115955682,0.93492078065175543,-5.913600602371312E-2,9.3422007109765559E-2,-0.99556376877567487,-1.1185297882174261E-2,9.9560246115955948,0.93492078065167283,-5.9136006023797066E-2,5.8719361610420862,null,null,null,17,1684.7416454472177,1684.7416454472177,1684.7416454472177,1684.7416454472177,1684.7416454472177,1684.7416454472177,1684.7416454472177,1684.7416454472177,1684.7416454472177,1684.7416454472177,1684.7416454472177,1684.7416454472177,1684.7416454472177,1684.7416454472177,1684.7416454472177,1684.7416454472177,1684.7416454472177,1684.7416454472177,1684.7416454472177,1684.7416454472177,1684.7416454472177]
[{"$f":"A1903","v":1},{"$f":"OFFSET(AL$1867,A1908+1,A1907+1)-B$10-U$3","v":2955.1784771714752},{"$f":"OFFSET(AL$1890,A1908+1,A1907+1)-B$11-V$3","v":-2212.3726715827588},{"$f":"OFFSET(AL$1844,A1908+1,A1907+1)-B$12-W$3","v":-207},{"$f":"B1908*F$5+C1908*F$4","v":2955.1784771714752},{"$f":"C1908*F$5-B1908*F$4","v":-2212.3726715827588},-207,2955.1784771714752,{"$f":"F1908*F$7+G1908*F$6","v":-2212.3726715827588},{"$f":"G1908*F$7-F1908*F$6","v":-207},{"$f":"H1908*F$9+J1908*F$8","v":2955.1784771714752},{"$f":"I1908","v":-2212.3726715827588},{"$f":"J1908*F$9-H1908*F$8","v":-207},{"$f":"IF(P1907=1,K1908*B$1/(B$1+B$2+L1908),99999)","v":99999},{"$f":"M1908*B$1/(B$1+B$2+L1908)","v":1.8797908516657831},null,null,null,null,null,{"$f":"(7*U1905+3*U1915)/10","v":-65.004396134774055},40.199446264560137,7.8739836360181457,9.9560246115955842,0.934920780651747,-5.9136006023715534E-2,9.3422007109751348E-2,-0.99556376877567843,-1.1185297882173373E-2,9.9560246115955842,0.93492078065165907,-5.9136006023818286E-2,5.804442641949648,null,null,null,18,1944.5492665825495,1944.5492665825495,1944.5492665825495,1944.5492665825495,1944.5492665825495,1944.5492665825495,1944.5492665825495,1944.5492665825495,1944.5492665825495,1944.5492665825495,1944.5492665825495,1944.5492665825495,1944.5492665825495,1944.5492665825495,1944.5492665825495,1944.5492665825495,1944.5492665825495,1944.5492665825495,1944.5492665825495,1944.5492665825495,1944.5492665825495]
[0,{"$f":"OFFSET(AL$1867,A1913,A1912)-B$10-U$3","v":-3044.8215228285248},{"$f":"OFFSET(AL$1890,A1913,A1912)-B$11-V$3","v":-2212.3726715827588},{"$f":"OFFSET(AL$1844,A1913,A1912)-B$12-W$3","v":-207},{"$f":"B1912*F$5+C1912*F$4","v":-3044.8215228285248},{"$f":"C1912*F$5-B1912*F$4","v":-2212.3726715827588},{"$f":"D1912","v":-207},-3044.8215228285248,{"$f":"F1912*F$7+G1912*F$6","v":-2212.3726715827588},{"$f":"G1912*F$7-F1912*F$6","v":-207},{"$f":"H1912*F$9+J1912*F$8","v":-3044.8215228285248},{"$f":"I1912","v":-2212.3726715827588},{"$f":"J1912*F$9-H1912*F$8","v":-207},{"$f":"IF(P1912=1,K1912*B$1/(B$1+B$2+L1912),99999)","v":99999},{"$f":"M1912*B$1/(B$1+B$2+L1912)","v":1.8797908516657831},{"$f":"IF(MIN(L1912:L1915)+B$2+B$1>0,1,0)","v":0},null,null,null,null,{"$f":"(3*U1905+7*U1915)/10","v":-64.630708106335121},36.217191189457289,7.8292424444894042,9.956024611595641,0.9349207806517128,-5.9136006023725221E-2,9.3422007109758454E-2,-0.99556376877566777,-1.118529788216982E-2,9.9560246115955273,0.93492078065160511,-5.9136006023913348E-2,5.5344685655798953]
[null,{"$f":"OFFSET(AL$1867,A1913,A1912+1)-B$10-U$3","v":-2744.8215228285248},{"$f":"OFFSET(AL$1890,A1913,A1912+1)-B$11-V$3","v":-2212.3726715827588},{"$f":"OFFSET(AL$1844,A1913,A1912+1)-B$12-W$3","v":-207},{"$f":"B1914*F$5+C1914*F$4","v":-2744.8215228285248},{"$f":"C1914*F$5-B1914*F$4","v":-2212.3726715827588},-207,-2744.8215228285248,{"$f":"F1914*F$7+G1914*F$6","v":-2212.3726715827588},{"$f":"G1914*F$7-F1914*F$6","v":-207},{"$f":"H1914*F$9+J1914*F$8","v":-2744.8215228285248},{"$f":"I1914","v":-2212.3726715827588},{"$f":"J1914*F$9-H1914*F$8","v":-207},{"$f":"IF(P1912=1,K1914*B$1/(B$1+B$2+L1914),99999)","v":99999},{"$f":"M1914*B$1/(B$1+B$2+L1914)","v":1.8797908516657831},null,null,null,null,null,{"$f":"(1*U1905+9*U1915)/10","v":-64.443864092115675},34.226063651905861,7.8068718487250353,9.956024611595673,0.93492078065169582,-5.9136006023730057E-2,9.3422007109758454E-2,-0.99556376877567843,-1.1185297882168044E-2,9.9560246115954989,0.93492078065158901,-5.9136006023950506E-2,5.399481527395019]
[{"$f":"A1912+1","v":1},{"$f":"OFFSET(AL$1867,A1918,A1917)-B$10-U$3","v":-2744.8215228285248},{"$f":"OFFSET(AL$1890,A1918,A1917)-B$11-V$3","v":-2212.3726715827588},{"$f":"OFFSET(AL$1844,A1918,A1917)-B$12-W$3","v":-207},{"$f":"B1917*F$5+C1917*F$4","v":-2744.8215228285248},{"$f":"C1917*F$5-B1917*F$4","v":-2212.3726715827588},{"$f":"D1917","v":-207},-2744.8215228285248,{"$f":"F1917*F$7+G1917*F$6","v":-2212.3726715827588},{"$f":"G1917*F$7-F1917*F$6","v":-207},{"$f":"H1917*F$9+J1917*F$8","v":-2744.8215228285248},{"$f":"I1917","v":-2212.3726715827588},{"$f":"J1917*F$9-H1917*F$8","v":-207},{"$f":"IF(P1917=1,K1917*B$1/(B$1+B$2+L1917),99999)","v":99999},{"$f":"M1917*B$1/(B$1+B$2+L1917)","v":1.8797908516657831},{"$f":"IF(MIN(L1917:L1920)+B$2+B$1>0,1,0)","v":0},null,null,null,null,{"$f":"(8*U1915+2*U1925)/10","v":-64.163598070786392},31.239372345578857,7.7733159550785187,9.9560246115956197,0.93492078065164885,-5.9136006023812526E-2,9.3422007109751348E-2,-0.99556376877568908,-1.1185297882167156E-2,9.9560246115954669,0.93492078065158091,-5.9136006023988184E-2,5.1970009701177045]
[null,{"$f":"OFFSET(AL$1867,A1918,A1917)-B$10-U$3","v":-2744.8215228285248},{"$f":"OFFSET(AL$1890,A1918,A1917)-B$11-V$3","v":-2212.3726715827588},{"$f":"OFFSET(AL$1844,A1918,A1917)-B$12-W$3","v":-207},{"$f":"B1920*F$5+C1920*F$4","v":-2744.8215228285248},{"$f":"C1920*F$5-B1920*F$4","v":-2212.3726715827588},-207,-2744.8215228285248,{"$f":"F1920*F$7+G1920*F$6","v":-2212.3726715827588},{"$f":"G1920*F$7-F1920*F$6","v":-207},{"$f":"H1920*F$9+J1920*F$8","v":-2744.8215228285248},{"$f":"I1920","v":-2212.3726715827588},{"$f":"J1920*F$9-H1920*F$8","v":-207},{"$f":"IF(P1917=1,K1920*B$1/(B$1+B$2+L1920),99999)","v":99999},{"$f":"M1920*B$1/(B$1+B$2+L1920)","v":1.8797908516657831},null,null,null,null,null,{"$f":"(5*U1915+5*U1925)/10","v":-63.883332049457081},28.252681039251929,7.7397600614320226,9.9560246115955167,0.93492078065159134,-5.9136006023932597E-2,9.3422007109758454E-2,-0.99556376877570685,-1.1185297882168932E-2,9.9560246115954616,0.93492078065159634,-5.9136006023988177E-2,4.9945204128403899]
[{"$f":"A1917+1","v":2},{"$f":"OFFSET(AL$1867,A1923,A1922)-B$10-U$3","v":-2444.8215228285248},{"$f":"OFFSET(AL$1890,A1923,A1922)-B$11-V$3","v":-2212.3726715827588},{"$f":"OFFSET(AL$1844,A1923,A1922)-B$12-W$3","v":-207},{"$f":"B1922*F$5+C1922*F$4","v":-2444.8215228285248},{"$f":"C1922*F$5-B1922*F$4","v":-2212.3726715827588},{"$f":"D1922","v":-207},-2444.8215228285248,{"$f":"F1922*F$7+G1922*F$6","v":-2212.3726715827588},{"$f":"G1922*F$7-F1922*F$6","v":-207},{"$f":"H1922*F$9+J1922*F$8","v":-2444.8215228285248},{"$f":"I1922","v":-2212.3726715827588},{"$f":"J1922*F$9-H1922*F$8","v":-207},{"$f":"IF(P1922=1,K1922*B$1/(B$1+B$2+L1922),99999)","v":99999},{"$f":"M1922*B$1/(B$1+B$2+L1922)","v":1.8797908516657831},{"$f":"IF(MIN(L1922:L1925)+B$2+B$1>0,1,0)","v":0},null,null,null,null,{"$f":"(3*U1915+7*U1925)/10","v":-63.696488035237529},26.261553501700643,7.7173894656676909,9.9560246115954474,0.93492078065155293,-5.9136006024012644E-2,9.3422007109737137E-2,-0.9955637687757104,-1.1185297882170708E-2,9.9560246115954758,0.93492078065163109,-5.9136006023967631E-2,4.8595333746555136]
[{"$f":"A1918","v":2},{"$f":"OFFSET(AL$1867,A1923+1,A1922)-B$10-U$3","v":-2294.8215228285248},{"$f":"OFFSET(AL$1890,A1923+1,A1922)-B$11-V$3","v":-1952.565050447427},{"$f":"OFFSET(AL$1844,A1923+1,A1922)-B$12-W$3","v":-207},{"$f":"B1923*F$5+C1923*F$4","v":-2294.8215228285248},{"$f":"C1923*F$5-B1923*F$4","v":-1952.565050447427},-207,-2294.8215228285248,{"$f":"F1923*F$7+G1923*F$6","v":-1952.565050447427},{"$f":"G1923*F$7-F1923*F$6","v":-207},{"$f":"H1923*F$9+J1923*F$8","v":-2294.8215228285248},{"$f":"I1923","v":-1952.565050447427},{"$f":"J1923*F$9-H1923*F$8","v":-207},{"$f":"IF(P1922=1,K1923*B$1/(B$1+B$2+L1923),99999)","v":99999},{"$f":"M1923*B$1/(B$1+B$2+L1923)","v":2.1312027615479039},null,null,null,null,null,{"$f":"(2*U1915+8*U1925)/10","v":-63.603066028127749},25.265989732925,7.7062041677855246,9.9560246115954136,0.93492078065153383,-5.9136006024052667E-2,9.3422007109758454E-2,-0.99556376877572106,-1.1185297882172485E-2,9.9560246115954882,0.93492078065165773,-5.9136006023951526E-2,4.7920398555630754]
[null,{"$f":"OFFSET(AL$1867,A1923,A1922)-B$10-U$3","v":-2444.8215228285248},{"$f":"OFFSET(AL$1890,A1923,A1922)-B$11-V$3","v":-2212.3726715827588},{"$f":"OFFSET(AL$1844,A1923,A1922)-B$12-W$3","v":-207},{"$f":"B1925*F$5+C1925*F$4","v":-2444.8215228285248},{"$f":"C1925*F$5-B1925*F$4","v":-2212.3726715827588},-207,-2444.8215228285248,{"$f":"F1925*F$7+G1925*F$6","v":-2212.3726715827588},{"$f":"G1925*F$7-F1925*F$6","v":-207},{"$f":"H1925*F$9+J1925*F$8","v":-2444.8215228285248},{"$f":"I1925","v":-2212.3726715827588},{"$f":"J1925*F$9-H1925*F$8","v":-207},{"$f":"IF(P1922=1,K1925*B$1/(B$1+B$2+L1925),99999)","v":99999},{"$f":"M1925*B$1/(B$1+B$2+L1925)","v":1.8797908516657831},null,null,null,null,{"$f":"T1915+7","v":1316},{"$f":"OFFSET(Calculations!AS$46,$T1925,0)","v":-63.416222013908211},{"$f":"OFFSET(Calculations!AT$46,$T1925,0)","v":23.274862195373714},{"$f":"OFFSET(Calculations!AU$46,$T1925,0)","v":7.6838335720211939},{"$f":"OFFSET(Calculations!AS$43,$T1925,0)-OFFSET(Calculations!AS$45,$T1925,0)","v":9.9560246115953461},{"$f":"OFFSET(Calculations!AT$43,$T1925,0)-OFFSET(Calculations!AT$45,$T1925,0)","v":0.93492078065149542},{"$f":"OFFSET(Calculations!AU$43,$T1925,0)-OFFSET(Calculations!AU$45,$T1925,0)","v":-5.9136006024132715E-2},9.3422007109758454E-2,-0.99556376877572461,-1.1185297882174261E-2,9.9560246115955238,0.9349207806517299,-5.9136006023907672E-2,4.6570528173781991]
[{"$f":"A1923","v":2},{"$f":"OFFSET(AL$1867,A1928+1,A1927)-B$10-U$3","v":-1994.8215228285248},{"$f":"OFFSET(AL$1890,A1928+1,A1927)-B$11-V$3","v":-1952.565050447427},{"$f":"OFFSET(AL$1844,A1928+1,A1927)-B$12-W$3","v":-207},{"$f":"B1928*F$5+C1928*F$4","v":-1994.8215228285248},{"$f":"C1928*F$5-B1928*F$4","v":-1952.565050447427},-207,-1994.8215228285248,{"$f":"F1928*F$7+G1928*F$6","v":-1952.565050447427},{"$f":"G1928*F$7-F1928*F$6","v":-207},{"$f":"H1928*F$9+J1928*F$8","v":-1994.8215228285248},{"$f":"I1928","v":-1952.565050447427},{"$f":"J1928*F$9-H1928*F$8","v":-207},{"$f":"IF(P1927=1,K1928*B$1/(B$1+B$2+L1928),99999)","v":99999},{"$f":"M1928*B$1/(B$1+B$2+L1928)","v":2.1312027615479039},null,null,null,null,null,{"$f":"(7*U1925+3*U1935)/10","v":-63.135955992578978},20.288170889046491,7.6502776783746871,9.956024611595419,0.93492078065156792,-5.9136006024039324E-2,9.3422007109765559E-2,-0.99556376877571395,-1.1185297882177814E-2,9.9560246115955895,0.93492078065187734,-5.9136006023826099E-2,4.4545722601008846]
[null,null,null,null,null,null,null,null,null,null,null,null,null,null,null,null,null,null,null,null,{"$f":"(4*U1925+6*U1935)/10","v":-62.855689971249738},17.301479582719264,7.6167217847281794,9.9560246115954918,0.93492078065164042,-5.9136006023945933E-2,9.3422007109765559E-2,-0.99556376877570862,-1.118529788217959E-2,9.9511747840531637,0.95386267412306924,-5.8901888564536528E-2,4.2520917028235701]
[{"$f":"A1928","v":2},{"$f":"OFFSET(AL$1867,A1933+1,A1932)-B$10-U$3","v":-1694.8215228285248},{"$f":"OFFSET(AL$1890,A1933+1,A1932)-B$11-V$3","v":-1952.565050447427},{"$f":"OFFSET(AL$1844,A1933+1,A1932)-B$12-W$3","v":-207},{"$f":"B1933*F$5+C1933*F$4","v":-1694.8215228285248},{"$f":"C1933*F$5-B1933*F$4","v":-1952.565050447427},-207,-1694.8215228285248,{"$f":"F1933*F$7+G1933*F$6","v":-1952.565050447427},{"$f":"G1933*F$7-F1933*F$6","v":-207},{"$f":"H1933*F$9+J1933*F$8","v":-1694.8215228285248},{"$f":"I1933","v":-1952.565050447427},{"$f":"J1933*F$9-H1933*F$8","v":-207},{"$f":"IF(P1932=1,K1933*B$1/(B$1+B$2+L1933),99999)","v":99999},{"$f":"M1933*B$1/(B$1+B$2+L1933)","v":2.1312027615479039},null,null,null,null,null,{"$f":"(2*U1925+8*U1935)/10","v":-62.66884595703025},15.310352045167781,7.5943511889638415,9.9560246115955398,0.93492078065168871,-5.9136006023883671E-2,9.3422007109765559E-2,-0.99556376877570774,-1.1185297882180478E-2,9.9269256463407558,1.0485721414782687,-5.7731301268423033E-2,4.1171046646386937]
[{"$f":"A1932+1","v":5},{"$f":"OFFSET(AL$1867,A1938,A1937)-B$10-U$3","v":-1544.8215228285248},{"$f":"OFFSET(AL$1890,A1938,A1937)-B$11-V$3","v":-2212.3726715827588},{"$f":"OFFSET(AL$1844,A1938,A1937)-B$12-W$3","v":-207},{"$f":"B1937*F$5+C1937*F$4","v":-1544.8215228285248},{"$f":"C1937*F$5-B1937*F$4","v":-2212.3726715827588},{"$f":"D1937","v":-207},-1544.8215228285248,{"$f":"F1937*F$7+G1937*F$6","v":-2212.3726715827588},{"$f":"G1937*F$7-F1937*F$6","v":-207},{"$f":"H1937*F$9+J1937*F$8","v":-1544.8215228285248},{"$f":"I1937","v":-2212.3726715827588},{"$f":"J1937*F$9-H1937*F$8","v":-207},{"$f":"IF(P1937=1,K1937*B$1/(B$1+B$2+L1937),99999)","v":99999},{"$f":"M1937*B$1/(B$1+B$2+L1937)","v":1.8797908516657831},{"$f":"IF(MIN(L1937:L1940)+B$2+B$1>0,1,0)","v":0},null,null,null,null,{"$f":"(8*U1935+2*U1945)/10","v":-62.295157928591223},11.328096970064907,7.5496099974351365,9.9560246115956268,0.93492078065189932,-5.9136006023777152E-2,9.3422007109758454E-2,-0.99556376877570463,-1.1185297882177814E-2,9.8202294404060488,1.4652937978408558,-5.2580717165645482E-2,3.8471305882689424]
[{"$f":"A1933","v":2},{"$f":"OFFSET(AL$1867,A1938+1,A1937)-B$10-U$3","v":-1394.8215228285248},{"$f":"OFFSET(AL$1890,A1938+1,A1937)-B$11-V$3","v":-1952.565050447427},{"$f":"OFFSET(AL$1844,A1938+1,A1937)-B$12-W$3","v":-207},{"$f":"B1938*F$5+C1938*F$4","v":-1394.8215228285248},{"$f":"C1938*F$5-B1938*F$4","v":-1952.565050447427},-207,-1394.8215228285248,{"$f":"F1938*F$7+G1938*F$6","v":-1952.565050447427},{"$f":"G1938*F$7-F1938*F$6","v":-207},{"$f":"H1938*F$9+J1938*F$8","v":-1394.8215228285248},{"$f":"I1938","v":-1952.565050447427},{"$f":"J1938*F$9-H1938*F$8","v":-207},{"$f":"IF(P1937=1,K1938*B$1/(B$1+B$2+L1938),99999)","v":99999},{"$f":"M1938*B$1/(B$1+B$2+L1938)","v":2.1312027615479039},null,null,null,null,null,{"$f":"(7*U1935+3*U1945)/10","v":-62.201735921481443},10.332533201289211,7.5384246995529525,9.9560246115956481,0.93492078065198059,-5.9136006023755031E-2,9.3422007109765559E-2,-0.99556376877570796,-1.118529788217959E-2,9.7814308200661486,1.6168289456090366,-5.0707777491918855E-2,3.7796370691765047]
[{"$f":"A1937+1","v":6},{"$f":"OFFSET(AL$1867,A1943,A1942)-B$10-U$3","v":-1244.8215228285248},{"$f":"OFFSET(AL$1890,A1943,A1942)-B$11-V$3","v":-2212.3726715827588},{"$f":"OFFSET(AL$1844,A1943,A1942)-B$12-W$3","v":-207},{"$f":"B1942*F$5+C1942*F$4","v":-1244.8215228285248},{"$f":"C1942*F$5-B1942*F$4","v":-2212.3726715827588},{"$f":"D1942","v":-207},-1244.8215228285248,{"$f":"F1942*F$7+G1942*F$6","v":-2212.3726715827588},{"$f":"G1942*F$7-F1942*F$6","v":-207},{"$f":"H1942*F$9+J1942*F$8","v":-1244.8215228285248},{"$f":"I1942","v":-2212.3726715827588},{"$f":"J1942*F$9-H1942*F$8","v":-207},{"$f":"IF(P1942=1,K1942*B$1/(B$1+B$2+L1942),99999)","v":99999},{"$f":"M1942*B$1/(B$1+B$2+L1942)","v":1.8797908516657831},{"$f":"IF(MIN(L1942:L1945)+B$2+B$1>0,1,0)","v":0},null,null,null,null,{"$f":"(3*U1935+7*U1945)/10","v":-61.828047893042346},6.3502781261864278,7.4936835080242172,9.956024611595728,0.93492078065230522,-5.9136006023666518E-2,0.15025057242048234,-0.98101058126525187,-1.1425289564570562E-2,9.560889173200577,2.4051100423655343,-4.0835058268658193E-2,3.5096629928067538]
[{"$f":"A1938","v":2},{"$f":"OFFSET(AL$1867,A1943+1,A1942)-B$10-U$3","v":-1094.8215228285248},{"$f":"OFFSET(AL$1890,A1943+1,A1942)-B$11-V$3","v":-1952.565050447427},{"$f":"OFFSET(AL$1844,A1943+1,A1942)-B$12-W$3","v":-207},{"$f":"B1943*F$5+C1943*F$4","v":-1094.8215228285248},{"$f":"C1943*F$5-B1943*F$4","v":-1952.565050447427},-207,-1094.8215228285248,{"$f":"F1943*F$7+G1943*F$6","v":-1952.565050447427},{"$f":"G1943*F$7-F1943*F$6","v":-207},{"$f":"H1943*F$9+J1943*F$8","v":-1094.8215228285248},{"$f":"I1943","v":-1952.565050447427},{"$f":"J1943*F$9-H1943*F$8","v":-207},{"$f":"IF(P1942=1,K1943*B$1/(B$1+B$2+L1943),99999)","v":99999},{"$f":"M1943*B$1/(B$1+B$2+L1943)","v":2.1312027615479039},null,null,null,null,null,{"$f":"(2*U1935+8*U1945)/10","v":-61.734625885932573},5.3547143574107325,7.482498210142035,9.9560246115957476,0.93492078065238648,-5.9136006023644397E-2,0.16919342752404276,-0.97615951876176554,-1.1505286792034219E-2,9.4809925250671636,2.6440762284624286,-3.7751745362642711E-2,3.442169473714316]
[null,{"$f":"OFFSET(AL$1867,A1943,A1942)-B$10-U$3","v":-1244.8215228285248},{"$f":"OFFSET(AL$1890,A1943,A1942)-B$11-V$3","v":-2212.3726715827588},{"$f":"OFFSET(AL$1844,A1943,A1942)-B$12-W$3","v":-207},{"$f":"B1945*F$5+C1945*F$4","v":-1244.8215228285248},{"$f":"C1945*F$5-B1945*F$4","v":-2212.3726715827588},-207,-1244.8215228285248,{"$f":"F1945*F$7+G1945*F$6","v":-2212.3726715827588},{"$f":"G1945*F$7-F1945*F$6","v":-207},{"$f":"H1945*F$9+J1945*F$8","v":-1244.8215228285248},{"$f":"I1945","v":-2212.3726715827588},{"$f":"J1945*F$9-H1945*F$8","v":-207},{"$f":"IF(P1942=1,K1945*B$1/(B$1+B$2+L1945),99999)","v":99999},{"$f":"M1945*B$1/(B$1+B$2+L1945)","v":1.8797908516657831},null,null,null,null,{"$f":"T1935+7","v":1330},{"$f":"OFFSET(Calculations!AS$46,$T1945,0)","v":-61.547781871713028},{"$f":"OFFSET(Calculations!AT$46,$T1945,0)","v":3.363586819859341},{"$f":"OFFSET(Calculations!AU$46,$T1945,0)","v":7.4601276143776669},{"$f":"OFFSET(Calculations!AS$43,$T1945,0)-OFFSET(Calculations!AS$45,$T1945,0)","v":9.9560246115957867},{"$f":"OFFSET(Calculations!AT$43,$T1945,0)-OFFSET(Calculations!AT$45,$T1945,0)","v":0.9349207806525488},{"$f":"OFFSET(Calculations!AU$43,$T1945,0)-OFFSET(Calculations!AU$45,$T1945,0)","v":-5.9136006023600141E-2},0.20707913773119913,-0.96645739375479423,-1.1665281246962422E-2,9.2898008560918033,3.1715558520429057,-3.084298123674898E-2,3.3071824355294406]
[{"$f":"A1943","v":2},{"$f":"OFFSET(AL$1867,A1948+1,A1947)-B$10-U$3","v":-794.82152282852485},{"$f":"OFFSET(AL$1890,A1948+1,A1947)-B$11-V$3","v":-1952.565050447427},{"$f":"OFFSET(AL$1844,A1948+1,A1947)-B$12-W$3","v":-207},{"$f":"B1948*F$5+C1948*F$4","v":-794.82152282852485},{"$f":"C1948*F$5-B1948*F$4","v":-1952.565050447427},-207,-794.82152282852485,{"$f":"F1948*F$7+G1948*F$6","v":-1952.565050447427},{"$f":"G1948*F$7-F1948*F$6","v":-207},{"$f":"H1948*F$9+J1948*F$8","v":-794.82152282852485},{"$f":"I1948","v":-1952.565050447427},{"$f":"J1948*F$9-H1948*F$8","v":-207},{"$f":"IF(P1947=1,K1948*B$1/(B$1+B$2+L1948),99999)","v":99999},{"$f":"M1948*B$1/(B$1+B$2+L1948)","v":2.1312027615479039},null,null,null,null,null,{"$f":"(7*U1945+3*U1955)/10","v":-61.267515850383759},0.37689551353218781,7.4265717207311415,9.723232889556316,1.8441316672613883,-4.7898367981306797E-2,0.2639077030419088,-0.95190420624433081,-1.1905272929356059E-2,8.9390669034849033,4.0298177354673079,-1.9326841640890706E-2,3.1047018782521274]
[null,null,null,null,null,null,null,null,null,null,null,null,null,null,null,null,null,null,null,null,{"$f":"(4*U1945+6*U1955)/10","v":-60.987249829054498},-2.6097957927949649,7.3930158270846134,9.4904411675168436,2.7533425538702279,-3.666072993901346E-2,0.35377036165877485,-0.91641701554769917,-1.2152735833531381E-2,8.533194481103143,4.8622015120766235,-7.7022974806063311E-3,2.9022213209748142]
[{"$f":"A1948","v":2},{"$f":"OFFSET(AL$1867,A1953+1,A1952)-B$10-U$3","v":-494.82152282852485},{"$f":"OFFSET(AL$1890,A1953+1,A1952)-B$11-V$3","v":-1952.565050447427},{"$f":"OFFSET(AL$1844,A1953+1,A1952)-B$12-W$3","v":-207},{"$f":"B1953*F$5+C1953*F$4","v":-494.82152282852485},{"$f":"C1953*F$5-B1953*F$4","v":-1952.565050447427},-207,-494.82152282852485,{"$f":"F1953*F$7+G1953*F$6","v":-1952.565050447427},{"$f":"G1953*F$7-F1953*F$6","v":-207},{"$f":"H1953*F$9+J1953*F$8","v":-494.82152282852485},{"$f":"I1953","v":-1952.565050447427},{"$f":"J1953*F$9-H1953*F$8","v":-207},{"$f":"IF(P1952=1,K1953*B$1/(B$1+B$2+L1953),99999)","v":99999},{"$f":"M1953*B$1/(B$1+B$2+L1953)","v":2.1312027615479039},null,null,null,null,null,{"$f":"(2*U1945+8*U1955)/10","v":-60.800405814834981},-4.6009233303463999,7.3706452313202631,9.3352466861571948,3.3594831449427871,-2.9168971244151232E-2,0.42469016517206626,-0.88578088735455651,-1.2320201510241269E-2,8.2146335847429217,5.3874744292494086,6.6244461562672222E-5,2.7672342827899388]
[null,null,null,null,null,null,null,null,null,null,null,null,null,null,null,null,null,null,null,null,{"$f":"(9*U1955+U1965)/10","v":-60.217054111848554},-7.509997636617757,7.3358093820343075,9.0125942170187336,4.2298757434111023,-1.7719141541998894E-2,0.51212701533844296,-0.84467775756832886,-1.2491402797844664E-2,7.6602315185123402,6.1268665844224071,1.173637288354072E-2,2.5647537255126256]
[null,{"$f":"OFFSET(AL$1867,A1958,A1957+1)-B$10-U$3","v":-44.821522828524849},{"$f":"OFFSET(AL$1890,A1958,A1957+1)-B$11-V$3","v":-2212.3726715827588},{"$f":"OFFSET(AL$1844,A1958,A1957+1)-B$12-W$3","v":-207},{"$f":"B1959*F$5+C1959*F$4","v":-44.821522828524849},{"$f":"C1959*F$5-B1959*F$4","v":-2212.3726715827588},-207,-44.821522828524849,{"$f":"F1959*F$7+G1959*F$6","v":-2212.3726715827588},{"$f":"G1959*F$7-F1959*F$6","v":-207},{"$f":"H1959*F$9+J1959*F$8","v":-44.821522828524849},{"$f":"I1959","v":-2212.3726715827588},{"$f":"J1959*F$9-H1959*F$8","v":-207},{"$f":"IF(P1957=1,K1959*B$1/(B$1+B$2+L1959),99999)","v":99999},{"$f":"M1959*B$1/(B$1+B$2+L1959)","v":1.8797908516657831},null,null,null,null,null,{"$f":"(6*U1955+4*U1965)/10","v":-59.027531045547789},-10.263837942777519,7.2984136214694875,8.5102202536822862,5.022631765598371,-5.8449285201285671E-3,0.5616781552976704,-0.81327675278907563,-1.2502609630516304E-2,7.0476543664155811,6.8225949329446856,2.33477080435411E-2,{"$f":"MAX(1,AG1958-AG$1894/100)","v":2.3622731682353124}]
[null,null,null,null,null,null,null,null,null,null,null,null,null,null,null,null,null,null,null,null,{"$f":"(4*U1955+6*U1965)/10","v":-58.234515668013934},-12.099731480217359,7.2734831144262744,8.1753042781246545,5.551135780389882,2.0712134944516512E-3,0.61966111779408806,-0.76222603432520231,-1.236429750567769E-2,6.6131927756541273,7.2609359761798089,3.099973564163095E-2,2.227286130050437]
[{"$f":"A1957+1","v":10},{"$f":"OFFSET(AL$1867,A1963,A1962)-B$10-U$3","v":-44.821522828524849},{"$f":"OFFSET(AL$1890,A1963,A1962)-B$11-V$3","v":-2212.3726715827588},{"$f":"OFFSET(AL$1844,A1963,A1962)-B$12-W$3","v":-207},{"$f":"B1962*F$5+C1962*F$4","v":-44.821522828524849},{"$f":"C1962*F$5-B1962*F$4","v":-2212.3726715827588},{"$f":"D1962","v":-207},-44.821522828524849,{"$f":"F1962*F$7+G1962*F$6","v":-2212.3726715827588},{"$f":"G1962*F$7-F1962*F$6","v":-207},{"$f":"H1962*F$9+J1962*F$8","v":-44.821522828524849},{"$f":"I1962","v":-2212.3726715827588},{"$f":"J1962*F$9-H1962*F$8","v":-207},{"$f":"IF(P1962=1,K1962*B$1/(B$1+B$2+L1962),99999)","v":99999},{"$f":"M1962*B$1/(B$1+B$2+L1962)","v":1.8797908516657831},{"$f":"IF(MIN(L1962:L1965)+B$2+B$1>0,1,0)","v":0},null,null,null,null,{"$f":"(3*U1955+7*U1965)/10","v":-57.838007979247017},-13.017678248937282,7.2610178609046674,8.0078462903458387,5.8153877877856379,6.0292845017417603E-3,0.64865259904230044,-0.73670067509325676,-1.2295141443260604E-2,6.3843975434180544,7.46614663254402,3.4758175143277753E-2,2.1597926109579992]
[null,null,null,null,null,null,null,null,null,null,null,null,null,null,null,null,null,null,null,null,{"$f":"(9*U1965+U1975)/10","v":-55.987704477730134},-16.521993298327608,7.2110970770439851,7.264545546723701,6.8077107015920024,2.1686316622988901E-2,0.74810147738206467,-0.64506623975859156,-1.2014781582693423E-2,5.3921203687714634,8.1939234896452042,4.9341437833877504E-2,1.8898185345882483]
[{"$f":"A1963","v":2},{"$f":"OFFSET(AL$1867,A1968+1,A1967)-B$10-U$3","v":405.17847717147515},{"$f":"OFFSET(AL$1890,A1968+1,A1967)-B$11-V$3","v":-1952.565050447427},{"$f":"OFFSET(AL$1844,A1968+1,A1967)-B$12-W$3","v":-207},{"$f":"B1968*F$5+C1968*F$4","v":405.17847717147515},{"$f":"C1968*F$5-B1968*F$4","v":-1952.565050447427},-207,405.17847717147515,{"$f":"F1968*F$7+G1968*F$6","v":-1952.565050447427},{"$f":"G1968*F$7-F1968*F$6","v":-207},{"$f":"H1968*F$9+J1968*F$8","v":405.17847717147515},{"$f":"I1968","v":-1952.565050447427},{"$f":"J1968*F$9-H1968*F$8","v":-207},{"$f":"IF(P1967=1,K1968*B$1/(B$1+B$2+L1968),99999)","v":99999},{"$f":"M1968*B$1/(B$1+B$2+L1968)","v":2.1312027615479039},null,null,null,null,null,{"$f":"(7*U1965+3*U1975)/10","v":-54.666143607297919},-18.022942784788739,7.1860470304522579,6.7826919861523205,7.2068444848301967,2.9251954821742521E-2,0.77305034657234017,-0.61494952448088469,-1.1868998236073125E-2,4.8634994326218282,8.5141009163905217,5.6395631722318637E-2,1.7548314964033729]
[null,null,null,null,null,null,null,null,null,null,null,null,null,null,null,null,null,null,null,null,{"$f":"(4*U1965+6*U1975)/10","v":-52.683802301649585},-20.27436701448044,7.1484719605646676,6.0599116452952471,7.8055451596874885,4.0600412119872954E-2,0.82489512628681183,-0.53342305812195079,-1.1365555590835186E-2,4.0447605951146244,8.9488079813356016,6.6673642588148369E-2,1.5523509391260597]
[{"$f":"A1968","v":2},{"$f":"OFFSET(AL$1867,A1973+1,A1972)-B$10-U$3","v":705.17847717147515},{"$f":"OFFSET(AL$1890,A1973+1,A1972)-B$11-V$3","v":-1952.565050447427},{"$f":"OFFSET(AL$1844,A1973+1,A1972)-B$12-W$3","v":-207},{"$f":"B1973*F$5+C1973*F$4","v":705.17847717147515},{"$f":"C1973*F$5-B1973*F$4","v":-1952.565050447427},-207,705.17847717147515,{"$f":"F1973*F$7+G1973*F$6","v":-1952.565050447427},{"$f":"G1973*F$7-F1973*F$6","v":-207},{"$f":"H1973*F$9+J1973*F$8","v":705.17847717147515},{"$f":"I1973","v":-1952.565050447427},{"$f":"J1973*F$9-H1973*F$8","v":-207},{"$f":"IF(P1972=1,K1973*B$1/(B$1+B$2+L1973),99999)","v":99999},{"$f":"M1973*B$1/(B$1+B$2+L1973)","v":2.1312027615479039},null,null,null,null,null,{"$f":"(2*U1965+8*U1975)/10","v":-51.362241431217363},-21.775316500941571,7.1234219139729404,5.5780580847238657,8.2046789429256819,4.8166050318626571E-2,0.86426547140615639,-0.46695494940186677,-1.0935004618905175E-2,3.4728426811113748,9.1859433524533962,7.3149084544669174E-2,1.4173639009411843]
[null,null,null,null,null,null,null,null,null,null,null,null,null,null,null,null,null,null,null,null,{"$f":"(9*U1975+U1985)/10","v":-49.180309172046854},-23.785807008411616,7.0870131108583108,4.8053925432499884,8.7191595041905714,5.8968967019090358E-2,0.91084655449003549,-0.38231114396058175,-1.0362069834320309E-2,2.5734040311152033,9.4565615039352373,8.2249841736726115E-2,1.2148833436638711]
[null,{"$f":"OFFSET(AL$1867,A1978,A1977+1)-B$10-U$3","v":1155.1784771714752},{"$f":"OFFSET(AL$1890,A1978,A1977+1)-B$11-V$3","v":-2212.3726715827588},{"$f":"OFFSET(AL$1844,A1978,A1977+1)-B$12-W$3","v":-207},{"$f":"B1979*F$5+C1979*F$4","v":1155.1784771714752},{"$f":"C1979*F$5-B1979*F$4","v":-2212.3726715827588},-207,1155.1784771714752,{"$f":"F1979*F$7+G1979*F$6","v":-2212.3726715827588},{"$f":"G1979*F$7-F1979*F$6","v":-207},{"$f":"H1979*F$9+J1979*F$8","v":1155.1784771714752},{"$f":"I1979","v":-2212.3726715827588},{"$f":"J1979*F$9-H1979*F$8","v":-207},{"$f":"IF(P1977=1,K1979*B$1/(B$1+B$2+L1979),99999)","v":99999},{"$f":"M1979*B$1/(B$1+B$2+L1979)","v":1.8797908516657831},null,null,null,null,null,{"$f":"(6*U1975+4*U1985)/10","v":-46.599195005831973},-25.314430071438366,7.0529368412895987,3.9329566005425023,9.0651998382706545,6.8680802524220846E-2,0.93247876838362487,-0.32778405379701425,-9.934918396356629E-3,1.6427981965607803,9.6566603117804135,9.0820289761638945E-2,1.0124027863865579]
[null,null,null,null,null,null,null,null,null,null,null,null,null,null,null,null,null,null,null,null,{"$f":"(4*U1975+6*U1985)/10","v":-44.878452228355386},-26.333512113456198,7.030219328243791,3.3513326387375115,9.2958933943240449,7.5155359527641158E-2,0.94915989319685679,-0.25023482338393421,-9.2297600269439783E-3,1.0110300343226526,9.7528872103814273,9.6219267596341501E-2,1]
[{"$f":"A1977+1","v":14},{"$f":"OFFSET(AL$1867,A1983,A1982)-B$10-U$3","v":1155.1784771714752},{"$f":"OFFSET(AL$1890,A1983,A1982)-B$11-V$3","v":-2212.3726715827588},{"$f":"OFFSET(AL$1844,A1983,A1982)-B$12-W$3","v":-207},{"$f":"B1982*F$5+C1982*F$4","v":1155.1784771714752},{"$f":"C1982*F$5-B1982*F$4","v":-2212.3726715827588},{"$f":"D1982","v":-207},1155.1784771714752,{"$f":"F1982*F$7+G1982*F$6","v":-2212.3726715827588},{"$f":"G1982*F$7-F1982*F$6","v":-207},{"$f":"H1982*F$9+J1982*F$8","v":1155.1784771714752},{"$f":"I1982","v":-2212.3726715827588},{"$f":"J1982*F$9-H1982*F$8","v":-207},{"$f":"IF(P1982=1,K1982*B$1/(B$1+B$2+L1982),99999)","v":99999},{"$f":"M1982*B$1/(B$1+B$2+L1982)","v":1.8797908516657831},{"$f":"IF(MIN(L1982:L1985)+B$2+B$1>0,1,0)","v":0},null,null,null,null,{"$f":"(3*U1975+7*U1985)/10","v":-44.018080839617099},-26.843053134465112,7.0188605717208858,3.0605206578350161,9.4112401723507411,7.8392638029351328E-2,0.95750045560347274,-0.21146020817738531,-8.8771808422389853E-3,0.69264201736255648,9.7817275812970106,9.8732122110888221E-2,1]
[null,null,null,null,null,null,null,null,null,null,null,null,null,null,null,null,null,null,null,null,{"$f":"(9*U1985+U1995)/10","v":-40.461223477231378},-28.590406070961734,6.9757036866317481,1.8584928063270769,9.775332933634246,9.0580827049380197E-2,0.98365196726538784,-7.4537444072408476E-2,-7.60924791606854E-3,-0.59760295608471814,9.768601875726505,0.10753931081704457,1]
[{"$f":"A1982+1","v":15},{"$f":"OFFSET(AL$1867,A1988,A1987)-B$10-U$3","v":1455.1784771714752},{"$f":"OFFSET(AL$1890,A1988,A1987)-B$11-V$3","v":-2212.3726715827588},{"$f":"OFFSET(AL$1844,A1988,A1987)-B$12-W$3","v":-207},{"$f":"B1987*F$5+C1987*F$4","v":1455.1784771714752},{"$f":"C1987*F$5-B1987*F$4","v":-2212.3726715827588},{"$f":"D1987","v":-207},1455.1784771714752,{"$f":"F1987*F$7+G1987*F$6","v":-2212.3726715827588},{"$f":"G1987*F$7-F1987*F$6","v":-207},{"$f":"H1987*F$9+J1987*F$8","v":1455.1784771714752},{"$f":"I1987","v":-2212.3726715827588},{"$f":"J1987*F$9-H1987*F$8","v":-207},{"$f":"IF(P1987=1,K1987*B$1/(B$1+B$2+L1987),99999)","v":99999},{"$f":"M1987*B$1/(B$1+B$2+L1987)","v":1.8797908516657831},{"$f":"IF(MIN(L1987:L1990)+B$2+B$1>0,1,0)","v":0},null,null,null,null,{"$f":"(8*U1985+2*U1995)/10","v":-39.485480281060553},-28.809135944431603,6.9666230711113197,1.5289008975266234,9.793385360837668,9.3057180564278585E-2,0.98478179170747282,-5.3938525587057029E-2,-7.3990525440175148E-3,-0.92191368035463617,9.7392795489521244,0.10947760846725178,1]
[null,{"$f":"OFFSET(AL$1867,A1988,A1987)-B$10-U$3","v":1455.1784771714752},{"$f":"OFFSET(AL$1890,A1988,A1987)-B$11-V$3","v":-2212.3726715827588},{"$f":"OFFSET(AL$1844,A1988,A1987)-B$12-W$3","v":-207},{"$f":"B1990*F$5+C1990*F$4","v":1455.1784771714752},{"$f":"C1990*F$5-B1990*F$4","v":-2212.3726715827588},-207,1455.1784771714752,{"$f":"F1990*F$7+G1990*F$6","v":-2212.3726715827588},{"$f":"G1990*F$7-F1990*F$6","v":-207},{"$f":"H1990*F$9+J1990*F$8","v":1455.1784771714752},{"$f":"I1990","v":-2212.3726715827588},{"$f":"J1990*F$9-H1990*F$8","v":-207},{"$f":"IF(P1987=1,K1990*B$1/(B$1+B$2+L1990),99999)","v":99999},{"$f":"M1990*B$1/(B$1+B$2+L1990)","v":1.8797908516657831},null,null,null,null,null,{"$f":"(5*U1985+5*U1995)/10","v":-36.55825069254805},-29.465325564841226,6.9393812245500373,0.54012517112526304,9.8475426424479338,0.10048624110897375,0.98253299568886376,2.7702220897158014E-2,-6.5193339338591727E-3,-1.8903191235667887,9.6107056366480119,0.11483131067670953,1]
[{"$f":"A1987+1","v":16},{"$f":"OFFSET(AL$1867,A1993,A1992)-B$10-U$3","v":1755.1784771714752},{"$f":"OFFSET(AL$1890,A1993,A1992)-B$11-V$3","v":-2212.3726715827588},{"$f":"OFFSET(AL$1844,A1993,A1992)-B$12-W$3","v":-207},{"$f":"B1992*F$5+C1992*F$4","v":1755.1784771714752},{"$f":"C1992*F$5-B1992*F$4","v":-2212.3726715827588},{"$f":"D1992","v":-207},1755.1784771714752,{"$f":"F1992*F$7+G1992*F$6","v":-2212.3726715827588},{"$f":"G1992*F$7-F1992*F$6","v":-207},{"$f":"H1992*F$9+J1992*F$8","v":1755.1784771714752},{"$f":"I1992","v":-2212.3726715827588},{"$f":"J1992*F$9-H1992*F$8","v":-207},{"$f":"IF(P1992=1,K1992*B$1/(B$1+B$2+L1992),99999)","v":99999},{"$f":"M1992*B$1/(B$1+B$2+L1992)","v":1.8797908516657831},{"$f":"IF(MIN(L1992:L1995)+B$2+B$1>0,1,0)","v":0},null,null,null,null,{"$f":"(3*U1985+7*U1995)/10","v":-34.606764300206386},-29.902785311780974,6.9212199935091805,-0.11905864647564393,9.8836474968547776,0.10543894813877053,0.97351610588331994,0.10858803992418586,-5.6006782017483658E-3,-2.5233999968394043,9.4726906219016769,0.11776005759821496,1]
[null,null,null,null,null,null,null,null,null,null,null,null,null,null,null,null,null,null,null,null,{"$f":"(9*U1995+U2005)/10","v":-30.685714324449769},-30.448122109894836,6.8882606573802914,-1.42535500275052,9.8475720537192046,0.1141145202219271,0.95435250183015441,0.24976075949289722,-3.9735621095786655E-3,-3.7455063607061616,9.0416068755425822,0.12167092089024542,1]
[{"$f":"A1992+1","v":17},{"$f":"OFFSET(AL$1867,A1998,A1997)-B$10-U$3","v":2055.1784771714752},{"$f":"OFFSET(AL$1890,A1998,A1997)-B$11-V$3","v":-2212.3726715827588},{"$f":"OFFSET(AL$1844,A1998,A1997)-B$12-W$3","v":-207},{"$f":"B1997*F$5+C1997*F$4","v":2055.1784771714752},{"$f":"C1997*F$5-B1997*F$4","v":-2212.3726715827588},{"$f":"D1997","v":-207},2055.1784771714752,{"$f":"F1997*F$7+G1997*F$6","v":-2212.3726715827588},{"$f":"G1997*F$7-F1997*F$6","v":-207},{"$f":"H1997*F$9+J1997*F$8","v":2055.1784771714752},{"$f":"I1997","v":-2212.3726715827588},{"$f":"J1997*F$9-H1997*F$8","v":-207},{"$f":"IF(P1997=1,K1997*B$1/(B$1+B$2+L1997),99999)","v":99999},{"$f":"M1997*B$1/(B$1+B$2+L1997)","v":1.8797908516657831},{"$f":"IF(MIN(L1997:L2000)+B$2+B$1>0,1,0)","v":0},null,null,null,null,{"$f":"(8*U1995+2*U2005)/10","v":-29.69189393720567},-30.337269287599078,6.8825431678126829,-1.7428756326240353,9.7573393289733641,0.1153610317603885,0.94871423248531173,0.26960475052106503,-3.7244296155760637E-3,-4.0426092018811026,8.9083009032691329,0.12231995380532609,1]
[null,{"$f":"OFFSET(AL$1867,A1998,A1997+1)-B$10-U$3","v":2355.1784771714752},{"$f":"OFFSET(AL$1890,A1998,A1997+1)-B$11-V$3","v":-2212.3726715827588},{"$f":"OFFSET(AL$1844,A1998,A1997+1)-B$12-W$3","v":-207},{"$f":"B1999*F$5+C1999*F$4","v":2355.1784771714752},{"$f":"C1999*F$5-B1999*F$4","v":-2212.3726715827588},-207,2355.1784771714752,{"$f":"F1999*F$7+G1999*F$6","v":-2212.3726715827588},{"$f":"G1999*F$7-F1999*F$6","v":-207},{"$f":"H1999*F$9+J1999*F$8","v":2355.1784771714752},{"$f":"I1999","v":-2212.3726715827588},{"$f":"J1999*F$9-H1999*F$8","v":-207},{"$f":"IF(P1997=1,K1999*B$1/(B$1+B$2+L1999),99999)","v":99999},{"$f":"M1999*B$1/(B$1+B$2+L1999)","v":1.8797908516657831},null,null,null,null,null,{"$f":"(6*U1995+4*U2005)/10","v":-27.704253162717446},-30.115563643007555,6.8711081886774679,-2.3779168923710663,9.5768738794816848,0.1178540548373113,0.93743769379561215,0.30929273257738643,-3.2261646275664191E-3,-4.6280644033601659,8.6232289954961168,0.12336195736832427,1]
[{"$f":"A1997+1","v":18},{"$f":"OFFSET(AL$1867,A2003,A2002)-B$10-U$3","v":2355.1784771714752},{"$f":"OFFSET(AL$1890,A2003,A2002)-B$11-V$3","v":-2212.3726715827588},{"$f":"OFFSET(AL$1844,A2003,A2002)-B$12-W$3","v":-207},{"$f":"B2002*F$5+C2002*F$4","v":2355.1784771714752},{"$f":"C2002*F$5-B2002*F$4","v":-2212.3726715827588},{"$f":"D2002","v":-207},2355.1784771714752,{"$f":"F2002*F$7+G2002*F$6","v":-2212.3726715827588},{"$f":"G2002*F$7-F2002*F$6","v":-207},{"$f":"H2002*F$9+J2002*F$8","v":2355.1784771714752},{"$f":"I2002","v":-2212.3726715827588},{"$f":"J2002*F$9-H2002*F$8","v":-207},{"$f":"IF(P2002=1,K2002*B$1/(B$1+B$2+L2002),99999)","v":99999},{"$f":"M2002*B$1/(B$1+B$2+L2002)","v":1.8797908516657831},{"$f":"IF(MIN(L2002:L2005)+B$2+B$1>0,1,0)","v":0},null,null,null,null,{"$f":"(3*U1995+7*U2005)/10","v":-24.722792000985123},-29.78300517612028,6.853955719974647,-3.3304787819916131,9.3061757052441667,0.12159358945269552,0.88514688203605019,0.41960512299271358,-1.6959968565055661E-3,-5.4700868837828969,8.1348662154914759,0.12403117915533507,1]
[null,{"$f":"OFFSET(AL$1867,A2003,A2002+1)-B$10-U$3","v":2655.1784771714752},{"$f":"OFFSET(AL$1890,A2003,A2002+1)-B$11-V$3","v":-2212.3726715827588},{"$f":"OFFSET(AL$1844,A2003,A2002+1)-B$12-W$3","v":-207},{"$f":"B2004*F$5+C2004*F$4","v":2655.1784771714752},{"$f":"C2004*F$5-B2004*F$4","v":-2212.3726715827588},-207,2655.1784771714752,{"$f":"F2004*F$7+G2004*F$6","v":-2212.3726715827588},{"$f":"G2004*F$7-F2004*F$6","v":-207},{"$f":"H2004*F$9+J2004*F$8","v":2655.1784771714752},{"$f":"I2004","v":-2212.3726715827588},{"$f":"J2004*F$9-H2004*F$8","v":-207},{"$f":"IF(P2002=1,K2004*B$1/(B$1+B$2+L2004),99999)","v":99999},{"$f":"M2004*B$1/(B$1+B$2+L2004)","v":1.8797908516657831},null,null,null,null,null,{"$f":"(1*U1995+9*U2005)/10","v":-22.735151226496903},-29.561299531528768,6.8425207408394311,-3.9655200417386438,9.1257102557524892,0.12408661252961832,0.85028634086301302,0.49314671660292575,-6.7588500913196015E-4,-5.9930442032486564,7.7541827396451444,0.1236278434187728,1]
[{"$f":"A2002+1","v":19},{"$f":"OFFSET(AL$1867,A2008,A2007)-B$10-U$3","v":2655.1784771714752},{"$f":"OFFSET(AL$1890,A2008,A2007)-B$11-V$3","v":-2212.3726715827588},{"$f":"OFFSET(AL$1844,A2008,A2007)-B$12-W$3","v":-207},{"$f":"B2007*F$5+C2007*F$4","v":2655.1784771714752},{"$f":"C2007*F$5-B2007*F$4","v":-2212.3726715827588},{"$f":"D2007","v":-207},2655.1784771714752,{"$f":"F2007*F$7+G2007*F$6","v":-2212.3726715827588},{"$f":"G2007*F$7-F2007*F$6","v":-207},{"$f":"H2007*F$9+J2007*F$8","v":2655.1784771714752},{"$f":"I2007","v":-2212.3726715827588},{"$f":"J2007*F$9-H2007*F$8","v":-207},{"$f":"IF(P2007=1,K2007*B$1/(B$1+B$2+L2007),99999)","v":99999},{"$f":"M2007*B$1/(B$1+B$2+L2007)","v":1.8797908516657831},{"$f":"IF(MIN(L2007:L2010)+B$2+B$1>0,1,0)","v":0},null,null,null,null,{"$f":"(8*U2005+2*U2015)/10","v":-19.934114683799773},-28.59373335174028,6.8333405119447388,-4.8247434687371342,8.6581058071030448,0.12509481629526203,0.80927206779315597,0.56377112496192083,3.5601777392013645E-4,-6.7228105081801388,7.1066484131861607,0.12183396851112953,1]
[null,{"$f":"OFFSET(AL$1867,A2008,A2007)-B$10-U$3","v":2655.1784771714752},{"$f":"OFFSET(AL$1890,A2008,A2007)-B$11-V$3","v":-2212.3726715827588},{"$f":"OFFSET(AL$1844,A2008,A2007)-B$12-W$3","v":-207},{"$f":"B2010*F$5+C2010*F$4","v":2655.1784771714752},{"$f":"C2010*F$5-B2010*F$4","v":-2212.3726715827588},-207,2655.1784771714752,{"$f":"F2010*F$7+G2010*F$6","v":-2212.3726715827588},{"$f":"G2010*F$7-F2010*F$6","v":-207},{"$f":"H2010*F$9+J2010*F$8","v":2655.1784771714752},{"$f":"I2010","v":-2212.3726715827588},{"$f":"J2010*F$9-H2010*F$8","v":-207},{"$f":"IF(P2007=1,K2010*B$1/(B$1+B$2+L2010),99999)","v":99999},{"$f":"M2010*B$1/(B$1+B$2+L2010)","v":1.8797908516657831},null,null,null,null,null,{"$f":"(5*U2005+5*U2015)/10","v":-17.22329045062024},-27.308663315501189,6.828146402954113,-5.6372976644245965,8.0920482212476355,0.12473735463603552,0.7572352209780302,0.62671676983994473,1.3830714681146716E-3,-7.4068076272982211,6.4091457348123324,0.11919385584569631,1]
[0,{"$f":"OFFSET(AL$1867,A2013,A2012)-B$10-U$3","v":-2894.8215228285248},{"$f":"OFFSET(AL$1890,A2013,A2012)-B$11-V$3","v":-1952.565050447427},{"$f":"OFFSET(AL$1844,A2013,A2012)-B$12-W$3","v":-207},{"$f":"B2012*F$5+C2012*F$4","v":-2894.8215228285248},{"$f":"C2012*F$5-B2012*F$4","v":-1952.565050447427},{"$f":"D2012","v":-207},-2894.8215228285248,{"$f":"F2012*F$7+G2012*F$6","v":-1952.565050447427},{"$f":"G2012*F$7-F2012*F$6","v":-207},{"$f":"H2012*F$9+J2012*F$8","v":-2894.8215228285248},{"$f":"I2012","v":-1952.565050447427},{"$f":"J2012*F$9-H2012*F$8","v":-207},{"$f":"IF(P2012=1,K2012*B$1/(B$1+B$2+L2012),99999)","v":99999},{"$f":"M2012*B$1/(B$1+B$2+L2012)","v":2.1312027615479039},{"$f":"IF(MIN(L2012:L2015)+B$2+B$1>0,1,0)","v":0},null,null,null,null,{"$f":"(3*U2005+7*U2015)/10","v":-15.416074295167217},-26.451949958008459,6.8246836636270274,-6.1790004615495722,7.7146764973440298,0.12449904686321785,0.70032953231445205,0.68490083648821098,2.3934851377758193E-3,-7.8207375206784189,5.9106436116233594,0.11678751009143577,1]
[null,{"$f":"OFFSET(AL$1867,A2013,A2012)-B$10-U$3","v":-2894.8215228285248},{"$f":"OFFSET(AL$1890,A2013,A2012)-B$11-V$3","v":-1952.565050447427},{"$f":"OFFSET(AL$1844,A2013,A2012)-B$12-W$3","v":-207},{"$f":"B2015*F$5+C2015*F$4","v":-2894.8215228285248},{"$f":"C2015*F$5-B2015*F$4","v":-1952.565050447427},-207,-2894.8215228285248,{"$f":"F2015*F$7+G2015*F$6","v":-1952.565050447427},{"$f":"G2015*F$7-F2015*F$6","v":-207},{"$f":"H2015*F$9+J2015*F$8","v":-2894.8215228285248},{"$f":"I2015","v":-1952.565050447427},{"$f":"J2015*F$9-H2015*F$8","v":-207},{"$f":"IF(P2012=1,K2015*B$1/(B$1+B$2+L2015),99999)","v":99999},{"$f":"M2015*B$1/(B$1+B$2+L2015)","v":2.1312027615479039},null,null,null,null,{"$f":"T2005+7","v":1379},{"$f":"OFFSET(Calculations!AS$46,$T2015,0)","v":-12.705250061987684},{"$f":"OFFSET(Calculations!AT$46,$T2015,0)","v":-25.166879921769372},{"$f":"OFFSET(Calculations!AU$46,$T2015,0)","v":6.8194895546363989},{"$f":"OFFSET(Calculations!AS$43,$T2015,0)-OFFSET(Calculations!AS$45,$T2015,0)","v":-6.9915546572370335},{"$f":"OFFSET(Calculations!AT$43,$T2015,0)-OFFSET(Calculations!AT$45,$T2015,0)","v":7.1486189114886223},{"$f":"OFFSET(Calculations!AU$43,$T2015,0)-OFFSET(Calculations!AU$45,$T2015,0)","v":0.12414158520399132},0.61497099931908306,0.77217693646060681,3.909105642263988E-3,-8.3602687617004356,5.1034812666235574,0.1119850279994133,1]
[{"$f":"A2013","v":3},{"$f":"OFFSET(AL$1867,A2018+1,A2017+1)-B$10-U$3","v":-2444.8215228285248},{"$f":"OFFSET(AL$1890,A2018+1,A2017+1)-B$11-V$3","v":-1692.7574293120952},{"$f":"OFFSET(AL$1844,A2018+1,A2017+1)-B$12-W$3","v":-207},{"$f":"B2018*F$5+C2018*F$4","v":-2444.8215228285248},{"$f":"C2018*F$5-B2018*F$4","v":-1692.7574293120952},-207,-2444.8215228285248,{"$f":"F2018*F$7+G2018*F$6","v":-1692.7574293120952},{"$f":"G2018*F$7-F2018*F$6","v":-207},{"$f":"H2018*F$9+J2018*F$8","v":-2444.8215228285248},{"$f":"I2018","v":-1692.7574293120952},{"$f":"J2018*F$9-H2018*F$8","v":-207},{"$f":"IF(P2017=1,K2018*B$1/(B$1+B$2+L2018),99999)","v":99999},{"$f":"M2018*B$1/(B$1+B$2+L2018)","v":2.4602476434719507},null,null,null,null,null,{"$f":"(7*U2015+3*U2025)/10","v":-10.560441888408281},-23.069323208236938,6.8268197702705518,-7.5755629390233796,6.3488811611560223,0.11972607731150844,0.56498847004872843,0.80867261910217891,4.6419558577035502E-3,-8.8164478034833369,4.2396329396439665,0.10600461764421129,1]
[null,{"$f":"OFFSET(AL$1867,A2018,A2017)-B$10-U$3","v":-2594.8215228285248},{"$f":"OFFSET(AL$1890,A2018,A2017)-B$11-V$3","v":-1952.565050447427},{"$f":"OFFSET(AL$1844,A2018,A2017)-B$12-W$3","v":-207},{"$f":"B2020*F$5+C2020*F$4","v":-2594.8215228285248},{"$f":"C2020*F$5-B2020*F$4","v":-1952.565050447427},-207,-2594.8215228285248,{"$f":"F2020*F$7+G2020*F$6","v":-1952.565050447427},{"$f":"G2020*F$7-F2020*F$6","v":-207},{"$f":"H2020*F$9+J2020*F$8","v":-2594.8215228285248},{"$f":"I2020","v":-1952.565050447427},{"$f":"J2020*F$9-H2020*F$8","v":-207},{"$f":"IF(P2017=1,K2020*B$1/(B$1+B$2+L2020),99999)","v":99999},{"$f":"M2020*B$1/(B$1+B$2+L2020)","v":2.1312027615479039},null,null,null,null,null,{"$f":"(5*U2015+5*U2025)/10","v":-9.1305697726886788},-21.670952065881988,6.8317065806933215,-7.9649017935476083,5.8157226609342896,0.11678240538318652,0.5119525118564523,0.8390811656641084,5.3315482328635255E-3,-9.0901316313377869,3.648469631979717,0.101645081582953,1]
[null,null,null,null,null,null,null,null,null,null,null,null,null,null,null,null,null,null,null,null,{"$f":"(4*U2015+6*U2025)/10","v":-8.4156337148288767},-20.971766494704507,6.8341499859047046,-8.159571220809724,5.5491434108234232,0.11531056941902555,0.475577396754296,0.85732448467885192,5.7768572028784604E-3,-9.2123166242311036,3.3593212108500832,9.9431780002493211E-2,1]
[null,{"$f":"OFFSET(AL$1867,A2023,A2022)-B$10-U$3","v":-2294.8215228285248},{"$f":"OFFSET(AL$1890,A2023,A2022)-B$11-V$3","v":-1952.565050447427},{"$f":"OFFSET(AL$1844,A2023,A2022)-B$12-W$3","v":-207},{"$f":"B2025*F$5+C2025*F$4","v":-2294.8215228285248},{"$f":"C2025*F$5-B2025*F$4","v":-1952.565050447427},-207,-2294.8215228285248,{"$f":"F2025*F$7+G2025*F$6","v":-1952.565050447427},{"$f":"G2025*F$7-F2025*F$6","v":-207},{"$f":"H2025*F$9+J2025*F$8","v":-2294.8215228285248},{"$f":"I2025","v":-1952.565050447427},{"$f":"J2025*F$9-H2025*F$8","v":-207},{"$f":"IF(P2022=1,K2025*B$1/(B$1+B$2+L2025),99999)","v":99999},{"$f":"M2025*B$1/(B$1+B$2+L2025)","v":2.1312027615479039},null,null,null,null,{"$f":"T2015+7","v":1386},{"$f":"OFFSET(Calculations!AS$46,$T2025,0)","v":-5.5558894833896728},{"$f":"OFFSET(Calculations!AT$46,$T2025,0)","v":-18.1750242099946},{"$f":"OFFSET(Calculations!AU$46,$T2025,0)","v":6.8439236067502431},{"$f":"OFFSET(Calculations!AS$43,$T2025,0)-OFFSET(Calculations!AS$45,$T2025,0)","v":-8.9382489298581831},{"$f":"OFFSET(Calculations!AT$43,$T2025,0)-OFFSET(Calculations!AT$45,$T2025,0)","v":4.4828264103799569},{"$f":"OFFSET(Calculations!AU$43,$T2025,0)-OFFSET(Calculations!AU$45,$T2025,0)","v":0.10942322556238171},0.3300769363456677,0.93029776073781711,7.5580930829346471E-3,-9.5849229187994585,2.2823242763676421,9.0615834006804397E-2,1]
[{"$f":"A2022+1","v":3},{"$f":"OFFSET(AL$1867,A2028,A2027)-B$10-U$3","v":-1994.8215228285248},{"$f":"OFFSET(AL$1890,A2028,A2027)-B$11-V$3","v":-1952.565050447427},{"$f":"OFFSET(AL$1844,A2028,A2027)-B$12-W$3","v":-207},{"$f":"B2027*F$5+C2027*F$4","v":-1994.8215228285248},{"$f":"C2027*F$5-B2027*F$4","v":-1952.565050447427},{"$f":"D2027","v":-207},-1994.8215228285248,{"$f":"F2027*F$7+G2027*F$6","v":-1952.565050447427},{"$f":"G2027*F$7-F2027*F$6","v":-207},{"$f":"H2027*F$9+J2027*F$8","v":-1994.8215228285248},{"$f":"I2027","v":-1952.565050447427},{"$f":"J2027*F$9-H2027*F$8","v":-207},{"$f":"IF(P2027=1,K2027*B$1/(B$1+B$2+L2027),99999)","v":99999},{"$f":"M2027*B$1/(B$1+B$2+L2027)","v":2.1312027615479039},{"$f":"IF(MIN(L2027:L2030)+B$2+B$1>0,1,0)","v":0},null,null,null,null,{"$f":"(8*U2025+2*U2035)/10","v":-4.6591643465538857},-16.3873657861296,6.8566274861377012,-9.1328003710438335,3.8519756028866174,0.10409494035753539,0.29064839232159234,0.94245394367292334,7.9601442126699951E-3,-9.7076329665475196,1.7946367437503159,8.6304736369541613E-2,1]
[null,{"$f":"OFFSET(AL$1867,A2028,A2027)-B$10-U$3","v":-1994.8215228285248},{"$f":"OFFSET(AL$1890,A2028,A2027)-B$11-V$3","v":-1952.565050447427},{"$f":"OFFSET(AL$1844,A2028,A2027)-B$12-W$3","v":-207},{"$f":"B2030*F$5+C2030*F$4","v":-1994.8215228285248},{"$f":"C2030*F$5-B2030*F$4","v":-1952.565050447427},-207,-1994.8215228285248,{"$f":"F2030*F$7+G2030*F$6","v":-1952.565050447427},{"$f":"G2030*F$7-F2030*F$6","v":-207},{"$f":"H2030*F$9+J2030*F$8","v":-1994.8215228285248},{"$f":"I2030","v":-1952.565050447427},{"$f":"J2030*F$9-H2030*F$8","v":-207},{"$f":"IF(P2027=1,K2030*B$1/(B$1+B$2+L2030),99999)","v":99999},{"$f":"M2030*B$1/(B$1+B$2+L2030)","v":2.1312027615479039},null,null,null,null,null,{"$f":"(5*U2025+5*U2035)/10","v":-3.3140766413002063},-13.705878150332094,6.8756833052188879,-9.4246275328223081,2.9056993916466087,9.6102512550265917E-2,0.22280381050989517,0.96124103333545907,8.6294072486703399E-3,-9.8502510804171557,1.1456996418681804,8.0424928894945596E-2,1]
[{"$f":"A2028","v":3},{"$f":"OFFSET(AL$1867,A2033+1,A2032+1)-B$10-U$3","v":-1544.8215228285248},{"$f":"OFFSET(AL$1890,A2033+1,A2032+1)-B$11-V$3","v":-1692.7574293120952},{"$f":"OFFSET(AL$1844,A2033+1,A2032+1)-B$12-W$3","v":-207},{"$f":"B2033*F$5+C2033*F$4","v":-1544.8215228285248},{"$f":"C2033*F$5-B2033*F$4","v":-1692.7574293120952},-207,-1544.8215228285248,{"$f":"F2033*F$7+G2033*F$6","v":-1692.7574293120952},{"$f":"G2033*F$7-F2033*F$6","v":-207},{"$f":"H2033*F$9+J2033*F$8","v":-1544.8215228285248},{"$f":"I2033","v":-1692.7574293120952},{"$f":"J2033*F$9-H2033*F$8","v":-207},{"$f":"IF(P2032=1,K2033*B$1/(B$1+B$2+L2033),99999)","v":99999},{"$f":"M2033*B$1/(B$1+B$2+L2033)","v":2.4602476434719507},null,null,null,null,null,{"$f":"(2*U2025+8*U2035)/10","v":-1.9689889360465258},-11.024390514534591,6.8947391243000755,-9.7164546946007828,1.9594231804065998,8.8110084742996447E-2,0.13755569714702776,0.98113375351775334,9.4310429674679952E-3,-9.9358342165431743,0.59592205039634494,7.5199213906132267E-2,1]
[null,{"$f":"OFFSET(AL$1867,A2033,A2032)-B$10-U$3","v":-1694.8215228285248},{"$f":"OFFSET(AL$1890,A2033,A2032)-B$11-V$3","v":-1952.565050447427},{"$f":"OFFSET(AL$1844,A2033,A2032)-B$12-W$3","v":-207},{"$f":"B2035*F$5+C2035*F$4","v":-1694.8215228285248},{"$f":"C2035*F$5-B2035*F$4","v":-1952.565050447427},-207,-1694.8215228285248,{"$f":"F2035*F$7+G2035*F$6","v":-1952.565050447427},{"$f":"G2035*F$7-F2035*F$6","v":-207},{"$f":"H2035*F$9+J2035*F$8","v":-1694.8215228285248},{"$f":"I2035","v":-1952.565050447427},{"$f":"J2035*F$9-H2035*F$8","v":-207},{"$f":"IF(P2032=1,K2035*B$1/(B$1+B$2+L2035),99999)","v":99999},{"$f":"M2035*B$1/(B$1+B$2+L2035)","v":2.1312027615479039},null,null,null,null,{"$f":"T2025+7","v":1393},{"$f":"OFFSET(Calculations!AS$46,$T2035,0)","v":-1.0722637992107389},{"$f":"OFFSET(Calculations!AT$46,$T2035,0)","v":-9.2367320906695873},{"$f":"OFFSET(Calculations!AU$46,$T2035,0)","v":6.9074430036875336},{"$f":"OFFSET(Calculations!AS$43,$T2035,0)-OFFSET(Calculations!AS$45,$T2035,0)","v":-9.9110061357864332},{"$f":"OFFSET(Calculations!AT$43,$T2035,0)-OFFSET(Calculations!AT$45,$T2035,0)","v":1.3285723729132606},{"$f":"OFFSET(Calculations!AU$43,$T2035,0)-OFFSET(Calculations!AU$45,$T2035,0)","v":8.2781799538150125E-2},8.0723621571783061E-2,0.99439556697261644,9.9654667799971008E-3,-9.9591761450916589,0.28450518240908684,7.2064867991309567E-2,1]
[{"$f":"A2033","v":3},{"$f":"OFFSET(AL$1867,A2038+1,A2037+1)-B$10-U$3","v":-1244.8215228285248},{"$f":"OFFSET(AL$1890,A2038+1,A2037+1)-B$11-V$3","v":-1692.7574293120952},{"$f":"OFFSET(AL$1844,A2038+1,A2037+1)-B$12-W$3","v":-207},{"$f":"B2038*F$5+C2038*F$4","v":-1244.8215228285248},{"$f":"C2038*F$5-B2038*F$4","v":-1692.7574293120952},-207,-1244.8215228285248,{"$f":"F2038*F$7+G2038*F$6","v":-1692.7574293120952},{"$f":"G2038*F$7-F2038*F$6","v":-207},{"$f":"H2038*F$9+J2038*F$8","v":-1244.8215228285248},{"$f":"I2038","v":-1692.7574293120952},{"$f":"J2038*F$9-H2038*F$8","v":-207},{"$f":"IF(P2037=1,K2038*B$1/(B$1+B$2+L2038),99999)","v":99999},{"$f":"M2038*B$1/(B$1+B$2+L2038)","v":2.4602476434719507},null,null,null,null,null,{"$f":"(7*U2035+3*U2045)/10","v":-0.67346115053486333},-6.2634960644295585,6.9361480498823651,-9.9375727679491934,0.91089902275391543,7.8545141211189037E-2,5.4618324245028563E-2,0.99605401275225303,1.0164025804192178E-2,-9.9601975777120764,-0.13300550889839347,6.765280964313547E-2,1]
[null,{"$f":"OFFSET(AL$1867,A2038,A2037)-B$10-U$3","v":-1394.8215228285248},{"$f":"OFFSET(AL$1890,A2038,A2037)-B$11-V$3","v":-1952.565050447427},{"$f":"OFFSET(AL$1844,A2038,A2037)-B$12-W$3","v":-207},{"$f":"B2040*F$5+C2040*F$4","v":-1394.8215228285248},{"$f":"C2040*F$5-B2040*F$4","v":-1952.565050447427},-207,-1394.8215228285248,{"$f":"F2040*F$7+G2040*F$6","v":-1952.565050447427},{"$f":"G2040*F$7-F2040*F$6","v":-207},{"$f":"H2040*F$9+J2040*F$8","v":-1394.8215228285248},{"$f":"I2040","v":-1952.565050447427},{"$f":"J2040*F$9-H2040*F$8","v":-207},{"$f":"IF(P2037=1,K2040*B$1/(B$1+B$2+L2040),99999)","v":99999},{"$f":"M2040*B$1/(B$1+B$2+L2040)","v":2.1312027615479039},null,null,null,null,null,{"$f":"(5*U2035+5*U2045)/10","v":-0.40759271808427949},-4.2813387136028727,6.955284747345587,-9.9552838560577008,0.6324501226476853,7.5720702326548317E-2,3.639480744785345E-2,0.86795633667893579,-3.4801558356033269E-2,-9.9547963424251282,-0.41130724147198394,6.4669675501206794E-2,1]
[null,null,null,null,null,null,null,null,null,null,null,null,null,null,null,null,null,null,null,null,{"$f":"(4*U2035+6*U2045)/10","v":-0.27465850185898766},-3.2902600381895297,6.9648530960771975,-9.9641394001119536,0.49322567259457023,7.430848288422795E-2,2.687305642626317E-2,0.73930584534573995,-7.9833328857654706E-2,-9.8890997409595407,-0.53266097353433428,6.2929689519545348E-2,1]
[null,{"$f":"OFFSET(AL$1867,A2043,A2042)-B$10-U$3","v":-1094.8215228285248},{"$f":"OFFSET(AL$1890,A2043,A2042)-B$11-V$3","v":-1952.565050447427},{"$f":"OFFSET(AL$1844,A2043,A2042)-B$12-W$3","v":-207},{"$f":"B2045*F$5+C2045*F$4","v":-1094.8215228285248},{"$f":"C2045*F$5-B2045*F$4","v":-1952.565050447427},-207,-1094.8215228285248,{"$f":"F2045*F$7+G2045*F$6","v":-1952.565050447427},{"$f":"G2045*F$7-F2045*F$6","v":-207},{"$f":"H2045*F$9+J2045*F$8","v":-1094.8215228285248},{"$f":"I2045","v":-1952.565050447427},{"$f":"J2045*F$9-H2045*F$8","v":-207},{"$f":"IF(P2042=1,K2045*B$1/(B$1+B$2+L2045),99999)","v":99999},{"$f":"M2045*B$1/(B$1+B$2+L2045)","v":2.1312027615479039},null,null,null,null,{"$f":"T2035+7","v":1400},{"$f":"OFFSET(Calculations!AS$46,$T2045,0)","v":0.25707836304217979},{"$f":"OFFSET(Calculations!AT$46,$T2045,0)","v":0.67405466346384202},{"$f":"OFFSET(Calculations!AU$46,$T2045,0)","v":7.0031264910036413},{"$f":"OFFSET(Calculations!AS$43,$T2045,0)-OFFSET(Calculations!AS$45,$T2045,0)","v":-9.9995615763289667},{"$f":"OFFSET(Calculations!AT$43,$T2045,0)-OFFSET(Calculations!AT$45,$T2045,0)","v":-6.3672127617889984E-2},{"$f":"OFFSET(Calculations!AU$43,$T2045,0)-OFFSET(Calculations!AU$45,$T2045,0)","v":6.8659605114946509E-2},-1.1213947660098034E-2,0.22470388001295749,-0.25996041086414312,-9.002435687243258,-0.84014328783734982,5.3527318395741083E-2,1]
[null,null,null,null,null,null,null,null,null,null,null,null,null,null,null,null,null,null,null,null,{"$f":"(9*U2045+U2055)/10","v":0.25078432685811469},1.6739783830352473,7.013753821197616,-9.9889541112081019,-0.20277264711720325,6.7113747561225762E-2,-1.2033932906103467E-2,9.5500573419882606E-2,-0.30505836770716321,-8.6248002618507051,-0.8725307129265073,5.056611881550041E-2,1]
[null,{"$f":"OFFSET(AL$1867,A2048,A2047+1)-B$10-U$3","v":-494.82152282852485},{"$f":"OFFSET(AL$1890,A2048,A2047+1)-B$11-V$3","v":-1952.565050447427},{"$f":"OFFSET(AL$1844,A2048,A2047+1)-B$12-W$3","v":-207},{"$f":"B2049*F$5+C2049*F$4","v":-494.82152282852485},{"$f":"C2049*F$5-B2049*F$4","v":-1952.565050447427},-207,-494.82152282852485,{"$f":"F2049*F$7+G2049*F$6","v":-1952.565050447427},{"$f":"G2049*F$7-F2049*F$6","v":-207},{"$f":"H2049*F$9+J2049*F$8","v":-494.82152282852485},{"$f":"I2049","v":-1952.565050447427},{"$f":"J2049*F$9-H2049*F$8","v":-207},{"$f":"IF(P2047=1,K2049*B$1/(B$1+B$2+L2049),99999)","v":99999},{"$f":"M2049*B$1/(B$1+B$2+L2049)","v":2.1312027615479039},null,null,null,null,null,{"$f":"(6*U2045+4*U2055)/10","v":0.23190221830591939},4.6737495417494621,7.0456358117795421,-9.9571317158455059,-0.62007420561514304,6.247617490006354E-2,-1.4493888644119962E-2,-0.29210934635934116,-0.44035223823622172,-7.1248660254013583,-0.86297989378382378,4.0267178048258433E-2,1]
[null,null,null,null,null,null,null,null,null,null,null,null,null,null,null,null,null,null,null,null,{"$f":"(4*U2045+6*U2055)/10","v":0.2193141459377892},6.6735969808922722,7.0668904721674934,-9.9359167856037747,-0.89827524461376951,5.9384459792622045E-2,-1.3707134121111825E-2,-0.4170998113057669,-0.4416806545104679,-5.8808875274907253,-0.77677683561322386,3.2554272282858038E-2,1]
[null,{"$f":"OFFSET(AL$1867,A2053,A2052)-B$10-U$3","v":-494.82152282852485},{"$f":"OFFSET(AL$1890,A2053,A2052)-B$11-V$3","v":-1952.565050447427},{"$f":"OFFSET(AL$1844,A2053,A2052)-B$12-W$3","v":-207},{"$f":"B2055*F$5+C2055*F$4","v":-494.82152282852485},{"$f":"C2055*F$5-B2055*F$4","v":-1952.565050447427},-207,-494.82152282852485,{"$f":"F2055*F$7+G2055*F$6","v":-1952.565050447427},{"$f":"G2055*F$7-F2055*F$6","v":-207},{"$f":"H2055*F$9+J2055*F$8","v":-494.82152282852485},{"$f":"I2055","v":-1952.565050447427},{"$f":"J2055*F$9-H2055*F$8","v":-207},{"$f":"IF(P2052=1,K2055*B$1/(B$1+B$2+L2055),99999)","v":99999},{"$f":"M2055*B$1/(B$1+B$2+L2055)","v":2.1312027615479039},null,null,null,null,{"$f":"T2045+7","v":1407},{"$f":"OFFSET(Calculations!AS$46,$T2055,0)","v":0.1941380012015288},{"$f":"OFFSET(Calculations!AT$46,$T2055,0)","v":10.673291859177892},{"$f":"OFFSET(Calculations!AU$46,$T2055,0)","v":7.1093997929433943},{"$f":"OFFSET(Calculations!AS$43,$T2055,0)-OFFSET(Calculations!AS$45,$T2055,0)","v":-9.8934869251203121},{"$f":"OFFSET(Calculations!AT$43,$T2055,0)-OFFSET(Calculations!AT$45,$T2055,0)","v":-1.4546773226110226},{"$f":"OFFSET(Calculations!AU$43,$T2055,0)-OFFSET(Calculations!AU$45,$T2055,0)","v":5.3201029577739076E-2},-1.213362507509555E-2,-0.66708074119861838,-0.44433748705896203,-3.4008861305101075,-0.50004532964753901,1.8287853917347809E-2,{"$f":"MAX(1,AG2054-AG$1894/100)","v":1}]
[null,null,null,null,null,null,null,null,null,null,null,null,null,null,null,null,null,null,null,null,{"$f":"(9*U2055+U2065)/10","v":0.17472420108137593},9.6059626732601036,6.3984598136490547,-8.9041382326082807,-1.3092095903499203,4.7880926619965167E-2,-1.0920262567585992E-2,-0.60037266707875636,-0.39990373835306592,-2.7825431976900878,-0.4091279969843501,1.4962789568739115E-2,1]
[{"$f":"A2053","v":3},{"$f":"OFFSET(AL$1867,A2058+1,A2057+1)-B$10-U$3","v":-44.821522828524849},{"$f":"OFFSET(AL$1890,A2058+1,A2057+1)-B$11-V$3","v":-1692.7574293120952},{"$f":"OFFSET(AL$1844,A2058+1,A2057+1)-B$12-W$3","v":-207},{"$f":"B2058*F$5+C2058*F$4","v":-44.821522828524849},{"$f":"C2058*F$5-B2058*F$4","v":-1692.7574293120952},-207,-44.821522828524849,{"$f":"F2058*F$7+G2058*F$6","v":-1692.7574293120952},{"$f":"G2058*F$7-F2058*F$6","v":-207},{"$f":"H2058*F$9+J2058*F$8","v":-44.821522828524849},{"$f":"I2058","v":-1692.7574293120952},{"$f":"J2058*F$9-H2058*F$8","v":-207},{"$f":"IF(P2057=1,K2058*B$1/(B$1+B$2+L2058),99999)","v":99999},{"$f":"M2058*B$1/(B$1+B$2+L2058)","v":2.4602476434719507},null,null,null,null,null,{"$f":"(7*U2055+3*U2065)/10","v":0.13589660084107016},7.4713043014245244,4.9765798550603764,-6.925440847584218,-1.0182741258277157,3.7240720704417349E-2,-8.4935375525668939E-3,-0.466956518839033,-0.31103624094127325,-1.7313602118960547,-0.25456853145692893,9.3101801761043389E-3,1]
[null,null,null,null,null,null,null,null,null,null,null,null,null,null,null,null,null,null,null,null,{"$f":"(4*U2055+6*U2065)/10","v":7.7655200480611516E-2},4.2693167436711565,2.8437599171773575,-3.9573947700481247,-0.58187092904440907,2.1280411831095629E-2,-4.8534500300382198E-3,-0.26683229647944728,-0.17773499482358485,-0.61834293282001951,-9.0917332663188896E-2,3.3250643486086922E-3,1]
[null,{"$f":"OFFSET(AL$1867,A2063,A2062+1)-B$10-U$3","v":405.17847717147515},{"$f":"OFFSET(AL$1890,A2063,A2062+1)-B$11-V$3","v":-1952.565050447427},{"$f":"OFFSET(AL$1844,A2063,A2062+1)-B$12-W$3","v":-207},{"$f":"B2064*F$5+C2064*F$4","v":405.17847717147515},{"$f":"C2064*F$5-B2064*F$4","v":-1952.565050447427},-207,405.17847717147515,{"$f":"F2064*F$7+G2064*F$6","v":-1952.565050447427},{"$f":"G2064*F$7-F2064*F$6","v":-207},{"$f":"H2064*F$9+J2064*F$8","v":405.17847717147515},{"$f":"I2064","v":-1952.565050447427},{"$f":"J2064*F$9-H2064*F$8","v":-207},{"$f":"IF(P2062=1,K2064*B$1/(B$1+B$2+L2064),99999)","v":99999},{"$f":"M2064*B$1/(B$1+B$2+L2064)","v":2.1312027615479039},null,null,null,null,null,{"$f":"(1*U2055+9*U2065)/10","v":1.9413800120152879E-2},1.0673291859177891,0.71093997929433939,-0.98934869251203117,-0.14546773226110227,5.3201029577739072E-3,-1.2133625075095549E-3,-6.6708074119861821E-2,-4.4433748705896212E-2,-6.1834293282001948E-2,-9.0917332663188917E-3,3.325064348608692E-4,1]
[]
[null,{"$f":"OFFSET(AL$1867,A2068,A2067+1)-B$10-U$3","v":705.17847717147515},{"$f":"OFFSET(AL$1890,A2068,A2067+1)-B$11-V$3","v":-1952.565050447427},{"$f":"OFFSET(AL$1844,A2068,A2067+1)-B$12-W$3","v":-207},{"$f":"B2069*F$5+C2069*F$4","v":705.17847717147515},{"$f":"C2069*F$5-B2069*F$4","v":-1952.565050447427},-207,705.17847717147515,{"$f":"F2069*F$7+G2069*F$6","v":-1952.565050447427},{"$f":"G2069*F$7-F2069*F$6","v":-207},{"$f":"H2069*F$9+J2069*F$8","v":705.17847717147515},{"$f":"I2069","v":-1952.565050447427},{"$f":"J2069*F$9-H2069*F$8","v":-207},{"$f":"IF(P2067=1,K2069*B$1/(B$1+B$2+L2069),99999)","v":99999},{"$f":"M2069*B$1/(B$1+B$2+L2069)","v":2.1312027615479039}]
[]
[null,{"$f":"OFFSET(AL$1867,A2073,A2072)-B$10-U$3","v":705.17847717147515},{"$f":"OFFSET(AL$1890,A2073,A2072)-B$11-V$3","v":-1952.565050447427},{"$f":"OFFSET(AL$1844,A2073,A2072)-B$12-W$3","v":-207},{"$f":"B2075*F$5+C2075*F$4","v":705.17847717147515},{"$f":"C2075*F$5-B2075*F$4","v":-1952.565050447427},-207,705.17847717147515,{"$f":"F2075*F$7+G2075*F$6","v":-1952.565050447427},{"$f":"G2075*F$7-F2075*F$6","v":-207},{"$f":"H2075*F$9+J2075*F$8","v":705.17847717147515},{"$f":"I2075","v":-1952.565050447427},{"$f":"J2075*F$9-H2075*F$8","v":-207},{"$f":"IF(P2072=1,K2075*B$1/(B$1+B$2+L2075),99999)","v":99999},{"$f":"M2075*B$1/(B$1+B$2+L2075)","v":2.1312027615479039}]
[]
[null,{"$f":"OFFSET(AL$1867,A2078,A2077+1)-B$10-U$3","v":1305.1784771714752},{"$f":"OFFSET(AL$1890,A2078,A2077+1)-B$11-V$3","v":-1952.565050447427},{"$f":"OFFSET(AL$1844,A2078,A2077+1)-B$12-W$3","v":-207},{"$f":"B2079*F$5+C2079*F$4","v":1305.1784771714752},{"$f":"C2079*F$5-B2079*F$4","v":-1952.565050447427},-207,1305.1784771714752,{"$f":"F2079*F$7+G2079*F$6","v":-1952.565050447427},{"$f":"G2079*F$7-F2079*F$6","v":-207},{"$f":"H2079*F$9+J2079*F$8","v":1305.1784771714752},{"$f":"I2079","v":-1952.565050447427},{"$f":"J2079*F$9-H2079*F$8","v":-207},{"$f":"IF(P2077=1,K2079*B$1/(B$1+B$2+L2079),99999)","v":99999},{"$f":"M2079*B$1/(B$1+B$2+L2079)","v":2.1312027615479039}]
[null,{"$f":"OFFSET(AL$1867,A2078,A2077)-B$10-U$3","v":1005.1784771714752},{"$f":"OFFSET(AL$1890,A2078,A2077)-B$11-V$3","v":-1952.565050447427},{"$f":"OFFSET(AL$1844,A2078,A2077)-B$12-W$3","v":-207},{"$f":"B2080*F$5+C2080*F$4","v":1005.1784771714752},{"$f":"C2080*F$5-B2080*F$4","v":-1952.565050447427},-207,1005.1784771714752,{"$f":"F2080*F$7+G2080*F$6","v":-1952.565050447427},{"$f":"G2080*F$7-F2080*F$6","v":-207},{"$f":"H2080*F$9+J2080*F$8","v":1005.1784771714752},{"$f":"I2080","v":-1952.565050447427},{"$f":"J2080*F$9-H2080*F$8","v":-207},{"$f":"IF(P2077=1,K2080*B$1/(B$1+B$2+L2080),99999)","v":99999},{"$f":"M2080*B$1/(B$1+B$2+L2080)","v":2.1312027615479039}]
[null,{"$f":"OFFSET(AL$1867,A2083,A2082+1)-B$10-U$3","v":1605.1784771714752},{"$f":"OFFSET(AL$1890,A2083,A2082+1)-B$11-V$3","v":-1952.565050447427},{"$f":"OFFSET(AL$1844,A2083,A2082+1)-B$12-W$3","v":-207},{"$f":"B2084*F$5+C2084*F$4","v":1605.1784771714752},{"$f":"C2084*F$5-B2084*F$4","v":-1952.565050447427},-207,1605.1784771714752,{"$f":"F2084*F$7+G2084*F$6","v":-1952.565050447427},{"$f":"G2084*F$7-F2084*F$6","v":-207},{"$f":"H2084*F$9+J2084*F$8","v":1605.1784771714752},{"$f":"I2084","v":-1952.565050447427},{"$f":"J2084*F$9-H2084*F$8","v":-207},{"$f":"IF(P2082=1,K2084*B$1/(B$1+B$2+L2084),99999)","v":99999},{"$f":"M2084*B$1/(B$1+B$2+L2084)","v":2.1312027615479039}]
[]
[null,{"$f":"OFFSET(AL$1867,A2088,A2087+1)-B$10-U$3","v":1905.1784771714752},{"$f":"OFFSET(AL$1890,A2088,A2087+1)-B$11-V$3","v":-1952.565050447427},{"$f":"OFFSET(AL$1844,A2088,A2087+1)-B$12-W$3","v":-207},{"$f":"B2089*F$5+C2089*F$4","v":1905.1784771714752},{"$f":"C2089*F$5-B2089*F$4","v":-1952.565050447427},-207,1905.1784771714752,{"$f":"F2089*F$7+G2089*F$6","v":-1952.565050447427},{"$f":"G2089*F$7-F2089*F$6","v":-207},{"$f":"H2089*F$9+J2089*F$8","v":1905.1784771714752},{"$f":"I2089","v":-1952.565050447427},{"$f":"J2089*F$9-H2089*F$8","v":-207},{"$f":"IF(P2087=1,K2089*B$1/(B$1+B$2+L2089),99999)","v":99999},{"$f":"M2089*B$1/(B$1+B$2+L2089)","v":2.1312027615479039}]
[{"$f":"A2087+1","v":16},{"$f":"OFFSET(AL$1867,A2093,A2092)-B$10-U$3","v":1905.1784771714752},{"$f":"OFFSET(AL$1890,A2093,A2092)-B$11-V$3","v":-1952.565050447427},{"$f":"OFFSET(AL$1844,A2093,A2092)-B$12-W$3","v":-207},{"$f":"B2092*F$5+C2092*F$4","v":1905.1784771714752},{"$f":"C2092*F$5-B2092*F$4","v":-1952.565050447427},{"$f":"D2092","v":-207},1905.1784771714752,{"$f":"F2092*F$7+G2092*F$6","v":-1952.565050447427},{"$f":"G2092*F$7-F2092*F$6","v":-207},{"$f":"H2092*F$9+J2092*F$8","v":1905.1784771714752},{"$f":"I2092","v":-1952.565050447427},{"$f":"J2092*F$9-H2092*F$8","v":-207},{"$f":"IF(P2092=1,K2092*B$1/(B$1+B$2+L2092),99999)","v":99999},{"$f":"M2092*B$1/(B$1+B$2+L2092)","v":2.1312027615479039},{"$f":"IF(MIN(L2092:L2095)+B$2+B$1>0,1,0)","v":0}]
[null,{"$f":"OFFSET(AL$1867,A2093,A2092+1)-B$10-U$3","v":2205.1784771714752},{"$f":"OFFSET(AL$1890,A2093,A2092+1)-B$11-V$3","v":-1952.565050447427},{"$f":"OFFSET(AL$1844,A2093,A2092+1)-B$12-W$3","v":-207},{"$f":"B2094*F$5+C2094*F$4","v":2205.1784771714752},{"$f":"C2094*F$5-B2094*F$4","v":-1952.565050447427},-207,2205.1784771714752,{"$f":"F2094*F$7+G2094*F$6","v":-1952.565050447427},{"$f":"G2094*F$7-F2094*F$6","v":-207},{"$f":"H2094*F$9+J2094*F$8","v":2205.1784771714752},{"$f":"I2094","v":-1952.565050447427},{"$f":"J2094*F$9-H2094*F$8","v":-207},{"$f":"IF(P2092=1,K2094*B$1/(B$1+B$2+L2094),99999)","v":99999},{"$f":"M2094*B$1/(B$1+B$2+L2094)","v":2.1312027615479039}]
[{"$f":"A2092+1","v":17},{"$f":"OFFSET(AL$1867,A2098,A2097)-B$10-U$3","v":2205.1784771714752},{"$f":"OFFSET(AL$1890,A2098,A2097)-B$11-V$3","v":-1952.565050447427},{"$f":"OFFSET(AL$1844,A2098,A2097)-B$12-W$3","v":-207},{"$f":"B2097*F$5+C2097*F$4","v":2205.1784771714752},{"$f":"C2097*F$5-B2097*F$4","v":-1952.565050447427},{"$f":"D2097","v":-207},2205.1784771714752,{"$f":"F2097*F$7+G2097*F$6","v":-1952.565050447427},{"$f":"G2097*F$7-F2097*F$6","v":-207},{"$f":"H2097*F$9+J2097*F$8","v":2205.1784771714752},{"$f":"I2097","v":-1952.565050447427},{"$f":"J2097*F$9-H2097*F$8","v":-207},{"$f":"IF(P2097=1,K2097*B$1/(B$1+B$2+L2097),99999)","v":99999},{"$f":"M2097*B$1/(B$1+B$2+L2097)","v":2.1312027615479039},{"$f":"IF(MIN(L2097:L2100)+B$2+B$1>0,1,0)","v":0}]
[null,{"$f":"OFFSET(AL$1867,A2098,A2097+1)-B$10-U$3","v":2505.1784771714752},{"$f":"OFFSET(AL$1890,A2098,A2097+1)-B$11-V$3","v":-1952.565050447427},{"$f":"OFFSET(AL$1844,A2098,A2097+1)-B$12-W$3","v":-207},{"$f":"B2099*F$5+C2099*F$4","v":2505.1784771714752},{"$f":"C2099*F$5-B2099*F$4","v":-1952.565050447427},-207,2505.1784771714752,{"$f":"F2099*F$7+G2099*F$6","v":-1952.565050447427},{"$f":"G2099*F$7-F2099*F$6","v":-207},{"$f":"H2099*F$9+J2099*F$8","v":2505.1784771714752},{"$f":"I2099","v":-1952.565050447427},{"$f":"J2099*F$9-H2099*F$8","v":-207},{"$f":"IF(P2097=1,K2099*B$1/(B$1+B$2+L2099),99999)","v":99999},{"$f":"M2099*B$1/(B$1+B$2+L2099)","v":2.1312027615479039}]
[null,{"$f":"OFFSET(AL$1867,A2098,A2097)-B$10-U$3","v":2205.1784771714752},{"$f":"OFFSET(AL$1890,A2098,A2097)-B$11-V$3","v":-1952.565050447427},{"$f":"OFFSET(AL$1844,A2098,A2097)-B$12-W$3","v":-207},{"$f":"B2100*F$5+C2100*F$4","v":2205.1784771714752},{"$f":"C2100*F$5-B2100*F$4","v":-1952.565050447427},-207,2205.1784771714752,{"$f":"F2100*F$7+G2100*F$6","v":-1952.565050447427},{"$f":"G2100*F$7-F2100*F$6","v":-207},{"$f":"H2100*F$9+J2100*F$8","v":2205.1784771714752},{"$f":"I2100","v":-1952.565050447427},{"$f":"J2100*F$9-H2100*F$8","v":-207},{"$f":"IF(P2097=1,K2100*B$1/(B$1+B$2+L2100),99999)","v":99999},{"$f":"M2100*B$1/(B$1+B$2+L2100)","v":2.1312027615479039}]
[null,{"$f":"OFFSET(AL$1867,A2103,A2102+1)-B$10-U$3","v":2805.1784771714752},{"$f":"OFFSET(AL$1890,A2103,A2102+1)-B$11-V$3","v":-1952.565050447427},{"$f":"OFFSET(AL$1844,A2103,A2102+1)-B$12-W$3","v":-207},{"$f":"B2104*F$5+C2104*F$4","v":2805.1784771714752},{"$f":"C2104*F$5-B2104*F$4","v":-1952.565050447427},-207,2805.1784771714752,{"$f":"F2104*F$7+G2104*F$6","v":-1952.565050447427},{"$f":"G2104*F$7-F2104*F$6","v":-207},{"$f":"H2104*F$9+J2104*F$8","v":2805.1784771714752},{"$f":"I2104","v":-1952.565050447427},{"$f":"J2104*F$9-H2104*F$8","v":-207},{"$f":"IF(P2102=1,K2104*B$1/(B$1+B$2+L2104),99999)","v":99999},{"$f":"M2104*B$1/(B$1+B$2+L2104)","v":2.1312027615479039}]
[]
[null,{"$f":"OFFSET(AL$1867,A2108,A2107+1)-B$10-U$3","v":3105.1784771714752},{"$f":"OFFSET(AL$1890,A2108,A2107+1)-B$11-V$3","v":-1952.565050447427},{"$f":"OFFSET(AL$1844,A2108,A2107+1)-B$12-W$3","v":-207},{"$f":"B2109*F$5+C2109*F$4","v":3105.1784771714752},{"$f":"C2109*F$5-B2109*F$4","v":-1952.565050447427},-207,3105.1784771714752,{"$f":"F2109*F$7+G2109*F$6","v":-1952.565050447427},{"$f":"G2109*F$7-F2109*F$6","v":-207},{"$f":"H2109*F$9+J2109*F$8","v":3105.1784771714752},{"$f":"I2109","v":-1952.565050447427},{"$f":"J2109*F$9-H2109*F$8","v":-207},{"$f":"IF(P2107=1,K2109*B$1/(B$1+B$2+L2109),99999)","v":99999},{"$f":"M2109*B$1/(B$1+B$2+L2109)","v":2.1312027615479039}]
[null,{"$f":"OFFSET(AL$1867,A2108,A2107)-B$10-U$3","v":2805.1784771714752},{"$f":"OFFSET(AL$1890,A2108,A2107)-B$11-V$3","v":-1952.565050447427},{"$f":"OFFSET(AL$1844,A2108,A2107)-B$12-W$3","v":-207},{"$f":"B2110*F$5+C2110*F$4","v":2805.1784771714752},{"$f":"C2110*F$5-B2110*F$4","v":-1952.565050447427},-207,2805.1784771714752,{"$f":"F2110*F$7+G2110*F$6","v":-1952.565050447427},{"$f":"G2110*F$7-F2110*F$6","v":-207},{"$f":"H2110*F$9+J2110*F$8","v":2805.1784771714752},{"$f":"I2110","v":-1952.565050447427},{"$f":"J2110*F$9-H2110*F$8","v":-207},{"$f":"IF(P2107=1,K2110*B$1/(B$1+B$2+L2110),99999)","v":99999},{"$f":"M2110*B$1/(B$1+B$2+L2110)","v":2.1312027615479039}]
[null,{"$f":"OFFSET(AL$1867,A2113,A2112+1)-B$10-U$3","v":-2744.8215228285248},{"$f":"OFFSET(AL$1890,A2113,A2112+1)-B$11-V$3","v":-1692.7574293120952},{"$f":"OFFSET(AL$1844,A2113,A2112+1)-B$12-W$3","v":-207},{"$f":"B2114*F$5+C2114*F$4","v":-2744.8215228285248},{"$f":"C2114*F$5-B2114*F$4","v":-1692.7574293120952},-207,-2744.8215228285248,{"$f":"F2114*F$7+G2114*F$6","v":-1692.7574293120952},{"$f":"G2114*F$7-F2114*F$6","v":-207},{"$f":"H2114*F$9+J2114*F$8","v":-2744.8215228285248},{"$f":"I2114","v":-1692.7574293120952},{"$f":"J2114*F$9-H2114*F$8","v":-207},{"$f":"IF(P2112=1,K2114*B$1/(B$1+B$2+L2114),99999)","v":99999},{"$f":"M2114*B$1/(B$1+B$2+L2114)","v":2.4602476434719507}]
[null,{"$f":"OFFSET(AL$1867,A2113,A2112)-B$10-U$3","v":-3044.8215228285248},{"$f":"OFFSET(AL$1890,A2113,A2112)-B$11-V$3","v":-1692.7574293120952},{"$f":"OFFSET(AL$1844,A2113,A2112)-B$12-W$3","v":-207},{"$f":"B2115*F$5+C2115*F$4","v":-3044.8215228285248},{"$f":"C2115*F$5-B2115*F$4","v":-1692.7574293120952},-207,-3044.8215228285248,{"$f":"F2115*F$7+G2115*F$6","v":-1692.7574293120952},{"$f":"G2115*F$7-F2115*F$6","v":-207},{"$f":"H2115*F$9+J2115*F$8","v":-3044.8215228285248},{"$f":"I2115","v":-1692.7574293120952},{"$f":"J2115*F$9-H2115*F$8","v":-207},{"$f":"IF(P2112=1,K2115*B$1/(B$1+B$2+L2115),99999)","v":99999},{"$f":"M2115*B$1/(B$1+B$2+L2115)","v":2.4602476434719507}]
[{"$f":"A2112+1","v":1},{"$f":"OFFSET(AL$1867,A2118,A2117)-B$10-U$3","v":-2744.8215228285248},{"$f":"OFFSET(AL$1890,A2118,A2117)-B$11-V$3","v":-1692.7574293120952},{"$f":"OFFSET(AL$1844,A2118,A2117)-B$12-W$3","v":-207},{"$f":"B2117*F$5+C2117*F$4","v":-2744.8215228285248},{"$f":"C2117*F$5-B2117*F$4","v":-1692.7574293120952},{"$f":"D2117","v":-207},-2744.8215228285248,{"$f":"F2117*F$7+G2117*F$6","v":-1692.7574293120952},{"$f":"G2117*F$7-F2117*F$6","v":-207},{"$f":"H2117*F$9+J2117*F$8","v":-2744.8215228285248},{"$f":"I2117","v":-1692.7574293120952},{"$f":"J2117*F$9-H2117*F$8","v":-207},{"$f":"IF(P2117=1,K2117*B$1/(B$1+B$2+L2117),99999)","v":99999},{"$f":"M2117*B$1/(B$1+B$2+L2117)","v":2.4602476434719507},{"$f":"IF(MIN(L2117:L2120)+B$2+B$1>0,1,0)","v":0}]
[null,{"$f":"OFFSET(AL$1867,A2118,A2117)-B$10-U$3","v":-2744.8215228285248},{"$f":"OFFSET(AL$1890,A2118,A2117)-B$11-V$3","v":-1692.7574293120952},{"$f":"OFFSET(AL$1844,A2118,A2117)-B$12-W$3","v":-207},{"$f":"B2120*F$5+C2120*F$4","v":-2744.8215228285248},{"$f":"C2120*F$5-B2120*F$4","v":-1692.7574293120952},-207,-2744.8215228285248,{"$f":"F2120*F$7+G2120*F$6","v":-1692.7574293120952},{"$f":"G2120*F$7-F2120*F$6","v":-207},{"$f":"H2120*F$9+J2120*F$8","v":-2744.8215228285248},{"$f":"I2120","v":-1692.7574293120952},{"$f":"J2120*F$9-H2120*F$8","v":-207},{"$f":"IF(P2117=1,K2120*B$1/(B$1+B$2+L2120),99999)","v":99999},{"$f":"M2120*B$1/(B$1+B$2+L2120)","v":2.4602476434719507}]
[{"$f":"A2118","v":4},{"$f":"OFFSET(AL$1867,A2123+1,A2122)-B$10-U$3","v":-2294.8215228285248},{"$f":"OFFSET(AL$1890,A2123+1,A2122)-B$11-V$3","v":-1432.9498081767633},{"$f":"OFFSET(AL$1844,A2123+1,A2122)-B$12-W$3","v":-207},{"$f":"B2123*F$5+C2123*F$4","v":-2294.8215228285248},{"$f":"C2123*F$5-B2123*F$4","v":-1432.9498081767633},-207,-2294.8215228285248,{"$f":"F2123*F$7+G2123*F$6","v":-1432.9498081767633},{"$f":"G2123*F$7-F2123*F$6","v":-207},{"$f":"H2123*F$9+J2123*F$8","v":-2294.8215228285248},{"$f":"I2123","v":-1432.9498081767633},{"$f":"J2123*F$9-H2123*F$8","v":-207},{"$f":"IF(P2122=1,K2123*B$1/(B$1+B$2+L2123),99999)","v":99999},{"$f":"M2123*B$1/(B$1+B$2+L2123)","v":2.9094490727713116}]
[null,{"$f":"OFFSET(AL$1867,A2123,A2122)-B$10-U$3","v":-2444.8215228285248},{"$f":"OFFSET(AL$1890,A2123,A2122)-B$11-V$3","v":-1692.7574293120952},{"$f":"OFFSET(AL$1844,A2123,A2122)-B$12-W$3","v":-207},{"$f":"B2125*F$5+C2125*F$4","v":-2444.8215228285248},{"$f":"C2125*F$5-B2125*F$4","v":-1692.7574293120952},-207,-2444.8215228285248,{"$f":"F2125*F$7+G2125*F$6","v":-1692.7574293120952},{"$f":"G2125*F$7-F2125*F$6","v":-207},{"$f":"H2125*F$9+J2125*F$8","v":-2444.8215228285248},{"$f":"I2125","v":-1692.7574293120952},{"$f":"J2125*F$9-H2125*F$8","v":-207},{"$f":"IF(P2122=1,K2125*B$1/(B$1+B$2+L2125),99999)","v":99999},{"$f":"M2125*B$1/(B$1+B$2+L2125)","v":2.4602476434719507}]
[{"$f":"A2123","v":4},{"$f":"OFFSET(AL$1867,A2128+1,A2127)-B$10-U$3","v":-1994.8215228285248},{"$f":"OFFSET(AL$1890,A2128+1,A2127)-B$11-V$3","v":-1432.9498081767633},{"$f":"OFFSET(AL$1844,A2128+1,A2127)-B$12-W$3","v":-207},{"$f":"B2128*F$5+C2128*F$4","v":-1994.8215228285248},{"$f":"C2128*F$5-B2128*F$4","v":-1432.9498081767633},-207,-1994.8215228285248,{"$f":"F2128*F$7+G2128*F$6","v":-1432.9498081767633},{"$f":"G2128*F$7-F2128*F$6","v":-207},{"$f":"H2128*F$9+J2128*F$8","v":-1994.8215228285248},{"$f":"I2128","v":-1432.9498081767633},{"$f":"J2128*F$9-H2128*F$8","v":-207},{"$f":"IF(P2127=1,K2128*B$1/(B$1+B$2+L2128),99999)","v":99999},{"$f":"M2128*B$1/(B$1+B$2+L2128)","v":2.9094490727713116}]
[null,{"$f":"OFFSET(AL$1867,A2128,A2127)-B$10-U$3","v":-2144.8215228285248},{"$f":"OFFSET(AL$1890,A2128,A2127)-B$11-V$3","v":-1692.7574293120952},{"$f":"OFFSET(AL$1844,A2128,A2127)-B$12-W$3","v":-207},{"$f":"B2130*F$5+C2130*F$4","v":-2144.8215228285248},{"$f":"C2130*F$5-B2130*F$4","v":-1692.7574293120952},-207,-2144.8215228285248,{"$f":"F2130*F$7+G2130*F$6","v":-1692.7574293120952},{"$f":"G2130*F$7-F2130*F$6","v":-207},{"$f":"H2130*F$9+J2130*F$8","v":-2144.8215228285248},{"$f":"I2130","v":-1692.7574293120952},{"$f":"J2130*F$9-H2130*F$8","v":-207},{"$f":"IF(P2127=1,K2130*B$1/(B$1+B$2+L2130),99999)","v":99999},{"$f":"M2130*B$1/(B$1+B$2+L2130)","v":2.4602476434719507}]
[null,{"$f":"OFFSET(AL$1867,A2133,A2132+1)-B$10-U$3","v":-1544.8215228285248},{"$f":"OFFSET(AL$1890,A2133,A2132+1)-B$11-V$3","v":-1692.7574293120952},{"$f":"OFFSET(AL$1844,A2133,A2132+1)-B$12-W$3","v":-207},{"$f":"B2134*F$5+C2134*F$4","v":-1544.8215228285248},{"$f":"C2134*F$5-B2134*F$4","v":-1692.7574293120952},-207,-1544.8215228285248,{"$f":"F2134*F$7+G2134*F$6","v":-1692.7574293120952},{"$f":"G2134*F$7-F2134*F$6","v":-207},{"$f":"H2134*F$9+J2134*F$8","v":-1544.8215228285248},{"$f":"I2134","v":-1692.7574293120952},{"$f":"J2134*F$9-H2134*F$8","v":-207},{"$f":"IF(P2132=1,K2134*B$1/(B$1+B$2+L2134),99999)","v":99999},{"$f":"M2134*B$1/(B$1+B$2+L2134)","v":2.4602476434719507}]
[null,{"$f":"OFFSET(AL$1867,A2133,A2132)-B$10-U$3","v":-1844.8215228285248},{"$f":"OFFSET(AL$1890,A2133,A2132)-B$11-V$3","v":-1692.7574293120952},{"$f":"OFFSET(AL$1844,A2133,A2132)-B$12-W$3","v":-207},{"$f":"B2135*F$5+C2135*F$4","v":-1844.8215228285248},{"$f":"C2135*F$5-B2135*F$4","v":-1692.7574293120952},-207,-1844.8215228285248,{"$f":"F2135*F$7+G2135*F$6","v":-1692.7574293120952},{"$f":"G2135*F$7-F2135*F$6","v":-207},{"$f":"H2135*F$9+J2135*F$8","v":-1844.8215228285248},{"$f":"I2135","v":-1692.7574293120952},{"$f":"J2135*F$9-H2135*F$8","v":-207},{"$f":"IF(P2132=1,K2135*B$1/(B$1+B$2+L2135),99999)","v":99999},{"$f":"M2135*B$1/(B$1+B$2+L2135)","v":2.4602476434719507}]
[{"$f":"A2133","v":4},{"$f":"OFFSET(AL$1867,A2138+1,A2137)-B$10-U$3","v":-1394.8215228285248},{"$f":"OFFSET(AL$1890,A2138+1,A2137)-B$11-V$3","v":-1432.9498081767633},{"$f":"OFFSET(AL$1844,A2138+1,A2137)-B$12-W$3","v":-207},{"$f":"B2138*F$5+C2138*F$4","v":-1394.8215228285248},{"$f":"C2138*F$5-B2138*F$4","v":-1432.9498081767633},-207,-1394.8215228285248,{"$f":"F2138*F$7+G2138*F$6","v":-1432.9498081767633},{"$f":"G2138*F$7-F2138*F$6","v":-207},{"$f":"H2138*F$9+J2138*F$8","v":-1394.8215228285248},{"$f":"I2138","v":-1432.9498081767633},{"$f":"J2138*F$9-H2138*F$8","v":-207},{"$f":"IF(P2137=1,K2138*B$1/(B$1+B$2+L2138),99999)","v":99999},{"$f":"M2138*B$1/(B$1+B$2+L2138)","v":2.9094490727713116}]
[null,{"$f":"OFFSET(AL$1867,A2138,A2137+1)-B$10-U$3","v":-1244.8215228285248},{"$f":"OFFSET(AL$1890,A2138,A2137+1)-B$11-V$3","v":-1692.7574293120952},{"$f":"OFFSET(AL$1844,A2138,A2137+1)-B$12-W$3","v":-207},{"$f":"B2139*F$5+C2139*F$4","v":-1244.8215228285248},{"$f":"C2139*F$5-B2139*F$4","v":-1692.7574293120952},-207,-1244.8215228285248,{"$f":"F2139*F$7+G2139*F$6","v":-1692.7574293120952},{"$f":"G2139*F$7-F2139*F$6","v":-207},{"$f":"H2139*F$9+J2139*F$8","v":-1244.8215228285248},{"$f":"I2139","v":-1692.7574293120952},{"$f":"J2139*F$9-H2139*F$8","v":-207},{"$f":"IF(P2137=1,K2139*B$1/(B$1+B$2+L2139),99999)","v":99999},{"$f":"M2139*B$1/(B$1+B$2+L2139)","v":2.4602476434719507}]
[{"$f":"A2138","v":4},{"$f":"OFFSET(AL$1867,A2143+1,A2142)-B$10-U$3","v":-1094.8215228285248},{"$f":"OFFSET(AL$1890,A2143+1,A2142)-B$11-V$3","v":-1432.9498081767633},{"$f":"OFFSET(AL$1844,A2143+1,A2142)-B$12-W$3","v":-207},{"$f":"B2143*F$5+C2143*F$4","v":-1094.8215228285248},{"$f":"C2143*F$5-B2143*F$4","v":-1432.9498081767633},-207,-1094.8215228285248,{"$f":"F2143*F$7+G2143*F$6","v":-1432.9498081767633},{"$f":"G2143*F$7-F2143*F$6","v":-207},{"$f":"H2143*F$9+J2143*F$8","v":-1094.8215228285248},{"$f":"I2143","v":-1432.9498081767633},{"$f":"J2143*F$9-H2143*F$8","v":-207},{"$f":"IF(P2142=1,K2143*B$1/(B$1+B$2+L2143),99999)","v":99999},{"$f":"M2143*B$1/(B$1+B$2+L2143)","v":2.9094490727713116}]
[null,{"$f":"OFFSET(AL$1867,A2143,A2142)-B$10-U$3","v":-1244.8215228285248},{"$f":"OFFSET(AL$1890,A2143,A2142)-B$11-V$3","v":-1692.7574293120952},{"$f":"OFFSET(AL$1844,A2143,A2142)-B$12-W$3","v":-207},{"$f":"B2145*F$5+C2145*F$4","v":-1244.8215228285248},{"$f":"C2145*F$5-B2145*F$4","v":-1692.7574293120952},-207,-1244.8215228285248,{"$f":"F2145*F$7+G2145*F$6","v":-1692.7574293120952},{"$f":"G2145*F$7-F2145*F$6","v":-207},{"$f":"H2145*F$9+J2145*F$8","v":-1244.8215228285248},{"$f":"I2145","v":-1692.7574293120952},{"$f":"J2145*F$9-H2145*F$8","v":-207},{"$f":"IF(P2142=1,K2145*B$1/(B$1+B$2+L2145),99999)","v":99999},{"$f":"M2145*B$1/(B$1+B$2+L2145)","v":2.4602476434719507}]
[{"$f":"A2143","v":4},{"$f":"OFFSET(AL$1867,A2148+1,A2147)-B$10-U$3","v":-794.82152282852485},{"$f":"OFFSET(AL$1890,A2148+1,A2147)-B$11-V$3","v":-1432.9498081767633},{"$f":"OFFSET(AL$1844,A2148+1,A2147)-B$12-W$3","v":-207},{"$f":"B2148*F$5+C2148*F$4","v":-794.82152282852485},{"$f":"C2148*F$5-B2148*F$4","v":-1432.9498081767633},-207,-794.82152282852485,{"$f":"F2148*F$7+G2148*F$6","v":-1432.9498081767633},{"$f":"G2148*F$7-F2148*F$6","v":-207},{"$f":"H2148*F$9+J2148*F$8","v":-794.82152282852485},{"$f":"I2148","v":-1432.9498081767633},{"$f":"J2148*F$9-H2148*F$8","v":-207},{"$f":"IF(P2147=1,K2148*B$1/(B$1+B$2+L2148),99999)","v":99999},{"$f":"M2148*B$1/(B$1+B$2+L2148)","v":2.9094490727713116}]
[]
[{"$f":"A2148","v":4},{"$f":"OFFSET(AL$1867,A2153+1,A2152)-B$10-U$3","v":-494.82152282852485},{"$f":"OFFSET(AL$1890,A2153+1,A2152)-B$11-V$3","v":-1432.9498081767633},{"$f":"OFFSET(AL$1844,A2153+1,A2152)-B$12-W$3","v":-207},{"$f":"B2153*F$5+C2153*F$4","v":-494.82152282852485},{"$f":"C2153*F$5-B2153*F$4","v":-1432.9498081767633},-207,-494.82152282852485,{"$f":"F2153*F$7+G2153*F$6","v":-1432.9498081767633},{"$f":"G2153*F$7-F2153*F$6","v":-207},{"$f":"H2153*F$9+J2153*F$8","v":-494.82152282852485},{"$f":"I2153","v":-1432.9498081767633},{"$f":"J2153*F$9-H2153*F$8","v":-207},{"$f":"IF(P2152=1,K2153*B$1/(B$1+B$2+L2153),99999)","v":99999},{"$f":"M2153*B$1/(B$1+B$2+L2153)","v":2.9094490727713116}]
[null,{"$f":"OFFSET(AL$1867,A2153,A2152+1)-B$10-U$3","v":-344.82152282852485},{"$f":"OFFSET(AL$1890,A2153,A2152+1)-B$11-V$3","v":-1692.7574293120952},{"$f":"OFFSET(AL$1844,A2153,A2152+1)-B$12-W$3","v":-207},{"$f":"B2154*F$5+C2154*F$4","v":-344.82152282852485},{"$f":"C2154*F$5-B2154*F$4","v":-1692.7574293120952},-207,-344.82152282852485,{"$f":"F2154*F$7+G2154*F$6","v":-1692.7574293120952},{"$f":"G2154*F$7-F2154*F$6","v":-207},{"$f":"H2154*F$9+J2154*F$8","v":-344.82152282852485},{"$f":"I2154","v":-1692.7574293120952},{"$f":"J2154*F$9-H2154*F$8","v":-207},{"$f":"IF(P2152=1,K2154*B$1/(B$1+B$2+L2154),99999)","v":99999},{"$f":"M2154*B$1/(B$1+B$2+L2154)","v":2.4602476434719507}]
[{"$f":"A2153","v":4},{"$f":"OFFSET(AL$1867,A2158+1,A2157)-B$10-U$3","v":-194.82152282852485},{"$f":"OFFSET(AL$1890,A2158+1,A2157)-B$11-V$3","v":-1432.9498081767633},{"$f":"OFFSET(AL$1844,A2158+1,A2157)-B$12-W$3","v":-207},{"$f":"B2158*F$5+C2158*F$4","v":-194.82152282852485},{"$f":"C2158*F$5-B2158*F$4","v":-1432.9498081767633},-207,-194.82152282852485,{"$f":"F2158*F$7+G2158*F$6","v":-1432.9498081767633},{"$f":"G2158*F$7-F2158*F$6","v":-207},{"$f":"H2158*F$9+J2158*F$8","v":-194.82152282852485},{"$f":"I2158","v":-1432.9498081767633},{"$f":"J2158*F$9-H2158*F$8","v":-207},{"$f":"IF(P2157=1,K2158*B$1/(B$1+B$2+L2158),99999)","v":99999},{"$f":"M2158*B$1/(B$1+B$2+L2158)","v":2.9094490727713116}]
[null,{"$f":"OFFSET(AL$1867,A2158,A2157+1)-B$10-U$3","v":-44.821522828524849},{"$f":"OFFSET(AL$1890,A2158,A2157+1)-B$11-V$3","v":-1692.7574293120952},{"$f":"OFFSET(AL$1844,A2158,A2157+1)-B$12-W$3","v":-207},{"$f":"B2159*F$5+C2159*F$4","v":-44.821522828524849},{"$f":"C2159*F$5-B2159*F$4","v":-1692.7574293120952},-207,-44.821522828524849,{"$f":"F2159*F$7+G2159*F$6","v":-1692.7574293120952},{"$f":"G2159*F$7-F2159*F$6","v":-207},{"$f":"H2159*F$9+J2159*F$8","v":-44.821522828524849},{"$f":"I2159","v":-1692.7574293120952},{"$f":"J2159*F$9-H2159*F$8","v":-207},{"$f":"IF(P2157=1,K2159*B$1/(B$1+B$2+L2159),99999)","v":99999},{"$f":"M2159*B$1/(B$1+B$2+L2159)","v":2.4602476434719507}]
[{"$f":"A2158","v":4},{"$f":"OFFSET(AL$1867,A2163+1,A2162)-B$10-U$3","v":105.17847717147515},{"$f":"OFFSET(AL$1890,A2163+1,A2162)-B$11-V$3","v":-1432.9498081767633},{"$f":"OFFSET(AL$1844,A2163+1,A2162)-B$12-W$3","v":-207},{"$f":"B2163*F$5+C2163*F$4","v":105.17847717147515},{"$f":"C2163*F$5-B2163*F$4","v":-1432.9498081767633},-207,105.17847717147515,{"$f":"F2163*F$7+G2163*F$6","v":-1432.9498081767633},{"$f":"G2163*F$7-F2163*F$6","v":-207},{"$f":"H2163*F$9+J2163*F$8","v":105.17847717147515},{"$f":"I2163","v":-1432.9498081767633},{"$f":"J2163*F$9-H2163*F$8","v":-207},{"$f":"IF(P2162=1,K2163*B$1/(B$1+B$2+L2163),99999)","v":99999},{"$f":"M2163*B$1/(B$1+B$2+L2163)","v":2.9094490727713116}]
[null,{"$f":"OFFSET(AL$1867,A2163,A2162)-B$10-U$3","v":-44.821522828524849},{"$f":"OFFSET(AL$1890,A2163,A2162)-B$11-V$3","v":-1692.7574293120952},{"$f":"OFFSET(AL$1844,A2163,A2162)-B$12-W$3","v":-207},{"$f":"B2165*F$5+C2165*F$4","v":-44.821522828524849},{"$f":"C2165*F$5-B2165*F$4","v":-1692.7574293120952},-207,-44.821522828524849,{"$f":"F2165*F$7+G2165*F$6","v":-1692.7574293120952},{"$f":"G2165*F$7-F2165*F$6","v":-207},{"$f":"H2165*F$9+J2165*F$8","v":-44.821522828524849},{"$f":"I2165","v":-1692.7574293120952},{"$f":"J2165*F$9-H2165*F$8","v":-207},{"$f":"IF(P2162=1,K2165*B$1/(B$1+B$2+L2165),99999)","v":99999},{"$f":"M2165*B$1/(B$1+B$2+L2165)","v":2.4602476434719507}]
[{"$f":"A2163","v":4},{"$f":"OFFSET(AL$1867,A2168+1,A2167)-B$10-U$3","v":405.17847717147515},{"$f":"OFFSET(AL$1890,A2168+1,A2167)-B$11-V$3","v":-1432.9498081767633},{"$f":"OFFSET(AL$1844,A2168+1,A2167)-B$12-W$3","v":-207},{"$f":"B2168*F$5+C2168*F$4","v":405.17847717147515},{"$f":"C2168*F$5-B2168*F$4","v":-1432.9498081767633},-207,405.17847717147515,{"$f":"F2168*F$7+G2168*F$6","v":-1432.9498081767633},{"$f":"G2168*F$7-F2168*F$6","v":-207},{"$f":"H2168*F$9+J2168*F$8","v":405.17847717147515},{"$f":"I2168","v":-1432.9498081767633},{"$f":"J2168*F$9-H2168*F$8","v":-207},{"$f":"IF(P2167=1,K2168*B$1/(B$1+B$2+L2168),99999)","v":99999},{"$f":"M2168*B$1/(B$1+B$2+L2168)","v":2.9094490727713116}]
[null,{"$f":"OFFSET(AL$1867,A2168,A2167+1)-B$10-U$3","v":555.17847717147515},{"$f":"OFFSET(AL$1890,A2168,A2167+1)-B$11-V$3","v":-1692.7574293120952},{"$f":"OFFSET(AL$1844,A2168,A2167+1)-B$12-W$3","v":-207},{"$f":"B2169*F$5+C2169*F$4","v":555.17847717147515},{"$f":"C2169*F$5-B2169*F$4","v":-1692.7574293120952},-207,555.17847717147515,{"$f":"F2169*F$7+G2169*F$6","v":-1692.7574293120952},{"$f":"G2169*F$7-F2169*F$6","v":-207},{"$f":"H2169*F$9+J2169*F$8","v":555.17847717147515},{"$f":"I2169","v":-1692.7574293120952},{"$f":"J2169*F$9-H2169*F$8","v":-207},{"$f":"IF(P2167=1,K2169*B$1/(B$1+B$2+L2169),99999)","v":99999},{"$f":"M2169*B$1/(B$1+B$2+L2169)","v":2.4602476434719507}]
[{"$f":"A2168","v":4},{"$f":"OFFSET(AL$1867,A2173+1,A2172)-B$10-U$3","v":705.17847717147515},{"$f":"OFFSET(AL$1890,A2173+1,A2172)-B$11-V$3","v":-1432.9498081767633},{"$f":"OFFSET(AL$1844,A2173+1,A2172)-B$12-W$3","v":-207},{"$f":"B2173*F$5+C2173*F$4","v":705.17847717147515},{"$f":"C2173*F$5-B2173*F$4","v":-1432.9498081767633},-207,705.17847717147515,{"$f":"F2173*F$7+G2173*F$6","v":-1432.9498081767633},{"$f":"G2173*F$7-F2173*F$6","v":-207},{"$f":"H2173*F$9+J2173*F$8","v":705.17847717147515},{"$f":"I2173","v":-1432.9498081767633},{"$f":"J2173*F$9-H2173*F$8","v":-207},{"$f":"IF(P2172=1,K2173*B$1/(B$1+B$2+L2173),99999)","v":99999},{"$f":"M2173*B$1/(B$1+B$2+L2173)","v":2.9094490727713116}]
[null,{"$f":"OFFSET(AL$1867,A2173,A2172+1)-B$10-U$3","v":855.17847717147515},{"$f":"OFFSET(AL$1890,A2173,A2172+1)-B$11-V$3","v":-1692.7574293120952},{"$f":"OFFSET(AL$1844,A2173,A2172+1)-B$12-W$3","v":-207},{"$f":"B2174*F$5+C2174*F$4","v":855.17847717147515},{"$f":"C2174*F$5-B2174*F$4","v":-1692.7574293120952},-207,855.17847717147515,{"$f":"F2174*F$7+G2174*F$6","v":-1692.7574293120952},{"$f":"G2174*F$7-F2174*F$6","v":-207},{"$f":"H2174*F$9+J2174*F$8","v":855.17847717147515},{"$f":"I2174","v":-1692.7574293120952},{"$f":"J2174*F$9-H2174*F$8","v":-207},{"$f":"IF(P2172=1,K2174*B$1/(B$1+B$2+L2174),99999)","v":99999},{"$f":"M2174*B$1/(B$1+B$2+L2174)","v":2.4602476434719507}]
[]
[null,{"$f":"OFFSET(AL$1867,A2178,A2177+1)-B$10-U$3","v":1155.1784771714752},{"$f":"OFFSET(AL$1890,A2178,A2177+1)-B$11-V$3","v":-1692.7574293120952},{"$f":"OFFSET(AL$1844,A2178,A2177+1)-B$12-W$3","v":-207},{"$f":"B2179*F$5+C2179*F$4","v":1155.1784771714752},{"$f":"C2179*F$5-B2179*F$4","v":-1692.7574293120952},-207,1155.1784771714752,{"$f":"F2179*F$7+G2179*F$6","v":-1692.7574293120952},{"$f":"G2179*F$7-F2179*F$6","v":-207},{"$f":"H2179*F$9+J2179*F$8","v":1155.1784771714752},{"$f":"I2179","v":-1692.7574293120952},{"$f":"J2179*F$9-H2179*F$8","v":-207},{"$f":"IF(P2177=1,K2179*B$1/(B$1+B$2+L2179),99999)","v":99999},{"$f":"M2179*B$1/(B$1+B$2+L2179)","v":2.4602476434719507}]
[{"$f":"A2177+1","v":14},{"$f":"OFFSET(AL$1867,A2183,A2182)-B$10-U$3","v":1155.1784771714752},{"$f":"OFFSET(AL$1890,A2183,A2182)-B$11-V$3","v":-1692.7574293120952},{"$f":"OFFSET(AL$1844,A2183,A2182)-B$12-W$3","v":-207},{"$f":"B2182*F$5+C2182*F$4","v":1155.1784771714752},{"$f":"C2182*F$5-B2182*F$4","v":-1692.7574293120952},{"$f":"D2182","v":-207},1155.1784771714752,{"$f":"F2182*F$7+G2182*F$6","v":-1692.7574293120952},{"$f":"G2182*F$7-F2182*F$6","v":-207},{"$f":"H2182*F$9+J2182*F$8","v":1155.1784771714752},{"$f":"I2182","v":-1692.7574293120952},{"$f":"J2182*F$9-H2182*F$8","v":-207},{"$f":"IF(P2182=1,K2182*B$1/(B$1+B$2+L2182),99999)","v":99999},{"$f":"M2182*B$1/(B$1+B$2+L2182)","v":2.4602476434719507},{"$f":"IF(MIN(L2182:L2185)+B$2+B$1>0,1,0)","v":0}]
[null,{"$f":"OFFSET(AL$1867,A2183,A2182+1)-B$10-U$3","v":1455.1784771714752},{"$f":"OFFSET(AL$1890,A2183,A2182+1)-B$11-V$3","v":-1692.7574293120952},{"$f":"OFFSET(AL$1844,A2183,A2182+1)-B$12-W$3","v":-207},{"$f":"B2184*F$5+C2184*F$4","v":1455.1784771714752},{"$f":"C2184*F$5-B2184*F$4","v":-1692.7574293120952},-207,1455.1784771714752,{"$f":"F2184*F$7+G2184*F$6","v":-1692.7574293120952},{"$f":"G2184*F$7-F2184*F$6","v":-207},{"$f":"H2184*F$9+J2184*F$8","v":1455.1784771714752},{"$f":"I2184","v":-1692.7574293120952},{"$f":"J2184*F$9-H2184*F$8","v":-207},{"$f":"IF(P2182=1,K2184*B$1/(B$1+B$2+L2184),99999)","v":99999},{"$f":"M2184*B$1/(B$1+B$2+L2184)","v":2.4602476434719507}]
[{"$f":"A2183","v":4},{"$f":"OFFSET(AL$1867,A2188+1,A2187)-B$10-U$3","v":1605.1784771714752},{"$f":"OFFSET(AL$1890,A2188+1,A2187)-B$11-V$3","v":-1432.9498081767633},{"$f":"OFFSET(AL$1844,A2188+1,A2187)-B$12-W$3","v":-207},{"$f":"B2188*F$5+C2188*F$4","v":1605.1784771714752},{"$f":"C2188*F$5-B2188*F$4","v":-1432.9498081767633},-207,1605.1784771714752,{"$f":"F2188*F$7+G2188*F$6","v":-1432.9498081767633},{"$f":"G2188*F$7-F2188*F$6","v":-207},{"$f":"H2188*F$9+J2188*F$8","v":1605.1784771714752},{"$f":"I2188","v":-1432.9498081767633},{"$f":"J2188*F$9-H2188*F$8","v":-207},{"$f":"IF(P2187=1,K2188*B$1/(B$1+B$2+L2188),99999)","v":99999},{"$f":"M2188*B$1/(B$1+B$2+L2188)","v":2.9094490727713116}]
[null,{"$f":"OFFSET(AL$1867,A2188,A2187+1)-B$10-U$3","v":1755.1784771714752},{"$f":"OFFSET(AL$1890,A2188,A2187+1)-B$11-V$3","v":-1692.7574293120952},{"$f":"OFFSET(AL$1844,A2188,A2187+1)-B$12-W$3","v":-207},{"$f":"B2189*F$5+C2189*F$4","v":1755.1784771714752},{"$f":"C2189*F$5-B2189*F$4","v":-1692.7574293120952},-207,1755.1784771714752,{"$f":"F2189*F$7+G2189*F$6","v":-1692.7574293120952},{"$f":"G2189*F$7-F2189*F$6","v":-207},{"$f":"H2189*F$9+J2189*F$8","v":1755.1784771714752},{"$f":"I2189","v":-1692.7574293120952},{"$f":"J2189*F$9-H2189*F$8","v":-207},{"$f":"IF(P2187=1,K2189*B$1/(B$1+B$2+L2189),99999)","v":99999},{"$f":"M2189*B$1/(B$1+B$2+L2189)","v":2.4602476434719507}]
[{"$f":"A2188","v":4},{"$f":"OFFSET(AL$1867,A2193+1,A2192)-B$10-U$3","v":1905.1784771714752},{"$f":"OFFSET(AL$1890,A2193+1,A2192)-B$11-V$3","v":-1432.9498081767633},{"$f":"OFFSET(AL$1844,A2193+1,A2192)-B$12-W$3","v":-207},{"$f":"B2193*F$5+C2193*F$4","v":1905.1784771714752},{"$f":"C2193*F$5-B2193*F$4","v":-1432.9498081767633},-207,1905.1784771714752,{"$f":"F2193*F$7+G2193*F$6","v":-1432.9498081767633},{"$f":"G2193*F$7-F2193*F$6","v":-207},{"$f":"H2193*F$9+J2193*F$8","v":1905.1784771714752},{"$f":"I2193","v":-1432.9498081767633},{"$f":"J2193*F$9-H2193*F$8","v":-207},{"$f":"IF(P2192=1,K2193*B$1/(B$1+B$2+L2193),99999)","v":99999},{"$f":"M2193*B$1/(B$1+B$2+L2193)","v":2.9094490727713116}]
[null,{"$f":"OFFSET(AL$1867,A2193,A2192+1)-B$10-U$3","v":2055.1784771714752},{"$f":"OFFSET(AL$1890,A2193,A2192+1)-B$11-V$3","v":-1692.7574293120952},{"$f":"OFFSET(AL$1844,A2193,A2192+1)-B$12-W$3","v":-207},{"$f":"B2194*F$5+C2194*F$4","v":2055.1784771714752},{"$f":"C2194*F$5-B2194*F$4","v":-1692.7574293120952},-207,2055.1784771714752,{"$f":"F2194*F$7+G2194*F$6","v":-1692.7574293120952},{"$f":"G2194*F$7-F2194*F$6","v":-207},{"$f":"H2194*F$9+J2194*F$8","v":2055.1784771714752},{"$f":"I2194","v":-1692.7574293120952},{"$f":"J2194*F$9-H2194*F$8","v":-207},{"$f":"IF(P2192=1,K2194*B$1/(B$1+B$2+L2194),99999)","v":99999},{"$f":"M2194*B$1/(B$1+B$2+L2194)","v":2.4602476434719507}]
[]
[null,{"$f":"OFFSET(AL$1867,A2198,A2197+1)-B$10-U$3","v":2355.1784771714752},{"$f":"OFFSET(AL$1890,A2198,A2197+1)-B$11-V$3","v":-1692.7574293120952},{"$f":"OFFSET(AL$1844,A2198,A2197+1)-B$12-W$3","v":-207},{"$f":"B2199*F$5+C2199*F$4","v":2355.1784771714752},{"$f":"C2199*F$5-B2199*F$4","v":-1692.7574293120952},-207,2355.1784771714752,{"$f":"F2199*F$7+G2199*F$6","v":-1692.7574293120952},{"$f":"G2199*F$7-F2199*F$6","v":-207},{"$f":"H2199*F$9+J2199*F$8","v":2355.1784771714752},{"$f":"I2199","v":-1692.7574293120952},{"$f":"J2199*F$9-H2199*F$8","v":-207},{"$f":"IF(P2197=1,K2199*B$1/(B$1+B$2+L2199),99999)","v":99999},{"$f":"M2199*B$1/(B$1+B$2+L2199)","v":2.4602476434719507}]
[{"$f":"A2197+1","v":18},{"$f":"OFFSET(AL$1867,A2203,A2202)-B$10-U$3","v":2355.1784771714752},{"$f":"OFFSET(AL$1890,A2203,A2202)-B$11-V$3","v":-1692.7574293120952},{"$f":"OFFSET(AL$1844,A2203,A2202)-B$12-W$3","v":-207},{"$f":"B2202*F$5+C2202*F$4","v":2355.1784771714752},{"$f":"C2202*F$5-B2202*F$4","v":-1692.7574293120952},{"$f":"D2202","v":-207},2355.1784771714752,{"$f":"F2202*F$7+G2202*F$6","v":-1692.7574293120952},{"$f":"G2202*F$7-F2202*F$6","v":-207},{"$f":"H2202*F$9+J2202*F$8","v":2355.1784771714752},{"$f":"I2202","v":-1692.7574293120952},{"$f":"J2202*F$9-H2202*F$8","v":-207},{"$f":"IF(P2202=1,K2202*B$1/(B$1+B$2+L2202),99999)","v":99999},{"$f":"M2202*B$1/(B$1+B$2+L2202)","v":2.4602476434719507},{"$f":"IF(MIN(L2202:L2205)+B$2+B$1>0,1,0)","v":0}]
[null,{"$f":"OFFSET(AL$1867,A2203,A2202+1)-B$10-U$3","v":2655.1784771714752},{"$f":"OFFSET(AL$1890,A2203,A2202+1)-B$11-V$3","v":-1692.7574293120952},{"$f":"OFFSET(AL$1844,A2203,A2202+1)-B$12-W$3","v":-207},{"$f":"B2204*F$5+C2204*F$4","v":2655.1784771714752},{"$f":"C2204*F$5-B2204*F$4","v":-1692.7574293120952},-207,2655.1784771714752,{"$f":"F2204*F$7+G2204*F$6","v":-1692.7574293120952},{"$f":"G2204*F$7-F2204*F$6","v":-207},{"$f":"H2204*F$9+J2204*F$8","v":2655.1784771714752},{"$f":"I2204","v":-1692.7574293120952},{"$f":"J2204*F$9-H2204*F$8","v":-207},{"$f":"IF(P2202=1,K2204*B$1/(B$1+B$2+L2204),99999)","v":99999},{"$f":"M2204*B$1/(B$1+B$2+L2204)","v":2.4602476434719507}]
[{"$f":"A2202+1","v":19},{"$f":"OFFSET(AL$1867,A2208,A2207)-B$10-U$3","v":2655.1784771714752},{"$f":"OFFSET(AL$1890,A2208,A2207)-B$11-V$3","v":-1692.7574293120952},{"$f":"OFFSET(AL$1844,A2208,A2207)-B$12-W$3","v":-207},{"$f":"B2207*F$5+C2207*F$4","v":2655.1784771714752},{"$f":"C2207*F$5-B2207*F$4","v":-1692.7574293120952},{"$f":"D2207","v":-207},2655.1784771714752,{"$f":"F2207*F$7+G2207*F$6","v":-1692.7574293120952},{"$f":"G2207*F$7-F2207*F$6","v":-207},{"$f":"H2207*F$9+J2207*F$8","v":2655.1784771714752},{"$f":"I2207","v":-1692.7574293120952},{"$f":"J2207*F$9-H2207*F$8","v":-207},{"$f":"IF(P2207=1,K2207*B$1/(B$1+B$2+L2207),99999)","v":99999},{"$f":"M2207*B$1/(B$1+B$2+L2207)","v":2.4602476434719507},{"$f":"IF(MIN(L2207:L2210)+B$2+B$1>0,1,0)","v":0}]
[null,{"$f":"OFFSET(AL$1867,A2208,A2207)-B$10-U$3","v":2655.1784771714752},{"$f":"OFFSET(AL$1890,A2208,A2207)-B$11-V$3","v":-1692.7574293120952},{"$f":"OFFSET(AL$1844,A2208,A2207)-B$12-W$3","v":-207},{"$f":"B2210*F$5+C2210*F$4","v":2655.1784771714752},{"$f":"C2210*F$5-B2210*F$4","v":-1692.7574293120952},-207,2655.1784771714752,{"$f":"F2210*F$7+G2210*F$6","v":-1692.7574293120952},{"$f":"G2210*F$7-F2210*F$6","v":-207},{"$f":"H2210*F$9+J2210*F$8","v":2655.1784771714752},{"$f":"I2210","v":-1692.7574293120952},{"$f":"J2210*F$9-H2210*F$8","v":-207},{"$f":"IF(P2207=1,K2210*B$1/(B$1+B$2+L2210),99999)","v":99999},{"$f":"M2210*B$1/(B$1+B$2+L2210)","v":2.4602476434719507}]
[0,{"$f":"OFFSET(AL$1867,A2213,A2212)-B$10-U$3","v":-2894.8215228285248},{"$f":"OFFSET(AL$1890,A2213,A2212)-B$11-V$3","v":-1432.9498081767633},{"$f":"OFFSET(AL$1844,A2213,A2212)-B$12-W$3","v":-207},{"$f":"B2212*F$5+C2212*F$4","v":-2894.8215228285248},{"$f":"C2212*F$5-B2212*F$4","v":-1432.9498081767633},{"$f":"D2212","v":-207},-2894.8215228285248,{"$f":"F2212*F$7+G2212*F$6","v":-1432.9498081767633},{"$f":"G2212*F$7-F2212*F$6","v":-207},{"$f":"H2212*F$9+J2212*F$8","v":-2894.8215228285248},{"$f":"I2212","v":-1432.9498081767633},{"$f":"J2212*F$9-H2212*F$8","v":-207},{"$f":"IF(P2212=1,K2212*B$1/(B$1+B$2+L2212),99999)","v":99999},{"$f":"M2212*B$1/(B$1+B$2+L2212)","v":2.9094490727713116},{"$f":"IF(MIN(L2212:L2215)+B$2+B$1>0,1,0)","v":0}]
[{"$f":"A2208+1","v":5},{"$f":"OFFSET(AL$1867,A2213+1,A2212+1)-B$10-U$3","v":-2744.8215228285248},{"$f":"OFFSET(AL$1890,A2213+1,A2212+1)-B$11-V$3","v":-1173.1421870414315},{"$f":"OFFSET(AL$1844,A2213+1,A2212+1)-B$12-W$3","v":-207},{"$f":"B2213*F$5+C2213*F$4","v":-2744.8215228285248},{"$f":"C2213*F$5-B2213*F$4","v":-1173.1421870414315},-207,-2744.8215228285248,{"$f":"F2213*F$7+G2213*F$6","v":-1173.1421870414315},{"$f":"G2213*F$7-F2213*F$6","v":-207},{"$f":"H2213*F$9+J2213*F$8","v":-2744.8215228285248},{"$f":"I2213","v":-1173.1421870414315},{"$f":"J2213*F$9-H2213*F$8","v":-207},{"$f":"IF(P2212=1,K2213*B$1/(B$1+B$2+L2213),99999)","v":99999},{"$f":"M2213*B$1/(B$1+B$2+L2213)","v":3.559324084470278}]
[{"$f":"A2212+1","v":1},{"$f":"OFFSET(AL$1867,A2218,A2217)-B$10-U$3","v":-2594.8215228285248},{"$f":"OFFSET(AL$1890,A2218,A2217)-B$11-V$3","v":-1432.9498081767633},{"$f":"OFFSET(AL$1844,A2218,A2217)-B$12-W$3","v":-207},{"$f":"B2217*F$5+C2217*F$4","v":-2594.8215228285248},{"$f":"C2217*F$5-B2217*F$4","v":-1432.9498081767633},{"$f":"D2217","v":-207},-2594.8215228285248,{"$f":"F2217*F$7+G2217*F$6","v":-1432.9498081767633},{"$f":"G2217*F$7-F2217*F$6","v":-207},{"$f":"H2217*F$9+J2217*F$8","v":-2594.8215228285248},{"$f":"I2217","v":-1432.9498081767633},{"$f":"J2217*F$9-H2217*F$8","v":-207},{"$f":"IF(P2217=1,K2217*B$1/(B$1+B$2+L2217),99999)","v":99999},{"$f":"M2217*B$1/(B$1+B$2+L2217)","v":2.9094490727713116},{"$f":"IF(MIN(L2217:L2220)+B$2+B$1>0,1,0)","v":0}]
[null,{"$f":"OFFSET(AL$1867,A2218,A2217+1)-B$10-U$3","v":-2294.8215228285248},{"$f":"OFFSET(AL$1890,A2218,A2217+1)-B$11-V$3","v":-1432.9498081767633},{"$f":"OFFSET(AL$1844,A2218,A2217+1)-B$12-W$3","v":-207},{"$f":"B2219*F$5+C2219*F$4","v":-2294.8215228285248},{"$f":"C2219*F$5-B2219*F$4","v":-1432.9498081767633},-207,-2294.8215228285248,{"$f":"F2219*F$7+G2219*F$6","v":-1432.9498081767633},{"$f":"G2219*F$7-F2219*F$6","v":-207},{"$f":"H2219*F$9+J2219*F$8","v":-2294.8215228285248},{"$f":"I2219","v":-1432.9498081767633},{"$f":"J2219*F$9-H2219*F$8","v":-207},{"$f":"IF(P2217=1,K2219*B$1/(B$1+B$2+L2219),99999)","v":99999},{"$f":"M2219*B$1/(B$1+B$2+L2219)","v":2.9094490727713116}]
[{"$f":"A2217+1","v":2},{"$f":"OFFSET(AL$1867,A2223,A2222)-B$10-U$3","v":-2294.8215228285248},{"$f":"OFFSET(AL$1890,A2223,A2222)-B$11-V$3","v":-1432.9498081767633},{"$f":"OFFSET(AL$1844,A2223,A2222)-B$12-W$3","v":-207},{"$f":"B2222*F$5+C2222*F$4","v":-2294.8215228285248},{"$f":"C2222*F$5-B2222*F$4","v":-1432.9498081767633},{"$f":"D2222","v":-207},-2294.8215228285248,{"$f":"F2222*F$7+G2222*F$6","v":-1432.9498081767633},{"$f":"G2222*F$7-F2222*F$6","v":-207},{"$f":"H2222*F$9+J2222*F$8","v":-2294.8215228285248},{"$f":"I2222","v":-1432.9498081767633},{"$f":"J2222*F$9-H2222*F$8","v":-207},{"$f":"IF(P2222=1,K2222*B$1/(B$1+B$2+L2222),99999)","v":99999},{"$f":"M2222*B$1/(B$1+B$2+L2222)","v":2.9094490727713116},{"$f":"IF(MIN(L2222:L2225)+B$2+B$1>0,1,0)","v":0}]
[null,{"$f":"OFFSET(AL$1867,A2223,A2222+1)-B$10-U$3","v":-1994.8215228285248},{"$f":"OFFSET(AL$1890,A2223,A2222+1)-B$11-V$3","v":-1432.9498081767633},{"$f":"OFFSET(AL$1844,A2223,A2222+1)-B$12-W$3","v":-207},{"$f":"B2224*F$5+C2224*F$4","v":-1994.8215228285248},{"$f":"C2224*F$5-B2224*F$4","v":-1432.9498081767633},-207,-1994.8215228285248,{"$f":"F2224*F$7+G2224*F$6","v":-1432.9498081767633},{"$f":"G2224*F$7-F2224*F$6","v":-207},{"$f":"H2224*F$9+J2224*F$8","v":-1994.8215228285248},{"$f":"I2224","v":-1432.9498081767633},{"$f":"J2224*F$9-H2224*F$8","v":-207},{"$f":"IF(P2222=1,K2224*B$1/(B$1+B$2+L2224),99999)","v":99999},{"$f":"M2224*B$1/(B$1+B$2+L2224)","v":2.9094490727713116}]
[{"$f":"A2222+1","v":3},{"$f":"OFFSET(AL$1867,A2228,A2227)-B$10-U$3","v":-1994.8215228285248},{"$f":"OFFSET(AL$1890,A2228,A2227)-B$11-V$3","v":-1432.9498081767633},{"$f":"OFFSET(AL$1844,A2228,A2227)-B$12-W$3","v":-207},{"$f":"B2227*F$5+C2227*F$4","v":-1994.8215228285248},{"$f":"C2227*F$5-B2227*F$4","v":-1432.9498081767633},{"$f":"D2227","v":-207},-1994.8215228285248,{"$f":"F2227*F$7+G2227*F$6","v":-1432.9498081767633},{"$f":"G2227*F$7-F2227*F$6","v":-207},{"$f":"H2227*F$9+J2227*F$8","v":-1994.8215228285248},{"$f":"I2227","v":-1432.9498081767633},{"$f":"J2227*F$9-H2227*F$8","v":-207},{"$f":"IF(P2227=1,K2227*B$1/(B$1+B$2+L2227),99999)","v":99999},{"$f":"M2227*B$1/(B$1+B$2+L2227)","v":2.9094490727713116},{"$f":"IF(MIN(L2227:L2230)+B$2+B$1>0,1,0)","v":0}]
[null,{"$f":"OFFSET(AL$1867,A2228,A2227)-B$10-U$3","v":-1994.8215228285248},{"$f":"OFFSET(AL$1890,A2228,A2227)-B$11-V$3","v":-1432.9498081767633},{"$f":"OFFSET(AL$1844,A2228,A2227)-B$12-W$3","v":-207},{"$f":"B2230*F$5+C2230*F$4","v":-1994.8215228285248},{"$f":"C2230*F$5-B2230*F$4","v":-1432.9498081767633},-207,-1994.8215228285248,{"$f":"F2230*F$7+G2230*F$6","v":-1432.9498081767633},{"$f":"G2230*F$7-F2230*F$6","v":-207},{"$f":"H2230*F$9+J2230*F$8","v":-1994.8215228285248},{"$f":"I2230","v":-1432.9498081767633},{"$f":"J2230*F$9-H2230*F$8","v":-207},{"$f":"IF(P2227=1,K2230*B$1/(B$1+B$2+L2230),99999)","v":99999},{"$f":"M2230*B$1/(B$1+B$2+L2230)","v":2.9094490727713116}]
[{"$f":"A2227+1","v":4},{"$f":"OFFSET(AL$1867,A2233,A2232)-B$10-U$3","v":-1694.8215228285248},{"$f":"OFFSET(AL$1890,A2233,A2232)-B$11-V$3","v":-1432.9498081767633},{"$f":"OFFSET(AL$1844,A2233,A2232)-B$12-W$3","v":-207},{"$f":"B2232*F$5+C2232*F$4","v":-1694.8215228285248},{"$f":"C2232*F$5-B2232*F$4","v":-1432.9498081767633},{"$f":"D2232","v":-207},-1694.8215228285248,{"$f":"F2232*F$7+G2232*F$6","v":-1432.9498081767633},{"$f":"G2232*F$7-F2232*F$6","v":-207},{"$f":"H2232*F$9+J2232*F$8","v":-1694.8215228285248},{"$f":"I2232","v":-1432.9498081767633},{"$f":"J2232*F$9-H2232*F$8","v":-207},{"$f":"IF(P2232=1,K2232*B$1/(B$1+B$2+L2232),99999)","v":99999},{"$f":"M2232*B$1/(B$1+B$2+L2232)","v":2.9094490727713116},{"$f":"IF(MIN(L2232:L2235)+B$2+B$1>0,1,0)","v":0}]
[{"$f":"A2228","v":5},{"$f":"OFFSET(AL$1867,A2233+1,A2232+1)-B$10-U$3","v":-1544.8215228285248},{"$f":"OFFSET(AL$1890,A2233+1,A2232+1)-B$11-V$3","v":-1173.1421870414315},{"$f":"OFFSET(AL$1844,A2233+1,A2232+1)-B$12-W$3","v":-207},{"$f":"B2233*F$5+C2233*F$4","v":-1544.8215228285248},{"$f":"C2233*F$5-B2233*F$4","v":-1173.1421870414315},-207,-1544.8215228285248,{"$f":"F2233*F$7+G2233*F$6","v":-1173.1421870414315},{"$f":"G2233*F$7-F2233*F$6","v":-207},{"$f":"H2233*F$9+J2233*F$8","v":-1544.8215228285248},{"$f":"I2233","v":-1173.1421870414315},{"$f":"J2233*F$9-H2233*F$8","v":-207},{"$f":"IF(P2232=1,K2233*B$1/(B$1+B$2+L2233),99999)","v":99999},{"$f":"M2233*B$1/(B$1+B$2+L2233)","v":3.559324084470278}]
[null,{"$f":"OFFSET(AL$1867,A2233,A2232)-B$10-U$3","v":-1694.8215228285248},{"$f":"OFFSET(AL$1890,A2233,A2232)-B$11-V$3","v":-1432.9498081767633},{"$f":"OFFSET(AL$1844,A2233,A2232)-B$12-W$3","v":-207},{"$f":"B2235*F$5+C2235*F$4","v":-1694.8215228285248},{"$f":"C2235*F$5-B2235*F$4","v":-1432.9498081767633},-207,-1694.8215228285248,{"$f":"F2235*F$7+G2235*F$6","v":-1432.9498081767633},{"$f":"G2235*F$7-F2235*F$6","v":-207},{"$f":"H2235*F$9+J2235*F$8","v":-1694.8215228285248},{"$f":"I2235","v":-1432.9498081767633},{"$f":"J2235*F$9-H2235*F$8","v":-207},{"$f":"IF(P2232=1,K2235*B$1/(B$1+B$2+L2235),99999)","v":99999},{"$f":"M2235*B$1/(B$1+B$2+L2235)","v":2.9094490727713116}]
[{"$f":"A2233","v":5},{"$f":"OFFSET(AL$1867,A2238+1,A2237+1)-B$10-U$3","v":-1244.8215228285248},{"$f":"OFFSET(AL$1890,A2238+1,A2237+1)-B$11-V$3","v":-1173.1421870414315},{"$f":"OFFSET(AL$1844,A2238+1,A2237+1)-B$12-W$3","v":-207},{"$f":"B2238*F$5+C2238*F$4","v":-1244.8215228285248},{"$f":"C2238*F$5-B2238*F$4","v":-1173.1421870414315},-207,-1244.8215228285248,{"$f":"F2238*F$7+G2238*F$6","v":-1173.1421870414315},{"$f":"G2238*F$7-F2238*F$6","v":-207},{"$f":"H2238*F$9+J2238*F$8","v":-1244.8215228285248},{"$f":"I2238","v":-1173.1421870414315},{"$f":"J2238*F$9-H2238*F$8","v":-207},{"$f":"IF(P2237=1,K2238*B$1/(B$1+B$2+L2238),99999)","v":99999},{"$f":"M2238*B$1/(B$1+B$2+L2238)","v":3.559324084470278}]
[]
[{"$f":"A2238","v":5},{"$f":"OFFSET(AL$1867,A2243+1,A2242+1)-B$10-U$3","v":-944.82152282852485},{"$f":"OFFSET(AL$1890,A2243+1,A2242+1)-B$11-V$3","v":-1173.1421870414315},{"$f":"OFFSET(AL$1844,A2243+1,A2242+1)-B$12-W$3","v":-207},{"$f":"B2243*F$5+C2243*F$4","v":-944.82152282852485},{"$f":"C2243*F$5-B2243*F$4","v":-1173.1421870414315},-207,-944.82152282852485,{"$f":"F2243*F$7+G2243*F$6","v":-1173.1421870414315},{"$f":"G2243*F$7-F2243*F$6","v":-207},{"$f":"H2243*F$9+J2243*F$8","v":-944.82152282852485},{"$f":"I2243","v":-1173.1421870414315},{"$f":"J2243*F$9-H2243*F$8","v":-207},{"$f":"IF(P2242=1,K2243*B$1/(B$1+B$2+L2243),99999)","v":99999},{"$f":"M2243*B$1/(B$1+B$2+L2243)","v":3.559324084470278}]
[{"$f":"A2242+1","v":7},{"$f":"OFFSET(AL$1867,A2248,A2247)-B$10-U$3","v":-794.82152282852485},{"$f":"OFFSET(AL$1890,A2248,A2247)-B$11-V$3","v":-1432.9498081767633},{"$f":"OFFSET(AL$1844,A2248,A2247)-B$12-W$3","v":-207},{"$f":"B2247*F$5+C2247*F$4","v":-794.82152282852485},{"$f":"C2247*F$5-B2247*F$4","v":-1432.9498081767633},{"$f":"D2247","v":-207},-794.82152282852485,{"$f":"F2247*F$7+G2247*F$6","v":-1432.9498081767633},{"$f":"G2247*F$7-F2247*F$6","v":-207},{"$f":"H2247*F$9+J2247*F$8","v":-794.82152282852485},{"$f":"I2247","v":-1432.9498081767633},{"$f":"J2247*F$9-H2247*F$8","v":-207},{"$f":"IF(P2247=1,K2247*B$1/(B$1+B$2+L2247),99999)","v":99999},{"$f":"M2247*B$1/(B$1+B$2+L2247)","v":2.9094490727713116},{"$f":"IF(MIN(L2247:L2250)+B$2+B$1>0,1,0)","v":0}]
[{"$f":"A2243","v":5},{"$f":"OFFSET(AL$1867,A2248+1,A2247+1)-B$10-U$3","v":-644.82152282852485},{"$f":"OFFSET(AL$1890,A2248+1,A2247+1)-B$11-V$3","v":-1173.1421870414315},{"$f":"OFFSET(AL$1844,A2248+1,A2247+1)-B$12-W$3","v":-207},{"$f":"B2248*F$5+C2248*F$4","v":-644.82152282852485},{"$f":"C2248*F$5-B2248*F$4","v":-1173.1421870414315},-207,-644.82152282852485,{"$f":"F2248*F$7+G2248*F$6","v":-1173.1421870414315},{"$f":"G2248*F$7-F2248*F$6","v":-207},{"$f":"H2248*F$9+J2248*F$8","v":-644.82152282852485},{"$f":"I2248","v":-1173.1421870414315},{"$f":"J2248*F$9-H2248*F$8","v":-207},{"$f":"IF(P2247=1,K2248*B$1/(B$1+B$2+L2248),99999)","v":99999},{"$f":"M2248*B$1/(B$1+B$2+L2248)","v":3.559324084470278}]
[null,{"$f":"OFFSET(AL$1867,A2248,A2247)-B$10-U$3","v":-794.82152282852485},{"$f":"OFFSET(AL$1890,A2248,A2247)-B$11-V$3","v":-1432.9498081767633},{"$f":"OFFSET(AL$1844,A2248,A2247)-B$12-W$3","v":-207},{"$f":"B2250*F$5+C2250*F$4","v":-794.82152282852485},{"$f":"C2250*F$5-B2250*F$4","v":-1432.9498081767633},-207,-794.82152282852485,{"$f":"F2250*F$7+G2250*F$6","v":-1432.9498081767633},{"$f":"G2250*F$7-F2250*F$6","v":-207},{"$f":"H2250*F$9+J2250*F$8","v":-794.82152282852485},{"$f":"I2250","v":-1432.9498081767633},{"$f":"J2250*F$9-H2250*F$8","v":-207},{"$f":"IF(P2247=1,K2250*B$1/(B$1+B$2+L2250),99999)","v":99999},{"$f":"M2250*B$1/(B$1+B$2+L2250)","v":2.9094490727713116}]
[{"$f":"A2248","v":5},{"$f":"OFFSET(AL$1867,A2253+1,A2252+1)-B$10-U$3","v":-344.82152282852485},{"$f":"OFFSET(AL$1890,A2253+1,A2252+1)-B$11-V$3","v":-1173.1421870414315},{"$f":"OFFSET(AL$1844,A2253+1,A2252+1)-B$12-W$3","v":-207},{"$f":"B2253*F$5+C2253*F$4","v":-344.82152282852485},{"$f":"C2253*F$5-B2253*F$4","v":-1173.1421870414315},-207,-344.82152282852485,{"$f":"F2253*F$7+G2253*F$6","v":-1173.1421870414315},{"$f":"G2253*F$7-F2253*F$6","v":-207},{"$f":"H2253*F$9+J2253*F$8","v":-344.82152282852485},{"$f":"I2253","v":-1173.1421870414315},{"$f":"J2253*F$9-H2253*F$8","v":-207},{"$f":"IF(P2252=1,K2253*B$1/(B$1+B$2+L2253),99999)","v":99999},{"$f":"M2253*B$1/(B$1+B$2+L2253)","v":3.559324084470278}]
[null,{"$f":"OFFSET(AL$1867,A2253,A2252)-B$10-U$3","v":-494.82152282852485},{"$f":"OFFSET(AL$1890,A2253,A2252)-B$11-V$3","v":-1432.9498081767633},{"$f":"OFFSET(AL$1844,A2253,A2252)-B$12-W$3","v":-207},{"$f":"B2255*F$5+C2255*F$4","v":-494.82152282852485},{"$f":"C2255*F$5-B2255*F$4","v":-1432.9498081767633},-207,-494.82152282852485,{"$f":"F2255*F$7+G2255*F$6","v":-1432.9498081767633},{"$f":"G2255*F$7-F2255*F$6","v":-207},{"$f":"H2255*F$9+J2255*F$8","v":-494.82152282852485},{"$f":"I2255","v":-1432.9498081767633},{"$f":"J2255*F$9-H2255*F$8","v":-207},{"$f":"IF(P2252=1,K2255*B$1/(B$1+B$2+L2255),99999)","v":99999},{"$f":"M2255*B$1/(B$1+B$2+L2255)","v":2.9094490727713116}]
[{"$f":"A2253","v":5},{"$f":"OFFSET(AL$1867,A2258+1,A2257+1)-B$10-U$3","v":-44.821522828524849},{"$f":"OFFSET(AL$1890,A2258+1,A2257+1)-B$11-V$3","v":-1173.1421870414315},{"$f":"OFFSET(AL$1844,A2258+1,A2257+1)-B$12-W$3","v":-207},{"$f":"B2258*F$5+C2258*F$4","v":-44.821522828524849},{"$f":"C2258*F$5-B2258*F$4","v":-1173.1421870414315},-207,-44.821522828524849,{"$f":"F2258*F$7+G2258*F$6","v":-1173.1421870414315},{"$f":"G2258*F$7-F2258*F$6","v":-207},{"$f":"H2258*F$9+J2258*F$8","v":-44.821522828524849},{"$f":"I2258","v":-1173.1421870414315},{"$f":"J2258*F$9-H2258*F$8","v":-207},{"$f":"IF(P2257=1,K2258*B$1/(B$1+B$2+L2258),99999)","v":99999},{"$f":"M2258*B$1/(B$1+B$2+L2258)","v":3.559324084470278}]
[]
[{"$f":"A2258","v":5},{"$f":"OFFSET(AL$1867,A2263+1,A2262+1)-B$10-U$3","v":255.17847717147515},{"$f":"OFFSET(AL$1890,A2263+1,A2262+1)-B$11-V$3","v":-1173.1421870414315},{"$f":"OFFSET(AL$1844,A2263+1,A2262+1)-B$12-W$3","v":-207},{"$f":"B2263*F$5+C2263*F$4","v":255.17847717147515},{"$f":"C2263*F$5-B2263*F$4","v":-1173.1421870414315},-207,255.17847717147515,{"$f":"F2263*F$7+G2263*F$6","v":-1173.1421870414315},{"$f":"G2263*F$7-F2263*F$6","v":-207},{"$f":"H2263*F$9+J2263*F$8","v":255.17847717147515},{"$f":"I2263","v":-1173.1421870414315},{"$f":"J2263*F$9-H2263*F$8","v":-207},{"$f":"IF(P2262=1,K2263*B$1/(B$1+B$2+L2263),99999)","v":99999},{"$f":"M2263*B$1/(B$1+B$2+L2263)","v":3.559324084470278}]
[]
[null,{"$f":"OFFSET(AL$1867,A2268,A2267+1)-B$10-U$3","v":705.17847717147515},{"$f":"OFFSET(AL$1890,A2268,A2267+1)-B$11-V$3","v":-1432.9498081767633},{"$f":"OFFSET(AL$1844,A2268,A2267+1)-B$12-W$3","v":-207},{"$f":"B2269*F$5+C2269*F$4","v":705.17847717147515},{"$f":"C2269*F$5-B2269*F$4","v":-1432.9498081767633},-207,705.17847717147515,{"$f":"F2269*F$7+G2269*F$6","v":-1432.9498081767633},{"$f":"G2269*F$7-F2269*F$6","v":-207},{"$f":"H2269*F$9+J2269*F$8","v":705.17847717147515},{"$f":"I2269","v":-1432.9498081767633},{"$f":"J2269*F$9-H2269*F$8","v":-207},{"$f":"IF(P2267=1,K2269*B$1/(B$1+B$2+L2269),99999)","v":99999},{"$f":"M2269*B$1/(B$1+B$2+L2269)","v":2.9094490727713116}]
[]
[{"$f":"A2267+1","v":12},{"$f":"OFFSET(AL$1867,A2273,A2272)-B$10-U$3","v":705.17847717147515},{"$f":"OFFSET(AL$1890,A2273,A2272)-B$11-V$3","v":-1432.9498081767633},{"$f":"OFFSET(AL$1844,A2273,A2272)-B$12-W$3","v":-207},{"$f":"B2272*F$5+C2272*F$4","v":705.17847717147515},{"$f":"C2272*F$5-B2272*F$4","v":-1432.9498081767633},{"$f":"D2272","v":-207},705.17847717147515,{"$f":"F2272*F$7+G2272*F$6","v":-1432.9498081767633},{"$f":"G2272*F$7-F2272*F$6","v":-207},{"$f":"H2272*F$9+J2272*F$8","v":705.17847717147515},{"$f":"I2272","v":-1432.9498081767633},{"$f":"J2272*F$9-H2272*F$8","v":-207},{"$f":"IF(P2272=1,K2272*B$1/(B$1+B$2+L2272),99999)","v":99999},{"$f":"M2272*B$1/(B$1+B$2+L2272)","v":2.9094490727713116},{"$f":"IF(MIN(L2272:L2275)+B$2+B$1>0,1,0)","v":0}]
[]
[{"$f":"A2273","v":5},{"$f":"OFFSET(AL$1867,A2278+1,A2277+1)-B$10-U$3","v":1155.1784771714752},{"$f":"OFFSET(AL$1890,A2278+1,A2277+1)-B$11-V$3","v":-1173.1421870414315},{"$f":"OFFSET(AL$1844,A2278+1,A2277+1)-B$12-W$3","v":-207},{"$f":"B2278*F$5+C2278*F$4","v":1155.1784771714752},{"$f":"C2278*F$5-B2278*F$4","v":-1173.1421870414315},-207,1155.1784771714752,{"$f":"F2278*F$7+G2278*F$6","v":-1173.1421870414315},{"$f":"G2278*F$7-F2278*F$6","v":-207},{"$f":"H2278*F$9+J2278*F$8","v":1155.1784771714752},{"$f":"I2278","v":-1173.1421870414315},{"$f":"J2278*F$9-H2278*F$8","v":-207},{"$f":"IF(P2277=1,K2278*B$1/(B$1+B$2+L2278),99999)","v":99999},{"$f":"M2278*B$1/(B$1+B$2+L2278)","v":3.559324084470278}]
[]
[null,{"$f":"OFFSET(AL$1867,A2283,A2282+1)-B$10-U$3","v":1605.1784771714752},{"$f":"OFFSET(AL$1890,A2283,A2282+1)-B$11-V$3","v":-1432.9498081767633},{"$f":"OFFSET(AL$1844,A2283,A2282+1)-B$12-W$3","v":-207},{"$f":"B2284*F$5+C2284*F$4","v":1605.1784771714752},{"$f":"C2284*F$5-B2284*F$4","v":-1432.9498081767633},-207,1605.1784771714752,{"$f":"F2284*F$7+G2284*F$6","v":-1432.9498081767633},{"$f":"G2284*F$7-F2284*F$6","v":-207},{"$f":"H2284*F$9+J2284*F$8","v":1605.1784771714752},{"$f":"I2284","v":-1432.9498081767633},{"$f":"J2284*F$9-H2284*F$8","v":-207},{"$f":"IF(P2282=1,K2284*B$1/(B$1+B$2+L2284),99999)","v":99999},{"$f":"M2284*B$1/(B$1+B$2+L2284)","v":2.9094490727713116}]
[]
[null,{"$f":"OFFSET(AL$1867,A2288,A2287+1)-B$10-U$3","v":1905.1784771714752},{"$f":"OFFSET(AL$1890,A2288,A2287+1)-B$11-V$3","v":-1432.9498081767633},{"$f":"OFFSET(AL$1844,A2288,A2287+1)-B$12-W$3","v":-207},{"$f":"B2289*F$5+C2289*F$4","v":1905.1784771714752},{"$f":"C2289*F$5-B2289*F$4","v":-1432.9498081767633},-207,1905.1784771714752,{"$f":"F2289*F$7+G2289*F$6","v":-1432.9498081767633},{"$f":"G2289*F$7-F2289*F$6","v":-207},{"$f":"H2289*F$9+J2289*F$8","v":1905.1784771714752},{"$f":"I2289","v":-1432.9498081767633},{"$f":"J2289*F$9-H2289*F$8","v":-207},{"$f":"IF(P2287=1,K2289*B$1/(B$1+B$2+L2289),99999)","v":99999},{"$f":"M2289*B$1/(B$1+B$2+L2289)","v":2.9094490727713116}]
[]
[{"$f":"A2287+1","v":16},{"$f":"OFFSET(AL$1867,A2293,A2292)-B$10-U$3","v":1905.1784771714752},{"$f":"OFFSET(AL$1890,A2293,A2292)-B$11-V$3","v":-1432.9498081767633},{"$f":"OFFSET(AL$1844,A2293,A2292)-B$12-W$3","v":-207},{"$f":"B2292*F$5+C2292*F$4","v":1905.1784771714752},{"$f":"C2292*F$5-B2292*F$4","v":-1432.9498081767633},{"$f":"D2292","v":-207},1905.1784771714752,{"$f":"F2292*F$7+G2292*F$6","v":-1432.9498081767633},{"$f":"G2292*F$7-F2292*F$6","v":-207},{"$f":"H2292*F$9+J2292*F$8","v":1905.1784771714752},{"$f":"I2292","v":-1432.9498081767633},{"$f":"J2292*F$9-H2292*F$8","v":-207},{"$f":"IF(P2292=1,K2292*B$1/(B$1+B$2+L2292),99999)","v":99999},{"$f":"M2292*B$1/(B$1+B$2+L2292)","v":2.9094490727713116},{"$f":"IF(MIN(L2292:L2295)+B$2+B$1>0,1,0)","v":0}]
[null,{"$f":"OFFSET(AL$1867,A2293,A2292+1)-B$10-U$3","v":2205.1784771714752},{"$f":"OFFSET(AL$1890,A2293,A2292+1)-B$11-V$3","v":-1432.9498081767633},{"$f":"OFFSET(AL$1844,A2293,A2292+1)-B$12-W$3","v":-207},{"$f":"B2294*F$5+C2294*F$4","v":2205.1784771714752},{"$f":"C2294*F$5-B2294*F$4","v":-1432.9498081767633},-207,2205.1784771714752,{"$f":"F2294*F$7+G2294*F$6","v":-1432.9498081767633},{"$f":"G2294*F$7-F2294*F$6","v":-207},{"$f":"H2294*F$9+J2294*F$8","v":2205.1784771714752},{"$f":"I2294","v":-1432.9498081767633},{"$f":"J2294*F$9-H2294*F$8","v":-207},{"$f":"IF(P2292=1,K2294*B$1/(B$1+B$2+L2294),99999)","v":99999},{"$f":"M2294*B$1/(B$1+B$2+L2294)","v":2.9094490727713116}]
[{"$f":"A2292+1","v":17},{"$f":"OFFSET(AL$1867,A2298,A2297)-B$10-U$3","v":2205.1784771714752},{"$f":"OFFSET(AL$1890,A2298,A2297)-B$11-V$3","v":-1432.9498081767633},{"$f":"OFFSET(AL$1844,A2298,A2297)-B$12-W$3","v":-207},{"$f":"B2297*F$5+C2297*F$4","v":2205.1784771714752},{"$f":"C2297*F$5-B2297*F$4","v":-1432.9498081767633},{"$f":"D2297","v":-207},2205.1784771714752,{"$f":"F2297*F$7+G2297*F$6","v":-1432.9498081767633},{"$f":"G2297*F$7-F2297*F$6","v":-207},{"$f":"H2297*F$9+J2297*F$8","v":2205.1784771714752},{"$f":"I2297","v":-1432.9498081767633},{"$f":"J2297*F$9-H2297*F$8","v":-207},{"$f":"IF(P2297=1,K2297*B$1/(B$1+B$2+L2297),99999)","v":99999},{"$f":"M2297*B$1/(B$1+B$2+L2297)","v":2.9094490727713116},{"$f":"IF(MIN(L2297:L2300)+B$2+B$1>0,1,0)","v":0}]
[null,{"$f":"OFFSET(AL$1867,A2298,A2297)-B$10-U$3","v":2205.1784771714752},{"$f":"OFFSET(AL$1890,A2298,A2297)-B$11-V$3","v":-1432.9498081767633},{"$f":"OFFSET(AL$1844,A2298,A2297)-B$12-W$3","v":-207},{"$f":"B2300*F$5+C2300*F$4","v":2205.1784771714752},{"$f":"C2300*F$5-B2300*F$4","v":-1432.9498081767633},-207,2205.1784771714752,{"$f":"F2300*F$7+G2300*F$6","v":-1432.9498081767633},{"$f":"G2300*F$7-F2300*F$6","v":-207},{"$f":"H2300*F$9+J2300*F$8","v":2205.1784771714752},{"$f":"I2300","v":-1432.9498081767633},{"$f":"J2300*F$9-H2300*F$8","v":-207},{"$f":"IF(P2297=1,K2300*B$1/(B$1+B$2+L2300),99999)","v":99999},{"$f":"M2300*B$1/(B$1+B$2+L2300)","v":2.9094490727713116}]
[{"$f":"A2297+1","v":18},{"$f":"OFFSET(AL$1867,A2303,A2302)-B$10-U$3","v":2505.1784771714752},{"$f":"OFFSET(AL$1890,A2303,A2302)-B$11-V$3","v":-1432.9498081767633},{"$f":"OFFSET(AL$1844,A2303,A2302)-B$12-W$3","v":-207},{"$f":"B2302*F$5+C2302*F$4","v":2505.1784771714752},{"$f":"C2302*F$5-B2302*F$4","v":-1432.9498081767633},{"$f":"D2302","v":-207},2505.1784771714752,{"$f":"F2302*F$7+G2302*F$6","v":-1432.9498081767633},{"$f":"G2302*F$7-F2302*F$6","v":-207},{"$f":"H2302*F$9+J2302*F$8","v":2505.1784771714752},{"$f":"I2302","v":-1432.9498081767633},{"$f":"J2302*F$9-H2302*F$8","v":-207},{"$f":"IF(P2302=1,K2302*B$1/(B$1+B$2+L2302),99999)","v":99999},{"$f":"M2302*B$1/(B$1+B$2+L2302)","v":2.9094490727713116},{"$f":"IF(MIN(L2302:L2305)+B$2+B$1>0,1,0)","v":0}]
[]
[{"$f":"A2302+1","v":19},{"$f":"OFFSET(AL$1867,A2308,A2307)-B$10-U$3","v":2805.1784771714752},{"$f":"OFFSET(AL$1890,A2308,A2307)-B$11-V$3","v":-1432.9498081767633},{"$f":"OFFSET(AL$1844,A2308,A2307)-B$12-W$3","v":-207},{"$f":"B2307*F$5+C2307*F$4","v":2805.1784771714752},{"$f":"C2307*F$5-B2307*F$4","v":-1432.9498081767633},{"$f":"D2307","v":-207},2805.1784771714752,{"$f":"F2307*F$7+G2307*F$6","v":-1432.9498081767633},{"$f":"G2307*F$7-F2307*F$6","v":-207},{"$f":"H2307*F$9+J2307*F$8","v":2805.1784771714752},{"$f":"I2307","v":-1432.9498081767633},{"$f":"J2307*F$9-H2307*F$8","v":-207},{"$f":"IF(P2307=1,K2307*B$1/(B$1+B$2+L2307),99999)","v":99999},{"$f":"M2307*B$1/(B$1+B$2+L2307)","v":2.9094490727713116},{"$f":"IF(MIN(L2307:L2310)+B$2+B$1>0,1,0)","v":0}]
[null,{"$f":"OFFSET(AL$1867,A2308,A2307+1)-B$10-U$3","v":3105.1784771714752},{"$f":"OFFSET(AL$1890,A2308,A2307+1)-B$11-V$3","v":-1432.9498081767633},{"$f":"OFFSET(AL$1844,A2308,A2307+1)-B$12-W$3","v":-207},{"$f":"B2309*F$5+C2309*F$4","v":3105.1784771714752},{"$f":"C2309*F$5-B2309*F$4","v":-1432.9498081767633},-207,3105.1784771714752,{"$f":"F2309*F$7+G2309*F$6","v":-1432.9498081767633},{"$f":"G2309*F$7-F2309*F$6","v":-207},{"$f":"H2309*F$9+J2309*F$8","v":3105.1784771714752},{"$f":"I2309","v":-1432.9498081767633},{"$f":"J2309*F$9-H2309*F$8","v":-207},{"$f":"IF(P2307=1,K2309*B$1/(B$1+B$2+L2309),99999)","v":99999},{"$f":"M2309*B$1/(B$1+B$2+L2309)","v":2.9094490727713116}]
[0,{"$f":"OFFSET(AL$1867,A2313,A2312)-B$10-U$3","v":-3044.8215228285248},{"$f":"OFFSET(AL$1890,A2313,A2312)-B$11-V$3","v":-1173.1421870414315},{"$f":"OFFSET(AL$1844,A2313,A2312)-B$12-W$3","v":-207},{"$f":"B2312*F$5+C2312*F$4","v":-3044.8215228285248},{"$f":"C2312*F$5-B2312*F$4","v":-1173.1421870414315},{"$f":"D2312","v":-207},-3044.8215228285248,{"$f":"F2312*F$7+G2312*F$6","v":-1173.1421870414315},{"$f":"G2312*F$7-F2312*F$6","v":-207},{"$f":"H2312*F$9+J2312*F$8","v":-3044.8215228285248},{"$f":"I2312","v":-1173.1421870414315},{"$f":"J2312*F$9-H2312*F$8","v":-207},{"$f":"IF(P2312=1,K2312*B$1/(B$1+B$2+L2312),99999)","v":99999},{"$f":"M2312*B$1/(B$1+B$2+L2312)","v":3.559324084470278},{"$f":"IF(MIN(L2312:L2315)+B$2+B$1>0,1,0)","v":0}]
[null,{"$f":"OFFSET(AL$1867,A2313,A2312+1)-B$10-U$3","v":-2744.8215228285248},{"$f":"OFFSET(AL$1890,A2313,A2312+1)-B$11-V$3","v":-1173.1421870414315},{"$f":"OFFSET(AL$1844,A2313,A2312+1)-B$12-W$3","v":-207},{"$f":"B2314*F$5+C2314*F$4","v":-2744.8215228285248},{"$f":"C2314*F$5-B2314*F$4","v":-1173.1421870414315},-207,-2744.8215228285248,{"$f":"F2314*F$7+G2314*F$6","v":-1173.1421870414315},{"$f":"G2314*F$7-F2314*F$6","v":-207},{"$f":"H2314*F$9+J2314*F$8","v":-2744.8215228285248},{"$f":"I2314","v":-1173.1421870414315},{"$f":"J2314*F$9-H2314*F$8","v":-207},{"$f":"IF(P2312=1,K2314*B$1/(B$1+B$2+L2314),99999)","v":99999},{"$f":"M2314*B$1/(B$1+B$2+L2314)","v":3.559324084470278}]
[{"$f":"A2312+1","v":1},{"$f":"OFFSET(AL$1867,A2318,A2317)-B$10-U$3","v":-2744.8215228285248},{"$f":"OFFSET(AL$1890,A2318,A2317)-B$11-V$3","v":-1173.1421870414315},{"$f":"OFFSET(AL$1844,A2318,A2317)-B$12-W$3","v":-207},{"$f":"B2317*F$5+C2317*F$4","v":-2744.8215228285248},{"$f":"C2317*F$5-B2317*F$4","v":-1173.1421870414315},{"$f":"D2317","v":-207},-2744.8215228285248,{"$f":"F2317*F$7+G2317*F$6","v":-1173.1421870414315},{"$f":"G2317*F$7-F2317*F$6","v":-207},{"$f":"H2317*F$9+J2317*F$8","v":-2744.8215228285248},{"$f":"I2317","v":-1173.1421870414315},{"$f":"J2317*F$9-H2317*F$8","v":-207},{"$f":"IF(P2317=1,K2317*B$1/(B$1+B$2+L2317),99999)","v":99999},{"$f":"M2317*B$1/(B$1+B$2+L2317)","v":3.559324084470278},{"$f":"IF(MIN(L2317:L2320)+B$2+B$1>0,1,0)","v":0}]
[null,{"$f":"OFFSET(AL$1867,A2318,A2317)-B$10-U$3","v":-2744.8215228285248},{"$f":"OFFSET(AL$1890,A2318,A2317)-B$11-V$3","v":-1173.1421870414315},{"$f":"OFFSET(AL$1844,A2318,A2317)-B$12-W$3","v":-207},{"$f":"B2320*F$5+C2320*F$4","v":-2744.8215228285248},{"$f":"C2320*F$5-B2320*F$4","v":-1173.1421870414315},-207,-2744.8215228285248,{"$f":"F2320*F$7+G2320*F$6","v":-1173.1421870414315},{"$f":"G2320*F$7-F2320*F$6","v":-207},{"$f":"H2320*F$9+J2320*F$8","v":-2744.8215228285248},{"$f":"I2320","v":-1173.1421870414315},{"$f":"J2320*F$9-H2320*F$8","v":-207},{"$f":"IF(P2317=1,K2320*B$1/(B$1+B$2+L2320),99999)","v":99999},{"$f":"M2320*B$1/(B$1+B$2+L2320)","v":3.559324084470278}]
[{"$f":"A2317+1","v":2},{"$f":"OFFSET(AL$1867,A2323,A2322)-B$10-U$3","v":-2444.8215228285248},{"$f":"OFFSET(AL$1890,A2323,A2322)-B$11-V$3","v":-1173.1421870414315},{"$f":"OFFSET(AL$1844,A2323,A2322)-B$12-W$3","v":-207},{"$f":"B2322*F$5+C2322*F$4","v":-2444.8215228285248},{"$f":"C2322*F$5-B2322*F$4","v":-1173.1421870414315},{"$f":"D2322","v":-207},-2444.8215228285248,{"$f":"F2322*F$7+G2322*F$6","v":-1173.1421870414315},{"$f":"G2322*F$7-F2322*F$6","v":-207},{"$f":"H2322*F$9+J2322*F$8","v":-2444.8215228285248},{"$f":"I2322","v":-1173.1421870414315},{"$f":"J2322*F$9-H2322*F$8","v":-207},{"$f":"IF(P2322=1,K2322*B$1/(B$1+B$2+L2322),99999)","v":99999},{"$f":"M2322*B$1/(B$1+B$2+L2322)","v":3.559324084470278},{"$f":"IF(MIN(L2322:L2325)+B$2+B$1>0,1,0)","v":0}]
[null,{"$f":"OFFSET(AL$1867,A2323,A2322)-B$10-U$3","v":-2444.8215228285248},{"$f":"OFFSET(AL$1890,A2323,A2322)-B$11-V$3","v":-1173.1421870414315},{"$f":"OFFSET(AL$1844,A2323,A2322)-B$12-W$3","v":-207},{"$f":"B2325*F$5+C2325*F$4","v":-2444.8215228285248},{"$f":"C2325*F$5-B2325*F$4","v":-1173.1421870414315},-207,-2444.8215228285248,{"$f":"F2325*F$7+G2325*F$6","v":-1173.1421870414315},{"$f":"G2325*F$7-F2325*F$6","v":-207},{"$f":"H2325*F$9+J2325*F$8","v":-2444.8215228285248},{"$f":"I2325","v":-1173.1421870414315},{"$f":"J2325*F$9-H2325*F$8","v":-207},{"$f":"IF(P2322=1,K2325*B$1/(B$1+B$2+L2325),99999)","v":99999},{"$f":"M2325*B$1/(B$1+B$2+L2325)","v":3.559324084470278}]
[{"$f":"A2323","v":6},{"$f":"OFFSET(AL$1867,A2328+1,A2327)-B$10-U$3","v":-1994.8215228285248},{"$f":"OFFSET(AL$1890,A2328+1,A2327)-B$11-V$3","v":-913.33456590609978},{"$f":"OFFSET(AL$1844,A2328+1,A2327)-B$12-W$3","v":-207},{"$f":"B2328*F$5+C2328*F$4","v":-1994.8215228285248},{"$f":"C2328*F$5-B2328*F$4","v":-913.33456590609978},-207,-1994.8215228285248,{"$f":"F2328*F$7+G2328*F$6","v":-913.33456590609978},{"$f":"G2328*F$7-F2328*F$6","v":-207},{"$f":"H2328*F$9+J2328*F$8","v":-1994.8215228285248},{"$f":"I2328","v":-913.33456590609978},{"$f":"J2328*F$9-H2328*F$8","v":-207},{"$f":"IF(P2327=1,K2328*B$1/(B$1+B$2+L2328),99999)","v":99999},{"$f":"M2328*B$1/(B$1+B$2+L2328)","v":4.5830195768578026}]
[null,{"$f":"OFFSET(AL$1867,A2328,A2327)-B$10-U$3","v":-2144.8215228285248},{"$f":"OFFSET(AL$1890,A2328,A2327)-B$11-V$3","v":-1173.1421870414315},{"$f":"OFFSET(AL$1844,A2328,A2327)-B$12-W$3","v":-207},{"$f":"B2330*F$5+C2330*F$4","v":-2144.8215228285248},{"$f":"C2330*F$5-B2330*F$4","v":-1173.1421870414315},-207,-2144.8215228285248,{"$f":"F2330*F$7+G2330*F$6","v":-1173.1421870414315},{"$f":"G2330*F$7-F2330*F$6","v":-207},{"$f":"H2330*F$9+J2330*F$8","v":-2144.8215228285248},{"$f":"I2330","v":-1173.1421870414315},{"$f":"J2330*F$9-H2330*F$8","v":-207},{"$f":"IF(P2327=1,K2330*B$1/(B$1+B$2+L2330),99999)","v":99999},{"$f":"M2330*B$1/(B$1+B$2+L2330)","v":3.559324084470278}]
[]
[null,{"$f":"OFFSET(AL$1867,A2333,A2332)-B$10-U$3","v":-1844.8215228285248},{"$f":"OFFSET(AL$1890,A2333,A2332)-B$11-V$3","v":-1173.1421870414315},{"$f":"OFFSET(AL$1844,A2333,A2332)-B$12-W$3","v":-207},{"$f":"B2335*F$5+C2335*F$4","v":-1844.8215228285248},{"$f":"C2335*F$5-B2335*F$4","v":-1173.1421870414315},-207,-1844.8215228285248,{"$f":"F2335*F$7+G2335*F$6","v":-1173.1421870414315},{"$f":"G2335*F$7-F2335*F$6","v":-207},{"$f":"H2335*F$9+J2335*F$8","v":-1844.8215228285248},{"$f":"I2335","v":-1173.1421870414315},{"$f":"J2335*F$9-H2335*F$8","v":-207},{"$f":"IF(P2332=1,K2335*B$1/(B$1+B$2+L2335),99999)","v":99999},{"$f":"M2335*B$1/(B$1+B$2+L2335)","v":3.559324084470278}]
[{"$f":"A2332+1","v":5},{"$f":"OFFSET(AL$1867,A2338,A2337)-B$10-U$3","v":-1544.8215228285248},{"$f":"OFFSET(AL$1890,A2338,A2337)-B$11-V$3","v":-1173.1421870414315},{"$f":"OFFSET(AL$1844,A2338,A2337)-B$12-W$3","v":-207},{"$f":"B2337*F$5+C2337*F$4","v":-1544.8215228285248},{"$f":"C2337*F$5-B2337*F$4","v":-1173.1421870414315},{"$f":"D2337","v":-207},-1544.8215228285248,{"$f":"F2337*F$7+G2337*F$6","v":-1173.1421870414315},{"$f":"G2337*F$7-F2337*F$6","v":-207},{"$f":"H2337*F$9+J2337*F$8","v":-1544.8215228285248},{"$f":"I2337","v":-1173.1421870414315},{"$f":"J2337*F$9-H2337*F$8","v":-207},{"$f":"IF(P2337=1,K2337*B$1/(B$1+B$2+L2337),99999)","v":99999},{"$f":"M2337*B$1/(B$1+B$2+L2337)","v":3.559324084470278},{"$f":"IF(MIN(L2337:L2340)+B$2+B$1>0,1,0)","v":0}]
[null,{"$f":"OFFSET(AL$1867,A2338,A2337)-B$10-U$3","v":-1544.8215228285248},{"$f":"OFFSET(AL$1890,A2338,A2337)-B$11-V$3","v":-1173.1421870414315},{"$f":"OFFSET(AL$1844,A2338,A2337)-B$12-W$3","v":-207},{"$f":"B2340*F$5+C2340*F$4","v":-1544.8215228285248},{"$f":"C2340*F$5-B2340*F$4","v":-1173.1421870414315},-207,-1544.8215228285248,{"$f":"F2340*F$7+G2340*F$6","v":-1173.1421870414315},{"$f":"G2340*F$7-F2340*F$6","v":-207},{"$f":"H2340*F$9+J2340*F$8","v":-1544.8215228285248},{"$f":"I2340","v":-1173.1421870414315},{"$f":"J2340*F$9-H2340*F$8","v":-207},{"$f":"IF(P2337=1,K2340*B$1/(B$1+B$2+L2340),99999)","v":99999},{"$f":"M2340*B$1/(B$1+B$2+L2340)","v":3.559324084470278}]
[{"$f":"A2338","v":6},{"$f":"OFFSET(AL$1867,A2343+1,A2342)-B$10-U$3","v":-1094.8215228285248},{"$f":"OFFSET(AL$1890,A2343+1,A2342)-B$11-V$3","v":-913.33456590609978},{"$f":"OFFSET(AL$1844,A2343+1,A2342)-B$12-W$3","v":-207},{"$f":"B2343*F$5+C2343*F$4","v":-1094.8215228285248},{"$f":"C2343*F$5-B2343*F$4","v":-913.33456590609978},-207,-1094.8215228285248,{"$f":"F2343*F$7+G2343*F$6","v":-913.33456590609978},{"$f":"G2343*F$7-F2343*F$6","v":-207},{"$f":"H2343*F$9+J2343*F$8","v":-1094.8215228285248},{"$f":"I2343","v":-913.33456590609978},{"$f":"J2343*F$9-H2343*F$8","v":-207},{"$f":"IF(P2342=1,K2343*B$1/(B$1+B$2+L2343),99999)","v":99999},{"$f":"M2343*B$1/(B$1+B$2+L2343)","v":4.5830195768578026}]
[null,{"$f":"OFFSET(AL$1867,A2343,A2342)-B$10-U$3","v":-1244.8215228285248},{"$f":"OFFSET(AL$1890,A2343,A2342)-B$11-V$3","v":-1173.1421870414315},{"$f":"OFFSET(AL$1844,A2343,A2342)-B$12-W$3","v":-207},{"$f":"B2345*F$5+C2345*F$4","v":-1244.8215228285248},{"$f":"C2345*F$5-B2345*F$4","v":-1173.1421870414315},-207,-1244.8215228285248,{"$f":"F2345*F$7+G2345*F$6","v":-1173.1421870414315},{"$f":"G2345*F$7-F2345*F$6","v":-207},{"$f":"H2345*F$9+J2345*F$8","v":-1244.8215228285248},{"$f":"I2345","v":-1173.1421870414315},{"$f":"J2345*F$9-H2345*F$8","v":-207},{"$f":"IF(P2342=1,K2345*B$1/(B$1+B$2+L2345),99999)","v":99999},{"$f":"M2345*B$1/(B$1+B$2+L2345)","v":3.559324084470278}]
[{"$f":"A2343","v":6},{"$f":"OFFSET(AL$1867,A2348+1,A2347)-B$10-U$3","v":-794.82152282852485},{"$f":"OFFSET(AL$1890,A2348+1,A2347)-B$11-V$3","v":-913.33456590609978},{"$f":"OFFSET(AL$1844,A2348+1,A2347)-B$12-W$3","v":-207},{"$f":"B2348*F$5+C2348*F$4","v":-794.82152282852485},{"$f":"C2348*F$5-B2348*F$4","v":-913.33456590609978},-207,-794.82152282852485,{"$f":"F2348*F$7+G2348*F$6","v":-913.33456590609978},{"$f":"G2348*F$7-F2348*F$6","v":-207},{"$f":"H2348*F$9+J2348*F$8","v":-794.82152282852485},{"$f":"I2348","v":-913.33456590609978},{"$f":"J2348*F$9-H2348*F$8","v":-207},{"$f":"IF(P2347=1,K2348*B$1/(B$1+B$2+L2348),99999)","v":99999},{"$f":"M2348*B$1/(B$1+B$2+L2348)","v":4.5830195768578026}]
[null,{"$f":"OFFSET(AL$1867,A2348,A2347)-B$10-U$3","v":-944.82152282852485},{"$f":"OFFSET(AL$1890,A2348,A2347)-B$11-V$3","v":-1173.1421870414315},{"$f":"OFFSET(AL$1844,A2348,A2347)-B$12-W$3","v":-207},{"$f":"B2350*F$5+C2350*F$4","v":-944.82152282852485},{"$f":"C2350*F$5-B2350*F$4","v":-1173.1421870414315},-207,-944.82152282852485,{"$f":"F2350*F$7+G2350*F$6","v":-1173.1421870414315},{"$f":"G2350*F$7-F2350*F$6","v":-207},{"$f":"H2350*F$9+J2350*F$8","v":-944.82152282852485},{"$f":"I2350","v":-1173.1421870414315},{"$f":"J2350*F$9-H2350*F$8","v":-207},{"$f":"IF(P2347=1,K2350*B$1/(B$1+B$2+L2350),99999)","v":99999},{"$f":"M2350*B$1/(B$1+B$2+L2350)","v":3.559324084470278}]
[]
[null,{"$f":"OFFSET(AL$1867,A2353,A2352)-B$10-U$3","v":-644.82152282852485},{"$f":"OFFSET(AL$1890,A2353,A2352)-B$11-V$3","v":-1173.1421870414315},{"$f":"OFFSET(AL$1844,A2353,A2352)-B$12-W$3","v":-207},{"$f":"B2355*F$5+C2355*F$4","v":-644.82152282852485},{"$f":"C2355*F$5-B2355*F$4","v":-1173.1421870414315},-207,-644.82152282852485,{"$f":"F2355*F$7+G2355*F$6","v":-1173.1421870414315},{"$f":"G2355*F$7-F2355*F$6","v":-207},{"$f":"H2355*F$9+J2355*F$8","v":-644.82152282852485},{"$f":"I2355","v":-1173.1421870414315},{"$f":"J2355*F$9-H2355*F$8","v":-207},{"$f":"IF(P2352=1,K2355*B$1/(B$1+B$2+L2355),99999)","v":99999},{"$f":"M2355*B$1/(B$1+B$2+L2355)","v":3.559324084470278}]
[]
[null,{"$f":"OFFSET(AL$1867,A2358,A2357+1)-B$10-U$3","v":-44.821522828524849},{"$f":"OFFSET(AL$1890,A2358,A2357+1)-B$11-V$3","v":-1173.1421870414315},{"$f":"OFFSET(AL$1844,A2358,A2357+1)-B$12-W$3","v":-207},{"$f":"B2359*F$5+C2359*F$4","v":-44.821522828524849},{"$f":"C2359*F$5-B2359*F$4","v":-1173.1421870414315},-207,-44.821522828524849,{"$f":"F2359*F$7+G2359*F$6","v":-1173.1421870414315},{"$f":"G2359*F$7-F2359*F$6","v":-207},{"$f":"H2359*F$9+J2359*F$8","v":-44.821522828524849},{"$f":"I2359","v":-1173.1421870414315},{"$f":"J2359*F$9-H2359*F$8","v":-207},{"$f":"IF(P2357=1,K2359*B$1/(B$1+B$2+L2359),99999)","v":99999},{"$f":"M2359*B$1/(B$1+B$2+L2359)","v":3.559324084470278}]
[]
[null,{"$f":"OFFSET(AL$1867,A2363,A2362)-B$10-U$3","v":-44.821522828524849},{"$f":"OFFSET(AL$1890,A2363,A2362)-B$11-V$3","v":-1173.1421870414315},{"$f":"OFFSET(AL$1844,A2363,A2362)-B$12-W$3","v":-207},{"$f":"B2365*F$5+C2365*F$4","v":-44.821522828524849},{"$f":"C2365*F$5-B2365*F$4","v":-1173.1421870414315},-207,-44.821522828524849,{"$f":"F2365*F$7+G2365*F$6","v":-1173.1421870414315},{"$f":"G2365*F$7-F2365*F$6","v":-207},{"$f":"H2365*F$9+J2365*F$8","v":-44.821522828524849},{"$f":"I2365","v":-1173.1421870414315},{"$f":"J2365*F$9-H2365*F$8","v":-207},{"$f":"IF(P2362=1,K2365*B$1/(B$1+B$2+L2365),99999)","v":99999},{"$f":"M2365*B$1/(B$1+B$2+L2365)","v":3.559324084470278}]
[]
[{"$f":"A2363","v":6},{"$f":"OFFSET(AL$1867,A2368+1,A2367)-B$10-U$3","v":405.17847717147515},{"$f":"OFFSET(AL$1890,A2368+1,A2367)-B$11-V$3","v":-913.33456590609978},{"$f":"OFFSET(AL$1844,A2368+1,A2367)-B$12-W$3","v":-207},{"$f":"B2368*F$5+C2368*F$4","v":405.17847717147515},{"$f":"C2368*F$5-B2368*F$4","v":-913.33456590609978},-207,405.17847717147515,{"$f":"F2368*F$7+G2368*F$6","v":-913.33456590609978},{"$f":"G2368*F$7-F2368*F$6","v":-207},{"$f":"H2368*F$9+J2368*F$8","v":405.17847717147515},{"$f":"I2368","v":-913.33456590609978},{"$f":"J2368*F$9-H2368*F$8","v":-207},{"$f":"IF(P2367=1,K2368*B$1/(B$1+B$2+L2368),99999)","v":99999},{"$f":"M2368*B$1/(B$1+B$2+L2368)","v":4.5830195768578026}]
[]
[null,{"$f":"OFFSET(AL$1867,A2373,A2372+1)-B$10-U$3","v":855.17847717147515},{"$f":"OFFSET(AL$1890,A2373,A2372+1)-B$11-V$3","v":-1173.1421870414315},{"$f":"OFFSET(AL$1844,A2373,A2372+1)-B$12-W$3","v":-207},{"$f":"B2374*F$5+C2374*F$4","v":855.17847717147515},{"$f":"C2374*F$5-B2374*F$4","v":-1173.1421870414315},-207,855.17847717147515,{"$f":"F2374*F$7+G2374*F$6","v":-1173.1421870414315},{"$f":"G2374*F$7-F2374*F$6","v":-207},{"$f":"H2374*F$9+J2374*F$8","v":855.17847717147515},{"$f":"I2374","v":-1173.1421870414315},{"$f":"J2374*F$9-H2374*F$8","v":-207},{"$f":"IF(P2372=1,K2374*B$1/(B$1+B$2+L2374),99999)","v":99999},{"$f":"M2374*B$1/(B$1+B$2+L2374)","v":3.559324084470278}]
[]
[null,{"$f":"OFFSET(AL$1867,A2378,A2377+1)-B$10-U$3","v":1155.1784771714752},{"$f":"OFFSET(AL$1890,A2378,A2377+1)-B$11-V$3","v":-1173.1421870414315},{"$f":"OFFSET(AL$1844,A2378,A2377+1)-B$12-W$3","v":-207},{"$f":"B2379*F$5+C2379*F$4","v":1155.1784771714752},{"$f":"C2379*F$5-B2379*F$4","v":-1173.1421870414315},-207,1155.1784771714752,{"$f":"F2379*F$7+G2379*F$6","v":-1173.1421870414315},{"$f":"G2379*F$7-F2379*F$6","v":-207},{"$f":"H2379*F$9+J2379*F$8","v":1155.1784771714752},{"$f":"I2379","v":-1173.1421870414315},{"$f":"J2379*F$9-H2379*F$8","v":-207},{"$f":"IF(P2377=1,K2379*B$1/(B$1+B$2+L2379),99999)","v":99999},{"$f":"M2379*B$1/(B$1+B$2+L2379)","v":3.559324084470278}]
[]
[null,{"$f":"OFFSET(AL$1867,A2383,A2382+1)-B$10-U$3","v":1455.1784771714752},{"$f":"OFFSET(AL$1890,A2383,A2382+1)-B$11-V$3","v":-1173.1421870414315},{"$f":"OFFSET(AL$1844,A2383,A2382+1)-B$12-W$3","v":-207},{"$f":"B2384*F$5+C2384*F$4","v":1455.1784771714752},{"$f":"C2384*F$5-B2384*F$4","v":-1173.1421870414315},-207,1455.1784771714752,{"$f":"F2384*F$7+G2384*F$6","v":-1173.1421870414315},{"$f":"G2384*F$7-F2384*F$6","v":-207},{"$f":"H2384*F$9+J2384*F$8","v":1455.1784771714752},{"$f":"I2384","v":-1173.1421870414315},{"$f":"J2384*F$9-H2384*F$8","v":-207},{"$f":"IF(P2382=1,K2384*B$1/(B$1+B$2+L2384),99999)","v":99999},{"$f":"M2384*B$1/(B$1+B$2+L2384)","v":3.559324084470278}]
[null,{"$f":"OFFSET(AL$1867,A2383,A2382)-B$10-U$3","v":1155.1784771714752},{"$f":"OFFSET(AL$1890,A2383,A2382)-B$11-V$3","v":-1173.1421870414315},{"$f":"OFFSET(AL$1844,A2383,A2382)-B$12-W$3","v":-207},{"$f":"B2385*F$5+C2385*F$4","v":1155.1784771714752},{"$f":"C2385*F$5-B2385*F$4","v":-1173.1421870414315},-207,1155.1784771714752,{"$f":"F2385*F$7+G2385*F$6","v":-1173.1421870414315},{"$f":"G2385*F$7-F2385*F$6","v":-207},{"$f":"H2385*F$9+J2385*F$8","v":1155.1784771714752},{"$f":"I2385","v":-1173.1421870414315},{"$f":"J2385*F$9-H2385*F$8","v":-207},{"$f":"IF(P2382=1,K2385*B$1/(B$1+B$2+L2385),99999)","v":99999},{"$f":"M2385*B$1/(B$1+B$2+L2385)","v":3.559324084470278}]
[null,{"$f":"OFFSET(AL$1867,A2388,A2387+1)-B$10-U$3","v":1755.1784771714752},{"$f":"OFFSET(AL$1890,A2388,A2387+1)-B$11-V$3","v":-1173.1421870414315},{"$f":"OFFSET(AL$1844,A2388,A2387+1)-B$12-W$3","v":-207},{"$f":"B2389*F$5+C2389*F$4","v":1755.1784771714752},{"$f":"C2389*F$5-B2389*F$4","v":-1173.1421870414315},-207,1755.1784771714752,{"$f":"F2389*F$7+G2389*F$6","v":-1173.1421870414315},{"$f":"G2389*F$7-F2389*F$6","v":-207},{"$f":"H2389*F$9+J2389*F$8","v":1755.1784771714752},{"$f":"I2389","v":-1173.1421870414315},{"$f":"J2389*F$9-H2389*F$8","v":-207},{"$f":"IF(P2387=1,K2389*B$1/(B$1+B$2+L2389),99999)","v":99999},{"$f":"M2389*B$1/(B$1+B$2+L2389)","v":3.559324084470278}]
[null,{"$f":"OFFSET(AL$1867,A2388,A2387)-B$10-U$3","v":1455.1784771714752},{"$f":"OFFSET(AL$1890,A2388,A2387)-B$11-V$3","v":-1173.1421870414315},{"$f":"OFFSET(AL$1844,A2388,A2387)-B$12-W$3","v":-207},{"$f":"B2390*F$5+C2390*F$4","v":1455.1784771714752},{"$f":"C2390*F$5-B2390*F$4","v":-1173.1421870414315},-207,1455.1784771714752,{"$f":"F2390*F$7+G2390*F$6","v":-1173.1421870414315},{"$f":"G2390*F$7-F2390*F$6","v":-207},{"$f":"H2390*F$9+J2390*F$8","v":1455.1784771714752},{"$f":"I2390","v":-1173.1421870414315},{"$f":"J2390*F$9-H2390*F$8","v":-207},{"$f":"IF(P2387=1,K2390*B$1/(B$1+B$2+L2390),99999)","v":99999},{"$f":"M2390*B$1/(B$1+B$2+L2390)","v":3.559324084470278}]
[null,{"$f":"OFFSET(AL$1867,A2393,A2392+1)-B$10-U$3","v":2055.1784771714752},{"$f":"OFFSET(AL$1890,A2393,A2392+1)-B$11-V$3","v":-1173.1421870414315},{"$f":"OFFSET(AL$1844,A2393,A2392+1)-B$12-W$3","v":-207},{"$f":"B2394*F$5+C2394*F$4","v":2055.1784771714752},{"$f":"C2394*F$5-B2394*F$4","v":-1173.1421870414315},-207,2055.1784771714752,{"$f":"F2394*F$7+G2394*F$6","v":-1173.1421870414315},{"$f":"G2394*F$7-F2394*F$6","v":-207},{"$f":"H2394*F$9+J2394*F$8","v":2055.1784771714752},{"$f":"I2394","v":-1173.1421870414315},{"$f":"J2394*F$9-H2394*F$8","v":-207},{"$f":"IF(P2392=1,K2394*B$1/(B$1+B$2+L2394),99999)","v":99999},{"$f":"M2394*B$1/(B$1+B$2+L2394)","v":3.559324084470278}]
[]
[null,{"$f":"OFFSET(AL$1867,A2398,A2397+1)-B$10-U$3","v":2355.1784771714752},{"$f":"OFFSET(AL$1890,A2398,A2397+1)-B$11-V$3","v":-1173.1421870414315},{"$f":"OFFSET(AL$1844,A2398,A2397+1)-B$12-W$3","v":-207},{"$f":"B2399*F$5+C2399*F$4","v":2355.1784771714752},{"$f":"C2399*F$5-B2399*F$4","v":-1173.1421870414315},-207,2355.1784771714752,{"$f":"F2399*F$7+G2399*F$6","v":-1173.1421870414315},{"$f":"G2399*F$7-F2399*F$6","v":-207},{"$f":"H2399*F$9+J2399*F$8","v":2355.1784771714752},{"$f":"I2399","v":-1173.1421870414315},{"$f":"J2399*F$9-H2399*F$8","v":-207},{"$f":"IF(P2397=1,K2399*B$1/(B$1+B$2+L2399),99999)","v":99999},{"$f":"M2399*B$1/(B$1+B$2+L2399)","v":3.559324084470278}]
[{"$f":"A2397+1","v":18},{"$f":"OFFSET(AL$1867,A2403,A2402)-B$10-U$3","v":2355.1784771714752},{"$f":"OFFSET(AL$1890,A2403,A2402)-B$11-V$3","v":-1173.1421870414315},{"$f":"OFFSET(AL$1844,A2403,A2402)-B$12-W$3","v":-207},{"$f":"B2402*F$5+C2402*F$4","v":2355.1784771714752},{"$f":"C2402*F$5-B2402*F$4","v":-1173.1421870414315},{"$f":"D2402","v":-207},2355.1784771714752,{"$f":"F2402*F$7+G2402*F$6","v":-1173.1421870414315},{"$f":"G2402*F$7-F2402*F$6","v":-207},{"$f":"H2402*F$9+J2402*F$8","v":2355.1784771714752},{"$f":"I2402","v":-1173.1421870414315},{"$f":"J2402*F$9-H2402*F$8","v":-207},{"$f":"IF(P2402=1,K2402*B$1/(B$1+B$2+L2402),99999)","v":99999},{"$f":"M2402*B$1/(B$1+B$2+L2402)","v":3.559324084470278},{"$f":"IF(MIN(L2402:L2405)+B$2+B$1>0,1,0)","v":0}]
[null,{"$f":"OFFSET(AL$1867,A2403,A2402+1)-B$10-U$3","v":2655.1784771714752},{"$f":"OFFSET(AL$1890,A2403,A2402+1)-B$11-V$3","v":-1173.1421870414315},{"$f":"OFFSET(AL$1844,A2403,A2402+1)-B$12-W$3","v":-207},{"$f":"B2404*F$5+C2404*F$4","v":2655.1784771714752},{"$f":"C2404*F$5-B2404*F$4","v":-1173.1421870414315},-207,2655.1784771714752,{"$f":"F2404*F$7+G2404*F$6","v":-1173.1421870414315},{"$f":"G2404*F$7-F2404*F$6","v":-207},{"$f":"H2404*F$9+J2404*F$8","v":2655.1784771714752},{"$f":"I2404","v":-1173.1421870414315},{"$f":"J2404*F$9-H2404*F$8","v":-207},{"$f":"IF(P2402=1,K2404*B$1/(B$1+B$2+L2404),99999)","v":99999},{"$f":"M2404*B$1/(B$1+B$2+L2404)","v":3.559324084470278}]
[null,{"$f":"OFFSET(AL$1867,A2403,A2402)-B$10-U$3","v":2355.1784771714752},{"$f":"OFFSET(AL$1890,A2403,A2402)-B$11-V$3","v":-1173.1421870414315},{"$f":"OFFSET(AL$1844,A2403,A2402)-B$12-W$3","v":-207},{"$f":"B2405*F$5+C2405*F$4","v":2355.1784771714752},{"$f":"C2405*F$5-B2405*F$4","v":-1173.1421870414315},-207,2355.1784771714752,{"$f":"F2405*F$7+G2405*F$6","v":-1173.1421870414315},{"$f":"G2405*F$7-F2405*F$6","v":-207},{"$f":"H2405*F$9+J2405*F$8","v":2355.1784771714752},{"$f":"I2405","v":-1173.1421870414315},{"$f":"J2405*F$9-H2405*F$8","v":-207},{"$f":"IF(P2402=1,K2405*B$1/(B$1+B$2+L2405),99999)","v":99999},{"$f":"M2405*B$1/(B$1+B$2+L2405)","v":3.559324084470278}]
[null,{"$f":"OFFSET(AL$1867,A2408,A2407+1)-B$10-U$3","v":2955.1784771714752},{"$f":"OFFSET(AL$1890,A2408,A2407+1)-B$11-V$3","v":-1173.1421870414315},{"$f":"OFFSET(AL$1844,A2408,A2407+1)-B$12-W$3","v":-207},{"$f":"B2409*F$5+C2409*F$4","v":2955.1784771714752},{"$f":"C2409*F$5-B2409*F$4","v":-1173.1421870414315},-207,2955.1784771714752,{"$f":"F2409*F$7+G2409*F$6","v":-1173.1421870414315},{"$f":"G2409*F$7-F2409*F$6","v":-207},{"$f":"H2409*F$9+J2409*F$8","v":2955.1784771714752},{"$f":"I2409","v":-1173.1421870414315},{"$f":"J2409*F$9-H2409*F$8","v":-207},{"$f":"IF(P2407=1,K2409*B$1/(B$1+B$2+L2409),99999)","v":99999},{"$f":"M2409*B$1/(B$1+B$2+L2409)","v":3.559324084470278}]
[null,{"$f":"OFFSET(AL$1867,A2408,A2407)-B$10-U$3","v":2655.1784771714752},{"$f":"OFFSET(AL$1890,A2408,A2407)-B$11-V$3","v":-1173.1421870414315},{"$f":"OFFSET(AL$1844,A2408,A2407)-B$12-W$3","v":-207},{"$f":"B2410*F$5+C2410*F$4","v":2655.1784771714752},{"$f":"C2410*F$5-B2410*F$4","v":-1173.1421870414315},-207,2655.1784771714752,{"$f":"F2410*F$7+G2410*F$6","v":-1173.1421870414315},{"$f":"G2410*F$7-F2410*F$6","v":-207},{"$f":"H2410*F$9+J2410*F$8","v":2655.1784771714752},{"$f":"I2410","v":-1173.1421870414315},{"$f":"J2410*F$9-H2410*F$8","v":-207},{"$f":"IF(P2407=1,K2410*B$1/(B$1+B$2+L2410),99999)","v":99999},{"$f":"M2410*B$1/(B$1+B$2+L2410)","v":3.559324084470278}]
[null,{"$f":"OFFSET(AL$1867,A2413,A2412+1)-B$10-U$3","v":-2594.8215228285248},{"$f":"OFFSET(AL$1890,A2413,A2412+1)-B$11-V$3","v":-913.33456590609978},{"$f":"OFFSET(AL$1844,A2413,A2412+1)-B$12-W$3","v":-207},{"$f":"B2414*F$5+C2414*F$4","v":-2594.8215228285248},{"$f":"C2414*F$5-B2414*F$4","v":-913.33456590609978},-207,-2594.8215228285248,{"$f":"F2414*F$7+G2414*F$6","v":-913.33456590609978},{"$f":"G2414*F$7-F2414*F$6","v":-207},{"$f":"H2414*F$9+J2414*F$8","v":-2594.8215228285248},{"$f":"I2414","v":-913.33456590609978},{"$f":"J2414*F$9-H2414*F$8","v":-207},{"$f":"IF(P2412=1,K2414*B$1/(B$1+B$2+L2414),99999)","v":99999},{"$f":"M2414*B$1/(B$1+B$2+L2414)","v":4.5830195768578026}]
[null,{"$f":"OFFSET(AL$1867,A2413,A2412)-B$10-U$3","v":-2894.8215228285248},{"$f":"OFFSET(AL$1890,A2413,A2412)-B$11-V$3","v":-913.33456590609978},{"$f":"OFFSET(AL$1844,A2413,A2412)-B$12-W$3","v":-207},{"$f":"B2415*F$5+C2415*F$4","v":-2894.8215228285248},{"$f":"C2415*F$5-B2415*F$4","v":-913.33456590609978},-207,-2894.8215228285248,{"$f":"F2415*F$7+G2415*F$6","v":-913.33456590609978},{"$f":"G2415*F$7-F2415*F$6","v":-207},{"$f":"H2415*F$9+J2415*F$8","v":-2894.8215228285248},{"$f":"I2415","v":-913.33456590609978},{"$f":"J2415*F$9-H2415*F$8","v":-207},{"$f":"IF(P2412=1,K2415*B$1/(B$1+B$2+L2415),99999)","v":99999},{"$f":"M2415*B$1/(B$1+B$2+L2415)","v":4.5830195768578026}]
[null,{"$f":"OFFSET(AL$1867,A2418,A2417+1)-B$10-U$3","v":-2294.8215228285248},{"$f":"OFFSET(AL$1890,A2418,A2417+1)-B$11-V$3","v":-913.33456590609978},{"$f":"OFFSET(AL$1844,A2418,A2417+1)-B$12-W$3","v":-207},{"$f":"B2419*F$5+C2419*F$4","v":-2294.8215228285248},{"$f":"C2419*F$5-B2419*F$4","v":-913.33456590609978},-207,-2294.8215228285248,{"$f":"F2419*F$7+G2419*F$6","v":-913.33456590609978},{"$f":"G2419*F$7-F2419*F$6","v":-207},{"$f":"H2419*F$9+J2419*F$8","v":-2294.8215228285248},{"$f":"I2419","v":-913.33456590609978},{"$f":"J2419*F$9-H2419*F$8","v":-207},{"$f":"IF(P2417=1,K2419*B$1/(B$1+B$2+L2419),99999)","v":99999},{"$f":"M2419*B$1/(B$1+B$2+L2419)","v":4.5830195768578026}]
[null,{"$f":"OFFSET(AL$1867,A2418,A2417)-B$10-U$3","v":-2594.8215228285248},{"$f":"OFFSET(AL$1890,A2418,A2417)-B$11-V$3","v":-913.33456590609978},{"$f":"OFFSET(AL$1844,A2418,A2417)-B$12-W$3","v":-207},{"$f":"B2420*F$5+C2420*F$4","v":-2594.8215228285248},{"$f":"C2420*F$5-B2420*F$4","v":-913.33456590609978},-207,-2594.8215228285248,{"$f":"F2420*F$7+G2420*F$6","v":-913.33456590609978},{"$f":"G2420*F$7-F2420*F$6","v":-207},{"$f":"H2420*F$9+J2420*F$8","v":-2594.8215228285248},{"$f":"I2420","v":-913.33456590609978},{"$f":"J2420*F$9-H2420*F$8","v":-207},{"$f":"IF(P2417=1,K2420*B$1/(B$1+B$2+L2420),99999)","v":99999},{"$f":"M2420*B$1/(B$1+B$2+L2420)","v":4.5830195768578026}]
[null,{"$f":"OFFSET(AL$1867,A2423,A2422+1)-B$10-U$3","v":-1994.8215228285248},{"$f":"OFFSET(AL$1890,A2423,A2422+1)-B$11-V$3","v":-913.33456590609978},{"$f":"OFFSET(AL$1844,A2423,A2422+1)-B$12-W$3","v":-207},{"$f":"B2424*F$5+C2424*F$4","v":-1994.8215228285248},{"$f":"C2424*F$5-B2424*F$4","v":-913.33456590609978},-207,-1994.8215228285248,{"$f":"F2424*F$7+G2424*F$6","v":-913.33456590609978},{"$f":"G2424*F$7-F2424*F$6","v":-207},{"$f":"H2424*F$9+J2424*F$8","v":-1994.8215228285248},{"$f":"I2424","v":-913.33456590609978},{"$f":"J2424*F$9-H2424*F$8","v":-207},{"$f":"IF(P2422=1,K2424*B$1/(B$1+B$2+L2424),99999)","v":99999},{"$f":"M2424*B$1/(B$1+B$2+L2424)","v":4.5830195768578026}]
[null,{"$f":"OFFSET(AL$1867,A2423,A2422)-B$10-U$3","v":-2294.8215228285248},{"$f":"OFFSET(AL$1890,A2423,A2422)-B$11-V$3","v":-913.33456590609978},{"$f":"OFFSET(AL$1844,A2423,A2422)-B$12-W$3","v":-207},{"$f":"B2425*F$5+C2425*F$4","v":-2294.8215228285248},{"$f":"C2425*F$5-B2425*F$4","v":-913.33456590609978},-207,-2294.8215228285248,{"$f":"F2425*F$7+G2425*F$6","v":-913.33456590609978},{"$f":"G2425*F$7-F2425*F$6","v":-207},{"$f":"H2425*F$9+J2425*F$8","v":-2294.8215228285248},{"$f":"I2425","v":-913.33456590609978},{"$f":"J2425*F$9-H2425*F$8","v":-207},{"$f":"IF(P2422=1,K2425*B$1/(B$1+B$2+L2425),99999)","v":99999},{"$f":"M2425*B$1/(B$1+B$2+L2425)","v":4.5830195768578026}]
[{"$f":"A2422+1","v":3},{"$f":"OFFSET(AL$1867,A2428,A2427)-B$10-U$3","v":-1994.8215228285248},{"$f":"OFFSET(AL$1890,A2428,A2427)-B$11-V$3","v":-913.33456590609978},{"$f":"OFFSET(AL$1844,A2428,A2427)-B$12-W$3","v":-207},{"$f":"B2427*F$5+C2427*F$4","v":-1994.8215228285248},{"$f":"C2427*F$5-B2427*F$4","v":-913.33456590609978},{"$f":"D2427","v":-207},-1994.8215228285248,{"$f":"F2427*F$7+G2427*F$6","v":-913.33456590609978},{"$f":"G2427*F$7-F2427*F$6","v":-207},{"$f":"H2427*F$9+J2427*F$8","v":-1994.8215228285248},{"$f":"I2427","v":-913.33456590609978},{"$f":"J2427*F$9-H2427*F$8","v":-207},{"$f":"IF(P2427=1,K2427*B$1/(B$1+B$2+L2427),99999)","v":99999},{"$f":"M2427*B$1/(B$1+B$2+L2427)","v":4.5830195768578026},{"$f":"IF(MIN(L2427:L2430)+B$2+B$1>0,1,0)","v":0}]
[null,{"$f":"OFFSET(AL$1867,A2428,A2427)-B$10-U$3","v":-1994.8215228285248},{"$f":"OFFSET(AL$1890,A2428,A2427)-B$11-V$3","v":-913.33456590609978},{"$f":"OFFSET(AL$1844,A2428,A2427)-B$12-W$3","v":-207},{"$f":"B2430*F$5+C2430*F$4","v":-1994.8215228285248},{"$f":"C2430*F$5-B2430*F$4","v":-913.33456590609978},-207,-1994.8215228285248,{"$f":"F2430*F$7+G2430*F$6","v":-913.33456590609978},{"$f":"G2430*F$7-F2430*F$6","v":-207},{"$f":"H2430*F$9+J2430*F$8","v":-1994.8215228285248},{"$f":"I2430","v":-913.33456590609978},{"$f":"J2430*F$9-H2430*F$8","v":-207},{"$f":"IF(P2427=1,K2430*B$1/(B$1+B$2+L2430),99999)","v":99999},{"$f":"M2430*B$1/(B$1+B$2+L2430)","v":4.5830195768578026}]
[{"$f":"A2428","v":7},{"$f":"OFFSET(AL$1867,A2433+1,A2432+1)-B$10-U$3","v":-1544.8215228285248},{"$f":"OFFSET(AL$1890,A2433+1,A2432+1)-B$11-V$3","v":-653.52694477076807},{"$f":"OFFSET(AL$1844,A2433+1,A2432+1)-B$12-W$3","v":-207},{"$f":"B2433*F$5+C2433*F$4","v":-1544.8215228285248},{"$f":"C2433*F$5-B2433*F$4","v":-653.52694477076807},-207,-1544.8215228285248,{"$f":"F2433*F$7+G2433*F$6","v":-653.52694477076807},{"$f":"G2433*F$7-F2433*F$6","v":-207},{"$f":"H2433*F$9+J2433*F$8","v":-1544.8215228285248},{"$f":"I2433","v":-653.52694477076807},{"$f":"J2433*F$9-H2433*F$8","v":-207},{"$f":"IF(P2432=1,K2433*B$1/(B$1+B$2+L2433),99999)","v":99999},{"$f":"M2433*B$1/(B$1+B$2+L2433)","v":6.4332970571647428}]
[null,{"$f":"OFFSET(AL$1867,A2433,A2432)-B$10-U$3","v":-1694.8215228285248},{"$f":"OFFSET(AL$1890,A2433,A2432)-B$11-V$3","v":-913.33456590609978},{"$f":"OFFSET(AL$1844,A2433,A2432)-B$12-W$3","v":-207},{"$f":"B2435*F$5+C2435*F$4","v":-1694.8215228285248},{"$f":"C2435*F$5-B2435*F$4","v":-913.33456590609978},-207,-1694.8215228285248,{"$f":"F2435*F$7+G2435*F$6","v":-913.33456590609978},{"$f":"G2435*F$7-F2435*F$6","v":-207},{"$f":"H2435*F$9+J2435*F$8","v":-1694.8215228285248},{"$f":"I2435","v":-913.33456590609978},{"$f":"J2435*F$9-H2435*F$8","v":-207},{"$f":"IF(P2432=1,K2435*B$1/(B$1+B$2+L2435),99999)","v":99999},{"$f":"M2435*B$1/(B$1+B$2+L2435)","v":4.5830195768578026}]
[null,{"$f":"OFFSET(AL$1867,A2438,A2437+1)-B$10-U$3","v":-1094.8215228285248},{"$f":"OFFSET(AL$1890,A2438,A2437+1)-B$11-V$3","v":-913.33456590609978},{"$f":"OFFSET(AL$1844,A2438,A2437+1)-B$12-W$3","v":-207},{"$f":"B2439*F$5+C2439*F$4","v":-1094.8215228285248},{"$f":"C2439*F$5-B2439*F$4","v":-913.33456590609978},-207,-1094.8215228285248,{"$f":"F2439*F$7+G2439*F$6","v":-913.33456590609978},{"$f":"G2439*F$7-F2439*F$6","v":-207},{"$f":"H2439*F$9+J2439*F$8","v":-1094.8215228285248},{"$f":"I2439","v":-913.33456590609978},{"$f":"J2439*F$9-H2439*F$8","v":-207},{"$f":"IF(P2437=1,K2439*B$1/(B$1+B$2+L2439),99999)","v":99999},{"$f":"M2439*B$1/(B$1+B$2+L2439)","v":4.5830195768578026}]
[null,{"$f":"OFFSET(AL$1867,A2438,A2437)-B$10-U$3","v":-1394.8215228285248},{"$f":"OFFSET(AL$1890,A2438,A2437)-B$11-V$3","v":-913.33456590609978},{"$f":"OFFSET(AL$1844,A2438,A2437)-B$12-W$3","v":-207},{"$f":"B2440*F$5+C2440*F$4","v":-1394.8215228285248},{"$f":"C2440*F$5-B2440*F$4","v":-913.33456590609978},-207,-1394.8215228285248,{"$f":"F2440*F$7+G2440*F$6","v":-913.33456590609978},{"$f":"G2440*F$7-F2440*F$6","v":-207},{"$f":"H2440*F$9+J2440*F$8","v":-1394.8215228285248},{"$f":"I2440","v":-913.33456590609978},{"$f":"J2440*F$9-H2440*F$8","v":-207},{"$f":"IF(P2437=1,K2440*B$1/(B$1+B$2+L2440),99999)","v":99999},{"$f":"M2440*B$1/(B$1+B$2+L2440)","v":4.5830195768578026}]
[null,{"$f":"OFFSET(AL$1867,A2443,A2442+1)-B$10-U$3","v":-794.82152282852485},{"$f":"OFFSET(AL$1890,A2443,A2442+1)-B$11-V$3","v":-913.33456590609978},{"$f":"OFFSET(AL$1844,A2443,A2442+1)-B$12-W$3","v":-207},{"$f":"B2444*F$5+C2444*F$4","v":-794.82152282852485},{"$f":"C2444*F$5-B2444*F$4","v":-913.33456590609978},-207,-794.82152282852485,{"$f":"F2444*F$7+G2444*F$6","v":-913.33456590609978},{"$f":"G2444*F$7-F2444*F$6","v":-207},{"$f":"H2444*F$9+J2444*F$8","v":-794.82152282852485},{"$f":"I2444","v":-913.33456590609978},{"$f":"J2444*F$9-H2444*F$8","v":-207},{"$f":"IF(P2442=1,K2444*B$1/(B$1+B$2+L2444),99999)","v":99999},{"$f":"M2444*B$1/(B$1+B$2+L2444)","v":4.5830195768578026}]
[null,{"$f":"OFFSET(AL$1867,A2443,A2442)-B$10-U$3","v":-1094.8215228285248},{"$f":"OFFSET(AL$1890,A2443,A2442)-B$11-V$3","v":-913.33456590609978},{"$f":"OFFSET(AL$1844,A2443,A2442)-B$12-W$3","v":-207},{"$f":"B2445*F$5+C2445*F$4","v":-1094.8215228285248},{"$f":"C2445*F$5-B2445*F$4","v":-913.33456590609978},-207,-1094.8215228285248,{"$f":"F2445*F$7+G2445*F$6","v":-913.33456590609978},{"$f":"G2445*F$7-F2445*F$6","v":-207},{"$f":"H2445*F$9+J2445*F$8","v":-1094.8215228285248},{"$f":"I2445","v":-913.33456590609978},{"$f":"J2445*F$9-H2445*F$8","v":-207},{"$f":"IF(P2442=1,K2445*B$1/(B$1+B$2+L2445),99999)","v":99999},{"$f":"M2445*B$1/(B$1+B$2+L2445)","v":4.5830195768578026}]
[{"$f":"A2443","v":7},{"$f":"OFFSET(AL$1867,A2448+1,A2447+1)-B$10-U$3","v":-644.82152282852485},{"$f":"OFFSET(AL$1890,A2448+1,A2447+1)-B$11-V$3","v":-653.52694477076807},{"$f":"OFFSET(AL$1844,A2448+1,A2447+1)-B$12-W$3","v":-207},{"$f":"B2448*F$5+C2448*F$4","v":-644.82152282852485},{"$f":"C2448*F$5-B2448*F$4","v":-653.52694477076807},-207,-644.82152282852485,{"$f":"F2448*F$7+G2448*F$6","v":-653.52694477076807},{"$f":"G2448*F$7-F2448*F$6","v":-207},{"$f":"H2448*F$9+J2448*F$8","v":-644.82152282852485},{"$f":"I2448","v":-653.52694477076807},{"$f":"J2448*F$9-H2448*F$8","v":-207},{"$f":"IF(P2447=1,K2448*B$1/(B$1+B$2+L2448),99999)","v":99999},{"$f":"M2448*B$1/(B$1+B$2+L2448)","v":6.4332970571647428}]
[null,{"$f":"OFFSET(AL$1867,A2448,A2447+1)-B$10-U$3","v":-494.82152282852485},{"$f":"OFFSET(AL$1890,A2448,A2447+1)-B$11-V$3","v":-913.33456590609978},{"$f":"OFFSET(AL$1844,A2448,A2447+1)-B$12-W$3","v":-207},{"$f":"B2449*F$5+C2449*F$4","v":-494.82152282852485},{"$f":"C2449*F$5-B2449*F$4","v":-913.33456590609978},-207,-494.82152282852485,{"$f":"F2449*F$7+G2449*F$6","v":-913.33456590609978},{"$f":"G2449*F$7-F2449*F$6","v":-207},{"$f":"H2449*F$9+J2449*F$8","v":-494.82152282852485},{"$f":"I2449","v":-913.33456590609978},{"$f":"J2449*F$9-H2449*F$8","v":-207},{"$f":"IF(P2447=1,K2449*B$1/(B$1+B$2+L2449),99999)","v":99999},{"$f":"M2449*B$1/(B$1+B$2+L2449)","v":4.5830195768578026}]
[{"$f":"A2448","v":7},{"$f":"OFFSET(AL$1867,A2453+1,A2452+1)-B$10-U$3","v":-344.82152282852485},{"$f":"OFFSET(AL$1890,A2453+1,A2452+1)-B$11-V$3","v":-653.52694477076807},{"$f":"OFFSET(AL$1844,A2453+1,A2452+1)-B$12-W$3","v":-207},{"$f":"B2453*F$5+C2453*F$4","v":-344.82152282852485},{"$f":"C2453*F$5-B2453*F$4","v":-653.52694477076807},-207,-344.82152282852485,{"$f":"F2453*F$7+G2453*F$6","v":-653.52694477076807},{"$f":"G2453*F$7-F2453*F$6","v":-207},{"$f":"H2453*F$9+J2453*F$8","v":-344.82152282852485},{"$f":"I2453","v":-653.52694477076807},{"$f":"J2453*F$9-H2453*F$8","v":-207},{"$f":"IF(P2452=1,K2453*B$1/(B$1+B$2+L2453),99999)","v":99999},{"$f":"M2453*B$1/(B$1+B$2+L2453)","v":6.4332970571647428}]
[null,{"$f":"OFFSET(AL$1867,A2453,A2452)-B$10-U$3","v":-494.82152282852485},{"$f":"OFFSET(AL$1890,A2453,A2452)-B$11-V$3","v":-913.33456590609978},{"$f":"OFFSET(AL$1844,A2453,A2452)-B$12-W$3","v":-207},{"$f":"B2455*F$5+C2455*F$4","v":-494.82152282852485},{"$f":"C2455*F$5-B2455*F$4","v":-913.33456590609978},-207,-494.82152282852485,{"$f":"F2455*F$7+G2455*F$6","v":-913.33456590609978},{"$f":"G2455*F$7-F2455*F$6","v":-207},{"$f":"H2455*F$9+J2455*F$8","v":-494.82152282852485},{"$f":"I2455","v":-913.33456590609978},{"$f":"J2455*F$9-H2455*F$8","v":-207},{"$f":"IF(P2452=1,K2455*B$1/(B$1+B$2+L2455),99999)","v":99999},{"$f":"M2455*B$1/(B$1+B$2+L2455)","v":4.5830195768578026}]
[{"$f":"A2453","v":7},{"$f":"OFFSET(AL$1867,A2458+1,A2457+1)-B$10-U$3","v":-44.821522828524849},{"$f":"OFFSET(AL$1890,A2458+1,A2457+1)-B$11-V$3","v":-653.52694477076807},{"$f":"OFFSET(AL$1844,A2458+1,A2457+1)-B$12-W$3","v":-207},{"$f":"B2458*F$5+C2458*F$4","v":-44.821522828524849},{"$f":"C2458*F$5-B2458*F$4","v":-653.52694477076807},-207,-44.821522828524849,{"$f":"F2458*F$7+G2458*F$6","v":-653.52694477076807},{"$f":"G2458*F$7-F2458*F$6","v":-207},{"$f":"H2458*F$9+J2458*F$8","v":-44.821522828524849},{"$f":"I2458","v":-653.52694477076807},{"$f":"J2458*F$9-H2458*F$8","v":-207},{"$f":"IF(P2457=1,K2458*B$1/(B$1+B$2+L2458),99999)","v":99999},{"$f":"M2458*B$1/(B$1+B$2+L2458)","v":6.4332970571647428}]
[]
[{"$f":"A2458","v":7},{"$f":"OFFSET(AL$1867,A2463+1,A2462+1)-B$10-U$3","v":255.17847717147515},{"$f":"OFFSET(AL$1890,A2463+1,A2462+1)-B$11-V$3","v":-653.52694477076807},{"$f":"OFFSET(AL$1844,A2463+1,A2462+1)-B$12-W$3","v":-207},{"$f":"B2463*F$5+C2463*F$4","v":255.17847717147515},{"$f":"C2463*F$5-B2463*F$4","v":-653.52694477076807},-207,255.17847717147515,{"$f":"F2463*F$7+G2463*F$6","v":-653.52694477076807},{"$f":"G2463*F$7-F2463*F$6","v":-207},{"$f":"H2463*F$9+J2463*F$8","v":255.17847717147515},{"$f":"I2463","v":-653.52694477076807},{"$f":"J2463*F$9-H2463*F$8","v":-207},{"$f":"IF(P2462=1,K2463*B$1/(B$1+B$2+L2463),99999)","v":99999},{"$f":"M2463*B$1/(B$1+B$2+L2463)","v":6.4332970571647428}]
[null,{"$f":"OFFSET(AL$1867,A2463,A2462+1)-B$10-U$3","v":405.17847717147515},{"$f":"OFFSET(AL$1890,A2463,A2462+1)-B$11-V$3","v":-913.33456590609978},{"$f":"OFFSET(AL$1844,A2463,A2462+1)-B$12-W$3","v":-207},{"$f":"B2464*F$5+C2464*F$4","v":405.17847717147515},{"$f":"C2464*F$5-B2464*F$4","v":-913.33456590609978},-207,405.17847717147515,{"$f":"F2464*F$7+G2464*F$6","v":-913.33456590609978},{"$f":"G2464*F$7-F2464*F$6","v":-207},{"$f":"H2464*F$9+J2464*F$8","v":405.17847717147515},{"$f":"I2464","v":-913.33456590609978},{"$f":"J2464*F$9-H2464*F$8","v":-207},{"$f":"IF(P2462=1,K2464*B$1/(B$1+B$2+L2464),99999)","v":99999},{"$f":"M2464*B$1/(B$1+B$2+L2464)","v":4.5830195768578026}]
[{"$f":"A2463","v":7},{"$f":"OFFSET(AL$1867,A2468+1,A2467+1)-B$10-U$3","v":555.17847717147515},{"$f":"OFFSET(AL$1890,A2468+1,A2467+1)-B$11-V$3","v":-653.52694477076807},{"$f":"OFFSET(AL$1844,A2468+1,A2467+1)-B$12-W$3","v":-207},{"$f":"B2468*F$5+C2468*F$4","v":555.17847717147515},{"$f":"C2468*F$5-B2468*F$4","v":-653.52694477076807},-207,555.17847717147515,{"$f":"F2468*F$7+G2468*F$6","v":-653.52694477076807},{"$f":"G2468*F$7-F2468*F$6","v":-207},{"$f":"H2468*F$9+J2468*F$8","v":555.17847717147515},{"$f":"I2468","v":-653.52694477076807},{"$f":"J2468*F$9-H2468*F$8","v":-207},{"$f":"IF(P2467=1,K2468*B$1/(B$1+B$2+L2468),99999)","v":99999},{"$f":"M2468*B$1/(B$1+B$2+L2468)","v":6.4332970571647428}]
[null,{"$f":"OFFSET(AL$1867,A2468,A2467)-B$10-U$3","v":405.17847717147515},{"$f":"OFFSET(AL$1890,A2468,A2467)-B$11-V$3","v":-913.33456590609978},{"$f":"OFFSET(AL$1844,A2468,A2467)-B$12-W$3","v":-207},{"$f":"B2470*F$5+C2470*F$4","v":405.17847717147515},{"$f":"C2470*F$5-B2470*F$4","v":-913.33456590609978},-207,405.17847717147515,{"$f":"F2470*F$7+G2470*F$6","v":-913.33456590609978},{"$f":"G2470*F$7-F2470*F$6","v":-207},{"$f":"H2470*F$9+J2470*F$8","v":405.17847717147515},{"$f":"I2470","v":-913.33456590609978},{"$f":"J2470*F$9-H2470*F$8","v":-207},{"$f":"IF(P2467=1,K2470*B$1/(B$1+B$2+L2470),99999)","v":99999},{"$f":"M2470*B$1/(B$1+B$2+L2470)","v":4.5830195768578026}]
[{"$f":"A2468","v":7},{"$f":"OFFSET(AL$1867,A2473+1,A2472+1)-B$10-U$3","v":855.17847717147515},{"$f":"OFFSET(AL$1890,A2473+1,A2472+1)-B$11-V$3","v":-653.52694477076807},{"$f":"OFFSET(AL$1844,A2473+1,A2472+1)-B$12-W$3","v":-207},{"$f":"B2473*F$5+C2473*F$4","v":855.17847717147515},{"$f":"C2473*F$5-B2473*F$4","v":-653.52694477076807},-207,855.17847717147515,{"$f":"F2473*F$7+G2473*F$6","v":-653.52694477076807},{"$f":"G2473*F$7-F2473*F$6","v":-207},{"$f":"H2473*F$9+J2473*F$8","v":855.17847717147515},{"$f":"I2473","v":-653.52694477076807},{"$f":"J2473*F$9-H2473*F$8","v":-207},{"$f":"IF(P2472=1,K2473*B$1/(B$1+B$2+L2473),99999)","v":99999},{"$f":"M2473*B$1/(B$1+B$2+L2473)","v":6.4332970571647428}]
[null,{"$f":"OFFSET(AL$1867,A2473,A2472)-B$10-U$3","v":705.17847717147515},{"$f":"OFFSET(AL$1890,A2473,A2472)-B$11-V$3","v":-913.33456590609978},{"$f":"OFFSET(AL$1844,A2473,A2472)-B$12-W$3","v":-207},{"$f":"B2475*F$5+C2475*F$4","v":705.17847717147515},{"$f":"C2475*F$5-B2475*F$4","v":-913.33456590609978},-207,705.17847717147515,{"$f":"F2475*F$7+G2475*F$6","v":-913.33456590609978},{"$f":"G2475*F$7-F2475*F$6","v":-207},{"$f":"H2475*F$9+J2475*F$8","v":705.17847717147515},{"$f":"I2475","v":-913.33456590609978},{"$f":"J2475*F$9-H2475*F$8","v":-207},{"$f":"IF(P2472=1,K2475*B$1/(B$1+B$2+L2475),99999)","v":99999},{"$f":"M2475*B$1/(B$1+B$2+L2475)","v":4.5830195768578026}]
[{"$f":"A2473","v":7},{"$f":"OFFSET(AL$1867,A2478+1,A2477+1)-B$10-U$3","v":1155.1784771714752},{"$f":"OFFSET(AL$1890,A2478+1,A2477+1)-B$11-V$3","v":-653.52694477076807},{"$f":"OFFSET(AL$1844,A2478+1,A2477+1)-B$12-W$3","v":-207},{"$f":"B2478*F$5+C2478*F$4","v":1155.1784771714752},{"$f":"C2478*F$5-B2478*F$4","v":-653.52694477076807},-207,1155.1784771714752,{"$f":"F2478*F$7+G2478*F$6","v":-653.52694477076807},{"$f":"G2478*F$7-F2478*F$6","v":-207},{"$f":"H2478*F$9+J2478*F$8","v":1155.1784771714752},{"$f":"I2478","v":-653.52694477076807},{"$f":"J2478*F$9-H2478*F$8","v":-207},{"$f":"IF(P2477=1,K2478*B$1/(B$1+B$2+L2478),99999)","v":99999},{"$f":"M2478*B$1/(B$1+B$2+L2478)","v":6.4332970571647428}]
[null,{"$f":"OFFSET(AL$1867,A2478,A2477+1)-B$10-U$3","v":1305.1784771714752},{"$f":"OFFSET(AL$1890,A2478,A2477+1)-B$11-V$3","v":-913.33456590609978},{"$f":"OFFSET(AL$1844,A2478,A2477+1)-B$12-W$3","v":-207},{"$f":"B2479*F$5+C2479*F$4","v":1305.1784771714752},{"$f":"C2479*F$5-B2479*F$4","v":-913.33456590609978},-207,1305.1784771714752,{"$f":"F2479*F$7+G2479*F$6","v":-913.33456590609978},{"$f":"G2479*F$7-F2479*F$6","v":-207},{"$f":"H2479*F$9+J2479*F$8","v":1305.1784771714752},{"$f":"I2479","v":-913.33456590609978},{"$f":"J2479*F$9-H2479*F$8","v":-207},{"$f":"IF(P2477=1,K2479*B$1/(B$1+B$2+L2479),99999)","v":99999},{"$f":"M2479*B$1/(B$1+B$2+L2479)","v":4.5830195768578026}]
[{"$f":"A2478","v":7},{"$f":"OFFSET(AL$1867,A2483+1,A2482+1)-B$10-U$3","v":1455.1784771714752},{"$f":"OFFSET(AL$1890,A2483+1,A2482+1)-B$11-V$3","v":-653.52694477076807},{"$f":"OFFSET(AL$1844,A2483+1,A2482+1)-B$12-W$3","v":-207},{"$f":"B2483*F$5+C2483*F$4","v":1455.1784771714752},{"$f":"C2483*F$5-B2483*F$4","v":-653.52694477076807},-207,1455.1784771714752,{"$f":"F2483*F$7+G2483*F$6","v":-653.52694477076807},{"$f":"G2483*F$7-F2483*F$6","v":-207},{"$f":"H2483*F$9+J2483*F$8","v":1455.1784771714752},{"$f":"I2483","v":-653.52694477076807},{"$f":"J2483*F$9-H2483*F$8","v":-207},{"$f":"IF(P2482=1,K2483*B$1/(B$1+B$2+L2483),99999)","v":99999},{"$f":"M2483*B$1/(B$1+B$2+L2483)","v":6.4332970571647428}]
[null,{"$f":"OFFSET(AL$1867,A2483,A2482+1)-B$10-U$3","v":1605.1784771714752},{"$f":"OFFSET(AL$1890,A2483,A2482+1)-B$11-V$3","v":-913.33456590609978},{"$f":"OFFSET(AL$1844,A2483,A2482+1)-B$12-W$3","v":-207},{"$f":"B2484*F$5+C2484*F$4","v":1605.1784771714752},{"$f":"C2484*F$5-B2484*F$4","v":-913.33456590609978},-207,1605.1784771714752,{"$f":"F2484*F$7+G2484*F$6","v":-913.33456590609978},{"$f":"G2484*F$7-F2484*F$6","v":-207},{"$f":"H2484*F$9+J2484*F$8","v":1605.1784771714752},{"$f":"I2484","v":-913.33456590609978},{"$f":"J2484*F$9-H2484*F$8","v":-207},{"$f":"IF(P2482=1,K2484*B$1/(B$1+B$2+L2484),99999)","v":99999},{"$f":"M2484*B$1/(B$1+B$2+L2484)","v":4.5830195768578026}]
[]
[null,{"$f":"OFFSET(AL$1867,A2488,A2487+1)-B$10-U$3","v":1905.1784771714752},{"$f":"OFFSET(AL$1890,A2488,A2487+1)-B$11-V$3","v":-913.33456590609978},{"$f":"OFFSET(AL$1844,A2488,A2487+1)-B$12-W$3","v":-207},{"$f":"B2489*F$5+C2489*F$4","v":1905.1784771714752},{"$f":"C2489*F$5-B2489*F$4","v":-913.33456590609978},-207,1905.1784771714752,{"$f":"F2489*F$7+G2489*F$6","v":-913.33456590609978},{"$f":"G2489*F$7-F2489*F$6","v":-207},{"$f":"H2489*F$9+J2489*F$8","v":1905.1784771714752},{"$f":"I2489","v":-913.33456590609978},{"$f":"J2489*F$9-H2489*F$8","v":-207},{"$f":"IF(P2487=1,K2489*B$1/(B$1+B$2+L2489),99999)","v":99999},{"$f":"M2489*B$1/(B$1+B$2+L2489)","v":4.5830195768578026}]
[{"$f":"A2487+1","v":16},{"$f":"OFFSET(AL$1867,A2493,A2492)-B$10-U$3","v":1905.1784771714752},{"$f":"OFFSET(AL$1890,A2493,A2492)-B$11-V$3","v":-913.33456590609978},{"$f":"OFFSET(AL$1844,A2493,A2492)-B$12-W$3","v":-207},{"$f":"B2492*F$5+C2492*F$4","v":1905.1784771714752},{"$f":"C2492*F$5-B2492*F$4","v":-913.33456590609978},{"$f":"D2492","v":-207},1905.1784771714752,{"$f":"F2492*F$7+G2492*F$6","v":-913.33456590609978},{"$f":"G2492*F$7-F2492*F$6","v":-207},{"$f":"H2492*F$9+J2492*F$8","v":1905.1784771714752},{"$f":"I2492","v":-913.33456590609978},{"$f":"J2492*F$9-H2492*F$8","v":-207},{"$f":"IF(P2492=1,K2492*B$1/(B$1+B$2+L2492),99999)","v":99999},{"$f":"M2492*B$1/(B$1+B$2+L2492)","v":4.5830195768578026},{"$f":"IF(MIN(L2492:L2495)+B$2+B$1>0,1,0)","v":0}]
[null,{"$f":"OFFSET(AL$1867,A2493,A2492+1)-B$10-U$3","v":2205.1784771714752},{"$f":"OFFSET(AL$1890,A2493,A2492+1)-B$11-V$3","v":-913.33456590609978},{"$f":"OFFSET(AL$1844,A2493,A2492+1)-B$12-W$3","v":-207},{"$f":"B2494*F$5+C2494*F$4","v":2205.1784771714752},{"$f":"C2494*F$5-B2494*F$4","v":-913.33456590609978},-207,2205.1784771714752,{"$f":"F2494*F$7+G2494*F$6","v":-913.33456590609978},{"$f":"G2494*F$7-F2494*F$6","v":-207},{"$f":"H2494*F$9+J2494*F$8","v":2205.1784771714752},{"$f":"I2494","v":-913.33456590609978},{"$f":"J2494*F$9-H2494*F$8","v":-207},{"$f":"IF(P2492=1,K2494*B$1/(B$1+B$2+L2494),99999)","v":99999},{"$f":"M2494*B$1/(B$1+B$2+L2494)","v":4.5830195768578026}]
[{"$f":"A2493","v":7},{"$f":"OFFSET(AL$1867,A2498+1,A2497+1)-B$10-U$3","v":2355.1784771714752},{"$f":"OFFSET(AL$1890,A2498+1,A2497+1)-B$11-V$3","v":-653.52694477076807},{"$f":"OFFSET(AL$1844,A2498+1,A2497+1)-B$12-W$3","v":-207},{"$f":"B2498*F$5+C2498*F$4","v":2355.1784771714752},{"$f":"C2498*F$5-B2498*F$4","v":-653.52694477076807},-207,2355.1784771714752,{"$f":"F2498*F$7+G2498*F$6","v":-653.52694477076807},{"$f":"G2498*F$7-F2498*F$6","v":-207},{"$f":"H2498*F$9+J2498*F$8","v":2355.1784771714752},{"$f":"I2498","v":-653.52694477076807},{"$f":"J2498*F$9-H2498*F$8","v":-207},{"$f":"IF(P2497=1,K2498*B$1/(B$1+B$2+L2498),99999)","v":99999},{"$f":"M2498*B$1/(B$1+B$2+L2498)","v":6.4332970571647428}]
[null,{"$f":"OFFSET(AL$1867,A2498,A2497+1)-B$10-U$3","v":2505.1784771714752},{"$f":"OFFSET(AL$1890,A2498,A2497+1)-B$11-V$3","v":-913.33456590609978},{"$f":"OFFSET(AL$1844,A2498,A2497+1)-B$12-W$3","v":-207},{"$f":"B2499*F$5+C2499*F$4","v":2505.1784771714752},{"$f":"C2499*F$5-B2499*F$4","v":-913.33456590609978},-207,2505.1784771714752,{"$f":"F2499*F$7+G2499*F$6","v":-913.33456590609978},{"$f":"G2499*F$7-F2499*F$6","v":-207},{"$f":"H2499*F$9+J2499*F$8","v":2505.1784771714752},{"$f":"I2499","v":-913.33456590609978},{"$f":"J2499*F$9-H2499*F$8","v":-207},{"$f":"IF(P2497=1,K2499*B$1/(B$1+B$2+L2499),99999)","v":99999},{"$f":"M2499*B$1/(B$1+B$2+L2499)","v":4.5830195768578026}]
[{"$f":"A2498","v":7},{"$f":"OFFSET(AL$1867,A2503+1,A2502+1)-B$10-U$3","v":2655.1784771714752},{"$f":"OFFSET(AL$1890,A2503+1,A2502+1)-B$11-V$3","v":-653.52694477076807},{"$f":"OFFSET(AL$1844,A2503+1,A2502+1)-B$12-W$3","v":-207},{"$f":"B2503*F$5+C2503*F$4","v":2655.1784771714752},{"$f":"C2503*F$5-B2503*F$4","v":-653.52694477076807},-207,2655.1784771714752,{"$f":"F2503*F$7+G2503*F$6","v":-653.52694477076807},{"$f":"G2503*F$7-F2503*F$6","v":-207},{"$f":"H2503*F$9+J2503*F$8","v":2655.1784771714752},{"$f":"I2503","v":-653.52694477076807},{"$f":"J2503*F$9-H2503*F$8","v":-207},{"$f":"IF(P2502=1,K2503*B$1/(B$1+B$2+L2503),99999)","v":99999},{"$f":"M2503*B$1/(B$1+B$2+L2503)","v":6.4332970571647428}]
[null,{"$f":"OFFSET(AL$1867,A2503,A2502+1)-B$10-U$3","v":2805.1784771714752},{"$f":"OFFSET(AL$1890,A2503,A2502+1)-B$11-V$3","v":-913.33456590609978},{"$f":"OFFSET(AL$1844,A2503,A2502+1)-B$12-W$3","v":-207},{"$f":"B2504*F$5+C2504*F$4","v":2805.1784771714752},{"$f":"C2504*F$5-B2504*F$4","v":-913.33456590609978},-207,2805.1784771714752,{"$f":"F2504*F$7+G2504*F$6","v":-913.33456590609978},{"$f":"G2504*F$7-F2504*F$6","v":-207},{"$f":"H2504*F$9+J2504*F$8","v":2805.1784771714752},{"$f":"I2504","v":-913.33456590609978},{"$f":"J2504*F$9-H2504*F$8","v":-207},{"$f":"IF(P2502=1,K2504*B$1/(B$1+B$2+L2504),99999)","v":99999},{"$f":"M2504*B$1/(B$1+B$2+L2504)","v":4.5830195768578026}]
[{"$f":"A2502+1","v":19},{"$f":"OFFSET(AL$1867,A2508,A2507)-B$10-U$3","v":2805.1784771714752},{"$f":"OFFSET(AL$1890,A2508,A2507)-B$11-V$3","v":-913.33456590609978},{"$f":"OFFSET(AL$1844,A2508,A2507)-B$12-W$3","v":-207},{"$f":"B2507*F$5+C2507*F$4","v":2805.1784771714752},{"$f":"C2507*F$5-B2507*F$4","v":-913.33456590609978},{"$f":"D2507","v":-207},2805.1784771714752,{"$f":"F2507*F$7+G2507*F$6","v":-913.33456590609978},{"$f":"G2507*F$7-F2507*F$6","v":-207},{"$f":"H2507*F$9+J2507*F$8","v":2805.1784771714752},{"$f":"I2507","v":-913.33456590609978},{"$f":"J2507*F$9-H2507*F$8","v":-207},{"$f":"IF(P2507=1,K2507*B$1/(B$1+B$2+L2507),99999)","v":99999},{"$f":"M2507*B$1/(B$1+B$2+L2507)","v":4.5830195768578026},{"$f":"IF(MIN(L2507:L2510)+B$2+B$1>0,1,0)","v":0}]
[null,{"$f":"OFFSET(AL$1867,A2508,A2507+1)-B$10-U$3","v":3105.1784771714752},{"$f":"OFFSET(AL$1890,A2508,A2507+1)-B$11-V$3","v":-913.33456590609978},{"$f":"OFFSET(AL$1844,A2508,A2507+1)-B$12-W$3","v":-207},{"$f":"B2509*F$5+C2509*F$4","v":3105.1784771714752},{"$f":"C2509*F$5-B2509*F$4","v":-913.33456590609978},-207,3105.1784771714752,{"$f":"F2509*F$7+G2509*F$6","v":-913.33456590609978},{"$f":"G2509*F$7-F2509*F$6","v":-207},{"$f":"H2509*F$9+J2509*F$8","v":3105.1784771714752},{"$f":"I2509","v":-913.33456590609978},{"$f":"J2509*F$9-H2509*F$8","v":-207},{"$f":"IF(P2507=1,K2509*B$1/(B$1+B$2+L2509),99999)","v":99999},{"$f":"M2509*B$1/(B$1+B$2+L2509)","v":4.5830195768578026}]
[0,{"$f":"OFFSET(AL$1867,A2513,A2512)-B$10-U$3","v":-3044.8215228285248},{"$f":"OFFSET(AL$1890,A2513,A2512)-B$11-V$3","v":-653.52694477076807},{"$f":"OFFSET(AL$1844,A2513,A2512)-B$12-W$3","v":-207},{"$f":"B2512*F$5+C2512*F$4","v":-3044.8215228285248},{"$f":"C2512*F$5-B2512*F$4","v":-653.52694477076807},{"$f":"D2512","v":-207},-3044.8215228285248,{"$f":"F2512*F$7+G2512*F$6","v":-653.52694477076807},{"$f":"G2512*F$7-F2512*F$6","v":-207},{"$f":"H2512*F$9+J2512*F$8","v":-3044.8215228285248},{"$f":"I2512","v":-653.52694477076807},{"$f":"J2512*F$9-H2512*F$8","v":-207},{"$f":"IF(P2512=1,K2512*B$1/(B$1+B$2+L2512),99999)","v":99999},{"$f":"M2512*B$1/(B$1+B$2+L2512)","v":6.4332970571647428},{"$f":"IF(MIN(L2512:L2515)+B$2+B$1>0,1,0)","v":0}]
[null,{"$f":"OFFSET(AL$1867,A2513,A2512+1)-B$10-U$3","v":-2744.8215228285248},{"$f":"OFFSET(AL$1890,A2513,A2512+1)-B$11-V$3","v":-653.52694477076807},{"$f":"OFFSET(AL$1844,A2513,A2512+1)-B$12-W$3","v":-207},{"$f":"B2514*F$5+C2514*F$4","v":-2744.8215228285248},{"$f":"C2514*F$5-B2514*F$4","v":-653.52694477076807},-207,-2744.8215228285248,{"$f":"F2514*F$7+G2514*F$6","v":-653.52694477076807},{"$f":"G2514*F$7-F2514*F$6","v":-207},{"$f":"H2514*F$9+J2514*F$8","v":-2744.8215228285248},{"$f":"I2514","v":-653.52694477076807},{"$f":"J2514*F$9-H2514*F$8","v":-207},{"$f":"IF(P2512=1,K2514*B$1/(B$1+B$2+L2514),99999)","v":99999},{"$f":"M2514*B$1/(B$1+B$2+L2514)","v":6.4332970571647428}]
[{"$f":"A2512+1","v":1},{"$f":"OFFSET(AL$1867,A2518,A2517)-B$10-U$3","v":-2744.8215228285248},{"$f":"OFFSET(AL$1890,A2518,A2517)-B$11-V$3","v":-653.52694477076807},{"$f":"OFFSET(AL$1844,A2518,A2517)-B$12-W$3","v":-207},{"$f":"B2517*F$5+C2517*F$4","v":-2744.8215228285248},{"$f":"C2517*F$5-B2517*F$4","v":-653.52694477076807},{"$f":"D2517","v":-207},-2744.8215228285248,{"$f":"F2517*F$7+G2517*F$6","v":-653.52694477076807},{"$f":"G2517*F$7-F2517*F$6","v":-207},{"$f":"H2517*F$9+J2517*F$8","v":-2744.8215228285248},{"$f":"I2517","v":-653.52694477076807},{"$f":"J2517*F$9-H2517*F$8","v":-207},{"$f":"IF(P2517=1,K2517*B$1/(B$1+B$2+L2517),99999)","v":99999},{"$f":"M2517*B$1/(B$1+B$2+L2517)","v":6.4332970571647428},{"$f":"IF(MIN(L2517:L2520)+B$2+B$1>0,1,0)","v":0}]
[null,{"$f":"OFFSET(AL$1867,A2518,A2517)-B$10-U$3","v":-2744.8215228285248},{"$f":"OFFSET(AL$1890,A2518,A2517)-B$11-V$3","v":-653.52694477076807},{"$f":"OFFSET(AL$1844,A2518,A2517)-B$12-W$3","v":-207},{"$f":"B2520*F$5+C2520*F$4","v":-2744.8215228285248},{"$f":"C2520*F$5-B2520*F$4","v":-653.52694477076807},-207,-2744.8215228285248,{"$f":"F2520*F$7+G2520*F$6","v":-653.52694477076807},{"$f":"G2520*F$7-F2520*F$6","v":-207},{"$f":"H2520*F$9+J2520*F$8","v":-2744.8215228285248},{"$f":"I2520","v":-653.52694477076807},{"$f":"J2520*F$9-H2520*F$8","v":-207},{"$f":"IF(P2517=1,K2520*B$1/(B$1+B$2+L2520),99999)","v":99999},{"$f":"M2520*B$1/(B$1+B$2+L2520)","v":6.4332970571647428}]
[{"$f":"A2517+1","v":2},{"$f":"OFFSET(AL$1867,A2523,A2522)-B$10-U$3","v":-2444.8215228285248},{"$f":"OFFSET(AL$1890,A2523,A2522)-B$11-V$3","v":-653.52694477076807},{"$f":"OFFSET(AL$1844,A2523,A2522)-B$12-W$3","v":-207},{"$f":"B2522*F$5+C2522*F$4","v":-2444.8215228285248},{"$f":"C2522*F$5-B2522*F$4","v":-653.52694477076807},{"$f":"D2522","v":-207},-2444.8215228285248,{"$f":"F2522*F$7+G2522*F$6","v":-653.52694477076807},{"$f":"G2522*F$7-F2522*F$6","v":-207},{"$f":"H2522*F$9+J2522*F$8","v":-2444.8215228285248},{"$f":"I2522","v":-653.52694477076807},{"$f":"J2522*F$9-H2522*F$8","v":-207},{"$f":"IF(P2522=1,K2522*B$1/(B$1+B$2+L2522),99999)","v":99999},{"$f":"M2522*B$1/(B$1+B$2+L2522)","v":6.4332970571647428},{"$f":"IF(MIN(L2522:L2525)+B$2+B$1>0,1,0)","v":0}]
[{"$f":"A2518","v":8},{"$f":"OFFSET(AL$1867,A2523+1,A2522)-B$10-U$3","v":-2294.8215228285248},{"$f":"OFFSET(AL$1890,A2523+1,A2522)-B$11-V$3","v":-393.71932363543635},{"$f":"OFFSET(AL$1844,A2523+1,A2522)-B$12-W$3","v":-207},{"$f":"B2523*F$5+C2523*F$4","v":-2294.8215228285248},{"$f":"C2523*F$5-B2523*F$4","v":-393.71932363543635},-207,-2294.8215228285248,{"$f":"F2523*F$7+G2523*F$6","v":-393.71932363543635},{"$f":"G2523*F$7-F2523*F$6","v":-207},{"$f":"H2523*F$9+J2523*F$8","v":-2294.8215228285248},{"$f":"I2523","v":-393.71932363543635},{"$f":"J2523*F$9-H2523*F$8","v":-207},{"$f":"IF(P2522=1,K2523*B$1/(B$1+B$2+L2523),99999)","v":99999},{"$f":"M2523*B$1/(B$1+B$2+L2523)","v":10.789136082011149}]
[{"$f":"A2522+1","v":3},{"$f":"OFFSET(AL$1867,A2528,A2527)-B$10-U$3","v":-2144.8215228285248},{"$f":"OFFSET(AL$1890,A2528,A2527)-B$11-V$3","v":-653.52694477076807},{"$f":"OFFSET(AL$1844,A2528,A2527)-B$12-W$3","v":-207},{"$f":"B2527*F$5+C2527*F$4","v":-2144.8215228285248},{"$f":"C2527*F$5-B2527*F$4","v":-653.52694477076807},{"$f":"D2527","v":-207},-2144.8215228285248,{"$f":"F2527*F$7+G2527*F$6","v":-653.52694477076807},{"$f":"G2527*F$7-F2527*F$6","v":-207},{"$f":"H2527*F$9+J2527*F$8","v":-2144.8215228285248},{"$f":"I2527","v":-653.52694477076807},{"$f":"J2527*F$9-H2527*F$8","v":-207},{"$f":"IF(P2527=1,K2527*B$1/(B$1+B$2+L2527),99999)","v":99999},{"$f":"M2527*B$1/(B$1+B$2+L2527)","v":6.4332970571647428},{"$f":"IF(MIN(L2527:L2530)+B$2+B$1>0,1,0)","v":0}]
[null,{"$f":"OFFSET(AL$1867,A2528,A2527+1)-B$10-U$3","v":-1844.8215228285248},{"$f":"OFFSET(AL$1890,A2528,A2527+1)-B$11-V$3","v":-653.52694477076807},{"$f":"OFFSET(AL$1844,A2528,A2527+1)-B$12-W$3","v":-207},{"$f":"B2529*F$5+C2529*F$4","v":-1844.8215228285248},{"$f":"C2529*F$5-B2529*F$4","v":-653.52694477076807},-207,-1844.8215228285248,{"$f":"F2529*F$7+G2529*F$6","v":-653.52694477076807},{"$f":"G2529*F$7-F2529*F$6","v":-207},{"$f":"H2529*F$9+J2529*F$8","v":-1844.8215228285248},{"$f":"I2529","v":-653.52694477076807},{"$f":"J2529*F$9-H2529*F$8","v":-207},{"$f":"IF(P2527=1,K2529*B$1/(B$1+B$2+L2529),99999)","v":99999},{"$f":"M2529*B$1/(B$1+B$2+L2529)","v":6.4332970571647428}]
[{"$f":"A2527+1","v":4},{"$f":"OFFSET(AL$1867,A2533,A2532)-B$10-U$3","v":-1844.8215228285248},{"$f":"OFFSET(AL$1890,A2533,A2532)-B$11-V$3","v":-653.52694477076807},{"$f":"OFFSET(AL$1844,A2533,A2532)-B$12-W$3","v":-207},{"$f":"B2532*F$5+C2532*F$4","v":-1844.8215228285248},{"$f":"C2532*F$5-B2532*F$4","v":-653.52694477076807},{"$f":"D2532","v":-207},-1844.8215228285248,{"$f":"F2532*F$7+G2532*F$6","v":-653.52694477076807},{"$f":"G2532*F$7-F2532*F$6","v":-207},{"$f":"H2532*F$9+J2532*F$8","v":-1844.8215228285248},{"$f":"I2532","v":-653.52694477076807},{"$f":"J2532*F$9-H2532*F$8","v":-207},{"$f":"IF(P2532=1,K2532*B$1/(B$1+B$2+L2532),99999)","v":99999},{"$f":"M2532*B$1/(B$1+B$2+L2532)","v":6.4332970571647428},{"$f":"IF(MIN(L2532:L2535)+B$2+B$1>0,1,0)","v":0}]
[null,{"$f":"OFFSET(AL$1867,A2533,A2532+1)-B$10-U$3","v":-1544.8215228285248},{"$f":"OFFSET(AL$1890,A2533,A2532+1)-B$11-V$3","v":-653.52694477076807},{"$f":"OFFSET(AL$1844,A2533,A2532+1)-B$12-W$3","v":-207},{"$f":"B2534*F$5+C2534*F$4","v":-1544.8215228285248},{"$f":"C2534*F$5-B2534*F$4","v":-653.52694477076807},-207,-1544.8215228285248,{"$f":"F2534*F$7+G2534*F$6","v":-653.52694477076807},{"$f":"G2534*F$7-F2534*F$6","v":-207},{"$f":"H2534*F$9+J2534*F$8","v":-1544.8215228285248},{"$f":"I2534","v":-653.52694477076807},{"$f":"J2534*F$9-H2534*F$8","v":-207},{"$f":"IF(P2532=1,K2534*B$1/(B$1+B$2+L2534),99999)","v":99999},{"$f":"M2534*B$1/(B$1+B$2+L2534)","v":6.4332970571647428}]
[{"$f":"A2532+1","v":5},{"$f":"OFFSET(AL$1867,A2538,A2537)-B$10-U$3","v":-1544.8215228285248},{"$f":"OFFSET(AL$1890,A2538,A2537)-B$11-V$3","v":-653.52694477076807},{"$f":"OFFSET(AL$1844,A2538,A2537)-B$12-W$3","v":-207},{"$f":"B2537*F$5+C2537*F$4","v":-1544.8215228285248},{"$f":"C2537*F$5-B2537*F$4","v":-653.52694477076807},{"$f":"D2537","v":-207},-1544.8215228285248,{"$f":"F2537*F$7+G2537*F$6","v":-653.52694477076807},{"$f":"G2537*F$7-F2537*F$6","v":-207},{"$f":"H2537*F$9+J2537*F$8","v":-1544.8215228285248},{"$f":"I2537","v":-653.52694477076807},{"$f":"J2537*F$9-H2537*F$8","v":-207},{"$f":"IF(P2537=1,K2537*B$1/(B$1+B$2+L2537),99999)","v":99999},{"$f":"M2537*B$1/(B$1+B$2+L2537)","v":6.4332970571647428},{"$f":"IF(MIN(L2537:L2540)+B$2+B$1>0,1,0)","v":0}]
[{"$f":"A2533","v":8},{"$f":"OFFSET(AL$1867,A2538+1,A2537)-B$10-U$3","v":-1394.8215228285248},{"$f":"OFFSET(AL$1890,A2538+1,A2537)-B$11-V$3","v":-393.71932363543635},{"$f":"OFFSET(AL$1844,A2538+1,A2537)-B$12-W$3","v":-207},{"$f":"B2538*F$5+C2538*F$4","v":-1394.8215228285248},{"$f":"C2538*F$5-B2538*F$4","v":-393.71932363543635},-207,-1394.8215228285248,{"$f":"F2538*F$7+G2538*F$6","v":-393.71932363543635},{"$f":"G2538*F$7-F2538*F$6","v":-207},{"$f":"H2538*F$9+J2538*F$8","v":-1394.8215228285248},{"$f":"I2538","v":-393.71932363543635},{"$f":"J2538*F$9-H2538*F$8","v":-207},{"$f":"IF(P2537=1,K2538*B$1/(B$1+B$2+L2538),99999)","v":99999},{"$f":"M2538*B$1/(B$1+B$2+L2538)","v":10.789136082011149}]
[null,{"$f":"OFFSET(AL$1867,A2538,A2537)-B$10-U$3","v":-1544.8215228285248},{"$f":"OFFSET(AL$1890,A2538,A2537)-B$11-V$3","v":-653.52694477076807},{"$f":"OFFSET(AL$1844,A2538,A2537)-B$12-W$3","v":-207},{"$f":"B2540*F$5+C2540*F$4","v":-1544.8215228285248},{"$f":"C2540*F$5-B2540*F$4","v":-653.52694477076807},-207,-1544.8215228285248,{"$f":"F2540*F$7+G2540*F$6","v":-653.52694477076807},{"$f":"G2540*F$7-F2540*F$6","v":-207},{"$f":"H2540*F$9+J2540*F$8","v":-1544.8215228285248},{"$f":"I2540","v":-653.52694477076807},{"$f":"J2540*F$9-H2540*F$8","v":-207},{"$f":"IF(P2537=1,K2540*B$1/(B$1+B$2+L2540),99999)","v":99999},{"$f":"M2540*B$1/(B$1+B$2+L2540)","v":6.4332970571647428}]
[{"$f":"A2538","v":8},{"$f":"OFFSET(AL$1867,A2543+1,A2542)-B$10-U$3","v":-1094.8215228285248},{"$f":"OFFSET(AL$1890,A2543+1,A2542)-B$11-V$3","v":-393.71932363543635},{"$f":"OFFSET(AL$1844,A2543+1,A2542)-B$12-W$3","v":-207},{"$f":"B2543*F$5+C2543*F$4","v":-1094.8215228285248},{"$f":"C2543*F$5-B2543*F$4","v":-393.71932363543635},-207,-1094.8215228285248,{"$f":"F2543*F$7+G2543*F$6","v":-393.71932363543635},{"$f":"G2543*F$7-F2543*F$6","v":-207},{"$f":"H2543*F$9+J2543*F$8","v":-1094.8215228285248},{"$f":"I2543","v":-393.71932363543635},{"$f":"J2543*F$9-H2543*F$8","v":-207},{"$f":"IF(P2542=1,K2543*B$1/(B$1+B$2+L2543),99999)","v":99999},{"$f":"M2543*B$1/(B$1+B$2+L2543)","v":10.789136082011149}]
[null,{"$f":"OFFSET(AL$1867,A2543,A2542)-B$10-U$3","v":-1244.8215228285248},{"$f":"OFFSET(AL$1890,A2543,A2542)-B$11-V$3","v":-653.52694477076807},{"$f":"OFFSET(AL$1844,A2543,A2542)-B$12-W$3","v":-207},{"$f":"B2545*F$5+C2545*F$4","v":-1244.8215228285248},{"$f":"C2545*F$5-B2545*F$4","v":-653.52694477076807},-207,-1244.8215228285248,{"$f":"F2545*F$7+G2545*F$6","v":-653.52694477076807},{"$f":"G2545*F$7-F2545*F$6","v":-207},{"$f":"H2545*F$9+J2545*F$8","v":-1244.8215228285248},{"$f":"I2545","v":-653.52694477076807},{"$f":"J2545*F$9-H2545*F$8","v":-207},{"$f":"IF(P2542=1,K2545*B$1/(B$1+B$2+L2545),99999)","v":99999},{"$f":"M2545*B$1/(B$1+B$2+L2545)","v":6.4332970571647428}]
[{"$f":"A2543","v":8},{"$f":"OFFSET(AL$1867,A2548+1,A2547)-B$10-U$3","v":-794.82152282852485},{"$f":"OFFSET(AL$1890,A2548+1,A2547)-B$11-V$3","v":-393.71932363543635},{"$f":"OFFSET(AL$1844,A2548+1,A2547)-B$12-W$3","v":-207},{"$f":"B2548*F$5+C2548*F$4","v":-794.82152282852485},{"$f":"C2548*F$5-B2548*F$4","v":-393.71932363543635},-207,-794.82152282852485,{"$f":"F2548*F$7+G2548*F$6","v":-393.71932363543635},{"$f":"G2548*F$7-F2548*F$6","v":-207},{"$f":"H2548*F$9+J2548*F$8","v":-794.82152282852485},{"$f":"I2548","v":-393.71932363543635},{"$f":"J2548*F$9-H2548*F$8","v":-207},{"$f":"IF(P2547=1,K2548*B$1/(B$1+B$2+L2548),99999)","v":99999},{"$f":"M2548*B$1/(B$1+B$2+L2548)","v":10.789136082011149}]
[]
[{"$f":"A2548","v":8},{"$f":"OFFSET(AL$1867,A2553+1,A2552)-B$10-U$3","v":-494.82152282852485},{"$f":"OFFSET(AL$1890,A2553+1,A2552)-B$11-V$3","v":-393.71932363543635},{"$f":"OFFSET(AL$1844,A2553+1,A2552)-B$12-W$3","v":-207},{"$f":"B2553*F$5+C2553*F$4","v":-494.82152282852485},{"$f":"C2553*F$5-B2553*F$4","v":-393.71932363543635},-207,-494.82152282852485,{"$f":"F2553*F$7+G2553*F$6","v":-393.71932363543635},{"$f":"G2553*F$7-F2553*F$6","v":-207},{"$f":"H2553*F$9+J2553*F$8","v":-494.82152282852485},{"$f":"I2553","v":-393.71932363543635},{"$f":"J2553*F$9-H2553*F$8","v":-207},{"$f":"IF(P2552=1,K2553*B$1/(B$1+B$2+L2553),99999)","v":99999},{"$f":"M2553*B$1/(B$1+B$2+L2553)","v":10.789136082011149}]
[{"$f":"A2552+1","v":9},{"$f":"OFFSET(AL$1867,A2558,A2557)-B$10-U$3","v":-344.82152282852485},{"$f":"OFFSET(AL$1890,A2558,A2557)-B$11-V$3","v":-653.52694477076807},{"$f":"OFFSET(AL$1844,A2558,A2557)-B$12-W$3","v":-207},{"$f":"B2557*F$5+C2557*F$4","v":-344.82152282852485},{"$f":"C2557*F$5-B2557*F$4","v":-653.52694477076807},{"$f":"D2557","v":-207},-344.82152282852485,{"$f":"F2557*F$7+G2557*F$6","v":-653.52694477076807},{"$f":"G2557*F$7-F2557*F$6","v":-207},{"$f":"H2557*F$9+J2557*F$8","v":-344.82152282852485},{"$f":"I2557","v":-653.52694477076807},{"$f":"J2557*F$9-H2557*F$8","v":-207},{"$f":"IF(P2557=1,K2557*B$1/(B$1+B$2+L2557),99999)","v":99999},{"$f":"M2557*B$1/(B$1+B$2+L2557)","v":6.4332970571647428},{"$f":"IF(MIN(L2557:L2560)+B$2+B$1>0,1,0)","v":0}]
[{"$f":"A2553","v":8},{"$f":"OFFSET(AL$1867,A2558+1,A2557)-B$10-U$3","v":-194.82152282852485},{"$f":"OFFSET(AL$1890,A2558+1,A2557)-B$11-V$3","v":-393.71932363543635},{"$f":"OFFSET(AL$1844,A2558+1,A2557)-B$12-W$3","v":-207},{"$f":"B2558*F$5+C2558*F$4","v":-194.82152282852485},{"$f":"C2558*F$5-B2558*F$4","v":-393.71932363543635},-207,-194.82152282852485,{"$f":"F2558*F$7+G2558*F$6","v":-393.71932363543635},{"$f":"G2558*F$7-F2558*F$6","v":-207},{"$f":"H2558*F$9+J2558*F$8","v":-194.82152282852485},{"$f":"I2558","v":-393.71932363543635},{"$f":"J2558*F$9-H2558*F$8","v":-207},{"$f":"IF(P2557=1,K2558*B$1/(B$1+B$2+L2558),99999)","v":99999},{"$f":"M2558*B$1/(B$1+B$2+L2558)","v":10.789136082011149}]
[null,{"$f":"OFFSET(AL$1867,A2558,A2557)-B$10-U$3","v":-344.82152282852485},{"$f":"OFFSET(AL$1890,A2558,A2557)-B$11-V$3","v":-653.52694477076807},{"$f":"OFFSET(AL$1844,A2558,A2557)-B$12-W$3","v":-207},{"$f":"B2560*F$5+C2560*F$4","v":-344.82152282852485},{"$f":"C2560*F$5-B2560*F$4","v":-653.52694477076807},-207,-344.82152282852485,{"$f":"F2560*F$7+G2560*F$6","v":-653.52694477076807},{"$f":"G2560*F$7-F2560*F$6","v":-207},{"$f":"H2560*F$9+J2560*F$8","v":-344.82152282852485},{"$f":"I2560","v":-653.52694477076807},{"$f":"J2560*F$9-H2560*F$8","v":-207},{"$f":"IF(P2557=1,K2560*B$1/(B$1+B$2+L2560),99999)","v":99999},{"$f":"M2560*B$1/(B$1+B$2+L2560)","v":6.4332970571647428}]
[{"$f":"A2558","v":8},{"$f":"OFFSET(AL$1867,A2563+1,A2562)-B$10-U$3","v":105.17847717147515},{"$f":"OFFSET(AL$1890,A2563+1,A2562)-B$11-V$3","v":-393.71932363543635},{"$f":"OFFSET(AL$1844,A2563+1,A2562)-B$12-W$3","v":-207},{"$f":"B2563*F$5+C2563*F$4","v":105.17847717147515},{"$f":"C2563*F$5-B2563*F$4","v":-393.71932363543635},-207,105.17847717147515,{"$f":"F2563*F$7+G2563*F$6","v":-393.71932363543635},{"$f":"G2563*F$7-F2563*F$6","v":-207},{"$f":"H2563*F$9+J2563*F$8","v":105.17847717147515},{"$f":"I2563","v":-393.71932363543635},{"$f":"J2563*F$9-H2563*F$8","v":-207},{"$f":"IF(P2562=1,K2563*B$1/(B$1+B$2+L2563),99999)","v":99999},{"$f":"M2563*B$1/(B$1+B$2+L2563)","v":10.789136082011149}]
[null,{"$f":"OFFSET(AL$1867,A2563,A2562)-B$10-U$3","v":-44.821522828524849},{"$f":"OFFSET(AL$1890,A2563,A2562)-B$11-V$3","v":-653.52694477076807},{"$f":"OFFSET(AL$1844,A2563,A2562)-B$12-W$3","v":-207},{"$f":"B2565*F$5+C2565*F$4","v":-44.821522828524849},{"$f":"C2565*F$5-B2565*F$4","v":-653.52694477076807},-207,-44.821522828524849,{"$f":"F2565*F$7+G2565*F$6","v":-653.52694477076807},{"$f":"G2565*F$7-F2565*F$6","v":-207},{"$f":"H2565*F$9+J2565*F$8","v":-44.821522828524849},{"$f":"I2565","v":-653.52694477076807},{"$f":"J2565*F$9-H2565*F$8","v":-207},{"$f":"IF(P2562=1,K2565*B$1/(B$1+B$2+L2565),99999)","v":99999},{"$f":"M2565*B$1/(B$1+B$2+L2565)","v":6.4332970571647428}]
[{"$f":"A2563","v":8},{"$f":"OFFSET(AL$1867,A2568+1,A2567)-B$10-U$3","v":405.17847717147515},{"$f":"OFFSET(AL$1890,A2568+1,A2567)-B$11-V$3","v":-393.71932363543635},{"$f":"OFFSET(AL$1844,A2568+1,A2567)-B$12-W$3","v":-207},{"$f":"B2568*F$5+C2568*F$4","v":405.17847717147515},{"$f":"C2568*F$5-B2568*F$4","v":-393.71932363543635},-207,405.17847717147515,{"$f":"F2568*F$7+G2568*F$6","v":-393.71932363543635},{"$f":"G2568*F$7-F2568*F$6","v":-207},{"$f":"H2568*F$9+J2568*F$8","v":405.17847717147515},{"$f":"I2568","v":-393.71932363543635},{"$f":"J2568*F$9-H2568*F$8","v":-207},{"$f":"IF(P2567=1,K2568*B$1/(B$1+B$2+L2568),99999)","v":99999},{"$f":"M2568*B$1/(B$1+B$2+L2568)","v":10.789136082011149}]
[]
[null,{"$f":"OFFSET(AL$1867,A2573,A2572+1)-B$10-U$3","v":855.17847717147515},{"$f":"OFFSET(AL$1890,A2573,A2572+1)-B$11-V$3","v":-653.52694477076807},{"$f":"OFFSET(AL$1844,A2573,A2572+1)-B$12-W$3","v":-207},{"$f":"B2574*F$5+C2574*F$4","v":855.17847717147515},{"$f":"C2574*F$5-B2574*F$4","v":-653.52694477076807},-207,855.17847717147515,{"$f":"F2574*F$7+G2574*F$6","v":-653.52694477076807},{"$f":"G2574*F$7-F2574*F$6","v":-207},{"$f":"H2574*F$9+J2574*F$8","v":855.17847717147515},{"$f":"I2574","v":-653.52694477076807},{"$f":"J2574*F$9-H2574*F$8","v":-207},{"$f":"IF(P2572=1,K2574*B$1/(B$1+B$2+L2574),99999)","v":99999},{"$f":"M2574*B$1/(B$1+B$2+L2574)","v":6.4332970571647428}]
[]
[null,{"$f":"OFFSET(AL$1867,A2578,A2577+1)-B$10-U$3","v":1155.1784771714752},{"$f":"OFFSET(AL$1890,A2578,A2577+1)-B$11-V$3","v":-653.52694477076807},{"$f":"OFFSET(AL$1844,A2578,A2577+1)-B$12-W$3","v":-207},{"$f":"B2579*F$5+C2579*F$4","v":1155.1784771714752},{"$f":"C2579*F$5-B2579*F$4","v":-653.52694477076807},-207,1155.1784771714752,{"$f":"F2579*F$7+G2579*F$6","v":-653.52694477076807},{"$f":"G2579*F$7-F2579*F$6","v":-207},{"$f":"H2579*F$9+J2579*F$8","v":1155.1784771714752},{"$f":"I2579","v":-653.52694477076807},{"$f":"J2579*F$9-H2579*F$8","v":-207},{"$f":"IF(P2577=1,K2579*B$1/(B$1+B$2+L2579),99999)","v":99999},{"$f":"M2579*B$1/(B$1+B$2+L2579)","v":6.4332970571647428}]
[]
[{"$f":"A2577+1","v":14},{"$f":"OFFSET(AL$1867,A2583,A2582)-B$10-U$3","v":1155.1784771714752},{"$f":"OFFSET(AL$1890,A2583,A2582)-B$11-V$3","v":-653.52694477076807},{"$f":"OFFSET(AL$1844,A2583,A2582)-B$12-W$3","v":-207},{"$f":"B2582*F$5+C2582*F$4","v":1155.1784771714752},{"$f":"C2582*F$5-B2582*F$4","v":-653.52694477076807},{"$f":"D2582","v":-207},1155.1784771714752,{"$f":"F2582*F$7+G2582*F$6","v":-653.52694477076807},{"$f":"G2582*F$7-F2582*F$6","v":-207},{"$f":"H2582*F$9+J2582*F$8","v":1155.1784771714752},{"$f":"I2582","v":-653.52694477076807},{"$f":"J2582*F$9-H2582*F$8","v":-207},{"$f":"IF(P2582=1,K2582*B$1/(B$1+B$2+L2582),99999)","v":99999},{"$f":"M2582*B$1/(B$1+B$2+L2582)","v":6.4332970571647428},{"$f":"IF(MIN(L2582:L2585)+B$2+B$1>0,1,0)","v":0}]
[]
[{"$f":"A2583","v":8},{"$f":"OFFSET(AL$1867,A2588+1,A2587)-B$10-U$3","v":1605.1784771714752},{"$f":"OFFSET(AL$1890,A2588+1,A2587)-B$11-V$3","v":-393.71932363543635},{"$f":"OFFSET(AL$1844,A2588+1,A2587)-B$12-W$3","v":-207},{"$f":"B2588*F$5+C2588*F$4","v":1605.1784771714752},{"$f":"C2588*F$5-B2588*F$4","v":-393.71932363543635},-207,1605.1784771714752,{"$f":"F2588*F$7+G2588*F$6","v":-393.71932363543635},{"$f":"G2588*F$7-F2588*F$6","v":-207},{"$f":"H2588*F$9+J2588*F$8","v":1605.1784771714752},{"$f":"I2588","v":-393.71932363543635},{"$f":"J2588*F$9-H2588*F$8","v":-207},{"$f":"IF(P2587=1,K2588*B$1/(B$1+B$2+L2588),99999)","v":99999},{"$f":"M2588*B$1/(B$1+B$2+L2588)","v":10.789136082011149}]
[]
[null,{"$f":"OFFSET(AL$1867,A2593,A2592+1)-B$10-U$3","v":2055.1784771714752},{"$f":"OFFSET(AL$1890,A2593,A2592+1)-B$11-V$3","v":-653.52694477076807},{"$f":"OFFSET(AL$1844,A2593,A2592+1)-B$12-W$3","v":-207},{"$f":"B2594*F$5+C2594*F$4","v":2055.1784771714752},{"$f":"C2594*F$5-B2594*F$4","v":-653.52694477076807},-207,2055.1784771714752,{"$f":"F2594*F$7+G2594*F$6","v":-653.52694477076807},{"$f":"G2594*F$7-F2594*F$6","v":-207},{"$f":"H2594*F$9+J2594*F$8","v":2055.1784771714752},{"$f":"I2594","v":-653.52694477076807},{"$f":"J2594*F$9-H2594*F$8","v":-207},{"$f":"IF(P2592=1,K2594*B$1/(B$1+B$2+L2594),99999)","v":99999},{"$f":"M2594*B$1/(B$1+B$2+L2594)","v":6.4332970571647428}]
[]
[null,{"$f":"OFFSET(AL$1867,A2598,A2597+1)-B$10-U$3","v":2355.1784771714752},{"$f":"OFFSET(AL$1890,A2598,A2597+1)-B$11-V$3","v":-653.52694477076807},{"$f":"OFFSET(AL$1844,A2598,A2597+1)-B$12-W$3","v":-207},{"$f":"B2599*F$5+C2599*F$4","v":2355.1784771714752},{"$f":"C2599*F$5-B2599*F$4","v":-653.52694477076807},-207,2355.1784771714752,{"$f":"F2599*F$7+G2599*F$6","v":-653.52694477076807},{"$f":"G2599*F$7-F2599*F$6","v":-207},{"$f":"H2599*F$9+J2599*F$8","v":2355.1784771714752},{"$f":"I2599","v":-653.52694477076807},{"$f":"J2599*F$9-H2599*F$8","v":-207},{"$f":"IF(P2597=1,K2599*B$1/(B$1+B$2+L2599),99999)","v":99999},{"$f":"M2599*B$1/(B$1+B$2+L2599)","v":6.4332970571647428}]
[]
[{"$f":"A2597+1","v":18},{"$f":"OFFSET(AL$1867,A2603,A2602)-B$10-U$3","v":2355.1784771714752},{"$f":"OFFSET(AL$1890,A2603,A2602)-B$11-V$3","v":-653.52694477076807},{"$f":"OFFSET(AL$1844,A2603,A2602)-B$12-W$3","v":-207},{"$f":"B2602*F$5+C2602*F$4","v":2355.1784771714752},{"$f":"C2602*F$5-B2602*F$4","v":-653.52694477076807},{"$f":"D2602","v":-207},2355.1784771714752,{"$f":"F2602*F$7+G2602*F$6","v":-653.52694477076807},{"$f":"G2602*F$7-F2602*F$6","v":-207},{"$f":"H2602*F$9+J2602*F$8","v":2355.1784771714752},{"$f":"I2602","v":-653.52694477076807},{"$f":"J2602*F$9-H2602*F$8","v":-207},{"$f":"IF(P2602=1,K2602*B$1/(B$1+B$2+L2602),99999)","v":99999},{"$f":"M2602*B$1/(B$1+B$2+L2602)","v":6.4332970571647428},{"$f":"IF(MIN(L2602:L2605)+B$2+B$1>0,1,0)","v":0}]
[null,{"$f":"OFFSET(AL$1867,A2603,A2602)-B$10-U$3","v":2355.1784771714752},{"$f":"OFFSET(AL$1890,A2603,A2602)-B$11-V$3","v":-653.52694477076807},{"$f":"OFFSET(AL$1844,A2603,A2602)-B$12-W$3","v":-207},{"$f":"B2605*F$5+C2605*F$4","v":2355.1784771714752},{"$f":"C2605*F$5-B2605*F$4","v":-653.52694477076807},-207,2355.1784771714752,{"$f":"F2605*F$7+G2605*F$6","v":-653.52694477076807},{"$f":"G2605*F$7-F2605*F$6","v":-207},{"$f":"H2605*F$9+J2605*F$8","v":2355.1784771714752},{"$f":"I2605","v":-653.52694477076807},{"$f":"J2605*F$9-H2605*F$8","v":-207},{"$f":"IF(P2602=1,K2605*B$1/(B$1+B$2+L2605),99999)","v":99999},{"$f":"M2605*B$1/(B$1+B$2+L2605)","v":6.4332970571647428}]
[{"$f":"A2602+1","v":19},{"$f":"OFFSET(AL$1867,A2608,A2607)-B$10-U$3","v":2655.1784771714752},{"$f":"OFFSET(AL$1890,A2608,A2607)-B$11-V$3","v":-653.52694477076807},{"$f":"OFFSET(AL$1844,A2608,A2607)-B$12-W$3","v":-207},{"$f":"B2607*F$5+C2607*F$4","v":2655.1784771714752},{"$f":"C2607*F$5-B2607*F$4","v":-653.52694477076807},{"$f":"D2607","v":-207},2655.1784771714752,{"$f":"F2607*F$7+G2607*F$6","v":-653.52694477076807},{"$f":"G2607*F$7-F2607*F$6","v":-207},{"$f":"H2607*F$9+J2607*F$8","v":2655.1784771714752},{"$f":"I2607","v":-653.52694477076807},{"$f":"J2607*F$9-H2607*F$8","v":-207},{"$f":"IF(P2607=1,K2607*B$1/(B$1+B$2+L2607),99999)","v":99999},{"$f":"M2607*B$1/(B$1+B$2+L2607)","v":6.4332970571647428},{"$f":"IF(MIN(L2607:L2610)+B$2+B$1>0,1,0)","v":0}]
[null,{"$f":"OFFSET(AL$1867,A2608,A2607)-B$10-U$3","v":2655.1784771714752},{"$f":"OFFSET(AL$1890,A2608,A2607)-B$11-V$3","v":-653.52694477076807},{"$f":"OFFSET(AL$1844,A2608,A2607)-B$12-W$3","v":-207},{"$f":"B2610*F$5+C2610*F$4","v":2655.1784771714752},{"$f":"C2610*F$5-B2610*F$4","v":-653.52694477076807},-207,2655.1784771714752,{"$f":"F2610*F$7+G2610*F$6","v":-653.52694477076807},{"$f":"G2610*F$7-F2610*F$6","v":-207},{"$f":"H2610*F$9+J2610*F$8","v":2655.1784771714752},{"$f":"I2610","v":-653.52694477076807},{"$f":"J2610*F$9-H2610*F$8","v":-207},{"$f":"IF(P2607=1,K2610*B$1/(B$1+B$2+L2610),99999)","v":99999},{"$f":"M2610*B$1/(B$1+B$2+L2610)","v":6.4332970571647428}]
[0,{"$f":"OFFSET(AL$1867,A2613,A2612)-B$10-U$3","v":-2894.8215228285248},{"$f":"OFFSET(AL$1890,A2613,A2612)-B$11-V$3","v":-393.71932363543635},{"$f":"OFFSET(AL$1844,A2613,A2612)-B$12-W$3","v":-207},{"$f":"B2612*F$5+C2612*F$4","v":-2894.8215228285248},{"$f":"C2612*F$5-B2612*F$4","v":-393.71932363543635},{"$f":"D2612","v":-207},-2894.8215228285248,{"$f":"F2612*F$7+G2612*F$6","v":-393.71932363543635},{"$f":"G2612*F$7-F2612*F$6","v":-207},{"$f":"H2612*F$9+J2612*F$8","v":-2894.8215228285248},{"$f":"I2612","v":-393.71932363543635},{"$f":"J2612*F$9-H2612*F$8","v":-207},{"$f":"IF(P2612=1,K2612*B$1/(B$1+B$2+L2612),99999)","v":99999},{"$f":"M2612*B$1/(B$1+B$2+L2612)","v":10.789136082011149},{"$f":"IF(MIN(L2612:L2615)+B$2+B$1>0,1,0)","v":0}]
[]
[{"$f":"A2612+1","v":1},{"$f":"OFFSET(AL$1867,A2618,A2617)-B$10-U$3","v":-2594.8215228285248},{"$f":"OFFSET(AL$1890,A2618,A2617)-B$11-V$3","v":-393.71932363543635},{"$f":"OFFSET(AL$1844,A2618,A2617)-B$12-W$3","v":-207},{"$f":"B2617*F$5+C2617*F$4","v":-2594.8215228285248},{"$f":"C2617*F$5-B2617*F$4","v":-393.71932363543635},{"$f":"D2617","v":-207},-2594.8215228285248,{"$f":"F2617*F$7+G2617*F$6","v":-393.71932363543635},{"$f":"G2617*F$7-F2617*F$6","v":-207},{"$f":"H2617*F$9+J2617*F$8","v":-2594.8215228285248},{"$f":"I2617","v":-393.71932363543635},{"$f":"J2617*F$9-H2617*F$8","v":-207},{"$f":"IF(P2617=1,K2617*B$1/(B$1+B$2+L2617),99999)","v":99999},{"$f":"M2617*B$1/(B$1+B$2+L2617)","v":10.789136082011149},{"$f":"IF(MIN(L2617:L2620)+B$2+B$1>0,1,0)","v":0}]
[null,{"$f":"OFFSET(AL$1867,A2618,A2617+1)-B$10-U$3","v":-2294.8215228285248},{"$f":"OFFSET(AL$1890,A2618,A2617+1)-B$11-V$3","v":-393.71932363543635},{"$f":"OFFSET(AL$1844,A2618,A2617+1)-B$12-W$3","v":-207},{"$f":"B2619*F$5+C2619*F$4","v":-2294.8215228285248},{"$f":"C2619*F$5-B2619*F$4","v":-393.71932363543635},-207,-2294.8215228285248,{"$f":"F2619*F$7+G2619*F$6","v":-393.71932363543635},{"$f":"G2619*F$7-F2619*F$6","v":-207},{"$f":"H2619*F$9+J2619*F$8","v":-2294.8215228285248},{"$f":"I2619","v":-393.71932363543635},{"$f":"J2619*F$9-H2619*F$8","v":-207},{"$f":"IF(P2617=1,K2619*B$1/(B$1+B$2+L2619),99999)","v":99999},{"$f":"M2619*B$1/(B$1+B$2+L2619)","v":10.789136082011149}]
[{"$f":"A2617+1","v":2},{"$f":"OFFSET(AL$1867,A2623,A2622)-B$10-U$3","v":-2294.8215228285248},{"$f":"OFFSET(AL$1890,A2623,A2622)-B$11-V$3","v":-393.71932363543635},{"$f":"OFFSET(AL$1844,A2623,A2622)-B$12-W$3","v":-207},{"$f":"B2622*F$5+C2622*F$4","v":-2294.8215228285248},{"$f":"C2622*F$5-B2622*F$4","v":-393.71932363543635},{"$f":"D2622","v":-207},-2294.8215228285248,{"$f":"F2622*F$7+G2622*F$6","v":-393.71932363543635},{"$f":"G2622*F$7-F2622*F$6","v":-207},{"$f":"H2622*F$9+J2622*F$8","v":-2294.8215228285248},{"$f":"I2622","v":-393.71932363543635},{"$f":"J2622*F$9-H2622*F$8","v":-207},{"$f":"IF(P2622=1,K2622*B$1/(B$1+B$2+L2622),99999)","v":99999},{"$f":"M2622*B$1/(B$1+B$2+L2622)","v":10.789136082011149},{"$f":"IF(MIN(L2622:L2625)+B$2+B$1>0,1,0)","v":0}]
[null,{"$f":"OFFSET(AL$1867,A2623,A2622)-B$10-U$3","v":-2294.8215228285248},{"$f":"OFFSET(AL$1890,A2623,A2622)-B$11-V$3","v":-393.71932363543635},{"$f":"OFFSET(AL$1844,A2623,A2622)-B$12-W$3","v":-207},{"$f":"B2625*F$5+C2625*F$4","v":-2294.8215228285248},{"$f":"C2625*F$5-B2625*F$4","v":-393.71932363543635},-207,-2294.8215228285248,{"$f":"F2625*F$7+G2625*F$6","v":-393.71932363543635},{"$f":"G2625*F$7-F2625*F$6","v":-207},{"$f":"H2625*F$9+J2625*F$8","v":-2294.8215228285248},{"$f":"I2625","v":-393.71932363543635},{"$f":"J2625*F$9-H2625*F$8","v":-207},{"$f":"IF(P2622=1,K2625*B$1/(B$1+B$2+L2625),99999)","v":99999},{"$f":"M2625*B$1/(B$1+B$2+L2625)","v":10.789136082011149}]
[{"$f":"A2622+1","v":3},{"$f":"OFFSET(AL$1867,A2628,A2627)-B$10-U$3","v":-1994.8215228285248},{"$f":"OFFSET(AL$1890,A2628,A2627)-B$11-V$3","v":-393.71932363543635},{"$f":"OFFSET(AL$1844,A2628,A2627)-B$12-W$3","v":-207},{"$f":"B2627*F$5+C2627*F$4","v":-1994.8215228285248},{"$f":"C2627*F$5-B2627*F$4","v":-393.71932363543635},{"$f":"D2627","v":-207},-1994.8215228285248,{"$f":"F2627*F$7+G2627*F$6","v":-393.71932363543635},{"$f":"G2627*F$7-F2627*F$6","v":-207},{"$f":"H2627*F$9+J2627*F$8","v":-1994.8215228285248},{"$f":"I2627","v":-393.71932363543635},{"$f":"J2627*F$9-H2627*F$8","v":-207},{"$f":"IF(P2627=1,K2627*B$1/(B$1+B$2+L2627),99999)","v":99999},{"$f":"M2627*B$1/(B$1+B$2+L2627)","v":10.789136082011149},{"$f":"IF(MIN(L2627:L2630)+B$2+B$1>0,1,0)","v":0}]
[null,{"$f":"OFFSET(AL$1867,A2628,A2627)-B$10-U$3","v":-1994.8215228285248},{"$f":"OFFSET(AL$1890,A2628,A2627)-B$11-V$3","v":-393.71932363543635},{"$f":"OFFSET(AL$1844,A2628,A2627)-B$12-W$3","v":-207},{"$f":"B2630*F$5+C2630*F$4","v":-1994.8215228285248},{"$f":"C2630*F$5-B2630*F$4","v":-393.71932363543635},-207,-1994.8215228285248,{"$f":"F2630*F$7+G2630*F$6","v":-393.71932363543635},{"$f":"G2630*F$7-F2630*F$6","v":-207},{"$f":"H2630*F$9+J2630*F$8","v":-1994.8215228285248},{"$f":"I2630","v":-393.71932363543635},{"$f":"J2630*F$9-H2630*F$8","v":-207},{"$f":"IF(P2627=1,K2630*B$1/(B$1+B$2+L2630),99999)","v":99999},{"$f":"M2630*B$1/(B$1+B$2+L2630)","v":10.789136082011149}]
[{"$f":"A2628","v":9},{"$f":"OFFSET(AL$1867,A2633+1,A2632+1)-B$10-U$3","v":-1544.8215228285248},{"$f":"OFFSET(AL$1890,A2633+1,A2632+1)-B$11-V$3","v":-133.91170250010464},{"$f":"OFFSET(AL$1844,A2633+1,A2632+1)-B$12-W$3","v":-207},{"$f":"B2633*F$5+C2633*F$4","v":-1544.8215228285248},{"$f":"C2633*F$5-B2633*F$4","v":-133.91170250010464},-207,-1544.8215228285248,{"$f":"F2633*F$7+G2633*F$6","v":-133.91170250010464},{"$f":"G2633*F$7-F2633*F$6","v":-207},{"$f":"H2633*F$9+J2633*F$8","v":-1544.8215228285248},{"$f":"I2633","v":-133.91170250010464},{"$f":"J2633*F$9-H2633*F$8","v":-207},{"$f":"IF(P2632=1,K2633*B$1/(B$1+B$2+L2633),99999)","v":99999},{"$f":"M2633*B$1/(B$1+B$2+L2633)","v":33.410887886045337}]
[null,{"$f":"OFFSET(AL$1867,A2633,A2632)-B$10-U$3","v":-1694.8215228285248},{"$f":"OFFSET(AL$1890,A2633,A2632)-B$11-V$3","v":-393.71932363543635},{"$f":"OFFSET(AL$1844,A2633,A2632)-B$12-W$3","v":-207},{"$f":"B2635*F$5+C2635*F$4","v":-1694.8215228285248},{"$f":"C2635*F$5-B2635*F$4","v":-393.71932363543635},-207,-1694.8215228285248,{"$f":"F2635*F$7+G2635*F$6","v":-393.71932363543635},{"$f":"G2635*F$7-F2635*F$6","v":-207},{"$f":"H2635*F$9+J2635*F$8","v":-1694.8215228285248},{"$f":"I2635","v":-393.71932363543635},{"$f":"J2635*F$9-H2635*F$8","v":-207},{"$f":"IF(P2632=1,K2635*B$1/(B$1+B$2+L2635),99999)","v":99999},{"$f":"M2635*B$1/(B$1+B$2+L2635)","v":10.789136082011149}]
[]
[null,{"$f":"OFFSET(AL$1867,A2638,A2637)-B$10-U$3","v":-1394.8215228285248},{"$f":"OFFSET(AL$1890,A2638,A2637)-B$11-V$3","v":-393.71932363543635},{"$f":"OFFSET(AL$1844,A2638,A2637)-B$12-W$3","v":-207},{"$f":"B2640*F$5+C2640*F$4","v":-1394.8215228285248},{"$f":"C2640*F$5-B2640*F$4","v":-393.71932363543635},-207,-1394.8215228285248,{"$f":"F2640*F$7+G2640*F$6","v":-393.71932363543635},{"$f":"G2640*F$7-F2640*F$6","v":-207},{"$f":"H2640*F$9+J2640*F$8","v":-1394.8215228285248},{"$f":"I2640","v":-393.71932363543635},{"$f":"J2640*F$9-H2640*F$8","v":-207},{"$f":"IF(P2637=1,K2640*B$1/(B$1+B$2+L2640),99999)","v":99999},{"$f":"M2640*B$1/(B$1+B$2+L2640)","v":10.789136082011149}]
[]
[null,{"$f":"OFFSET(AL$1867,A2643,A2642)-B$10-U$3","v":-1094.8215228285248},{"$f":"OFFSET(AL$1890,A2643,A2642)-B$11-V$3","v":-393.71932363543635},{"$f":"OFFSET(AL$1844,A2643,A2642)-B$12-W$3","v":-207},{"$f":"B2645*F$5+C2645*F$4","v":-1094.8215228285248},{"$f":"C2645*F$5-B2645*F$4","v":-393.71932363543635},-207,-1094.8215228285248,{"$f":"F2645*F$7+G2645*F$6","v":-393.71932363543635},{"$f":"G2645*F$7-F2645*F$6","v":-207},{"$f":"H2645*F$9+J2645*F$8","v":-1094.8215228285248},{"$f":"I2645","v":-393.71932363543635},{"$f":"J2645*F$9-H2645*F$8","v":-207},{"$f":"IF(P2642=1,K2645*B$1/(B$1+B$2+L2645),99999)","v":99999},{"$f":"M2645*B$1/(B$1+B$2+L2645)","v":10.789136082011149}]
[{"$f":"A2642+1","v":7},{"$f":"OFFSET(AL$1867,A2648,A2647)-B$10-U$3","v":-794.82152282852485},{"$f":"OFFSET(AL$1890,A2648,A2647)-B$11-V$3","v":-393.71932363543635},{"$f":"OFFSET(AL$1844,A2648,A2647)-B$12-W$3","v":-207},{"$f":"B2647*F$5+C2647*F$4","v":-794.82152282852485},{"$f":"C2647*F$5-B2647*F$4","v":-393.71932363543635},{"$f":"D2647","v":-207},-794.82152282852485,{"$f":"F2647*F$7+G2647*F$6","v":-393.71932363543635},{"$f":"G2647*F$7-F2647*F$6","v":-207},{"$f":"H2647*F$9+J2647*F$8","v":-794.82152282852485},{"$f":"I2647","v":-393.71932363543635},{"$f":"J2647*F$9-H2647*F$8","v":-207},{"$f":"IF(P2647=1,K2647*B$1/(B$1+B$2+L2647),99999)","v":99999},{"$f":"M2647*B$1/(B$1+B$2+L2647)","v":10.789136082011149},{"$f":"IF(MIN(L2647:L2650)+B$2+B$1>0,1,0)","v":0}]
[null,{"$f":"OFFSET(AL$1867,A2648,A2647)-B$10-U$3","v":-794.82152282852485},{"$f":"OFFSET(AL$1890,A2648,A2647)-B$11-V$3","v":-393.71932363543635},{"$f":"OFFSET(AL$1844,A2648,A2647)-B$12-W$3","v":-207},{"$f":"B2650*F$5+C2650*F$4","v":-794.82152282852485},{"$f":"C2650*F$5-B2650*F$4","v":-393.71932363543635},-207,-794.82152282852485,{"$f":"F2650*F$7+G2650*F$6","v":-393.71932363543635},{"$f":"G2650*F$7-F2650*F$6","v":-207},{"$f":"H2650*F$9+J2650*F$8","v":-794.82152282852485},{"$f":"I2650","v":-393.71932363543635},{"$f":"J2650*F$9-H2650*F$8","v":-207},{"$f":"IF(P2647=1,K2650*B$1/(B$1+B$2+L2650),99999)","v":99999},{"$f":"M2650*B$1/(B$1+B$2+L2650)","v":10.789136082011149}]
[{"$f":"A2648","v":9},{"$f":"OFFSET(AL$1867,A2653+1,A2652+1)-B$10-U$3","v":-344.82152282852485},{"$f":"OFFSET(AL$1890,A2653+1,A2652+1)-B$11-V$3","v":-133.91170250010464},{"$f":"OFFSET(AL$1844,A2653+1,A2652+1)-B$12-W$3","v":-207},{"$f":"B2653*F$5+C2653*F$4","v":-344.82152282852485},{"$f":"C2653*F$5-B2653*F$4","v":-133.91170250010464},-207,-344.82152282852485,{"$f":"F2653*F$7+G2653*F$6","v":-133.91170250010464},{"$f":"G2653*F$7-F2653*F$6","v":-207},{"$f":"H2653*F$9+J2653*F$8","v":-344.82152282852485},{"$f":"I2653","v":-133.91170250010464},{"$f":"J2653*F$9-H2653*F$8","v":-207},{"$f":"IF(P2652=1,K2653*B$1/(B$1+B$2+L2653),99999)","v":99999},{"$f":"M2653*B$1/(B$1+B$2+L2653)","v":33.410887886045337}]
[null,{"$f":"OFFSET(AL$1867,A2653,A2652)-B$10-U$3","v":-494.82152282852485},{"$f":"OFFSET(AL$1890,A2653,A2652)-B$11-V$3","v":-393.71932363543635},{"$f":"OFFSET(AL$1844,A2653,A2652)-B$12-W$3","v":-207},{"$f":"B2655*F$5+C2655*F$4","v":-494.82152282852485},{"$f":"C2655*F$5-B2655*F$4","v":-393.71932363543635},-207,-494.82152282852485,{"$f":"F2655*F$7+G2655*F$6","v":-393.71932363543635},{"$f":"G2655*F$7-F2655*F$6","v":-207},{"$f":"H2655*F$9+J2655*F$8","v":-494.82152282852485},{"$f":"I2655","v":-393.71932363543635},{"$f":"J2655*F$9-H2655*F$8","v":-207},{"$f":"IF(P2652=1,K2655*B$1/(B$1+B$2+L2655),99999)","v":99999},{"$f":"M2655*B$1/(B$1+B$2+L2655)","v":10.789136082011149}]
[]
[null,{"$f":"OFFSET(AL$1867,A2658,A2657)-B$10-U$3","v":-194.82152282852485},{"$f":"OFFSET(AL$1890,A2658,A2657)-B$11-V$3","v":-393.71932363543635},{"$f":"OFFSET(AL$1844,A2658,A2657)-B$12-W$3","v":-207},{"$f":"B2660*F$5+C2660*F$4","v":-194.82152282852485},{"$f":"C2660*F$5-B2660*F$4","v":-393.71932363543635},-207,-194.82152282852485,{"$f":"F2660*F$7+G2660*F$6","v":-393.71932363543635},{"$f":"G2660*F$7-F2660*F$6","v":-207},{"$f":"H2660*F$9+J2660*F$8","v":-194.82152282852485},{"$f":"I2660","v":-393.71932363543635},{"$f":"J2660*F$9-H2660*F$8","v":-207},{"$f":"IF(P2657=1,K2660*B$1/(B$1+B$2+L2660),99999)","v":99999},{"$f":"M2660*B$1/(B$1+B$2+L2660)","v":10.789136082011149}]
[]
[null,{"$f":"OFFSET(AL$1867,A2663,A2662+1)-B$10-U$3","v":405.17847717147515},{"$f":"OFFSET(AL$1890,A2663,A2662+1)-B$11-V$3","v":-393.71932363543635},{"$f":"OFFSET(AL$1844,A2663,A2662+1)-B$12-W$3","v":-207},{"$f":"B2664*F$5+C2664*F$4","v":405.17847717147515},{"$f":"C2664*F$5-B2664*F$4","v":-393.71932363543635},-207,405.17847717147515,{"$f":"F2664*F$7+G2664*F$6","v":-393.71932363543635},{"$f":"G2664*F$7-F2664*F$6","v":-207},{"$f":"H2664*F$9+J2664*F$8","v":405.17847717147515},{"$f":"I2664","v":-393.71932363543635},{"$f":"J2664*F$9-H2664*F$8","v":-207},{"$f":"IF(P2662=1,K2664*B$1/(B$1+B$2+L2664),99999)","v":99999},{"$f":"M2664*B$1/(B$1+B$2+L2664)","v":10.789136082011149}]
[]
[null,{"$f":"OFFSET(AL$1867,A2668,A2667+1)-B$10-U$3","v":705.17847717147515},{"$f":"OFFSET(AL$1890,A2668,A2667+1)-B$11-V$3","v":-393.71932363543635},{"$f":"OFFSET(AL$1844,A2668,A2667+1)-B$12-W$3","v":-207},{"$f":"B2669*F$5+C2669*F$4","v":705.17847717147515},{"$f":"C2669*F$5-B2669*F$4","v":-393.71932363543635},-207,705.17847717147515,{"$f":"F2669*F$7+G2669*F$6","v":-393.71932363543635},{"$f":"G2669*F$7-F2669*F$6","v":-207},{"$f":"H2669*F$9+J2669*F$8","v":705.17847717147515},{"$f":"I2669","v":-393.71932363543635},{"$f":"J2669*F$9-H2669*F$8","v":-207},{"$f":"IF(P2667=1,K2669*B$1/(B$1+B$2+L2669),99999)","v":99999},{"$f":"M2669*B$1/(B$1+B$2+L2669)","v":10.789136082011149}]
[]
[null,{"$f":"OFFSET(AL$1867,A2673,A2672)-B$10-U$3","v":705.17847717147515},{"$f":"OFFSET(AL$1890,A2673,A2672)-B$11-V$3","v":-393.71932363543635},{"$f":"OFFSET(AL$1844,A2673,A2672)-B$12-W$3","v":-207},{"$f":"B2675*F$5+C2675*F$4","v":705.17847717147515},{"$f":"C2675*F$5-B2675*F$4","v":-393.71932363543635},-207,705.17847717147515,{"$f":"F2675*F$7+G2675*F$6","v":-393.71932363543635},{"$f":"G2675*F$7-F2675*F$6","v":-207},{"$f":"H2675*F$9+J2675*F$8","v":705.17847717147515},{"$f":"I2675","v":-393.71932363543635},{"$f":"J2675*F$9-H2675*F$8","v":-207},{"$f":"IF(P2672=1,K2675*B$1/(B$1+B$2+L2675),99999)","v":99999},{"$f":"M2675*B$1/(B$1+B$2+L2675)","v":10.789136082011149}]
[]
[{"$f":"A2673","v":9},{"$f":"OFFSET(AL$1867,A2678+1,A2677+1)-B$10-U$3","v":1155.1784771714752},{"$f":"OFFSET(AL$1890,A2678+1,A2677+1)-B$11-V$3","v":-133.91170250010464},{"$f":"OFFSET(AL$1844,A2678+1,A2677+1)-B$12-W$3","v":-207},{"$f":"B2678*F$5+C2678*F$4","v":1155.1784771714752},{"$f":"C2678*F$5-B2678*F$4","v":-133.91170250010464},-207,1155.1784771714752,{"$f":"F2678*F$7+G2678*F$6","v":-133.91170250010464},{"$f":"G2678*F$7-F2678*F$6","v":-207},{"$f":"H2678*F$9+J2678*F$8","v":1155.1784771714752},{"$f":"I2678","v":-133.91170250010464},{"$f":"J2678*F$9-H2678*F$8","v":-207},{"$f":"IF(P2677=1,K2678*B$1/(B$1+B$2+L2678),99999)","v":99999},{"$f":"M2678*B$1/(B$1+B$2+L2678)","v":33.410887886045337}]
[]
[null,{"$f":"OFFSET(AL$1867,A2683,A2682+1)-B$10-U$3","v":1605.1784771714752},{"$f":"OFFSET(AL$1890,A2683,A2682+1)-B$11-V$3","v":-393.71932363543635},{"$f":"OFFSET(AL$1844,A2683,A2682+1)-B$12-W$3","v":-207},{"$f":"B2684*F$5+C2684*F$4","v":1605.1784771714752},{"$f":"C2684*F$5-B2684*F$4","v":-393.71932363543635},-207,1605.1784771714752,{"$f":"F2684*F$7+G2684*F$6","v":-393.71932363543635},{"$f":"G2684*F$7-F2684*F$6","v":-207},{"$f":"H2684*F$9+J2684*F$8","v":1605.1784771714752},{"$f":"I2684","v":-393.71932363543635},{"$f":"J2684*F$9-H2684*F$8","v":-207},{"$f":"IF(P2682=1,K2684*B$1/(B$1+B$2+L2684),99999)","v":99999},{"$f":"M2684*B$1/(B$1+B$2+L2684)","v":10.789136082011149}]
[]
[null,{"$f":"OFFSET(AL$1867,A2688,A2687)-B$10-U$3","v":1605.1784771714752},{"$f":"OFFSET(AL$1890,A2688,A2687)-B$11-V$3","v":-393.71932363543635},{"$f":"OFFSET(AL$1844,A2688,A2687)-B$12-W$3","v":-207},{"$f":"B2690*F$5+C2690*F$4","v":1605.1784771714752},{"$f":"C2690*F$5-B2690*F$4","v":-393.71932363543635},-207,1605.1784771714752,{"$f":"F2690*F$7+G2690*F$6","v":-393.71932363543635},{"$f":"G2690*F$7-F2690*F$6","v":-207},{"$f":"H2690*F$9+J2690*F$8","v":1605.1784771714752},{"$f":"I2690","v":-393.71932363543635},{"$f":"J2690*F$9-H2690*F$8","v":-207},{"$f":"IF(P2687=1,K2690*B$1/(B$1+B$2+L2690),99999)","v":99999},{"$f":"M2690*B$1/(B$1+B$2+L2690)","v":10.789136082011149}]
[]
[null,{"$f":"OFFSET(AL$1867,A2693,A2692+1)-B$10-U$3","v":2205.1784771714752},{"$f":"OFFSET(AL$1890,A2693,A2692+1)-B$11-V$3","v":-393.71932363543635},{"$f":"OFFSET(AL$1844,A2693,A2692+1)-B$12-W$3","v":-207},{"$f":"B2694*F$5+C2694*F$4","v":2205.1784771714752},{"$f":"C2694*F$5-B2694*F$4","v":-393.71932363543635},-207,2205.1784771714752,{"$f":"F2694*F$7+G2694*F$6","v":-393.71932363543635},{"$f":"G2694*F$7-F2694*F$6","v":-207},{"$f":"H2694*F$9+J2694*F$8","v":2205.1784771714752},{"$f":"I2694","v":-393.71932363543635},{"$f":"J2694*F$9-H2694*F$8","v":-207},{"$f":"IF(P2692=1,K2694*B$1/(B$1+B$2+L2694),99999)","v":99999},{"$f":"M2694*B$1/(B$1+B$2+L2694)","v":10.789136082011149}]
[null,{"$f":"OFFSET(AL$1867,A2693,A2692)-B$10-U$3","v":1905.1784771714752},{"$f":"OFFSET(AL$1890,A2693,A2692)-B$11-V$3","v":-393.71932363543635},{"$f":"OFFSET(AL$1844,A2693,A2692)-B$12-W$3","v":-207},{"$f":"B2695*F$5+C2695*F$4","v":1905.1784771714752},{"$f":"C2695*F$5-B2695*F$4","v":-393.71932363543635},-207,1905.1784771714752,{"$f":"F2695*F$7+G2695*F$6","v":-393.71932363543635},{"$f":"G2695*F$7-F2695*F$6","v":-207},{"$f":"H2695*F$9+J2695*F$8","v":1905.1784771714752},{"$f":"I2695","v":-393.71932363543635},{"$f":"J2695*F$9-H2695*F$8","v":-207},{"$f":"IF(P2692=1,K2695*B$1/(B$1+B$2+L2695),99999)","v":99999},{"$f":"M2695*B$1/(B$1+B$2+L2695)","v":10.789136082011149}]
[null,{"$f":"OFFSET(AL$1867,A2698,A2697+1)-B$10-U$3","v":2505.1784771714752},{"$f":"OFFSET(AL$1890,A2698,A2697+1)-B$11-V$3","v":-393.71932363543635},{"$f":"OFFSET(AL$1844,A2698,A2697+1)-B$12-W$3","v":-207},{"$f":"B2699*F$5+C2699*F$4","v":2505.1784771714752},{"$f":"C2699*F$5-B2699*F$4","v":-393.71932363543635},-207,2505.1784771714752,{"$f":"F2699*F$7+G2699*F$6","v":-393.71932363543635},{"$f":"G2699*F$7-F2699*F$6","v":-207},{"$f":"H2699*F$9+J2699*F$8","v":2505.1784771714752},{"$f":"I2699","v":-393.71932363543635},{"$f":"J2699*F$9-H2699*F$8","v":-207},{"$f":"IF(P2697=1,K2699*B$1/(B$1+B$2+L2699),99999)","v":99999},{"$f":"M2699*B$1/(B$1+B$2+L2699)","v":10.789136082011149}]
[null,{"$f":"OFFSET(AL$1867,A2698,A2697)-B$10-U$3","v":2205.1784771714752},{"$f":"OFFSET(AL$1890,A2698,A2697)-B$11-V$3","v":-393.71932363543635},{"$f":"OFFSET(AL$1844,A2698,A2697)-B$12-W$3","v":-207},{"$f":"B2700*F$5+C2700*F$4","v":2205.1784771714752},{"$f":"C2700*F$5-B2700*F$4","v":-393.71932363543635},-207,2205.1784771714752,{"$f":"F2700*F$7+G2700*F$6","v":-393.71932363543635},{"$f":"G2700*F$7-F2700*F$6","v":-207},{"$f":"H2700*F$9+J2700*F$8","v":2205.1784771714752},{"$f":"I2700","v":-393.71932363543635},{"$f":"J2700*F$9-H2700*F$8","v":-207},{"$f":"IF(P2697=1,K2700*B$1/(B$1+B$2+L2700),99999)","v":99999},{"$f":"M2700*B$1/(B$1+B$2+L2700)","v":10.789136082011149}]
[null,{"$f":"OFFSET(AL$1867,A2703,A2702+1)-B$10-U$3","v":2805.1784771714752},{"$f":"OFFSET(AL$1890,A2703,A2702+1)-B$11-V$3","v":-393.71932363543635},{"$f":"OFFSET(AL$1844,A2703,A2702+1)-B$12-W$3","v":-207},{"$f":"B2704*F$5+C2704*F$4","v":2805.1784771714752},{"$f":"C2704*F$5-B2704*F$4","v":-393.71932363543635},-207,2805.1784771714752,{"$f":"F2704*F$7+G2704*F$6","v":-393.71932363543635},{"$f":"G2704*F$7-F2704*F$6","v":-207},{"$f":"H2704*F$9+J2704*F$8","v":2805.1784771714752},{"$f":"I2704","v":-393.71932363543635},{"$f":"J2704*F$9-H2704*F$8","v":-207},{"$f":"IF(P2702=1,K2704*B$1/(B$1+B$2+L2704),99999)","v":99999},{"$f":"M2704*B$1/(B$1+B$2+L2704)","v":10.789136082011149}]
[]
[null,{"$f":"OFFSET(AL$1867,A2708,A2707+1)-B$10-U$3","v":3105.1784771714752},{"$f":"OFFSET(AL$1890,A2708,A2707+1)-B$11-V$3","v":-393.71932363543635},{"$f":"OFFSET(AL$1844,A2708,A2707+1)-B$12-W$3","v":-207},{"$f":"B2709*F$5+C2709*F$4","v":3105.1784771714752},{"$f":"C2709*F$5-B2709*F$4","v":-393.71932363543635},-207,3105.1784771714752,{"$f":"F2709*F$7+G2709*F$6","v":-393.71932363543635},{"$f":"G2709*F$7-F2709*F$6","v":-207},{"$f":"H2709*F$9+J2709*F$8","v":3105.1784771714752},{"$f":"I2709","v":-393.71932363543635},{"$f":"J2709*F$9-H2709*F$8","v":-207},{"$f":"IF(P2707=1,K2709*B$1/(B$1+B$2+L2709),99999)","v":99999},{"$f":"M2709*B$1/(B$1+B$2+L2709)","v":10.789136082011149}]
[0,{"$f":"OFFSET(AL$1867,A2713,A2712)-B$10-U$3","v":-3044.8215228285248},{"$f":"OFFSET(AL$1890,A2713,A2712)-B$11-V$3","v":-133.91170250010464},{"$f":"OFFSET(AL$1844,A2713,A2712)-B$12-W$3","v":-207},{"$f":"B2712*F$5+C2712*F$4","v":-3044.8215228285248},{"$f":"C2712*F$5-B2712*F$4","v":-133.91170250010464},{"$f":"D2712","v":-207},-3044.8215228285248,{"$f":"F2712*F$7+G2712*F$6","v":-133.91170250010464},{"$f":"G2712*F$7-F2712*F$6","v":-207},{"$f":"H2712*F$9+J2712*F$8","v":-3044.8215228285248},{"$f":"I2712","v":-133.91170250010464},{"$f":"J2712*F$9-H2712*F$8","v":-207},{"$f":"IF(P2712=1,K2712*B$1/(B$1+B$2+L2712),99999)","v":99999},{"$f":"M2712*B$1/(B$1+B$2+L2712)","v":33.410887886045337},{"$f":"IF(MIN(L2712:L2715)+B$2+B$1>0,1,0)","v":0}]
[null,{"$f":"OFFSET(AL$1867,A2713,A2712+1)-B$10-U$3","v":-2744.8215228285248},{"$f":"OFFSET(AL$1890,A2713,A2712+1)-B$11-V$3","v":-133.91170250010464},{"$f":"OFFSET(AL$1844,A2713,A2712+1)-B$12-W$3","v":-207},{"$f":"B2714*F$5+C2714*F$4","v":-2744.8215228285248},{"$f":"C2714*F$5-B2714*F$4","v":-133.91170250010464},-207,-2744.8215228285248,{"$f":"F2714*F$7+G2714*F$6","v":-133.91170250010464},{"$f":"G2714*F$7-F2714*F$6","v":-207},{"$f":"H2714*F$9+J2714*F$8","v":-2744.8215228285248},{"$f":"I2714","v":-133.91170250010464},{"$f":"J2714*F$9-H2714*F$8","v":-207},{"$f":"IF(P2712=1,K2714*B$1/(B$1+B$2+L2714),99999)","v":99999},{"$f":"M2714*B$1/(B$1+B$2+L2714)","v":33.410887886045337}]
[null,{"$f":"OFFSET(AL$1867,A2713,A2712)-B$10-U$3","v":-3044.8215228285248},{"$f":"OFFSET(AL$1890,A2713,A2712)-B$11-V$3","v":-133.91170250010464},{"$f":"OFFSET(AL$1844,A2713,A2712)-B$12-W$3","v":-207},{"$f":"B2715*F$5+C2715*F$4","v":-3044.8215228285248},{"$f":"C2715*F$5-B2715*F$4","v":-133.91170250010464},-207,-3044.8215228285248,{"$f":"F2715*F$7+G2715*F$6","v":-133.91170250010464},{"$f":"G2715*F$7-F2715*F$6","v":-207},{"$f":"H2715*F$9+J2715*F$8","v":-3044.8215228285248},{"$f":"I2715","v":-133.91170250010464},{"$f":"J2715*F$9-H2715*F$8","v":-207},{"$f":"IF(P2712=1,K2715*B$1/(B$1+B$2+L2715),99999)","v":99999},{"$f":"M2715*B$1/(B$1+B$2+L2715)","v":33.410887886045337}]
[null,{"$f":"OFFSET(AL$1867,A2718,A2717+1)-B$10-U$3","v":-2444.8215228285248},{"$f":"OFFSET(AL$1890,A2718,A2717+1)-B$11-V$3","v":-133.91170250010464},{"$f":"OFFSET(AL$1844,A2718,A2717+1)-B$12-W$3","v":-207},{"$f":"B2719*F$5+C2719*F$4","v":-2444.8215228285248},{"$f":"C2719*F$5-B2719*F$4","v":-133.91170250010464},-207,-2444.8215228285248,{"$f":"F2719*F$7+G2719*F$6","v":-133.91170250010464},{"$f":"G2719*F$7-F2719*F$6","v":-207},{"$f":"H2719*F$9+J2719*F$8","v":-2444.8215228285248},{"$f":"I2719","v":-133.91170250010464},{"$f":"J2719*F$9-H2719*F$8","v":-207},{"$f":"IF(P2717=1,K2719*B$1/(B$1+B$2+L2719),99999)","v":99999},{"$f":"M2719*B$1/(B$1+B$2+L2719)","v":33.410887886045337}]
[null,{"$f":"OFFSET(AL$1867,A2718,A2717)-B$10-U$3","v":-2744.8215228285248},{"$f":"OFFSET(AL$1890,A2718,A2717)-B$11-V$3","v":-133.91170250010464},{"$f":"OFFSET(AL$1844,A2718,A2717)-B$12-W$3","v":-207},{"$f":"B2720*F$5+C2720*F$4","v":-2744.8215228285248},{"$f":"C2720*F$5-B2720*F$4","v":-133.91170250010464},-207,-2744.8215228285248,{"$f":"F2720*F$7+G2720*F$6","v":-133.91170250010464},{"$f":"G2720*F$7-F2720*F$6","v":-207},{"$f":"H2720*F$9+J2720*F$8","v":-2744.8215228285248},{"$f":"I2720","v":-133.91170250010464},{"$f":"J2720*F$9-H2720*F$8","v":-207},{"$f":"IF(P2717=1,K2720*B$1/(B$1+B$2+L2720),99999)","v":99999},{"$f":"M2720*B$1/(B$1+B$2+L2720)","v":33.410887886045337}]
[null,{"$f":"OFFSET(AL$1867,A2723,A2722+1)-B$10-U$3","v":-2144.8215228285248},{"$f":"OFFSET(AL$1890,A2723,A2722+1)-B$11-V$3","v":-133.91170250010464},{"$f":"OFFSET(AL$1844,A2723,A2722+1)-B$12-W$3","v":-207},{"$f":"B2724*F$5+C2724*F$4","v":-2144.8215228285248},{"$f":"C2724*F$5-B2724*F$4","v":-133.91170250010464},-207,-2144.8215228285248,{"$f":"F2724*F$7+G2724*F$6","v":-133.91170250010464},{"$f":"G2724*F$7-F2724*F$6","v":-207},{"$f":"H2724*F$9+J2724*F$8","v":-2144.8215228285248},{"$f":"I2724","v":-133.91170250010464},{"$f":"J2724*F$9-H2724*F$8","v":-207},{"$f":"IF(P2722=1,K2724*B$1/(B$1+B$2+L2724),99999)","v":99999},{"$f":"M2724*B$1/(B$1+B$2+L2724)","v":33.410887886045337}]
[null,{"$f":"OFFSET(AL$1867,A2723,A2722)-B$10-U$3","v":-2444.8215228285248},{"$f":"OFFSET(AL$1890,A2723,A2722)-B$11-V$3","v":-133.91170250010464},{"$f":"OFFSET(AL$1844,A2723,A2722)-B$12-W$3","v":-207},{"$f":"B2725*F$5+C2725*F$4","v":-2444.8215228285248},{"$f":"C2725*F$5-B2725*F$4","v":-133.91170250010464},-207,-2444.8215228285248,{"$f":"F2725*F$7+G2725*F$6","v":-133.91170250010464},{"$f":"G2725*F$7-F2725*F$6","v":-207},{"$f":"H2725*F$9+J2725*F$8","v":-2444.8215228285248},{"$f":"I2725","v":-133.91170250010464},{"$f":"J2725*F$9-H2725*F$8","v":-207},{"$f":"IF(P2722=1,K2725*B$1/(B$1+B$2+L2725),99999)","v":99999},{"$f":"M2725*B$1/(B$1+B$2+L2725)","v":33.410887886045337}]
[null,{"$f":"OFFSET(AL$1867,A2728,A2727+1)-B$10-U$3","v":-1844.8215228285248},{"$f":"OFFSET(AL$1890,A2728,A2727+1)-B$11-V$3","v":-133.91170250010464},{"$f":"OFFSET(AL$1844,A2728,A2727+1)-B$12-W$3","v":-207},{"$f":"B2729*F$5+C2729*F$4","v":-1844.8215228285248},{"$f":"C2729*F$5-B2729*F$4","v":-133.91170250010464},-207,-1844.8215228285248,{"$f":"F2729*F$7+G2729*F$6","v":-133.91170250010464},{"$f":"G2729*F$7-F2729*F$6","v":-207},{"$f":"H2729*F$9+J2729*F$8","v":-1844.8215228285248},{"$f":"I2729","v":-133.91170250010464},{"$f":"J2729*F$9-H2729*F$8","v":-207},{"$f":"IF(P2727=1,K2729*B$1/(B$1+B$2+L2729),99999)","v":99999},{"$f":"M2729*B$1/(B$1+B$2+L2729)","v":33.410887886045337}]
[null,{"$f":"OFFSET(AL$1867,A2728,A2727)-B$10-U$3","v":-2144.8215228285248},{"$f":"OFFSET(AL$1890,A2728,A2727)-B$11-V$3","v":-133.91170250010464},{"$f":"OFFSET(AL$1844,A2728,A2727)-B$12-W$3","v":-207},{"$f":"B2730*F$5+C2730*F$4","v":-2144.8215228285248},{"$f":"C2730*F$5-B2730*F$4","v":-133.91170250010464},-207,-2144.8215228285248,{"$f":"F2730*F$7+G2730*F$6","v":-133.91170250010464},{"$f":"G2730*F$7-F2730*F$6","v":-207},{"$f":"H2730*F$9+J2730*F$8","v":-2144.8215228285248},{"$f":"I2730","v":-133.91170250010464},{"$f":"J2730*F$9-H2730*F$8","v":-207},{"$f":"IF(P2727=1,K2730*B$1/(B$1+B$2+L2730),99999)","v":99999},{"$f":"M2730*B$1/(B$1+B$2+L2730)","v":33.410887886045337}]
[null,{"$f":"OFFSET(AL$1867,A2733,A2732+1)-B$10-U$3","v":-1544.8215228285248},{"$f":"OFFSET(AL$1890,A2733,A2732+1)-B$11-V$3","v":-133.91170250010464},{"$f":"OFFSET(AL$1844,A2733,A2732+1)-B$12-W$3","v":-207},{"$f":"B2734*F$5+C2734*F$4","v":-1544.8215228285248},{"$f":"C2734*F$5-B2734*F$4","v":-133.91170250010464},-207,-1544.8215228285248,{"$f":"F2734*F$7+G2734*F$6","v":-133.91170250010464},{"$f":"G2734*F$7-F2734*F$6","v":-207},{"$f":"H2734*F$9+J2734*F$8","v":-1544.8215228285248},{"$f":"I2734","v":-133.91170250010464},{"$f":"J2734*F$9-H2734*F$8","v":-207},{"$f":"IF(P2732=1,K2734*B$1/(B$1+B$2+L2734),99999)","v":99999},{"$f":"M2734*B$1/(B$1+B$2+L2734)","v":33.410887886045337}]
[null,{"$f":"OFFSET(AL$1867,A2733,A2732)-B$10-U$3","v":-1844.8215228285248},{"$f":"OFFSET(AL$1890,A2733,A2732)-B$11-V$3","v":-133.91170250010464},{"$f":"OFFSET(AL$1844,A2733,A2732)-B$12-W$3","v":-207},{"$f":"B2735*F$5+C2735*F$4","v":-1844.8215228285248},{"$f":"C2735*F$5-B2735*F$4","v":-133.91170250010464},-207,-1844.8215228285248,{"$f":"F2735*F$7+G2735*F$6","v":-133.91170250010464},{"$f":"G2735*F$7-F2735*F$6","v":-207},{"$f":"H2735*F$9+J2735*F$8","v":-1844.8215228285248},{"$f":"I2735","v":-133.91170250010464},{"$f":"J2735*F$9-H2735*F$8","v":-207},{"$f":"IF(P2732=1,K2735*B$1/(B$1+B$2+L2735),99999)","v":99999},{"$f":"M2735*B$1/(B$1+B$2+L2735)","v":33.410887886045337}]
[{"$f":"A2732+1","v":5},{"$f":"OFFSET(AL$1867,A2738,A2737)-B$10-U$3","v":-1544.8215228285248},{"$f":"OFFSET(AL$1890,A2738,A2737)-B$11-V$3","v":-133.91170250010464},{"$f":"OFFSET(AL$1844,A2738,A2737)-B$12-W$3","v":-207},{"$f":"B2737*F$5+C2737*F$4","v":-1544.8215228285248},{"$f":"C2737*F$5-B2737*F$4","v":-133.91170250010464},{"$f":"D2737","v":-207},-1544.8215228285248,{"$f":"F2737*F$7+G2737*F$6","v":-133.91170250010464},{"$f":"G2737*F$7-F2737*F$6","v":-207},{"$f":"H2737*F$9+J2737*F$8","v":-1544.8215228285248},{"$f":"I2737","v":-133.91170250010464},{"$f":"J2737*F$9-H2737*F$8","v":-207},{"$f":"IF(P2737=1,K2737*B$1/(B$1+B$2+L2737),99999)","v":99999},{"$f":"M2737*B$1/(B$1+B$2+L2737)","v":33.410887886045337},{"$f":"IF(MIN(L2737:L2740)+B$2+B$1>0,1,0)","v":0}]
[null,{"$f":"OFFSET(AL$1867,A2738,A2737)-B$10-U$3","v":-1544.8215228285248},{"$f":"OFFSET(AL$1890,A2738,A2737)-B$11-V$3","v":-133.91170250010464},{"$f":"OFFSET(AL$1844,A2738,A2737)-B$12-W$3","v":-207},{"$f":"B2740*F$5+C2740*F$4","v":-1544.8215228285248},{"$f":"C2740*F$5-B2740*F$4","v":-133.91170250010464},-207,-1544.8215228285248,{"$f":"F2740*F$7+G2740*F$6","v":-133.91170250010464},{"$f":"G2740*F$7-F2740*F$6","v":-207},{"$f":"H2740*F$9+J2740*F$8","v":-1544.8215228285248},{"$f":"I2740","v":-133.91170250010464},{"$f":"J2740*F$9-H2740*F$8","v":-207},{"$f":"IF(P2737=1,K2740*B$1/(B$1+B$2+L2740),99999)","v":99999},{"$f":"M2740*B$1/(B$1+B$2+L2740)","v":33.410887886045337}]
[{"$f":"A2738","v":10},{"$f":"OFFSET(AL$1867,A2743+1,A2742)-B$10-U$3","v":-1094.8215228285248},{"$f":"OFFSET(AL$1890,A2743+1,A2742)-B$11-V$3","v":125.89591863522708},{"$f":"OFFSET(AL$1844,A2743+1,A2742)-B$12-W$3","v":-207},{"$f":"B2743*F$5+C2743*F$4","v":-1094.8215228285248},{"$f":"C2743*F$5-B2743*F$4","v":125.89591863522708},-207,-1094.8215228285248,{"$f":"F2743*F$7+G2743*F$6","v":125.89591863522708},{"$f":"G2743*F$7-F2743*F$6","v":-207},{"$f":"H2743*F$9+J2743*F$8","v":-1094.8215228285248},{"$f":"I2743","v":125.89591863522708},{"$f":"J2743*F$9-H2743*F$8","v":-207},{"$f":"IF(P2742=1,K2743*B$1/(B$1+B$2+L2743),99999)","v":99999},{"$f":"M2743*B$1/(B$1+B$2+L2743)","v":-30.4644910721169}]
[null,{"$f":"OFFSET(AL$1867,A2743,A2742)-B$10-U$3","v":-1244.8215228285248},{"$f":"OFFSET(AL$1890,A2743,A2742)-B$11-V$3","v":-133.91170250010464},{"$f":"OFFSET(AL$1844,A2743,A2742)-B$12-W$3","v":-207},{"$f":"B2745*F$5+C2745*F$4","v":-1244.8215228285248},{"$f":"C2745*F$5-B2745*F$4","v":-133.91170250010464},-207,-1244.8215228285248,{"$f":"F2745*F$7+G2745*F$6","v":-133.91170250010464},{"$f":"G2745*F$7-F2745*F$6","v":-207},{"$f":"H2745*F$9+J2745*F$8","v":-1244.8215228285248},{"$f":"I2745","v":-133.91170250010464},{"$f":"J2745*F$9-H2745*F$8","v":-207},{"$f":"IF(P2742=1,K2745*B$1/(B$1+B$2+L2745),99999)","v":99999},{"$f":"M2745*B$1/(B$1+B$2+L2745)","v":33.410887886045337}]
[null,{"$f":"OFFSET(AL$1867,A2748,A2747+1)-B$10-U$3","v":-644.82152282852485},{"$f":"OFFSET(AL$1890,A2748,A2747+1)-B$11-V$3","v":-133.91170250010464},{"$f":"OFFSET(AL$1844,A2748,A2747+1)-B$12-W$3","v":-207},{"$f":"B2749*F$5+C2749*F$4","v":-644.82152282852485},{"$f":"C2749*F$5-B2749*F$4","v":-133.91170250010464},-207,-644.82152282852485,{"$f":"F2749*F$7+G2749*F$6","v":-133.91170250010464},{"$f":"G2749*F$7-F2749*F$6","v":-207},{"$f":"H2749*F$9+J2749*F$8","v":-644.82152282852485},{"$f":"I2749","v":-133.91170250010464},{"$f":"J2749*F$9-H2749*F$8","v":-207},{"$f":"IF(P2747=1,K2749*B$1/(B$1+B$2+L2749),99999)","v":99999},{"$f":"M2749*B$1/(B$1+B$2+L2749)","v":33.410887886045337}]
[null,{"$f":"OFFSET(AL$1867,A2748,A2747)-B$10-U$3","v":-944.82152282852485},{"$f":"OFFSET(AL$1890,A2748,A2747)-B$11-V$3","v":-133.91170250010464},{"$f":"OFFSET(AL$1844,A2748,A2747)-B$12-W$3","v":-207},{"$f":"B2750*F$5+C2750*F$4","v":-944.82152282852485},{"$f":"C2750*F$5-B2750*F$4","v":-133.91170250010464},-207,-944.82152282852485,{"$f":"F2750*F$7+G2750*F$6","v":-133.91170250010464},{"$f":"G2750*F$7-F2750*F$6","v":-207},{"$f":"H2750*F$9+J2750*F$8","v":-944.82152282852485},{"$f":"I2750","v":-133.91170250010464},{"$f":"J2750*F$9-H2750*F$8","v":-207},{"$f":"IF(P2747=1,K2750*B$1/(B$1+B$2+L2750),99999)","v":99999},{"$f":"M2750*B$1/(B$1+B$2+L2750)","v":33.410887886045337}]
[{"$f":"A2748","v":10},{"$f":"OFFSET(AL$1867,A2753+1,A2752)-B$10-U$3","v":-494.82152282852485},{"$f":"OFFSET(AL$1890,A2753+1,A2752)-B$11-V$3","v":125.89591863522708},{"$f":"OFFSET(AL$1844,A2753+1,A2752)-B$12-W$3","v":-207},{"$f":"B2753*F$5+C2753*F$4","v":-494.82152282852485},{"$f":"C2753*F$5-B2753*F$4","v":125.89591863522708},-207,-494.82152282852485,{"$f":"F2753*F$7+G2753*F$6","v":125.89591863522708},{"$f":"G2753*F$7-F2753*F$6","v":-207},{"$f":"H2753*F$9+J2753*F$8","v":-494.82152282852485},{"$f":"I2753","v":125.89591863522708},{"$f":"J2753*F$9-H2753*F$8","v":-207},{"$f":"IF(P2752=1,K2753*B$1/(B$1+B$2+L2753),99999)","v":99999},{"$f":"M2753*B$1/(B$1+B$2+L2753)","v":-30.4644910721169}]
[null,{"$f":"OFFSET(AL$1867,A2753,A2752+1)-B$10-U$3","v":-344.82152282852485},{"$f":"OFFSET(AL$1890,A2753,A2752+1)-B$11-V$3","v":-133.91170250010464},{"$f":"OFFSET(AL$1844,A2753,A2752+1)-B$12-W$3","v":-207},{"$f":"B2754*F$5+C2754*F$4","v":-344.82152282852485},{"$f":"C2754*F$5-B2754*F$4","v":-133.91170250010464},-207,-344.82152282852485,{"$f":"F2754*F$7+G2754*F$6","v":-133.91170250010464},{"$f":"G2754*F$7-F2754*F$6","v":-207},{"$f":"H2754*F$9+J2754*F$8","v":-344.82152282852485},{"$f":"I2754","v":-133.91170250010464},{"$f":"J2754*F$9-H2754*F$8","v":-207},{"$f":"IF(P2752=1,K2754*B$1/(B$1+B$2+L2754),99999)","v":99999},{"$f":"M2754*B$1/(B$1+B$2+L2754)","v":33.410887886045337}]
[{"$f":"A2753","v":10},{"$f":"OFFSET(AL$1867,A2758+1,A2757)-B$10-U$3","v":-194.82152282852485},{"$f":"OFFSET(AL$1890,A2758+1,A2757)-B$11-V$3","v":125.89591863522708},{"$f":"OFFSET(AL$1844,A2758+1,A2757)-B$12-W$3","v":-207},{"$f":"B2758*F$5+C2758*F$4","v":-194.82152282852485},{"$f":"C2758*F$5-B2758*F$4","v":125.89591863522708},-207,-194.82152282852485,{"$f":"F2758*F$7+G2758*F$6","v":125.89591863522708},{"$f":"G2758*F$7-F2758*F$6","v":-207},{"$f":"H2758*F$9+J2758*F$8","v":-194.82152282852485},{"$f":"I2758","v":125.89591863522708},{"$f":"J2758*F$9-H2758*F$8","v":-207},{"$f":"IF(P2757=1,K2758*B$1/(B$1+B$2+L2758),99999)","v":99999},{"$f":"M2758*B$1/(B$1+B$2+L2758)","v":-30.4644910721169}]
[null,{"$f":"OFFSET(AL$1867,A2758,A2757)-B$10-U$3","v":-344.82152282852485},{"$f":"OFFSET(AL$1890,A2758,A2757)-B$11-V$3","v":-133.91170250010464},{"$f":"OFFSET(AL$1844,A2758,A2757)-B$12-W$3","v":-207},{"$f":"B2760*F$5+C2760*F$4","v":-344.82152282852485},{"$f":"C2760*F$5-B2760*F$4","v":-133.91170250010464},-207,-344.82152282852485,{"$f":"F2760*F$7+G2760*F$6","v":-133.91170250010464},{"$f":"G2760*F$7-F2760*F$6","v":-207},{"$f":"H2760*F$9+J2760*F$8","v":-344.82152282852485},{"$f":"I2760","v":-133.91170250010464},{"$f":"J2760*F$9-H2760*F$8","v":-207},{"$f":"IF(P2757=1,K2760*B$1/(B$1+B$2+L2760),99999)","v":99999},{"$f":"M2760*B$1/(B$1+B$2+L2760)","v":33.410887886045337}]
[{"$f":"A2758","v":10},{"$f":"OFFSET(AL$1867,A2763+1,A2762)-B$10-U$3","v":105.17847717147515},{"$f":"OFFSET(AL$1890,A2763+1,A2762)-B$11-V$3","v":125.89591863522708},{"$f":"OFFSET(AL$1844,A2763+1,A2762)-B$12-W$3","v":-207},{"$f":"B2763*F$5+C2763*F$4","v":105.17847717147515},{"$f":"C2763*F$5-B2763*F$4","v":125.89591863522708},-207,105.17847717147515,{"$f":"F2763*F$7+G2763*F$6","v":125.89591863522708},{"$f":"G2763*F$7-F2763*F$6","v":-207},{"$f":"H2763*F$9+J2763*F$8","v":105.17847717147515},{"$f":"I2763","v":125.89591863522708},{"$f":"J2763*F$9-H2763*F$8","v":-207},{"$f":"IF(P2762=1,K2763*B$1/(B$1+B$2+L2763),99999)","v":99999},{"$f":"M2763*B$1/(B$1+B$2+L2763)","v":-30.4644910721169}]
[null,{"$f":"OFFSET(AL$1867,A2763,A2762)-B$10-U$3","v":-44.821522828524849},{"$f":"OFFSET(AL$1890,A2763,A2762)-B$11-V$3","v":-133.91170250010464},{"$f":"OFFSET(AL$1844,A2763,A2762)-B$12-W$3","v":-207},{"$f":"B2765*F$5+C2765*F$4","v":-44.821522828524849},{"$f":"C2765*F$5-B2765*F$4","v":-133.91170250010464},-207,-44.821522828524849,{"$f":"F2765*F$7+G2765*F$6","v":-133.91170250010464},{"$f":"G2765*F$7-F2765*F$6","v":-207},{"$f":"H2765*F$9+J2765*F$8","v":-44.821522828524849},{"$f":"I2765","v":-133.91170250010464},{"$f":"J2765*F$9-H2765*F$8","v":-207},{"$f":"IF(P2762=1,K2765*B$1/(B$1+B$2+L2765),99999)","v":99999},{"$f":"M2765*B$1/(B$1+B$2+L2765)","v":33.410887886045337}]
[{"$f":"A2763","v":10},{"$f":"OFFSET(AL$1867,A2768+1,A2767)-B$10-U$3","v":405.17847717147515},{"$f":"OFFSET(AL$1890,A2768+1,A2767)-B$11-V$3","v":125.89591863522708},{"$f":"OFFSET(AL$1844,A2768+1,A2767)-B$12-W$3","v":-207},{"$f":"B2768*F$5+C2768*F$4","v":405.17847717147515},{"$f":"C2768*F$5-B2768*F$4","v":125.89591863522708},-207,405.17847717147515,{"$f":"F2768*F$7+G2768*F$6","v":125.89591863522708},{"$f":"G2768*F$7-F2768*F$6","v":-207},{"$f":"H2768*F$9+J2768*F$8","v":405.17847717147515},{"$f":"I2768","v":125.89591863522708},{"$f":"J2768*F$9-H2768*F$8","v":-207},{"$f":"IF(P2767=1,K2768*B$1/(B$1+B$2+L2768),99999)","v":99999},{"$f":"M2768*B$1/(B$1+B$2+L2768)","v":-30.4644910721169}]
[]
[{"$f":"A2768","v":10},{"$f":"OFFSET(AL$1867,A2773+1,A2772)-B$10-U$3","v":705.17847717147515},{"$f":"OFFSET(AL$1890,A2773+1,A2772)-B$11-V$3","v":125.89591863522708},{"$f":"OFFSET(AL$1844,A2773+1,A2772)-B$12-W$3","v":-207},{"$f":"B2773*F$5+C2773*F$4","v":705.17847717147515},{"$f":"C2773*F$5-B2773*F$4","v":125.89591863522708},-207,705.17847717147515,{"$f":"F2773*F$7+G2773*F$6","v":125.89591863522708},{"$f":"G2773*F$7-F2773*F$6","v":-207},{"$f":"H2773*F$9+J2773*F$8","v":705.17847717147515},{"$f":"I2773","v":125.89591863522708},{"$f":"J2773*F$9-H2773*F$8","v":-207},{"$f":"IF(P2772=1,K2773*B$1/(B$1+B$2+L2773),99999)","v":99999},{"$f":"M2773*B$1/(B$1+B$2+L2773)","v":-30.4644910721169}]
[null,{"$f":"OFFSET(AL$1867,A2773,A2772+1)-B$10-U$3","v":855.17847717147515},{"$f":"OFFSET(AL$1890,A2773,A2772+1)-B$11-V$3","v":-133.91170250010464},{"$f":"OFFSET(AL$1844,A2773,A2772+1)-B$12-W$3","v":-207},{"$f":"B2774*F$5+C2774*F$4","v":855.17847717147515},{"$f":"C2774*F$5-B2774*F$4","v":-133.91170250010464},-207,855.17847717147515,{"$f":"F2774*F$7+G2774*F$6","v":-133.91170250010464},{"$f":"G2774*F$7-F2774*F$6","v":-207},{"$f":"H2774*F$9+J2774*F$8","v":855.17847717147515},{"$f":"I2774","v":-133.91170250010464},{"$f":"J2774*F$9-H2774*F$8","v":-207},{"$f":"IF(P2772=1,K2774*B$1/(B$1+B$2+L2774),99999)","v":99999},{"$f":"M2774*B$1/(B$1+B$2+L2774)","v":33.410887886045337}]
[{"$f":"A2773","v":10},{"$f":"OFFSET(AL$1867,A2778+1,A2777)-B$10-U$3","v":1005.1784771714752},{"$f":"OFFSET(AL$1890,A2778+1,A2777)-B$11-V$3","v":125.89591863522708},{"$f":"OFFSET(AL$1844,A2778+1,A2777)-B$12-W$3","v":-207},{"$f":"B2778*F$5+C2778*F$4","v":1005.1784771714752},{"$f":"C2778*F$5-B2778*F$4","v":125.89591863522708},-207,1005.1784771714752,{"$f":"F2778*F$7+G2778*F$6","v":125.89591863522708},{"$f":"G2778*F$7-F2778*F$6","v":-207},{"$f":"H2778*F$9+J2778*F$8","v":1005.1784771714752},{"$f":"I2778","v":125.89591863522708},{"$f":"J2778*F$9-H2778*F$8","v":-207},{"$f":"IF(P2777=1,K2778*B$1/(B$1+B$2+L2778),99999)","v":99999},{"$f":"M2778*B$1/(B$1+B$2+L2778)","v":-30.4644910721169}]
[null,{"$f":"OFFSET(AL$1867,A2778,A2777)-B$10-U$3","v":855.17847717147515},{"$f":"OFFSET(AL$1890,A2778,A2777)-B$11-V$3","v":-133.91170250010464},{"$f":"OFFSET(AL$1844,A2778,A2777)-B$12-W$3","v":-207},{"$f":"B2780*F$5+C2780*F$4","v":855.17847717147515},{"$f":"C2780*F$5-B2780*F$4","v":-133.91170250010464},-207,855.17847717147515,{"$f":"F2780*F$7+G2780*F$6","v":-133.91170250010464},{"$f":"G2780*F$7-F2780*F$6","v":-207},{"$f":"H2780*F$9+J2780*F$8","v":855.17847717147515},{"$f":"I2780","v":-133.91170250010464},{"$f":"J2780*F$9-H2780*F$8","v":-207},{"$f":"IF(P2777=1,K2780*B$1/(B$1+B$2+L2780),99999)","v":99999},{"$f":"M2780*B$1/(B$1+B$2+L2780)","v":33.410887886045337}]
[{"$f":"A2778","v":10},{"$f":"OFFSET(AL$1867,A2783+1,A2782)-B$10-U$3","v":1305.1784771714752},{"$f":"OFFSET(AL$1890,A2783+1,A2782)-B$11-V$3","v":125.89591863522708},{"$f":"OFFSET(AL$1844,A2783+1,A2782)-B$12-W$3","v":-207},{"$f":"B2783*F$5+C2783*F$4","v":1305.1784771714752},{"$f":"C2783*F$5-B2783*F$4","v":125.89591863522708},-207,1305.1784771714752,{"$f":"F2783*F$7+G2783*F$6","v":125.89591863522708},{"$f":"G2783*F$7-F2783*F$6","v":-207},{"$f":"H2783*F$9+J2783*F$8","v":1305.1784771714752},{"$f":"I2783","v":125.89591863522708},{"$f":"J2783*F$9-H2783*F$8","v":-207},{"$f":"IF(P2782=1,K2783*B$1/(B$1+B$2+L2783),99999)","v":99999},{"$f":"M2783*B$1/(B$1+B$2+L2783)","v":-30.4644910721169}]
[null,{"$f":"OFFSET(AL$1867,A2783,A2782+1)-B$10-U$3","v":1455.1784771714752},{"$f":"OFFSET(AL$1890,A2783,A2782+1)-B$11-V$3","v":-133.91170250010464},{"$f":"OFFSET(AL$1844,A2783,A2782+1)-B$12-W$3","v":-207},{"$f":"B2784*F$5+C2784*F$4","v":1455.1784771714752},{"$f":"C2784*F$5-B2784*F$4","v":-133.91170250010464},-207,1455.1784771714752,{"$f":"F2784*F$7+G2784*F$6","v":-133.91170250010464},{"$f":"G2784*F$7-F2784*F$6","v":-207},{"$f":"H2784*F$9+J2784*F$8","v":1455.1784771714752},{"$f":"I2784","v":-133.91170250010464},{"$f":"J2784*F$9-H2784*F$8","v":-207},{"$f":"IF(P2782=1,K2784*B$1/(B$1+B$2+L2784),99999)","v":99999},{"$f":"M2784*B$1/(B$1+B$2+L2784)","v":33.410887886045337}]
[{"$f":"A2783","v":10},{"$f":"OFFSET(AL$1867,A2788+1,A2787)-B$10-U$3","v":1605.1784771714752},{"$f":"OFFSET(AL$1890,A2788+1,A2787)-B$11-V$3","v":125.89591863522708},{"$f":"OFFSET(AL$1844,A2788+1,A2787)-B$12-W$3","v":-207},{"$f":"B2788*F$5+C2788*F$4","v":1605.1784771714752},{"$f":"C2788*F$5-B2788*F$4","v":125.89591863522708},-207,1605.1784771714752,{"$f":"F2788*F$7+G2788*F$6","v":125.89591863522708},{"$f":"G2788*F$7-F2788*F$6","v":-207},{"$f":"H2788*F$9+J2788*F$8","v":1605.1784771714752},{"$f":"I2788","v":125.89591863522708},{"$f":"J2788*F$9-H2788*F$8","v":-207},{"$f":"IF(P2787=1,K2788*B$1/(B$1+B$2+L2788),99999)","v":99999},{"$f":"M2788*B$1/(B$1+B$2+L2788)","v":-30.4644910721169}]
[null,{"$f":"OFFSET(AL$1867,A2788,A2787+1)-B$10-U$3","v":1755.1784771714752},{"$f":"OFFSET(AL$1890,A2788,A2787+1)-B$11-V$3","v":-133.91170250010464},{"$f":"OFFSET(AL$1844,A2788,A2787+1)-B$12-W$3","v":-207},{"$f":"B2789*F$5+C2789*F$4","v":1755.1784771714752},{"$f":"C2789*F$5-B2789*F$4","v":-133.91170250010464},-207,1755.1784771714752,{"$f":"F2789*F$7+G2789*F$6","v":-133.91170250010464},{"$f":"G2789*F$7-F2789*F$6","v":-207},{"$f":"H2789*F$9+J2789*F$8","v":1755.1784771714752},{"$f":"I2789","v":-133.91170250010464},{"$f":"J2789*F$9-H2789*F$8","v":-207},{"$f":"IF(P2787=1,K2789*B$1/(B$1+B$2+L2789),99999)","v":99999},{"$f":"M2789*B$1/(B$1+B$2+L2789)","v":33.410887886045337}]
[]
[null,{"$f":"OFFSET(AL$1867,A2793,A2792+1)-B$10-U$3","v":2055.1784771714752},{"$f":"OFFSET(AL$1890,A2793,A2792+1)-B$11-V$3","v":-133.91170250010464},{"$f":"OFFSET(AL$1844,A2793,A2792+1)-B$12-W$3","v":-207},{"$f":"B2794*F$5+C2794*F$4","v":2055.1784771714752},{"$f":"C2794*F$5-B2794*F$4","v":-133.91170250010464},-207,2055.1784771714752,{"$f":"F2794*F$7+G2794*F$6","v":-133.91170250010464},{"$f":"G2794*F$7-F2794*F$6","v":-207},{"$f":"H2794*F$9+J2794*F$8","v":2055.1784771714752},{"$f":"I2794","v":-133.91170250010464},{"$f":"J2794*F$9-H2794*F$8","v":-207},{"$f":"IF(P2792=1,K2794*B$1/(B$1+B$2+L2794),99999)","v":99999},{"$f":"M2794*B$1/(B$1+B$2+L2794)","v":33.410887886045337}]
[]
[null,{"$f":"OFFSET(AL$1867,A2798,A2797+1)-B$10-U$3","v":2355.1784771714752},{"$f":"OFFSET(AL$1890,A2798,A2797+1)-B$11-V$3","v":-133.91170250010464},{"$f":"OFFSET(AL$1844,A2798,A2797+1)-B$12-W$3","v":-207},{"$f":"B2799*F$5+C2799*F$4","v":2355.1784771714752},{"$f":"C2799*F$5-B2799*F$4","v":-133.91170250010464},-207,2355.1784771714752,{"$f":"F2799*F$7+G2799*F$6","v":-133.91170250010464},{"$f":"G2799*F$7-F2799*F$6","v":-207},{"$f":"H2799*F$9+J2799*F$8","v":2355.1784771714752},{"$f":"I2799","v":-133.91170250010464},{"$f":"J2799*F$9-H2799*F$8","v":-207},{"$f":"IF(P2797=1,K2799*B$1/(B$1+B$2+L2799),99999)","v":99999},{"$f":"M2799*B$1/(B$1+B$2+L2799)","v":33.410887886045337}]
[{"$f":"A2797+1","v":18},{"$f":"OFFSET(AL$1867,A2803,A2802)-B$10-U$3","v":2355.1784771714752},{"$f":"OFFSET(AL$1890,A2803,A2802)-B$11-V$3","v":-133.91170250010464},{"$f":"OFFSET(AL$1844,A2803,A2802)-B$12-W$3","v":-207},{"$f":"B2802*F$5+C2802*F$4","v":2355.1784771714752},{"$f":"C2802*F$5-B2802*F$4","v":-133.91170250010464},{"$f":"D2802","v":-207},2355.1784771714752,{"$f":"F2802*F$7+G2802*F$6","v":-133.91170250010464},{"$f":"G2802*F$7-F2802*F$6","v":-207},{"$f":"H2802*F$9+J2802*F$8","v":2355.1784771714752},{"$f":"I2802","v":-133.91170250010464},{"$f":"J2802*F$9-H2802*F$8","v":-207},{"$f":"IF(P2802=1,K2802*B$1/(B$1+B$2+L2802),99999)","v":99999},{"$f":"M2802*B$1/(B$1+B$2+L2802)","v":33.410887886045337},{"$f":"IF(MIN(L2802:L2805)+B$2+B$1>0,1,0)","v":0}]
[null,{"$f":"OFFSET(AL$1867,A2803,A2802+1)-B$10-U$3","v":2655.1784771714752},{"$f":"OFFSET(AL$1890,A2803,A2802+1)-B$11-V$3","v":-133.91170250010464},{"$f":"OFFSET(AL$1844,A2803,A2802+1)-B$12-W$3","v":-207},{"$f":"B2804*F$5+C2804*F$4","v":2655.1784771714752},{"$f":"C2804*F$5-B2804*F$4","v":-133.91170250010464},-207,2655.1784771714752,{"$f":"F2804*F$7+G2804*F$6","v":-133.91170250010464},{"$f":"G2804*F$7-F2804*F$6","v":-207},{"$f":"H2804*F$9+J2804*F$8","v":2655.1784771714752},{"$f":"I2804","v":-133.91170250010464},{"$f":"J2804*F$9-H2804*F$8","v":-207},{"$f":"IF(P2802=1,K2804*B$1/(B$1+B$2+L2804),99999)","v":99999},{"$f":"M2804*B$1/(B$1+B$2+L2804)","v":33.410887886045337}]
[{"$f":"A2803","v":10},{"$f":"OFFSET(AL$1867,A2808+1,A2807)-B$10-U$3","v":2805.1784771714752},{"$f":"OFFSET(AL$1890,A2808+1,A2807)-B$11-V$3","v":125.89591863522708},{"$f":"OFFSET(AL$1844,A2808+1,A2807)-B$12-W$3","v":-207},{"$f":"B2808*F$5+C2808*F$4","v":2805.1784771714752},{"$f":"C2808*F$5-B2808*F$4","v":125.89591863522708},-207,2805.1784771714752,{"$f":"F2808*F$7+G2808*F$6","v":125.89591863522708},{"$f":"G2808*F$7-F2808*F$6","v":-207},{"$f":"H2808*F$9+J2808*F$8","v":2805.1784771714752},{"$f":"I2808","v":125.89591863522708},{"$f":"J2808*F$9-H2808*F$8","v":-207},{"$f":"IF(P2807=1,K2808*B$1/(B$1+B$2+L2808),99999)","v":99999},{"$f":"M2808*B$1/(B$1+B$2+L2808)","v":-30.4644910721169}]
[null,{"$f":"OFFSET(AL$1867,A2808,A2807+1)-B$10-U$3","v":2955.1784771714752},{"$f":"OFFSET(AL$1890,A2808,A2807+1)-B$11-V$3","v":-133.91170250010464},{"$f":"OFFSET(AL$1844,A2808,A2807+1)-B$12-W$3","v":-207},{"$f":"B2809*F$5+C2809*F$4","v":2955.1784771714752},{"$f":"C2809*F$5-B2809*F$4","v":-133.91170250010464},-207,2955.1784771714752,{"$f":"F2809*F$7+G2809*F$6","v":-133.91170250010464},{"$f":"G2809*F$7-F2809*F$6","v":-207},{"$f":"H2809*F$9+J2809*F$8","v":2955.1784771714752},{"$f":"I2809","v":-133.91170250010464},{"$f":"J2809*F$9-H2809*F$8","v":-207},{"$f":"IF(P2807=1,K2809*B$1/(B$1+B$2+L2809),99999)","v":99999},{"$f":"M2809*B$1/(B$1+B$2+L2809)","v":33.410887886045337}]
[]
[null,{"$f":"OFFSET(AL$1867,A2813,A2812+1)-B$10-U$3","v":-2594.8215228285248},{"$f":"OFFSET(AL$1890,A2813,A2812+1)-B$11-V$3","v":125.89591863522708},{"$f":"OFFSET(AL$1844,A2813,A2812+1)-B$12-W$3","v":-207},{"$f":"B2814*F$5+C2814*F$4","v":-2594.8215228285248},{"$f":"C2814*F$5-B2814*F$4","v":125.89591863522708},-207,-2594.8215228285248,{"$f":"F2814*F$7+G2814*F$6","v":125.89591863522708},{"$f":"G2814*F$7-F2814*F$6","v":-207},{"$f":"H2814*F$9+J2814*F$8","v":-2594.8215228285248},{"$f":"I2814","v":125.89591863522708},{"$f":"J2814*F$9-H2814*F$8","v":-207},{"$f":"IF(P2812=1,K2814*B$1/(B$1+B$2+L2814),99999)","v":-381.8836575649583},{"$f":"M2814*B$1/(B$1+B$2+L2814)","v":-30.4644910721169}]
[{"$f":"A2812+1","v":1},{"$f":"OFFSET(AL$1867,A2818,A2817)-B$10-U$3","v":-2594.8215228285248},{"$f":"OFFSET(AL$1890,A2818,A2817)-B$11-V$3","v":125.89591863522708},{"$f":"OFFSET(AL$1844,A2818,A2817)-B$12-W$3","v":-207},{"$f":"B2817*F$5+C2817*F$4","v":-2594.8215228285248},{"$f":"C2817*F$5-B2817*F$4","v":125.89591863522708},{"$f":"D2817","v":-207},-2594.8215228285248,{"$f":"F2817*F$7+G2817*F$6","v":125.89591863522708},{"$f":"G2817*F$7-F2817*F$6","v":-207},{"$f":"H2817*F$9+J2817*F$8","v":-2594.8215228285248},{"$f":"I2817","v":125.89591863522708},{"$f":"J2817*F$9-H2817*F$8","v":-207},{"$f":"IF(P2817=1,K2817*B$1/(B$1+B$2+L2817),99999)","v":-381.8836575649583},{"$f":"M2817*B$1/(B$1+B$2+L2817)","v":-30.4644910721169},{"$f":"IF(MIN(L2817:L2820)+B$2+B$1>0,1,0)","v":1}]
[null,{"$f":"OFFSET(AL$1867,A2818,A2817+1)-B$10-U$3","v":-2294.8215228285248},{"$f":"OFFSET(AL$1890,A2818,A2817+1)-B$11-V$3","v":125.89591863522708},{"$f":"OFFSET(AL$1844,A2818,A2817+1)-B$12-W$3","v":-207},{"$f":"B2819*F$5+C2819*F$4","v":-2294.8215228285248},{"$f":"C2819*F$5-B2819*F$4","v":125.89591863522708},-207,-2294.8215228285248,{"$f":"F2819*F$7+G2819*F$6","v":125.89591863522708},{"$f":"G2819*F$7-F2819*F$6","v":-207},{"$f":"H2819*F$9+J2819*F$8","v":-2294.8215228285248},{"$f":"I2819","v":125.89591863522708},{"$f":"J2819*F$9-H2819*F$8","v":-207},{"$f":"IF(P2817=1,K2819*B$1/(B$1+B$2+L2819),99999)","v":-337.73222122855702},{"$f":"M2819*B$1/(B$1+B$2+L2819)","v":-30.4644910721169}]
[{"$f":"A2817+1","v":2},{"$f":"OFFSET(AL$1867,A2823,A2822)-B$10-U$3","v":-2294.8215228285248},{"$f":"OFFSET(AL$1890,A2823,A2822)-B$11-V$3","v":125.89591863522708},{"$f":"OFFSET(AL$1844,A2823,A2822)-B$12-W$3","v":-207},{"$f":"B2822*F$5+C2822*F$4","v":-2294.8215228285248},{"$f":"C2822*F$5-B2822*F$4","v":125.89591863522708},{"$f":"D2822","v":-207},-2294.8215228285248,{"$f":"F2822*F$7+G2822*F$6","v":125.89591863522708},{"$f":"G2822*F$7-F2822*F$6","v":-207},{"$f":"H2822*F$9+J2822*F$8","v":-2294.8215228285248},{"$f":"I2822","v":125.89591863522708},{"$f":"J2822*F$9-H2822*F$8","v":-207},{"$f":"IF(P2822=1,K2822*B$1/(B$1+B$2+L2822),99999)","v":-337.73222122855702},{"$f":"M2822*B$1/(B$1+B$2+L2822)","v":-30.4644910721169},{"$f":"IF(MIN(L2822:L2825)+B$2+B$1>0,1,0)","v":1}]
[null,{"$f":"OFFSET(AL$1867,A2823,A2822)-B$10-U$3","v":-2294.8215228285248},{"$f":"OFFSET(AL$1890,A2823,A2822)-B$11-V$3","v":125.89591863522708},{"$f":"OFFSET(AL$1844,A2823,A2822)-B$12-W$3","v":-207},{"$f":"B2825*F$5+C2825*F$4","v":-2294.8215228285248},{"$f":"C2825*F$5-B2825*F$4","v":125.89591863522708},-207,-2294.8215228285248,{"$f":"F2825*F$7+G2825*F$6","v":125.89591863522708},{"$f":"G2825*F$7-F2825*F$6","v":-207},{"$f":"H2825*F$9+J2825*F$8","v":-2294.8215228285248},{"$f":"I2825","v":125.89591863522708},{"$f":"J2825*F$9-H2825*F$8","v":-207},{"$f":"IF(P2822=1,K2825*B$1/(B$1+B$2+L2825),99999)","v":-337.73222122855702},{"$f":"M2825*B$1/(B$1+B$2+L2825)","v":-30.4644910721169}]
[{"$f":"A2822+1","v":3},{"$f":"OFFSET(AL$1867,A2828,A2827)-B$10-U$3","v":-1994.8215228285248},{"$f":"OFFSET(AL$1890,A2828,A2827)-B$11-V$3","v":125.89591863522708},{"$f":"OFFSET(AL$1844,A2828,A2827)-B$12-W$3","v":-207},{"$f":"B2827*F$5+C2827*F$4","v":-1994.8215228285248},{"$f":"C2827*F$5-B2827*F$4","v":125.89591863522708},{"$f":"D2827","v":-207},-1994.8215228285248,{"$f":"F2827*F$7+G2827*F$6","v":125.89591863522708},{"$f":"G2827*F$7-F2827*F$6","v":-207},{"$f":"H2827*F$9+J2827*F$8","v":-1994.8215228285248},{"$f":"I2827","v":125.89591863522708},{"$f":"J2827*F$9-H2827*F$8","v":-207},{"$f":"IF(P2827=1,K2827*B$1/(B$1+B$2+L2827),99999)","v":-293.58078489215569},{"$f":"M2827*B$1/(B$1+B$2+L2827)","v":-30.4644910721169},{"$f":"IF(MIN(L2827:L2830)+B$2+B$1>0,1,0)","v":1}]
[null,{"$f":"OFFSET(AL$1867,A2828,A2827)-B$10-U$3","v":-1994.8215228285248},{"$f":"OFFSET(AL$1890,A2828,A2827)-B$11-V$3","v":125.89591863522708},{"$f":"OFFSET(AL$1844,A2828,A2827)-B$12-W$3","v":-207},{"$f":"B2830*F$5+C2830*F$4","v":-1994.8215228285248},{"$f":"C2830*F$5-B2830*F$4","v":125.89591863522708},-207,-1994.8215228285248,{"$f":"F2830*F$7+G2830*F$6","v":125.89591863522708},{"$f":"G2830*F$7-F2830*F$6","v":-207},{"$f":"H2830*F$9+J2830*F$8","v":-1994.8215228285248},{"$f":"I2830","v":125.89591863522708},{"$f":"J2830*F$9-H2830*F$8","v":-207},{"$f":"IF(P2827=1,K2830*B$1/(B$1+B$2+L2830),99999)","v":-293.58078489215569},{"$f":"M2830*B$1/(B$1+B$2+L2830)","v":-30.4644910721169}]
[{"$f":"A2827+1","v":4},{"$f":"OFFSET(AL$1867,A2833,A2832)-B$10-U$3","v":-1694.8215228285248},{"$f":"OFFSET(AL$1890,A2833,A2832)-B$11-V$3","v":125.89591863522708},{"$f":"OFFSET(AL$1844,A2833,A2832)-B$12-W$3","v":-207},{"$f":"B2832*F$5+C2832*F$4","v":-1694.8215228285248},{"$f":"C2832*F$5-B2832*F$4","v":125.89591863522708},{"$f":"D2832","v":-207},-1694.8215228285248,{"$f":"F2832*F$7+G2832*F$6","v":125.89591863522708},{"$f":"G2832*F$7-F2832*F$6","v":-207},{"$f":"H2832*F$9+J2832*F$8","v":-1694.8215228285248},{"$f":"I2832","v":125.89591863522708},{"$f":"J2832*F$9-H2832*F$8","v":-207},{"$f":"IF(P2832=1,K2832*B$1/(B$1+B$2+L2832),99999)","v":-249.42934855575442},{"$f":"M2832*B$1/(B$1+B$2+L2832)","v":-30.4644910721169},{"$f":"IF(MIN(L2832:L2835)+B$2+B$1>0,1,0)","v":1}]
[{"$f":"A2828","v":11},{"$f":"OFFSET(AL$1867,A2833+1,A2832+1)-B$10-U$3","v":-1544.8215228285248},{"$f":"OFFSET(AL$1890,A2833+1,A2832+1)-B$11-V$3","v":385.70353977055879},{"$f":"OFFSET(AL$1844,A2833+1,A2832+1)-B$12-W$3","v":-207},{"$f":"B2833*F$5+C2833*F$4","v":-1544.8215228285248},{"$f":"C2833*F$5-B2833*F$4","v":385.70353977055879},-207,-1544.8215228285248,{"$f":"F2833*F$7+G2833*F$6","v":385.70353977055879},{"$f":"G2833*F$7-F2833*F$6","v":-207},{"$f":"H2833*F$9+J2833*F$8","v":-1544.8215228285248},{"$f":"I2833","v":385.70353977055879},{"$f":"J2833*F$9-H2833*F$8","v":-207},{"$f":"IF(P2832=1,K2833*B$1/(B$1+B$2+L2833),99999)","v":-78.079742411415396},{"$f":"M2833*B$1/(B$1+B$2+L2833)","v":-10.462377977211174}]
[{"$f":"A2832+1","v":5},{"$f":"OFFSET(AL$1867,A2838,A2837)-B$10-U$3","v":-1394.8215228285248},{"$f":"OFFSET(AL$1890,A2838,A2837)-B$11-V$3","v":125.89591863522708},{"$f":"OFFSET(AL$1844,A2838,A2837)-B$12-W$3","v":-207},{"$f":"B2837*F$5+C2837*F$4","v":-1394.8215228285248},{"$f":"C2837*F$5-B2837*F$4","v":125.89591863522708},{"$f":"D2837","v":-207},-1394.8215228285248,{"$f":"F2837*F$7+G2837*F$6","v":125.89591863522708},{"$f":"G2837*F$7-F2837*F$6","v":-207},{"$f":"H2837*F$9+J2837*F$8","v":-1394.8215228285248},{"$f":"I2837","v":125.89591863522708},{"$f":"J2837*F$9-H2837*F$8","v":-207},{"$f":"IF(P2837=1,K2837*B$1/(B$1+B$2+L2837),99999)","v":-205.27791221935311},{"$f":"M2837*B$1/(B$1+B$2+L2837)","v":-30.4644910721169},{"$f":"IF(MIN(L2837:L2840)+B$2+B$1>0,1,0)","v":1}]
[null,{"$f":"OFFSET(AL$1867,A2838,A2837+1)-B$10-U$3","v":-1094.8215228285248},{"$f":"OFFSET(AL$1890,A2838,A2837+1)-B$11-V$3","v":125.89591863522708},{"$f":"OFFSET(AL$1844,A2838,A2837+1)-B$12-W$3","v":-207},{"$f":"B2839*F$5+C2839*F$4","v":-1094.8215228285248},{"$f":"C2839*F$5-B2839*F$4","v":125.89591863522708},-207,-1094.8215228285248,{"$f":"F2839*F$7+G2839*F$6","v":125.89591863522708},{"$f":"G2839*F$7-F2839*F$6","v":-207},{"$f":"H2839*F$9+J2839*F$8","v":-1094.8215228285248},{"$f":"I2839","v":125.89591863522708},{"$f":"J2839*F$9-H2839*F$8","v":-207},{"$f":"IF(P2837=1,K2839*B$1/(B$1+B$2+L2839),99999)","v":-161.12647588295181},{"$f":"M2839*B$1/(B$1+B$2+L2839)","v":-30.4644910721169}]
[{"$f":"A2837+1","v":6},{"$f":"OFFSET(AL$1867,A2843,A2842)-B$10-U$3","v":-1094.8215228285248},{"$f":"OFFSET(AL$1890,A2843,A2842)-B$11-V$3","v":125.89591863522708},{"$f":"OFFSET(AL$1844,A2843,A2842)-B$12-W$3","v":-207},{"$f":"B2842*F$5+C2842*F$4","v":-1094.8215228285248},{"$f":"C2842*F$5-B2842*F$4","v":125.89591863522708},{"$f":"D2842","v":-207},-1094.8215228285248,{"$f":"F2842*F$7+G2842*F$6","v":125.89591863522708},{"$f":"G2842*F$7-F2842*F$6","v":-207},{"$f":"H2842*F$9+J2842*F$8","v":-1094.8215228285248},{"$f":"I2842","v":125.89591863522708},{"$f":"J2842*F$9-H2842*F$8","v":-207},{"$f":"IF(P2842=1,K2842*B$1/(B$1+B$2+L2842),99999)","v":-161.12647588295181},{"$f":"M2842*B$1/(B$1+B$2+L2842)","v":-30.4644910721169},{"$f":"IF(MIN(L2842:L2845)+B$2+B$1>0,1,0)","v":1}]
[null,{"$f":"OFFSET(AL$1867,A2843,A2842)-B$10-U$3","v":-1094.8215228285248},{"$f":"OFFSET(AL$1890,A2843,A2842)-B$11-V$3","v":125.89591863522708},{"$f":"OFFSET(AL$1844,A2843,A2842)-B$12-W$3","v":-207},{"$f":"B2845*F$5+C2845*F$4","v":-1094.8215228285248},{"$f":"C2845*F$5-B2845*F$4","v":125.89591863522708},-207,-1094.8215228285248,{"$f":"F2845*F$7+G2845*F$6","v":125.89591863522708},{"$f":"G2845*F$7-F2845*F$6","v":-207},{"$f":"H2845*F$9+J2845*F$8","v":-1094.8215228285248},{"$f":"I2845","v":125.89591863522708},{"$f":"J2845*F$9-H2845*F$8","v":-207},{"$f":"IF(P2842=1,K2845*B$1/(B$1+B$2+L2845),99999)","v":-161.12647588295181},{"$f":"M2845*B$1/(B$1+B$2+L2845)","v":-30.4644910721169}]
[{"$f":"A2842+1","v":7},{"$f":"OFFSET(AL$1867,A2848,A2847)-B$10-U$3","v":-794.82152282852485},{"$f":"OFFSET(AL$1890,A2848,A2847)-B$11-V$3","v":125.89591863522708},{"$f":"OFFSET(AL$1844,A2848,A2847)-B$12-W$3","v":-207},{"$f":"B2847*F$5+C2847*F$4","v":-794.82152282852485},{"$f":"C2847*F$5-B2847*F$4","v":125.89591863522708},{"$f":"D2847","v":-207},-794.82152282852485,{"$f":"F2847*F$7+G2847*F$6","v":125.89591863522708},{"$f":"G2847*F$7-F2847*F$6","v":-207},{"$f":"H2847*F$9+J2847*F$8","v":-794.82152282852485},{"$f":"I2847","v":125.89591863522708},{"$f":"J2847*F$9-H2847*F$8","v":-207},{"$f":"IF(P2847=1,K2847*B$1/(B$1+B$2+L2847),99999)","v":-116.97503954655051},{"$f":"M2847*B$1/(B$1+B$2+L2847)","v":-30.4644910721169},{"$f":"IF(MIN(L2847:L2850)+B$2+B$1>0,1,0)","v":1}]
[{"$f":"A2843","v":11},{"$f":"OFFSET(AL$1867,A2848+1,A2847+1)-B$10-U$3","v":-644.82152282852485},{"$f":"OFFSET(AL$1890,A2848+1,A2847+1)-B$11-V$3","v":385.70353977055879},{"$f":"OFFSET(AL$1844,A2848+1,A2847+1)-B$12-W$3","v":-207},{"$f":"B2848*F$5+C2848*F$4","v":-644.82152282852485},{"$f":"C2848*F$5-B2848*F$4","v":385.70353977055879},-207,-644.82152282852485,{"$f":"F2848*F$7+G2848*F$6","v":385.70353977055879},{"$f":"G2848*F$7-F2848*F$6","v":-207},{"$f":"H2848*F$9+J2848*F$8","v":-644.82152282852485},{"$f":"I2848","v":385.70353977055879},{"$f":"J2848*F$9-H2848*F$8","v":-207},{"$f":"IF(P2847=1,K2848*B$1/(B$1+B$2+L2848),99999)","v":-32.591142510497249},{"$f":"M2848*B$1/(B$1+B$2+L2848)","v":-10.462377977211174}]
[null,{"$f":"OFFSET(AL$1867,A2848,A2847)-B$10-U$3","v":-794.82152282852485},{"$f":"OFFSET(AL$1890,A2848,A2847)-B$11-V$3","v":125.89591863522708},{"$f":"OFFSET(AL$1844,A2848,A2847)-B$12-W$3","v":-207},{"$f":"B2850*F$5+C2850*F$4","v":-794.82152282852485},{"$f":"C2850*F$5-B2850*F$4","v":125.89591863522708},-207,-794.82152282852485,{"$f":"F2850*F$7+G2850*F$6","v":125.89591863522708},{"$f":"G2850*F$7-F2850*F$6","v":-207},{"$f":"H2850*F$9+J2850*F$8","v":-794.82152282852485},{"$f":"I2850","v":125.89591863522708},{"$f":"J2850*F$9-H2850*F$8","v":-207},{"$f":"IF(P2847=1,K2850*B$1/(B$1+B$2+L2850),99999)","v":-116.97503954655051},{"$f":"M2850*B$1/(B$1+B$2+L2850)","v":-30.4644910721169}]
[{"$f":"A2848","v":11},{"$f":"OFFSET(AL$1867,A2853+1,A2852+1)-B$10-U$3","v":-344.82152282852485},{"$f":"OFFSET(AL$1890,A2853+1,A2852+1)-B$11-V$3","v":385.70353977055879},{"$f":"OFFSET(AL$1844,A2853+1,A2852+1)-B$12-W$3","v":-207},{"$f":"B2853*F$5+C2853*F$4","v":-344.82152282852485},{"$f":"C2853*F$5-B2853*F$4","v":385.70353977055879},-207,-344.82152282852485,{"$f":"F2853*F$7+G2853*F$6","v":385.70353977055879},{"$f":"G2853*F$7-F2853*F$6","v":-207},{"$f":"H2853*F$9+J2853*F$8","v":-344.82152282852485},{"$f":"I2853","v":385.70353977055879},{"$f":"J2853*F$9-H2853*F$8","v":-207},{"$f":"IF(P2852=1,K2853*B$1/(B$1+B$2+L2853),99999)","v":-17.428275876857867},{"$f":"M2853*B$1/(B$1+B$2+L2853)","v":-10.462377977211174}]
[]
[{"$f":"A2853","v":11},{"$f":"OFFSET(AL$1867,A2858+1,A2857+1)-B$10-U$3","v":-44.821522828524849},{"$f":"OFFSET(AL$1890,A2858+1,A2857+1)-B$11-V$3","v":385.70353977055879},{"$f":"OFFSET(AL$1844,A2858+1,A2857+1)-B$12-W$3","v":-207},{"$f":"B2858*F$5+C2858*F$4","v":-44.821522828524849},{"$f":"C2858*F$5-B2858*F$4","v":385.70353977055879},-207,-44.821522828524849,{"$f":"F2858*F$7+G2858*F$6","v":385.70353977055879},{"$f":"G2858*F$7-F2858*F$6","v":-207},{"$f":"H2858*F$9+J2858*F$8","v":-44.821522828524849},{"$f":"I2858","v":385.70353977055879},{"$f":"J2858*F$9-H2858*F$8","v":-207},{"$f":"IF(P2857=1,K2858*B$1/(B$1+B$2+L2858),99999)","v":-2.265409243218484},{"$f":"M2858*B$1/(B$1+B$2+L2858)","v":-10.462377977211174}]
[]
[{"$f":"A2858","v":11},{"$f":"OFFSET(AL$1867,A2863+1,A2862+1)-B$10-U$3","v":255.17847717147515},{"$f":"OFFSET(AL$1890,A2863+1,A2862+1)-B$11-V$3","v":385.70353977055879},{"$f":"OFFSET(AL$1844,A2863+1,A2862+1)-B$12-W$3","v":-207},{"$f":"B2863*F$5+C2863*F$4","v":255.17847717147515},{"$f":"C2863*F$5-B2863*F$4","v":385.70353977055879},-207,255.17847717147515,{"$f":"F2863*F$7+G2863*F$6","v":385.70353977055879},{"$f":"G2863*F$7-F2863*F$6","v":-207},{"$f":"H2863*F$9+J2863*F$8","v":255.17847717147515},{"$f":"I2863","v":385.70353977055879},{"$f":"J2863*F$9-H2863*F$8","v":-207},{"$f":"IF(P2862=1,K2863*B$1/(B$1+B$2+L2863),99999)","v":12.897457390420897},{"$f":"M2863*B$1/(B$1+B$2+L2863)","v":-10.462377977211174}]
[{"$f":"A2862+1","v":11},{"$f":"OFFSET(AL$1867,A2868,A2867)-B$10-U$3","v":405.17847717147515},{"$f":"OFFSET(AL$1890,A2868,A2867)-B$11-V$3","v":125.89591863522708},{"$f":"OFFSET(AL$1844,A2868,A2867)-B$12-W$3","v":-207},{"$f":"B2867*F$5+C2867*F$4","v":405.17847717147515},{"$f":"C2867*F$5-B2867*F$4","v":125.89591863522708},{"$f":"D2867","v":-207},405.17847717147515,{"$f":"F2867*F$7+G2867*F$6","v":125.89591863522708},{"$f":"G2867*F$7-F2867*F$6","v":-207},{"$f":"H2867*F$9+J2867*F$8","v":405.17847717147515},{"$f":"I2867","v":125.89591863522708},{"$f":"J2867*F$9-H2867*F$8","v":-207},{"$f":"IF(P2867=1,K2867*B$1/(B$1+B$2+L2867),99999)","v":59.630705799054716},{"$f":"M2867*B$1/(B$1+B$2+L2867)","v":-30.4644910721169},{"$f":"IF(MIN(L2867:L2870)+B$2+B$1>0,1,0)","v":1}]
[{"$f":"A2863","v":11},{"$f":"OFFSET(AL$1867,A2868+1,A2867+1)-B$10-U$3","v":555.17847717147515},{"$f":"OFFSET(AL$1890,A2868+1,A2867+1)-B$11-V$3","v":385.70353977055879},{"$f":"OFFSET(AL$1844,A2868+1,A2867+1)-B$12-W$3","v":-207},{"$f":"B2868*F$5+C2868*F$4","v":555.17847717147515},{"$f":"C2868*F$5-B2868*F$4","v":385.70353977055879},-207,555.17847717147515,{"$f":"F2868*F$7+G2868*F$6","v":385.70353977055879},{"$f":"G2868*F$7-F2868*F$6","v":-207},{"$f":"H2868*F$9+J2868*F$8","v":555.17847717147515},{"$f":"I2868","v":385.70353977055879},{"$f":"J2868*F$9-H2868*F$8","v":-207},{"$f":"IF(P2867=1,K2868*B$1/(B$1+B$2+L2868),99999)","v":28.060324024060279},{"$f":"M2868*B$1/(B$1+B$2+L2868)","v":-10.462377977211174}]
[null,{"$f":"OFFSET(AL$1867,A2868,A2867)-B$10-U$3","v":405.17847717147515},{"$f":"OFFSET(AL$1890,A2868,A2867)-B$11-V$3","v":125.89591863522708},{"$f":"OFFSET(AL$1844,A2868,A2867)-B$12-W$3","v":-207},{"$f":"B2870*F$5+C2870*F$4","v":405.17847717147515},{"$f":"C2870*F$5-B2870*F$4","v":125.89591863522708},-207,405.17847717147515,{"$f":"F2870*F$7+G2870*F$6","v":125.89591863522708},{"$f":"G2870*F$7-F2870*F$6","v":-207},{"$f":"H2870*F$9+J2870*F$8","v":405.17847717147515},{"$f":"I2870","v":125.89591863522708},{"$f":"J2870*F$9-H2870*F$8","v":-207},{"$f":"IF(P2867=1,K2870*B$1/(B$1+B$2+L2870),99999)","v":59.630705799054716},{"$f":"M2870*B$1/(B$1+B$2+L2870)","v":-30.4644910721169}]
[{"$f":"A2868","v":11},{"$f":"OFFSET(AL$1867,A2873+1,A2872+1)-B$10-U$3","v":855.17847717147515},{"$f":"OFFSET(AL$1890,A2873+1,A2872+1)-B$11-V$3","v":385.70353977055879},{"$f":"OFFSET(AL$1844,A2873+1,A2872+1)-B$12-W$3","v":-207},{"$f":"B2873*F$5+C2873*F$4","v":855.17847717147515},{"$f":"C2873*F$5-B2873*F$4","v":385.70353977055879},-207,855.17847717147515,{"$f":"F2873*F$7+G2873*F$6","v":385.70353977055879},{"$f":"G2873*F$7-F2873*F$6","v":-207},{"$f":"H2873*F$9+J2873*F$8","v":855.17847717147515},{"$f":"I2873","v":385.70353977055879},{"$f":"J2873*F$9-H2873*F$8","v":-207},{"$f":"IF(P2872=1,K2873*B$1/(B$1+B$2+L2873),99999)","v":43.223190657699668},{"$f":"M2873*B$1/(B$1+B$2+L2873)","v":-10.462377977211174}]
[]
[{"$f":"A2873","v":11},{"$f":"OFFSET(AL$1867,A2878+1,A2877+1)-B$10-U$3","v":1155.1784771714752},{"$f":"OFFSET(AL$1890,A2878+1,A2877+1)-B$11-V$3","v":385.70353977055879},{"$f":"OFFSET(AL$1844,A2878+1,A2877+1)-B$12-W$3","v":-207},{"$f":"B2878*F$5+C2878*F$4","v":1155.1784771714752},{"$f":"C2878*F$5-B2878*F$4","v":385.70353977055879},-207,1155.1784771714752,{"$f":"F2878*F$7+G2878*F$6","v":385.70353977055879},{"$f":"G2878*F$7-F2878*F$6","v":-207},{"$f":"H2878*F$9+J2878*F$8","v":1155.1784771714752},{"$f":"I2878","v":385.70353977055879},{"$f":"J2878*F$9-H2878*F$8","v":-207},{"$f":"IF(P2877=1,K2878*B$1/(B$1+B$2+L2878),99999)","v":58.38605729133905},{"$f":"M2878*B$1/(B$1+B$2+L2878)","v":-10.462377977211174}]
[]
[null,{"$f":"OFFSET(AL$1867,A2883,A2882+1)-B$10-U$3","v":1605.1784771714752},{"$f":"OFFSET(AL$1890,A2883,A2882+1)-B$11-V$3","v":125.89591863522708},{"$f":"OFFSET(AL$1844,A2883,A2882+1)-B$12-W$3","v":-207},{"$f":"B2884*F$5+C2884*F$4","v":1605.1784771714752},{"$f":"C2884*F$5-B2884*F$4","v":125.89591863522708},-207,1605.1784771714752,{"$f":"F2884*F$7+G2884*F$6","v":125.89591863522708},{"$f":"G2884*F$7-F2884*F$6","v":-207},{"$f":"H2884*F$9+J2884*F$8","v":1605.1784771714752},{"$f":"I2884","v":125.89591863522708},{"$f":"J2884*F$9-H2884*F$8","v":-207},{"$f":"IF(P2882=1,K2884*B$1/(B$1+B$2+L2884),99999)","v":236.23645114465995},{"$f":"M2884*B$1/(B$1+B$2+L2884)","v":-30.4644910721169}]
[]
[null,{"$f":"OFFSET(AL$1867,A2888,A2887+1)-B$10-U$3","v":1905.1784771714752},{"$f":"OFFSET(AL$1890,A2888,A2887+1)-B$11-V$3","v":125.89591863522708},{"$f":"OFFSET(AL$1844,A2888,A2887+1)-B$12-W$3","v":-207},{"$f":"B2889*F$5+C2889*F$4","v":1905.1784771714752},{"$f":"C2889*F$5-B2889*F$4","v":125.89591863522708},-207,1905.1784771714752,{"$f":"F2889*F$7+G2889*F$6","v":125.89591863522708},{"$f":"G2889*F$7-F2889*F$6","v":-207},{"$f":"H2889*F$9+J2889*F$8","v":1905.1784771714752},{"$f":"I2889","v":125.89591863522708},{"$f":"J2889*F$9-H2889*F$8","v":-207},{"$f":"IF(P2887=1,K2889*B$1/(B$1+B$2+L2889),99999)","v":280.38788748106123},{"$f":"M2889*B$1/(B$1+B$2+L2889)","v":-30.4644910721169}]
[]
[{"$f":"A2887+1","v":16},{"$f":"OFFSET(AL$1867,A2893,A2892)-B$10-U$3","v":1905.1784771714752},{"$f":"OFFSET(AL$1890,A2893,A2892)-B$11-V$3","v":125.89591863522708},{"$f":"OFFSET(AL$1844,A2893,A2892)-B$12-W$3","v":-207},{"$f":"B2892*F$5+C2892*F$4","v":1905.1784771714752},{"$f":"C2892*F$5-B2892*F$4","v":125.89591863522708},{"$f":"D2892","v":-207},1905.1784771714752,{"$f":"F2892*F$7+G2892*F$6","v":125.89591863522708},{"$f":"G2892*F$7-F2892*F$6","v":-207},{"$f":"H2892*F$9+J2892*F$8","v":1905.1784771714752},{"$f":"I2892","v":125.89591863522708},{"$f":"J2892*F$9-H2892*F$8","v":-207},{"$f":"IF(P2892=1,K2892*B$1/(B$1+B$2+L2892),99999)","v":280.38788748106123},{"$f":"M2892*B$1/(B$1+B$2+L2892)","v":-30.4644910721169},{"$f":"IF(MIN(L2892:L2895)+B$2+B$1>0,1,0)","v":1}]
[]
[{"$f":"A2893","v":11},{"$f":"OFFSET(AL$1867,A2898+1,A2897+1)-B$10-U$3","v":2355.1784771714752},{"$f":"OFFSET(AL$1890,A2898+1,A2897+1)-B$11-V$3","v":385.70353977055879},{"$f":"OFFSET(AL$1844,A2898+1,A2897+1)-B$12-W$3","v":-207},{"$f":"B2898*F$5+C2898*F$4","v":2355.1784771714752},{"$f":"C2898*F$5-B2898*F$4","v":385.70353977055879},-207,2355.1784771714752,{"$f":"F2898*F$7+G2898*F$6","v":385.70353977055879},{"$f":"G2898*F$7-F2898*F$6","v":-207},{"$f":"H2898*F$9+J2898*F$8","v":2355.1784771714752},{"$f":"I2898","v":385.70353977055879},{"$f":"J2898*F$9-H2898*F$8","v":-207},{"$f":"IF(P2897=1,K2898*B$1/(B$1+B$2+L2898),99999)","v":119.03752382589657},{"$f":"M2898*B$1/(B$1+B$2+L2898)","v":-10.462377977211174}]
[]
[null,{"$f":"OFFSET(AL$1867,A2903,A2902+1)-B$10-U$3","v":2805.1784771714752},{"$f":"OFFSET(AL$1890,A2903,A2902+1)-B$11-V$3","v":125.89591863522708},{"$f":"OFFSET(AL$1844,A2903,A2902+1)-B$12-W$3","v":-207},{"$f":"B2904*F$5+C2904*F$4","v":2805.1784771714752},{"$f":"C2904*F$5-B2904*F$4","v":125.89591863522708},-207,2805.1784771714752,{"$f":"F2904*F$7+G2904*F$6","v":125.89591863522708},{"$f":"G2904*F$7-F2904*F$6","v":-207},{"$f":"H2904*F$9+J2904*F$8","v":2805.1784771714752},{"$f":"I2904","v":125.89591863522708},{"$f":"J2904*F$9-H2904*F$8","v":-207},{"$f":"IF(P2902=1,K2904*B$1/(B$1+B$2+L2904),99999)","v":412.84219649026517},{"$f":"M2904*B$1/(B$1+B$2+L2904)","v":-30.4644910721169}]
[]
[{"$f":"A2902+1","v":19},{"$f":"OFFSET(AL$1867,A2908,A2907)-B$10-U$3","v":2805.1784771714752},{"$f":"OFFSET(AL$1890,A2908,A2907)-B$11-V$3","v":125.89591863522708},{"$f":"OFFSET(AL$1844,A2908,A2907)-B$12-W$3","v":-207},{"$f":"B2907*F$5+C2907*F$4","v":2805.1784771714752},{"$f":"C2907*F$5-B2907*F$4","v":125.89591863522708},{"$f":"D2907","v":-207},2805.1784771714752,{"$f":"F2907*F$7+G2907*F$6","v":125.89591863522708},{"$f":"G2907*F$7-F2907*F$6","v":-207},{"$f":"H2907*F$9+J2907*F$8","v":2805.1784771714752},{"$f":"I2907","v":125.89591863522708},{"$f":"J2907*F$9-H2907*F$8","v":-207},{"$f":"IF(P2907=1,K2907*B$1/(B$1+B$2+L2907),99999)","v":412.84219649026517},{"$f":"M2907*B$1/(B$1+B$2+L2907)","v":-30.4644910721169},{"$f":"IF(MIN(L2907:L2910)+B$2+B$1>0,1,0)","v":1}]
[null,{"$f":"OFFSET(AL$1867,A2908,A2907+1)-B$10-U$3","v":3105.1784771714752},{"$f":"OFFSET(AL$1890,A2908,A2907+1)-B$11-V$3","v":125.89591863522708},{"$f":"OFFSET(AL$1844,A2908,A2907+1)-B$12-W$3","v":-207},{"$f":"B2909*F$5+C2909*F$4","v":3105.1784771714752},{"$f":"C2909*F$5-B2909*F$4","v":125.89591863522708},-207,3105.1784771714752,{"$f":"F2909*F$7+G2909*F$6","v":125.89591863522708},{"$f":"G2909*F$7-F2909*F$6","v":-207},{"$f":"H2909*F$9+J2909*F$8","v":3105.1784771714752},{"$f":"I2909","v":125.89591863522708},{"$f":"J2909*F$9-H2909*F$8","v":-207},{"$f":"IF(P2907=1,K2909*B$1/(B$1+B$2+L2909),99999)","v":456.9936328266665},{"$f":"M2909*B$1/(B$1+B$2+L2909)","v":-30.4644910721169}]
[0,{"$f":"OFFSET(AL$1867,A2913,A2912)-B$10-U$3","v":-3044.8215228285248},{"$f":"OFFSET(AL$1890,A2913,A2912)-B$11-V$3","v":385.70353977055879},{"$f":"OFFSET(AL$1844,A2913,A2912)-B$12-W$3","v":-207},{"$f":"B2912*F$5+C2912*F$4","v":-3044.8215228285248},{"$f":"C2912*F$5-B2912*F$4","v":385.70353977055879},{"$f":"D2912","v":-207},-3044.8215228285248,{"$f":"F2912*F$7+G2912*F$6","v":385.70353977055879},{"$f":"G2912*F$7-F2912*F$6","v":-207},{"$f":"H2912*F$9+J2912*F$8","v":-3044.8215228285248},{"$f":"I2912","v":385.70353977055879},{"$f":"J2912*F$9-H2912*F$8","v":-207},{"$f":"IF(P2912=1,K2912*B$1/(B$1+B$2+L2912),99999)","v":-153.89407557961229},{"$f":"M2912*B$1/(B$1+B$2+L2912)","v":-10.462377977211174},{"$f":"IF(MIN(L2912:L2915)+B$2+B$1>0,1,0)","v":1}]
[null,{"$f":"OFFSET(AL$1867,A2913,A2912)-B$10-U$3","v":-3044.8215228285248},{"$f":"OFFSET(AL$1890,A2913,A2912)-B$11-V$3","v":385.70353977055879},{"$f":"OFFSET(AL$1844,A2913,A2912)-B$12-W$3","v":-207},{"$f":"B2915*F$5+C2915*F$4","v":-3044.8215228285248},{"$f":"C2915*F$5-B2915*F$4","v":385.70353977055879},-207,-3044.8215228285248,{"$f":"F2915*F$7+G2915*F$6","v":385.70353977055879},{"$f":"G2915*F$7-F2915*F$6","v":-207},{"$f":"H2915*F$9+J2915*F$8","v":-3044.8215228285248},{"$f":"I2915","v":385.70353977055879},{"$f":"J2915*F$9-H2915*F$8","v":-207},{"$f":"IF(P2912=1,K2915*B$1/(B$1+B$2+L2915),99999)","v":-153.89407557961229},{"$f":"M2915*B$1/(B$1+B$2+L2915)","v":-10.462377977211174}]
[{"$f":"A2912+1","v":1},{"$f":"OFFSET(AL$1867,A2918,A2917)-B$10-U$3","v":-2744.8215228285248},{"$f":"OFFSET(AL$1890,A2918,A2917)-B$11-V$3","v":385.70353977055879},{"$f":"OFFSET(AL$1844,A2918,A2917)-B$12-W$3","v":-207},{"$f":"B2917*F$5+C2917*F$4","v":-2744.8215228285248},{"$f":"C2917*F$5-B2917*F$4","v":385.70353977055879},{"$f":"D2917","v":-207},-2744.8215228285248,{"$f":"F2917*F$7+G2917*F$6","v":385.70353977055879},{"$f":"G2917*F$7-F2917*F$6","v":-207},{"$f":"H2917*F$9+J2917*F$8","v":-2744.8215228285248},{"$f":"I2917","v":385.70353977055879},{"$f":"J2917*F$9-H2917*F$8","v":-207},{"$f":"IF(P2917=1,K2917*B$1/(B$1+B$2+L2917),99999)","v":-138.73120894597292},{"$f":"M2917*B$1/(B$1+B$2+L2917)","v":-10.462377977211174},{"$f":"IF(MIN(L2917:L2920)+B$2+B$1>0,1,0)","v":1}]
[null,{"$f":"OFFSET(AL$1867,A2918,A2917)-B$10-U$3","v":-2744.8215228285248},{"$f":"OFFSET(AL$1890,A2918,A2917)-B$11-V$3","v":385.70353977055879},{"$f":"OFFSET(AL$1844,A2918,A2917)-B$12-W$3","v":-207},{"$f":"B2920*F$5+C2920*F$4","v":-2744.8215228285248},{"$f":"C2920*F$5-B2920*F$4","v":385.70353977055879},-207,-2744.8215228285248,{"$f":"F2920*F$7+G2920*F$6","v":385.70353977055879},{"$f":"G2920*F$7-F2920*F$6","v":-207},{"$f":"H2920*F$9+J2920*F$8","v":-2744.8215228285248},{"$f":"I2920","v":385.70353977055879},{"$f":"J2920*F$9-H2920*F$8","v":-207},{"$f":"IF(P2917=1,K2920*B$1/(B$1+B$2+L2920),99999)","v":-138.73120894597292},{"$f":"M2920*B$1/(B$1+B$2+L2920)","v":-10.462377977211174}]
[{"$f":"A2917+1","v":2},{"$f":"OFFSET(AL$1867,A2923,A2922)-B$10-U$3","v":-2444.8215228285248},{"$f":"OFFSET(AL$1890,A2923,A2922)-B$11-V$3","v":385.70353977055879},{"$f":"OFFSET(AL$1844,A2923,A2922)-B$12-W$3","v":-207},{"$f":"B2922*F$5+C2922*F$4","v":-2444.8215228285248},{"$f":"C2922*F$5-B2922*F$4","v":385.70353977055879},{"$f":"D2922","v":-207},-2444.8215228285248,{"$f":"F2922*F$7+G2922*F$6","v":385.70353977055879},{"$f":"G2922*F$7-F2922*F$6","v":-207},{"$f":"H2922*F$9+J2922*F$8","v":-2444.8215228285248},{"$f":"I2922","v":385.70353977055879},{"$f":"J2922*F$9-H2922*F$8","v":-207},{"$f":"IF(P2922=1,K2922*B$1/(B$1+B$2+L2922),99999)","v":-123.56834231233353},{"$f":"M2922*B$1/(B$1+B$2+L2922)","v":-10.462377977211174},{"$f":"IF(MIN(L2922:L2925)+B$2+B$1>0,1,0)","v":1}]
[]
[{"$f":"A2922+1","v":3},{"$f":"OFFSET(AL$1867,A2928,A2927)-B$10-U$3","v":-2144.8215228285248},{"$f":"OFFSET(AL$1890,A2928,A2927)-B$11-V$3","v":385.70353977055879},{"$f":"OFFSET(AL$1844,A2928,A2927)-B$12-W$3","v":-207},{"$f":"B2927*F$5+C2927*F$4","v":-2144.8215228285248},{"$f":"C2927*F$5-B2927*F$4","v":385.70353977055879},{"$f":"D2927","v":-207},-2144.8215228285248,{"$f":"F2927*F$7+G2927*F$6","v":385.70353977055879},{"$f":"G2927*F$7-F2927*F$6","v":-207},{"$f":"H2927*F$9+J2927*F$8","v":-2144.8215228285248},{"$f":"I2927","v":385.70353977055879},{"$f":"J2927*F$9-H2927*F$8","v":-207},{"$f":"IF(P2927=1,K2927*B$1/(B$1+B$2+L2927),99999)","v":-108.40547567869415},{"$f":"M2927*B$1/(B$1+B$2+L2927)","v":-10.462377977211174},{"$f":"IF(MIN(L2927:L2930)+B$2+B$1>0,1,0)","v":1}]
[null,{"$f":"OFFSET(AL$1867,A2928,A2927+1)-B$10-U$3","v":-1844.8215228285248},{"$f":"OFFSET(AL$1890,A2928,A2927+1)-B$11-V$3","v":385.70353977055879},{"$f":"OFFSET(AL$1844,A2928,A2927+1)-B$12-W$3","v":-207},{"$f":"B2929*F$5+C2929*F$4","v":-1844.8215228285248},{"$f":"C2929*F$5-B2929*F$4","v":385.70353977055879},-207,-1844.8215228285248,{"$f":"F2929*F$7+G2929*F$6","v":385.70353977055879},{"$f":"G2929*F$7-F2929*F$6","v":-207},{"$f":"H2929*F$9+J2929*F$8","v":-1844.8215228285248},{"$f":"I2929","v":385.70353977055879},{"$f":"J2929*F$9-H2929*F$8","v":-207},{"$f":"IF(P2927=1,K2929*B$1/(B$1+B$2+L2929),99999)","v":-93.242609045054763},{"$f":"M2929*B$1/(B$1+B$2+L2929)","v":-10.462377977211174}]
[{"$f":"A2927+1","v":4},{"$f":"OFFSET(AL$1867,A2933,A2932)-B$10-U$3","v":-1844.8215228285248},{"$f":"OFFSET(AL$1890,A2933,A2932)-B$11-V$3","v":385.70353977055879},{"$f":"OFFSET(AL$1844,A2933,A2932)-B$12-W$3","v":-207},{"$f":"B2932*F$5+C2932*F$4","v":-1844.8215228285248},{"$f":"C2932*F$5-B2932*F$4","v":385.70353977055879},{"$f":"D2932","v":-207},-1844.8215228285248,{"$f":"F2932*F$7+G2932*F$6","v":385.70353977055879},{"$f":"G2932*F$7-F2932*F$6","v":-207},{"$f":"H2932*F$9+J2932*F$8","v":-1844.8215228285248},{"$f":"I2932","v":385.70353977055879},{"$f":"J2932*F$9-H2932*F$8","v":-207},{"$f":"IF(P2932=1,K2932*B$1/(B$1+B$2+L2932),99999)","v":-93.242609045054763},{"$f":"M2932*B$1/(B$1+B$2+L2932)","v":-10.462377977211174},{"$f":"IF(MIN(L2932:L2935)+B$2+B$1>0,1,0)","v":1}]
[null,{"$f":"OFFSET(AL$1867,A2933,A2932)-B$10-U$3","v":-1844.8215228285248},{"$f":"OFFSET(AL$1890,A2933,A2932)-B$11-V$3","v":385.70353977055879},{"$f":"OFFSET(AL$1844,A2933,A2932)-B$12-W$3","v":-207},{"$f":"B2935*F$5+C2935*F$4","v":-1844.8215228285248},{"$f":"C2935*F$5-B2935*F$4","v":385.70353977055879},-207,-1844.8215228285248,{"$f":"F2935*F$7+G2935*F$6","v":385.70353977055879},{"$f":"G2935*F$7-F2935*F$6","v":-207},{"$f":"H2935*F$9+J2935*F$8","v":-1844.8215228285248},{"$f":"I2935","v":385.70353977055879},{"$f":"J2935*F$9-H2935*F$8","v":-207},{"$f":"IF(P2932=1,K2935*B$1/(B$1+B$2+L2935),99999)","v":-93.242609045054763},{"$f":"M2935*B$1/(B$1+B$2+L2935)","v":-10.462377977211174}]
[{"$f":"A2932+1","v":5},{"$f":"OFFSET(AL$1867,A2938,A2937)-B$10-U$3","v":-1544.8215228285248},{"$f":"OFFSET(AL$1890,A2938,A2937)-B$11-V$3","v":385.70353977055879},{"$f":"OFFSET(AL$1844,A2938,A2937)-B$12-W$3","v":-207},{"$f":"B2937*F$5+C2937*F$4","v":-1544.8215228285248},{"$f":"C2937*F$5-B2937*F$4","v":385.70353977055879},{"$f":"D2937","v":-207},-1544.8215228285248,{"$f":"F2937*F$7+G2937*F$6","v":385.70353977055879},{"$f":"G2937*F$7-F2937*F$6","v":-207},{"$f":"H2937*F$9+J2937*F$8","v":-1544.8215228285248},{"$f":"I2937","v":385.70353977055879},{"$f":"J2937*F$9-H2937*F$8","v":-207},{"$f":"IF(P2937=1,K2937*B$1/(B$1+B$2+L2937),99999)","v":-78.079742411415396},{"$f":"M2937*B$1/(B$1+B$2+L2937)","v":-10.462377977211174},{"$f":"IF(MIN(L2937:L2940)+B$2+B$1>0,1,0)","v":1}]
[null,{"$f":"OFFSET(AL$1867,A2938,A2937)-B$10-U$3","v":-1544.8215228285248},{"$f":"OFFSET(AL$1890,A2938,A2937)-B$11-V$3","v":385.70353977055879},{"$f":"OFFSET(AL$1844,A2938,A2937)-B$12-W$3","v":-207},{"$f":"B2940*F$5+C2940*F$4","v":-1544.8215228285248},{"$f":"C2940*F$5-B2940*F$4","v":385.70353977055879},-207,-1544.8215228285248,{"$f":"F2940*F$7+G2940*F$6","v":385.70353977055879},{"$f":"G2940*F$7-F2940*F$6","v":-207},{"$f":"H2940*F$9+J2940*F$8","v":-1544.8215228285248},{"$f":"I2940","v":385.70353977055879},{"$f":"J2940*F$9-H2940*F$8","v":-207},{"$f":"IF(P2937=1,K2940*B$1/(B$1+B$2+L2940),99999)","v":-78.079742411415396},{"$f":"M2940*B$1/(B$1+B$2+L2940)","v":-10.462377977211174}]
[{"$f":"A2938","v":12},{"$f":"OFFSET(AL$1867,A2943+1,A2942)-B$10-U$3","v":-1094.8215228285248},{"$f":"OFFSET(AL$1890,A2943+1,A2942)-B$11-V$3","v":645.51116090589051},{"$f":"OFFSET(AL$1844,A2943+1,A2942)-B$12-W$3","v":-207},{"$f":"B2943*F$5+C2943*F$4","v":-1094.8215228285248},{"$f":"C2943*F$5-B2943*F$4","v":645.51116090589051},-207,-1094.8215228285248,{"$f":"F2943*F$7+G2943*F$6","v":645.51116090589051},{"$f":"G2943*F$7-F2943*F$6","v":-207},{"$f":"H2943*F$9+J2943*F$8","v":-1094.8215228285248},{"$f":"I2943","v":645.51116090589051},{"$f":"J2943*F$9-H2943*F$8","v":-207},{"$f":"IF(P2942=1,K2943*B$1/(B$1+B$2+L2943),99999)","v":-33.403596708117817},{"$f":"M2943*B$1/(B$1+B$2+L2943)","v":-6.315681939387094}]
[null,{"$f":"OFFSET(AL$1867,A2943,A2942)-B$10-U$3","v":-1244.8215228285248},{"$f":"OFFSET(AL$1890,A2943,A2942)-B$11-V$3","v":385.70353977055879},{"$f":"OFFSET(AL$1844,A2943,A2942)-B$12-W$3","v":-207},{"$f":"B2945*F$5+C2945*F$4","v":-1244.8215228285248},{"$f":"C2945*F$5-B2945*F$4","v":385.70353977055879},-207,-1244.8215228285248,{"$f":"F2945*F$7+G2945*F$6","v":385.70353977055879},{"$f":"G2945*F$7-F2945*F$6","v":-207},{"$f":"H2945*F$9+J2945*F$8","v":-1244.8215228285248},{"$f":"I2945","v":385.70353977055879},{"$f":"J2945*F$9-H2945*F$8","v":-207},{"$f":"IF(P2942=1,K2945*B$1/(B$1+B$2+L2945),99999)","v":-62.916875777776006},{"$f":"M2945*B$1/(B$1+B$2+L2945)","v":-10.462377977211174}]
[]
[null,{"$f":"OFFSET(AL$1867,A2948,A2947)-B$10-U$3","v":-944.82152282852485},{"$f":"OFFSET(AL$1890,A2948,A2947)-B$11-V$3","v":385.70353977055879},{"$f":"OFFSET(AL$1844,A2948,A2947)-B$12-W$3","v":-207},{"$f":"B2950*F$5+C2950*F$4","v":-944.82152282852485},{"$f":"C2950*F$5-B2950*F$4","v":385.70353977055879},-207,-944.82152282852485,{"$f":"F2950*F$7+G2950*F$6","v":385.70353977055879},{"$f":"G2950*F$7-F2950*F$6","v":-207},{"$f":"H2950*F$9+J2950*F$8","v":-944.82152282852485},{"$f":"I2950","v":385.70353977055879},{"$f":"J2950*F$9-H2950*F$8","v":-207},{"$f":"IF(P2947=1,K2950*B$1/(B$1+B$2+L2950),99999)","v":-47.754009144136624},{"$f":"M2950*B$1/(B$1+B$2+L2950)","v":-10.462377977211174}]
[]
[null,{"$f":"OFFSET(AL$1867,A2953,A2952)-B$10-U$3","v":-644.82152282852485},{"$f":"OFFSET(AL$1890,A2953,A2952)-B$11-V$3","v":385.70353977055879},{"$f":"OFFSET(AL$1844,A2953,A2952)-B$12-W$3","v":-207},{"$f":"B2955*F$5+C2955*F$4","v":-644.82152282852485},{"$f":"C2955*F$5-B2955*F$4","v":385.70353977055879},-207,-644.82152282852485,{"$f":"F2955*F$7+G2955*F$6","v":385.70353977055879},{"$f":"G2955*F$7-F2955*F$6","v":-207},{"$f":"H2955*F$9+J2955*F$8","v":-644.82152282852485},{"$f":"I2955","v":385.70353977055879},{"$f":"J2955*F$9-H2955*F$8","v":-207},{"$f":"IF(P2952=1,K2955*B$1/(B$1+B$2+L2955),99999)","v":-32.591142510497249},{"$f":"M2955*B$1/(B$1+B$2+L2955)","v":-10.462377977211174}]
[{"$f":"A2952+1","v":9},{"$f":"OFFSET(AL$1867,A2958,A2957)-B$10-U$3","v":-344.82152282852485},{"$f":"OFFSET(AL$1890,A2958,A2957)-B$11-V$3","v":385.70353977055879},{"$f":"OFFSET(AL$1844,A2958,A2957)-B$12-W$3","v":-207},{"$f":"B2957*F$5+C2957*F$4","v":-344.82152282852485},{"$f":"C2957*F$5-B2957*F$4","v":385.70353977055879},{"$f":"D2957","v":-207},-344.82152282852485,{"$f":"F2957*F$7+G2957*F$6","v":385.70353977055879},{"$f":"G2957*F$7-F2957*F$6","v":-207},{"$f":"H2957*F$9+J2957*F$8","v":-344.82152282852485},{"$f":"I2957","v":385.70353977055879},{"$f":"J2957*F$9-H2957*F$8","v":-207},{"$f":"IF(P2957=1,K2957*B$1/(B$1+B$2+L2957),99999)","v":-17.428275876857867},{"$f":"M2957*B$1/(B$1+B$2+L2957)","v":-10.462377977211174},{"$f":"IF(MIN(L2957:L2960)+B$2+B$1>0,1,0)","v":1}]
[null,{"$f":"OFFSET(AL$1867,A2958,A2957)-B$10-U$3","v":-344.82152282852485},{"$f":"OFFSET(AL$1890,A2958,A2957)-B$11-V$3","v":385.70353977055879},{"$f":"OFFSET(AL$1844,A2958,A2957)-B$12-W$3","v":-207},{"$f":"B2960*F$5+C2960*F$4","v":-344.82152282852485},{"$f":"C2960*F$5-B2960*F$4","v":385.70353977055879},-207,-344.82152282852485,{"$f":"F2960*F$7+G2960*F$6","v":385.70353977055879},{"$f":"G2960*F$7-F2960*F$6","v":-207},{"$f":"H2960*F$9+J2960*F$8","v":-344.82152282852485},{"$f":"I2960","v":385.70353977055879},{"$f":"J2960*F$9-H2960*F$8","v":-207},{"$f":"IF(P2957=1,K2960*B$1/(B$1+B$2+L2960),99999)","v":-17.428275876857867},{"$f":"M2960*B$1/(B$1+B$2+L2960)","v":-10.462377977211174}]
[{"$f":"A2958","v":12},{"$f":"OFFSET(AL$1867,A2963+1,A2962)-B$10-U$3","v":105.17847717147515},{"$f":"OFFSET(AL$1890,A2963+1,A2962)-B$11-V$3","v":645.51116090589051},{"$f":"OFFSET(AL$1844,A2963+1,A2962)-B$12-W$3","v":-207},{"$f":"B2963*F$5+C2963*F$4","v":105.17847717147515},{"$f":"C2963*F$5-B2963*F$4","v":645.51116090589051},-207,105.17847717147515,{"$f":"F2963*F$7+G2963*F$6","v":645.51116090589051},{"$f":"G2963*F$7-F2963*F$6","v":-207},{"$f":"H2963*F$9+J2963*F$8","v":105.17847717147515},{"$f":"I2963","v":645.51116090589051},{"$f":"J2963*F$9-H2963*F$8","v":-207},{"$f":"IF(P2962=1,K2963*B$1/(B$1+B$2+L2963),99999)","v":3.2090522158653303},{"$f":"M2963*B$1/(B$1+B$2+L2963)","v":-6.315681939387094}]
[null,{"$f":"OFFSET(AL$1867,A2963,A2962)-B$10-U$3","v":-44.821522828524849},{"$f":"OFFSET(AL$1890,A2963,A2962)-B$11-V$3","v":385.70353977055879},{"$f":"OFFSET(AL$1844,A2963,A2962)-B$12-W$3","v":-207},{"$f":"B2965*F$5+C2965*F$4","v":-44.821522828524849},{"$f":"C2965*F$5-B2965*F$4","v":385.70353977055879},-207,-44.821522828524849,{"$f":"F2965*F$7+G2965*F$6","v":385.70353977055879},{"$f":"G2965*F$7-F2965*F$6","v":-207},{"$f":"H2965*F$9+J2965*F$8","v":-44.821522828524849},{"$f":"I2965","v":385.70353977055879},{"$f":"J2965*F$9-H2965*F$8","v":-207},{"$f":"IF(P2962=1,K2965*B$1/(B$1+B$2+L2965),99999)","v":-2.265409243218484},{"$f":"M2965*B$1/(B$1+B$2+L2965)","v":-10.462377977211174}]
[]
[null,{"$f":"OFFSET(AL$1867,A2968,A2967)-B$10-U$3","v":255.17847717147515},{"$f":"OFFSET(AL$1890,A2968,A2967)-B$11-V$3","v":385.70353977055879},{"$f":"OFFSET(AL$1844,A2968,A2967)-B$12-W$3","v":-207},{"$f":"B2970*F$5+C2970*F$4","v":255.17847717147515},{"$f":"C2970*F$5-B2970*F$4","v":385.70353977055879},-207,255.17847717147515,{"$f":"F2970*F$7+G2970*F$6","v":385.70353977055879},{"$f":"G2970*F$7-F2970*F$6","v":-207},{"$f":"H2970*F$9+J2970*F$8","v":255.17847717147515},{"$f":"I2970","v":385.70353977055879},{"$f":"J2970*F$9-H2970*F$8","v":-207},{"$f":"IF(P2967=1,K2970*B$1/(B$1+B$2+L2970),99999)","v":12.897457390420897},{"$f":"M2970*B$1/(B$1+B$2+L2970)","v":-10.462377977211174}]
[]
[null,{"$f":"OFFSET(AL$1867,A2973,A2972+1)-B$10-U$3","v":855.17847717147515},{"$f":"OFFSET(AL$1890,A2973,A2972+1)-B$11-V$3","v":385.70353977055879},{"$f":"OFFSET(AL$1844,A2973,A2972+1)-B$12-W$3","v":-207},{"$f":"B2974*F$5+C2974*F$4","v":855.17847717147515},{"$f":"C2974*F$5-B2974*F$4","v":385.70353977055879},-207,855.17847717147515,{"$f":"F2974*F$7+G2974*F$6","v":385.70353977055879},{"$f":"G2974*F$7-F2974*F$6","v":-207},{"$f":"H2974*F$9+J2974*F$8","v":855.17847717147515},{"$f":"I2974","v":385.70353977055879},{"$f":"J2974*F$9-H2974*F$8","v":-207},{"$f":"IF(P2972=1,K2974*B$1/(B$1+B$2+L2974),99999)","v":43.223190657699668},{"$f":"M2974*B$1/(B$1+B$2+L2974)","v":-10.462377977211174}]
[]
[null,{"$f":"OFFSET(AL$1867,A2978,A2977)-B$10-U$3","v":855.17847717147515},{"$f":"OFFSET(AL$1890,A2978,A2977)-B$11-V$3","v":385.70353977055879},{"$f":"OFFSET(AL$1844,A2978,A2977)-B$12-W$3","v":-207},{"$f":"B2980*F$5+C2980*F$4","v":855.17847717147515},{"$f":"C2980*F$5-B2980*F$4","v":385.70353977055879},-207,855.17847717147515,{"$f":"F2980*F$7+G2980*F$6","v":385.70353977055879},{"$f":"G2980*F$7-F2980*F$6","v":-207},{"$f":"H2980*F$9+J2980*F$8","v":855.17847717147515},{"$f":"I2980","v":385.70353977055879},{"$f":"J2980*F$9-H2980*F$8","v":-207},{"$f":"IF(P2977=1,K2980*B$1/(B$1+B$2+L2980),99999)","v":43.223190657699668},{"$f":"M2980*B$1/(B$1+B$2+L2980)","v":-10.462377977211174}]
[]
[null,{"$f":"OFFSET(AL$1867,A2983,A2982)-B$10-U$3","v":1155.1784771714752},{"$f":"OFFSET(AL$1890,A2983,A2982)-B$11-V$3","v":385.70353977055879},{"$f":"OFFSET(AL$1844,A2983,A2982)-B$12-W$3","v":-207},{"$f":"B2985*F$5+C2985*F$4","v":1155.1784771714752},{"$f":"C2985*F$5-B2985*F$4","v":385.70353977055879},-207,1155.1784771714752,{"$f":"F2985*F$7+G2985*F$6","v":385.70353977055879},{"$f":"G2985*F$7-F2985*F$6","v":-207},{"$f":"H2985*F$9+J2985*F$8","v":1155.1784771714752},{"$f":"I2985","v":385.70353977055879},{"$f":"J2985*F$9-H2985*F$8","v":-207},{"$f":"IF(P2982=1,K2985*B$1/(B$1+B$2+L2985),99999)","v":58.38605729133905},{"$f":"M2985*B$1/(B$1+B$2+L2985)","v":-10.462377977211174}]
[]
[{"$f":"A2983","v":12},{"$f":"OFFSET(AL$1867,A2988+1,A2987)-B$10-U$3","v":1605.1784771714752},{"$f":"OFFSET(AL$1890,A2988+1,A2987)-B$11-V$3","v":645.51116090589051},{"$f":"OFFSET(AL$1844,A2988+1,A2987)-B$12-W$3","v":-207},{"$f":"B2988*F$5+C2988*F$4","v":1605.1784771714752},{"$f":"C2988*F$5-B2988*F$4","v":645.51116090589051},-207,1605.1784771714752,{"$f":"F2988*F$7+G2988*F$6","v":645.51116090589051},{"$f":"G2988*F$7-F2988*F$6","v":-207},{"$f":"H2988*F$9+J2988*F$8","v":1605.1784771714752},{"$f":"I2988","v":645.51116090589051},{"$f":"J2988*F$9-H2988*F$8","v":-207},{"$f":"IF(P2987=1,K2988*B$1/(B$1+B$2+L2988),99999)","v":48.974863370844275},{"$f":"M2988*B$1/(B$1+B$2+L2988)","v":-6.315681939387094}]
[]
[null,{"$f":"OFFSET(AL$1867,A2993,A2992+1)-B$10-U$3","v":2055.1784771714752},{"$f":"OFFSET(AL$1890,A2993,A2992+1)-B$11-V$3","v":385.70353977055879},{"$f":"OFFSET(AL$1844,A2993,A2992+1)-B$12-W$3","v":-207},{"$f":"B2994*F$5+C2994*F$4","v":2055.1784771714752},{"$f":"C2994*F$5-B2994*F$4","v":385.70353977055879},-207,2055.1784771714752,{"$f":"F2994*F$7+G2994*F$6","v":385.70353977055879},{"$f":"G2994*F$7-F2994*F$6","v":-207},{"$f":"H2994*F$9+J2994*F$8","v":2055.1784771714752},{"$f":"I2994","v":385.70353977055879},{"$f":"J2994*F$9-H2994*F$8","v":-207},{"$f":"IF(P2992=1,K2994*B$1/(B$1+B$2+L2994),99999)","v":103.87465719225719},{"$f":"M2994*B$1/(B$1+B$2+L2994)","v":-10.462377977211174}]
[]
[null,{"$f":"OFFSET(AL$1867,A2998,A2997+1)-B$10-U$3","v":2355.1784771714752},{"$f":"OFFSET(AL$1890,A2998,A2997+1)-B$11-V$3","v":385.70353977055879},{"$f":"OFFSET(AL$1844,A2998,A2997+1)-B$12-W$3","v":-207},{"$f":"B2999*F$5+C2999*F$4","v":2355.1784771714752},{"$f":"C2999*F$5-B2999*F$4","v":385.70353977055879},-207,2355.1784771714752,{"$f":"F2999*F$7+G2999*F$6","v":385.70353977055879},{"$f":"G2999*F$7-F2999*F$6","v":-207},{"$f":"H2999*F$9+J2999*F$8","v":2355.1784771714752},{"$f":"I2999","v":385.70353977055879},{"$f":"J2999*F$9-H2999*F$8","v":-207},{"$f":"IF(P2997=1,K2999*B$1/(B$1+B$2+L2999),99999)","v":119.03752382589657},{"$f":"M2999*B$1/(B$1+B$2+L2999)","v":-10.462377977211174}]
[{"$f":"A2997+1","v":18},{"$f":"OFFSET(AL$1867,A3003,A3002)-B$10-U$3","v":2355.1784771714752},{"$f":"OFFSET(AL$1890,A3003,A3002)-B$11-V$3","v":385.70353977055879},{"$f":"OFFSET(AL$1844,A3003,A3002)-B$12-W$3","v":-207},{"$f":"B3002*F$5+C3002*F$4","v":2355.1784771714752},{"$f":"C3002*F$5-B3002*F$4","v":385.70353977055879},{"$f":"D3002","v":-207},2355.1784771714752,{"$f":"F3002*F$7+G3002*F$6","v":385.70353977055879},{"$f":"G3002*F$7-F3002*F$6","v":-207},{"$f":"H3002*F$9+J3002*F$8","v":2355.1784771714752},{"$f":"I3002","v":385.70353977055879},{"$f":"J3002*F$9-H3002*F$8","v":-207},{"$f":"IF(P3002=1,K3002*B$1/(B$1+B$2+L3002),99999)","v":119.03752382589657},{"$f":"M3002*B$1/(B$1+B$2+L3002)","v":-10.462377977211174},{"$f":"IF(MIN(L3002:L3005)+B$2+B$1>0,1,0)","v":1}]
[null,{"$f":"OFFSET(AL$1867,A3003,A3002+1)-B$10-U$3","v":2655.1784771714752},{"$f":"OFFSET(AL$1890,A3003,A3002+1)-B$11-V$3","v":385.70353977055879},{"$f":"OFFSET(AL$1844,A3003,A3002+1)-B$12-W$3","v":-207},{"$f":"B3004*F$5+C3004*F$4","v":2655.1784771714752},{"$f":"C3004*F$5-B3004*F$4","v":385.70353977055879},-207,2655.1784771714752,{"$f":"F3004*F$7+G3004*F$6","v":385.70353977055879},{"$f":"G3004*F$7-F3004*F$6","v":-207},{"$f":"H3004*F$9+J3004*F$8","v":2655.1784771714752},{"$f":"I3004","v":385.70353977055879},{"$f":"J3004*F$9-H3004*F$8","v":-207},{"$f":"IF(P3002=1,K3004*B$1/(B$1+B$2+L3004),99999)","v":134.20039045953595},{"$f":"M3004*B$1/(B$1+B$2+L3004)","v":-10.462377977211174}]
[null,{"$f":"OFFSET(AL$1867,A3003,A3002)-B$10-U$3","v":2355.1784771714752},{"$f":"OFFSET(AL$1890,A3003,A3002)-B$11-V$3","v":385.70353977055879},{"$f":"OFFSET(AL$1844,A3003,A3002)-B$12-W$3","v":-207},{"$f":"B3005*F$5+C3005*F$4","v":2355.1784771714752},{"$f":"C3005*F$5-B3005*F$4","v":385.70353977055879},-207,2355.1784771714752,{"$f":"F3005*F$7+G3005*F$6","v":385.70353977055879},{"$f":"G3005*F$7-F3005*F$6","v":-207},{"$f":"H3005*F$9+J3005*F$8","v":2355.1784771714752},{"$f":"I3005","v":385.70353977055879},{"$f":"J3005*F$9-H3005*F$8","v":-207},{"$f":"IF(P3002=1,K3005*B$1/(B$1+B$2+L3005),99999)","v":119.03752382589657},{"$f":"M3005*B$1/(B$1+B$2+L3005)","v":-10.462377977211174}]
[null,{"$f":"OFFSET(AL$1867,A3008,A3007+1)-B$10-U$3","v":2955.1784771714752},{"$f":"OFFSET(AL$1890,A3008,A3007+1)-B$11-V$3","v":385.70353977055879},{"$f":"OFFSET(AL$1844,A3008,A3007+1)-B$12-W$3","v":-207},{"$f":"B3009*F$5+C3009*F$4","v":2955.1784771714752},{"$f":"C3009*F$5-B3009*F$4","v":385.70353977055879},-207,2955.1784771714752,{"$f":"F3009*F$7+G3009*F$6","v":385.70353977055879},{"$f":"G3009*F$7-F3009*F$6","v":-207},{"$f":"H3009*F$9+J3009*F$8","v":2955.1784771714752},{"$f":"I3009","v":385.70353977055879},{"$f":"J3009*F$9-H3009*F$8","v":-207},{"$f":"IF(P3007=1,K3009*B$1/(B$1+B$2+L3009),99999)","v":149.36325709317535},{"$f":"M3009*B$1/(B$1+B$2+L3009)","v":-10.462377977211174}]
[]
[null,{"$f":"OFFSET(AL$1867,A3013,A3012+1)-B$10-U$3","v":-2594.8215228285248},{"$f":"OFFSET(AL$1890,A3013,A3012+1)-B$11-V$3","v":645.51116090589051},{"$f":"OFFSET(AL$1844,A3013,A3012+1)-B$12-W$3","v":-207},{"$f":"B3014*F$5+C3014*F$4","v":-2594.8215228285248},{"$f":"C3014*F$5-B3014*F$4","v":645.51116090589051},-207,-2594.8215228285248,{"$f":"F3014*F$7+G3014*F$6","v":645.51116090589051},{"$f":"G3014*F$7-F3014*F$6","v":-207},{"$f":"H3014*F$9+J3014*F$8","v":-2594.8215228285248},{"$f":"I3014","v":645.51116090589051},{"$f":"J3014*F$9-H3014*F$8","v":-207},{"$f":"IF(P3012=1,K3014*B$1/(B$1+B$2+L3014),99999)","v":-79.169407863096765},{"$f":"M3014*B$1/(B$1+B$2+L3014)","v":-6.315681939387094}]
[]
[null,{"$f":"OFFSET(AL$1867,A3018,A3017+1)-B$10-U$3","v":-2294.8215228285248},{"$f":"OFFSET(AL$1890,A3018,A3017+1)-B$11-V$3","v":645.51116090589051},{"$f":"OFFSET(AL$1844,A3018,A3017+1)-B$12-W$3","v":-207},{"$f":"B3019*F$5+C3019*F$4","v":-2294.8215228285248},{"$f":"C3019*F$5-B3019*F$4","v":645.51116090589051},-207,-2294.8215228285248,{"$f":"F3019*F$7+G3019*F$6","v":645.51116090589051},{"$f":"G3019*F$7-F3019*F$6","v":-207},{"$f":"H3019*F$9+J3019*F$8","v":-2294.8215228285248},{"$f":"I3019","v":645.51116090589051},{"$f":"J3019*F$9-H3019*F$8","v":-207},{"$f":"IF(P3017=1,K3019*B$1/(B$1+B$2+L3019),99999)","v":-70.016245632100976},{"$f":"M3019*B$1/(B$1+B$2+L3019)","v":-6.315681939387094}]
[{"$f":"A3017+1","v":2},{"$f":"OFFSET(AL$1867,A3023,A3022)-B$10-U$3","v":-2294.8215228285248},{"$f":"OFFSET(AL$1890,A3023,A3022)-B$11-V$3","v":645.51116090589051},{"$f":"OFFSET(AL$1844,A3023,A3022)-B$12-W$3","v":-207},{"$f":"B3022*F$5+C3022*F$4","v":-2294.8215228285248},{"$f":"C3022*F$5-B3022*F$4","v":645.51116090589051},{"$f":"D3022","v":-207},-2294.8215228285248,{"$f":"F3022*F$7+G3022*F$6","v":645.51116090589051},{"$f":"G3022*F$7-F3022*F$6","v":-207},{"$f":"H3022*F$9+J3022*F$8","v":-2294.8215228285248},{"$f":"I3022","v":645.51116090589051},{"$f":"J3022*F$9-H3022*F$8","v":-207},{"$f":"IF(P3022=1,K3022*B$1/(B$1+B$2+L3022),99999)","v":-70.016245632100976},{"$f":"M3022*B$1/(B$1+B$2+L3022)","v":-6.315681939387094},{"$f":"IF(MIN(L3022:L3025)+B$2+B$1>0,1,0)","v":1}]
[null,{"$f":"OFFSET(AL$1867,A3023,A3022+1)-B$10-U$3","v":-1994.8215228285248},{"$f":"OFFSET(AL$1890,A3023,A3022+1)-B$11-V$3","v":645.51116090589051},{"$f":"OFFSET(AL$1844,A3023,A3022+1)-B$12-W$3","v":-207},{"$f":"B3024*F$5+C3024*F$4","v":-1994.8215228285248},{"$f":"C3024*F$5-B3024*F$4","v":645.51116090589051},-207,-1994.8215228285248,{"$f":"F3024*F$7+G3024*F$6","v":645.51116090589051},{"$f":"G3024*F$7-F3024*F$6","v":-207},{"$f":"H3024*F$9+J3024*F$8","v":-1994.8215228285248},{"$f":"I3024","v":645.51116090589051},{"$f":"J3024*F$9-H3024*F$8","v":-207},{"$f":"IF(P3022=1,K3024*B$1/(B$1+B$2+L3024),99999)","v":-60.863083401105186},{"$f":"M3024*B$1/(B$1+B$2+L3024)","v":-6.315681939387094}]
[null,{"$f":"OFFSET(AL$1867,A3023,A3022)-B$10-U$3","v":-2294.8215228285248},{"$f":"OFFSET(AL$1890,A3023,A3022)-B$11-V$3","v":645.51116090589051},{"$f":"OFFSET(AL$1844,A3023,A3022)-B$12-W$3","v":-207},{"$f":"B3025*F$5+C3025*F$4","v":-2294.8215228285248},{"$f":"C3025*F$5-B3025*F$4","v":645.51116090589051},-207,-2294.8215228285248,{"$f":"F3025*F$7+G3025*F$6","v":645.51116090589051},{"$f":"G3025*F$7-F3025*F$6","v":-207},{"$f":"H3025*F$9+J3025*F$8","v":-2294.8215228285248},{"$f":"I3025","v":645.51116090589051},{"$f":"J3025*F$9-H3025*F$8","v":-207},{"$f":"IF(P3022=1,K3025*B$1/(B$1+B$2+L3025),99999)","v":-70.016245632100976},{"$f":"M3025*B$1/(B$1+B$2+L3025)","v":-6.315681939387094}]
[null,{"$f":"OFFSET(AL$1867,A3028,A3027+1)-B$10-U$3","v":-1694.8215228285248},{"$f":"OFFSET(AL$1890,A3028,A3027+1)-B$11-V$3","v":645.51116090589051},{"$f":"OFFSET(AL$1844,A3028,A3027+1)-B$12-W$3","v":-207},{"$f":"B3029*F$5+C3029*F$4","v":-1694.8215228285248},{"$f":"C3029*F$5-B3029*F$4","v":645.51116090589051},-207,-1694.8215228285248,{"$f":"F3029*F$7+G3029*F$6","v":645.51116090589051},{"$f":"G3029*F$7-F3029*F$6","v":-207},{"$f":"H3029*F$9+J3029*F$8","v":-1694.8215228285248},{"$f":"I3029","v":645.51116090589051},{"$f":"J3029*F$9-H3029*F$8","v":-207},{"$f":"IF(P3027=1,K3029*B$1/(B$1+B$2+L3029),99999)","v":-51.709921170109396},{"$f":"M3029*B$1/(B$1+B$2+L3029)","v":-6.315681939387094}]
[null,{"$f":"OFFSET(AL$1867,A3028,A3027)-B$10-U$3","v":-1994.8215228285248},{"$f":"OFFSET(AL$1890,A3028,A3027)-B$11-V$3","v":645.51116090589051},{"$f":"OFFSET(AL$1844,A3028,A3027)-B$12-W$3","v":-207},{"$f":"B3030*F$5+C3030*F$4","v":-1994.8215228285248},{"$f":"C3030*F$5-B3030*F$4","v":645.51116090589051},-207,-1994.8215228285248,{"$f":"F3030*F$7+G3030*F$6","v":645.51116090589051},{"$f":"G3030*F$7-F3030*F$6","v":-207},{"$f":"H3030*F$9+J3030*F$8","v":-1994.8215228285248},{"$f":"I3030","v":645.51116090589051},{"$f":"J3030*F$9-H3030*F$8","v":-207},{"$f":"IF(P3027=1,K3030*B$1/(B$1+B$2+L3030),99999)","v":-60.863083401105186},{"$f":"M3030*B$1/(B$1+B$2+L3030)","v":-6.315681939387094}]
[{"$f":"A3028","v":13},{"$f":"OFFSET(AL$1867,A3033+1,A3032+1)-B$10-U$3","v":-1544.8215228285248},{"$f":"OFFSET(AL$1890,A3033+1,A3032+1)-B$11-V$3","v":905.31878204122222},{"$f":"OFFSET(AL$1844,A3033+1,A3032+1)-B$12-W$3","v":-207},{"$f":"B3033*F$5+C3033*F$4","v":-1544.8215228285248},{"$f":"C3033*F$5-B3033*F$4","v":905.31878204122222},-207,-1544.8215228285248,{"$f":"F3033*F$7+G3033*F$6","v":905.31878204122222},{"$f":"G3033*F$7-F3033*F$6","v":-207},{"$f":"H3033*F$9+J3033*F$8","v":-1544.8215228285248},{"$f":"I3033","v":905.31878204122222},{"$f":"J3033*F$9-H3033*F$8","v":-207},{"$f":"IF(P3032=1,K3033*B$1/(B$1+B$2+L3033),99999)","v":-33.75483062596988},{"$f":"M3033*B$1/(B$1+B$2+L3033)","v":-4.5230143652985273}]
[null,{"$f":"OFFSET(AL$1867,A3033,A3032)-B$10-U$3","v":-1694.8215228285248},{"$f":"OFFSET(AL$1890,A3033,A3032)-B$11-V$3","v":645.51116090589051},{"$f":"OFFSET(AL$1844,A3033,A3032)-B$12-W$3","v":-207},{"$f":"B3035*F$5+C3035*F$4","v":-1694.8215228285248},{"$f":"C3035*F$5-B3035*F$4","v":645.51116090589051},-207,-1694.8215228285248,{"$f":"F3035*F$7+G3035*F$6","v":645.51116090589051},{"$f":"G3035*F$7-F3035*F$6","v":-207},{"$f":"H3035*F$9+J3035*F$8","v":-1694.8215228285248},{"$f":"I3035","v":645.51116090589051},{"$f":"J3035*F$9-H3035*F$8","v":-207},{"$f":"IF(P3032=1,K3035*B$1/(B$1+B$2+L3035),99999)","v":-51.709921170109396},{"$f":"M3035*B$1/(B$1+B$2+L3035)","v":-6.315681939387094}]
[null,{"$f":"OFFSET(AL$1867,A3038,A3037+1)-B$10-U$3","v":-1094.8215228285248},{"$f":"OFFSET(AL$1890,A3038,A3037+1)-B$11-V$3","v":645.51116090589051},{"$f":"OFFSET(AL$1844,A3038,A3037+1)-B$12-W$3","v":-207},{"$f":"B3039*F$5+C3039*F$4","v":-1094.8215228285248},{"$f":"C3039*F$5-B3039*F$4","v":645.51116090589051},-207,-1094.8215228285248,{"$f":"F3039*F$7+G3039*F$6","v":645.51116090589051},{"$f":"G3039*F$7-F3039*F$6","v":-207},{"$f":"H3039*F$9+J3039*F$8","v":-1094.8215228285248},{"$f":"I3039","v":645.51116090589051},{"$f":"J3039*F$9-H3039*F$8","v":-207},{"$f":"IF(P3037=1,K3039*B$1/(B$1+B$2+L3039),99999)","v":-33.403596708117817},{"$f":"M3039*B$1/(B$1+B$2+L3039)","v":-6.315681939387094}]
[null,{"$f":"OFFSET(AL$1867,A3038,A3037)-B$10-U$3","v":-1394.8215228285248},{"$f":"OFFSET(AL$1890,A3038,A3037)-B$11-V$3","v":645.51116090589051},{"$f":"OFFSET(AL$1844,A3038,A3037)-B$12-W$3","v":-207},{"$f":"B3040*F$5+C3040*F$4","v":-1394.8215228285248},{"$f":"C3040*F$5-B3040*F$4","v":645.51116090589051},-207,-1394.8215228285248,{"$f":"F3040*F$7+G3040*F$6","v":645.51116090589051},{"$f":"G3040*F$7-F3040*F$6","v":-207},{"$f":"H3040*F$9+J3040*F$8","v":-1394.8215228285248},{"$f":"I3040","v":645.51116090589051},{"$f":"J3040*F$9-H3040*F$8","v":-207},{"$f":"IF(P3037=1,K3040*B$1/(B$1+B$2+L3040),99999)","v":-42.556758939113607},{"$f":"M3040*B$1/(B$1+B$2+L3040)","v":-6.315681939387094}]
[{"$f":"A3037+1","v":6},{"$f":"OFFSET(AL$1867,A3043,A3042)-B$10-U$3","v":-1094.8215228285248},{"$f":"OFFSET(AL$1890,A3043,A3042)-B$11-V$3","v":645.51116090589051},{"$f":"OFFSET(AL$1844,A3043,A3042)-B$12-W$3","v":-207},{"$f":"B3042*F$5+C3042*F$4","v":-1094.8215228285248},{"$f":"C3042*F$5-B3042*F$4","v":645.51116090589051},{"$f":"D3042","v":-207},-1094.8215228285248,{"$f":"F3042*F$7+G3042*F$6","v":645.51116090589051},{"$f":"G3042*F$7-F3042*F$6","v":-207},{"$f":"H3042*F$9+J3042*F$8","v":-1094.8215228285248},{"$f":"I3042","v":645.51116090589051},{"$f":"J3042*F$9-H3042*F$8","v":-207},{"$f":"IF(P3042=1,K3042*B$1/(B$1+B$2+L3042),99999)","v":-33.403596708117817},{"$f":"M3042*B$1/(B$1+B$2+L3042)","v":-6.315681939387094},{"$f":"IF(MIN(L3042:L3045)+B$2+B$1>0,1,0)","v":1}]
[null,{"$f":"OFFSET(AL$1867,A3043,A3042)-B$10-U$3","v":-1094.8215228285248},{"$f":"OFFSET(AL$1890,A3043,A3042)-B$11-V$3","v":645.51116090589051},{"$f":"OFFSET(AL$1844,A3043,A3042)-B$12-W$3","v":-207},{"$f":"B3045*F$5+C3045*F$4","v":-1094.8215228285248},{"$f":"C3045*F$5-B3045*F$4","v":645.51116090589051},-207,-1094.8215228285248,{"$f":"F3045*F$7+G3045*F$6","v":645.51116090589051},{"$f":"G3045*F$7-F3045*F$6","v":-207},{"$f":"H3045*F$9+J3045*F$8","v":-1094.8215228285248},{"$f":"I3045","v":645.51116090589051},{"$f":"J3045*F$9-H3045*F$8","v":-207},{"$f":"IF(P3042=1,K3045*B$1/(B$1+B$2+L3045),99999)","v":-33.403596708117817},{"$f":"M3045*B$1/(B$1+B$2+L3045)","v":-6.315681939387094}]
[{"$f":"A3042+1","v":7},{"$f":"OFFSET(AL$1867,A3048,A3047)-B$10-U$3","v":-794.82152282852485},{"$f":"OFFSET(AL$1890,A3048,A3047)-B$11-V$3","v":645.51116090589051},{"$f":"OFFSET(AL$1844,A3048,A3047)-B$12-W$3","v":-207},{"$f":"B3047*F$5+C3047*F$4","v":-794.82152282852485},{"$f":"C3047*F$5-B3047*F$4","v":645.51116090589051},{"$f":"D3047","v":-207},-794.82152282852485,{"$f":"F3047*F$7+G3047*F$6","v":645.51116090589051},{"$f":"G3047*F$7-F3047*F$6","v":-207},{"$f":"H3047*F$9+J3047*F$8","v":-794.82152282852485},{"$f":"I3047","v":645.51116090589051},{"$f":"J3047*F$9-H3047*F$8","v":-207},{"$f":"IF(P3047=1,K3047*B$1/(B$1+B$2+L3047),99999)","v":-24.250434477122035},{"$f":"M3047*B$1/(B$1+B$2+L3047)","v":-6.315681939387094},{"$f":"IF(MIN(L3047:L3050)+B$2+B$1>0,1,0)","v":1}]
[null,{"$f":"OFFSET(AL$1867,A3048,A3047)-B$10-U$3","v":-794.82152282852485},{"$f":"OFFSET(AL$1890,A3048,A3047)-B$11-V$3","v":645.51116090589051},{"$f":"OFFSET(AL$1844,A3048,A3047)-B$12-W$3","v":-207},{"$f":"B3050*F$5+C3050*F$4","v":-794.82152282852485},{"$f":"C3050*F$5-B3050*F$4","v":645.51116090589051},-207,-794.82152282852485,{"$f":"F3050*F$7+G3050*F$6","v":645.51116090589051},{"$f":"G3050*F$7-F3050*F$6","v":-207},{"$f":"H3050*F$9+J3050*F$8","v":-794.82152282852485},{"$f":"I3050","v":645.51116090589051},{"$f":"J3050*F$9-H3050*F$8","v":-207},{"$f":"IF(P3047=1,K3050*B$1/(B$1+B$2+L3050),99999)","v":-24.250434477122035},{"$f":"M3050*B$1/(B$1+B$2+L3050)","v":-6.315681939387094}]
[{"$f":"A3048","v":13},{"$f":"OFFSET(AL$1867,A3053+1,A3052+1)-B$10-U$3","v":-344.82152282852485},{"$f":"OFFSET(AL$1890,A3053+1,A3052+1)-B$11-V$3","v":905.31878204122222},{"$f":"OFFSET(AL$1844,A3053+1,A3052+1)-B$12-W$3","v":-207},{"$f":"B3053*F$5+C3053*F$4","v":-344.82152282852485},{"$f":"C3053*F$5-B3053*F$4","v":905.31878204122222},-207,-344.82152282852485,{"$f":"F3053*F$7+G3053*F$6","v":905.31878204122222},{"$f":"G3053*F$7-F3053*F$6","v":-207},{"$f":"H3053*F$9+J3053*F$8","v":-344.82152282852485},{"$f":"I3053","v":905.31878204122222},{"$f":"J3053*F$9-H3053*F$8","v":-207},{"$f":"IF(P3052=1,K3053*B$1/(B$1+B$2+L3053),99999)","v":-7.5344574938045028},{"$f":"M3053*B$1/(B$1+B$2+L3053)","v":-4.5230143652985273}]
[null,{"$f":"OFFSET(AL$1867,A3053,A3052)-B$10-U$3","v":-494.82152282852485},{"$f":"OFFSET(AL$1890,A3053,A3052)-B$11-V$3","v":645.51116090589051},{"$f":"OFFSET(AL$1844,A3053,A3052)-B$12-W$3","v":-207},{"$f":"B3055*F$5+C3055*F$4","v":-494.82152282852485},{"$f":"C3055*F$5-B3055*F$4","v":645.51116090589051},-207,-494.82152282852485,{"$f":"F3055*F$7+G3055*F$6","v":645.51116090589051},{"$f":"G3055*F$7-F3055*F$6","v":-207},{"$f":"H3055*F$9+J3055*F$8","v":-494.82152282852485},{"$f":"I3055","v":645.51116090589051},{"$f":"J3055*F$9-H3055*F$8","v":-207},{"$f":"IF(P3052=1,K3055*B$1/(B$1+B$2+L3055),99999)","v":-15.097272246126247},{"$f":"M3055*B$1/(B$1+B$2+L3055)","v":-6.315681939387094}]
[null,{"$f":"OFFSET(AL$1867,A3058,A3057+1)-B$10-U$3","v":105.17847717147515},{"$f":"OFFSET(AL$1890,A3058,A3057+1)-B$11-V$3","v":645.51116090589051},{"$f":"OFFSET(AL$1844,A3058,A3057+1)-B$12-W$3","v":-207},{"$f":"B3059*F$5+C3059*F$4","v":105.17847717147515},{"$f":"C3059*F$5-B3059*F$4","v":645.51116090589051},-207,105.17847717147515,{"$f":"F3059*F$7+G3059*F$6","v":645.51116090589051},{"$f":"G3059*F$7-F3059*F$6","v":-207},{"$f":"H3059*F$9+J3059*F$8","v":105.17847717147515},{"$f":"I3059","v":645.51116090589051},{"$f":"J3059*F$9-H3059*F$8","v":-207},{"$f":"IF(P3057=1,K3059*B$1/(B$1+B$2+L3059),99999)","v":3.2090522158653303},{"$f":"M3059*B$1/(B$1+B$2+L3059)","v":-6.315681939387094}]
[null,{"$f":"OFFSET(AL$1867,A3058,A3057)-B$10-U$3","v":-194.82152282852485},{"$f":"OFFSET(AL$1890,A3058,A3057)-B$11-V$3","v":645.51116090589051},{"$f":"OFFSET(AL$1844,A3058,A3057)-B$12-W$3","v":-207},{"$f":"B3060*F$5+C3060*F$4","v":-194.82152282852485},{"$f":"C3060*F$5-B3060*F$4","v":645.51116090589051},-207,-194.82152282852485,{"$f":"F3060*F$7+G3060*F$6","v":645.51116090589051},{"$f":"G3060*F$7-F3060*F$6","v":-207},{"$f":"H3060*F$9+J3060*F$8","v":-194.82152282852485},{"$f":"I3060","v":645.51116090589051},{"$f":"J3060*F$9-H3060*F$8","v":-207},{"$f":"IF(P3057=1,K3060*B$1/(B$1+B$2+L3060),99999)","v":-5.944110015130458},{"$f":"M3060*B$1/(B$1+B$2+L3060)","v":-6.315681939387094}]
[{"$f":"A3058","v":13},{"$f":"OFFSET(AL$1867,A3063+1,A3062+1)-B$10-U$3","v":255.17847717147515},{"$f":"OFFSET(AL$1890,A3063+1,A3062+1)-B$11-V$3","v":905.31878204122222},{"$f":"OFFSET(AL$1844,A3063+1,A3062+1)-B$12-W$3","v":-207},{"$f":"B3063*F$5+C3063*F$4","v":255.17847717147515},{"$f":"C3063*F$5-B3063*F$4","v":905.31878204122222},-207,255.17847717147515,{"$f":"F3063*F$7+G3063*F$6","v":905.31878204122222},{"$f":"G3063*F$7-F3063*F$6","v":-207},{"$f":"H3063*F$9+J3063*F$8","v":255.17847717147515},{"$f":"I3063","v":905.31878204122222},{"$f":"J3063*F$9-H3063*F$8","v":-207},{"$f":"IF(P3062=1,K3063*B$1/(B$1+B$2+L3063),99999)","v":5.575729072278186},{"$f":"M3063*B$1/(B$1+B$2+L3063)","v":-4.5230143652985273}]
[null,{"$f":"OFFSET(AL$1867,A3063,A3062+1)-B$10-U$3","v":405.17847717147515},{"$f":"OFFSET(AL$1890,A3063,A3062+1)-B$11-V$3","v":645.51116090589051},{"$f":"OFFSET(AL$1844,A3063,A3062+1)-B$12-W$3","v":-207},{"$f":"B3064*F$5+C3064*F$4","v":405.17847717147515},{"$f":"C3064*F$5-B3064*F$4","v":645.51116090589051},-207,405.17847717147515,{"$f":"F3064*F$7+G3064*F$6","v":645.51116090589051},{"$f":"G3064*F$7-F3064*F$6","v":-207},{"$f":"H3064*F$9+J3064*F$8","v":405.17847717147515},{"$f":"I3064","v":645.51116090589051},{"$f":"J3064*F$9-H3064*F$8","v":-207},{"$f":"IF(P3062=1,K3064*B$1/(B$1+B$2+L3064),99999)","v":12.362214446861119},{"$f":"M3064*B$1/(B$1+B$2+L3064)","v":-6.315681939387094}]
[{"$f":"A3063","v":13},{"$f":"OFFSET(AL$1867,A3068+1,A3067+1)-B$10-U$3","v":555.17847717147515},{"$f":"OFFSET(AL$1890,A3068+1,A3067+1)-B$11-V$3","v":905.31878204122222},{"$f":"OFFSET(AL$1844,A3068+1,A3067+1)-B$12-W$3","v":-207},{"$f":"B3068*F$5+C3068*F$4","v":555.17847717147515},{"$f":"C3068*F$5-B3068*F$4","v":905.31878204122222},-207,555.17847717147515,{"$f":"F3068*F$7+G3068*F$6","v":905.31878204122222},{"$f":"G3068*F$7-F3068*F$6","v":-207},{"$f":"H3068*F$9+J3068*F$8","v":555.17847717147515},{"$f":"I3068","v":905.31878204122222},{"$f":"J3068*F$9-H3068*F$8","v":-207},{"$f":"IF(P3067=1,K3068*B$1/(B$1+B$2+L3068),99999)","v":12.13082235531953},{"$f":"M3068*B$1/(B$1+B$2+L3068)","v":-4.5230143652985273}]
[null,{"$f":"OFFSET(AL$1867,A3068,A3067)-B$10-U$3","v":405.17847717147515},{"$f":"OFFSET(AL$1890,A3068,A3067)-B$11-V$3","v":645.51116090589051},{"$f":"OFFSET(AL$1844,A3068,A3067)-B$12-W$3","v":-207},{"$f":"B3070*F$5+C3070*F$4","v":405.17847717147515},{"$f":"C3070*F$5-B3070*F$4","v":645.51116090589051},-207,405.17847717147515,{"$f":"F3070*F$7+G3070*F$6","v":645.51116090589051},{"$f":"G3070*F$7-F3070*F$6","v":-207},{"$f":"H3070*F$9+J3070*F$8","v":405.17847717147515},{"$f":"I3070","v":645.51116090589051},{"$f":"J3070*F$9-H3070*F$8","v":-207},{"$f":"IF(P3067=1,K3070*B$1/(B$1+B$2+L3070),99999)","v":12.362214446861119},{"$f":"M3070*B$1/(B$1+B$2+L3070)","v":-6.315681939387094}]
[{"$f":"A3068","v":13},{"$f":"OFFSET(AL$1867,A3073+1,A3072+1)-B$10-U$3","v":855.17847717147515},{"$f":"OFFSET(AL$1890,A3073+1,A3072+1)-B$11-V$3","v":905.31878204122222},{"$f":"OFFSET(AL$1844,A3073+1,A3072+1)-B$12-W$3","v":-207},{"$f":"B3073*F$5+C3073*F$4","v":855.17847717147515},{"$f":"C3073*F$5-B3073*F$4","v":905.31878204122222},-207,855.17847717147515,{"$f":"F3073*F$7+G3073*F$6","v":905.31878204122222},{"$f":"G3073*F$7-F3073*F$6","v":-207},{"$f":"H3073*F$9+J3073*F$8","v":855.17847717147515},{"$f":"I3073","v":905.31878204122222},{"$f":"J3073*F$9-H3073*F$8","v":-207},{"$f":"IF(P3072=1,K3073*B$1/(B$1+B$2+L3073),99999)","v":18.685915638360875},{"$f":"M3073*B$1/(B$1+B$2+L3073)","v":-4.5230143652985273}]
[null,{"$f":"OFFSET(AL$1867,A3073,A3072)-B$10-U$3","v":705.17847717147515},{"$f":"OFFSET(AL$1890,A3073,A3072)-B$11-V$3","v":645.51116090589051},{"$f":"OFFSET(AL$1844,A3073,A3072)-B$12-W$3","v":-207},{"$f":"B3075*F$5+C3075*F$4","v":705.17847717147515},{"$f":"C3075*F$5-B3075*F$4","v":645.51116090589051},-207,705.17847717147515,{"$f":"F3075*F$7+G3075*F$6","v":645.51116090589051},{"$f":"G3075*F$7-F3075*F$6","v":-207},{"$f":"H3075*F$9+J3075*F$8","v":705.17847717147515},{"$f":"I3075","v":645.51116090589051},{"$f":"J3075*F$9-H3075*F$8","v":-207},{"$f":"IF(P3072=1,K3075*B$1/(B$1+B$2+L3075),99999)","v":21.515376677856906},{"$f":"M3075*B$1/(B$1+B$2+L3075)","v":-6.315681939387094}]
[{"$f":"A3073","v":13},{"$f":"OFFSET(AL$1867,A3078+1,A3077+1)-B$10-U$3","v":1155.1784771714752},{"$f":"OFFSET(AL$1890,A3078+1,A3077+1)-B$11-V$3","v":905.31878204122222},{"$f":"OFFSET(AL$1844,A3078+1,A3077+1)-B$12-W$3","v":-207},{"$f":"B3078*F$5+C3078*F$4","v":1155.1784771714752},{"$f":"C3078*F$5-B3078*F$4","v":905.31878204122222},-207,1155.1784771714752,{"$f":"F3078*F$7+G3078*F$6","v":905.31878204122222},{"$f":"G3078*F$7-F3078*F$6","v":-207},{"$f":"H3078*F$9+J3078*F$8","v":1155.1784771714752},{"$f":"I3078","v":905.31878204122222},{"$f":"J3078*F$9-H3078*F$8","v":-207},{"$f":"IF(P3077=1,K3078*B$1/(B$1+B$2+L3078),99999)","v":25.241008921402219},{"$f":"M3078*B$1/(B$1+B$2+L3078)","v":-4.5230143652985273}]
[]
[{"$f":"A3078","v":13},{"$f":"OFFSET(AL$1867,A3083+1,A3082+1)-B$10-U$3","v":1455.1784771714752},{"$f":"OFFSET(AL$1890,A3083+1,A3082+1)-B$11-V$3","v":905.31878204122222},{"$f":"OFFSET(AL$1844,A3083+1,A3082+1)-B$12-W$3","v":-207},{"$f":"B3083*F$5+C3083*F$4","v":1455.1784771714752},{"$f":"C3083*F$5-B3083*F$4","v":905.31878204122222},-207,1455.1784771714752,{"$f":"F3083*F$7+G3083*F$6","v":905.31878204122222},{"$f":"G3083*F$7-F3083*F$6","v":-207},{"$f":"H3083*F$9+J3083*F$8","v":1455.1784771714752},{"$f":"I3083","v":905.31878204122222},{"$f":"J3083*F$9-H3083*F$8","v":-207},{"$f":"IF(P3082=1,K3083*B$1/(B$1+B$2+L3083),99999)","v":31.796102204443564},{"$f":"M3083*B$1/(B$1+B$2+L3083)","v":-4.5230143652985273}]
[null,{"$f":"OFFSET(AL$1867,A3083,A3082+1)-B$10-U$3","v":1605.1784771714752},{"$f":"OFFSET(AL$1890,A3083,A3082+1)-B$11-V$3","v":645.51116090589051},{"$f":"OFFSET(AL$1844,A3083,A3082+1)-B$12-W$3","v":-207},{"$f":"B3084*F$5+C3084*F$4","v":1605.1784771714752},{"$f":"C3084*F$5-B3084*F$4","v":645.51116090589051},-207,1605.1784771714752,{"$f":"F3084*F$7+G3084*F$6","v":645.51116090589051},{"$f":"G3084*F$7-F3084*F$6","v":-207},{"$f":"H3084*F$9+J3084*F$8","v":1605.1784771714752},{"$f":"I3084","v":645.51116090589051},{"$f":"J3084*F$9-H3084*F$8","v":-207},{"$f":"IF(P3082=1,K3084*B$1/(B$1+B$2+L3084),99999)","v":48.974863370844275},{"$f":"M3084*B$1/(B$1+B$2+L3084)","v":-6.315681939387094}]
[{"$f":"A3083","v":13},{"$f":"OFFSET(AL$1867,A3088+1,A3087+1)-B$10-U$3","v":1755.1784771714752},{"$f":"OFFSET(AL$1890,A3088+1,A3087+1)-B$11-V$3","v":905.31878204122222},{"$f":"OFFSET(AL$1844,A3088+1,A3087+1)-B$12-W$3","v":-207},{"$f":"B3088*F$5+C3088*F$4","v":1755.1784771714752},{"$f":"C3088*F$5-B3088*F$4","v":905.31878204122222},-207,1755.1784771714752,{"$f":"F3088*F$7+G3088*F$6","v":905.31878204122222},{"$f":"G3088*F$7-F3088*F$6","v":-207},{"$f":"H3088*F$9+J3088*F$8","v":1755.1784771714752},{"$f":"I3088","v":905.31878204122222},{"$f":"J3088*F$9-H3088*F$8","v":-207},{"$f":"IF(P3087=1,K3088*B$1/(B$1+B$2+L3088),99999)","v":38.351195487484908},{"$f":"M3088*B$1/(B$1+B$2+L3088)","v":-4.5230143652985273}]
[null,{"$f":"OFFSET(AL$1867,A3088,A3087)-B$10-U$3","v":1605.1784771714752},{"$f":"OFFSET(AL$1890,A3088,A3087)-B$11-V$3","v":645.51116090589051},{"$f":"OFFSET(AL$1844,A3088,A3087)-B$12-W$3","v":-207},{"$f":"B3090*F$5+C3090*F$4","v":1605.1784771714752},{"$f":"C3090*F$5-B3090*F$4","v":645.51116090589051},-207,1605.1784771714752,{"$f":"F3090*F$7+G3090*F$6","v":645.51116090589051},{"$f":"G3090*F$7-F3090*F$6","v":-207},{"$f":"H3090*F$9+J3090*F$8","v":1605.1784771714752},{"$f":"I3090","v":645.51116090589051},{"$f":"J3090*F$9-H3090*F$8","v":-207},{"$f":"IF(P3087=1,K3090*B$1/(B$1+B$2+L3090),99999)","v":48.974863370844275},{"$f":"M3090*B$1/(B$1+B$2+L3090)","v":-6.315681939387094}]
[{"$f":"A3088","v":13},{"$f":"OFFSET(AL$1867,A3093+1,A3092+1)-B$10-U$3","v":2055.1784771714752},{"$f":"OFFSET(AL$1890,A3093+1,A3092+1)-B$11-V$3","v":905.31878204122222},{"$f":"OFFSET(AL$1844,A3093+1,A3092+1)-B$12-W$3","v":-207},{"$f":"B3093*F$5+C3093*F$4","v":2055.1784771714752},{"$f":"C3093*F$5-B3093*F$4","v":905.31878204122222},-207,2055.1784771714752,{"$f":"F3093*F$7+G3093*F$6","v":905.31878204122222},{"$f":"G3093*F$7-F3093*F$6","v":-207},{"$f":"H3093*F$9+J3093*F$8","v":2055.1784771714752},{"$f":"I3093","v":905.31878204122222},{"$f":"J3093*F$9-H3093*F$8","v":-207},{"$f":"IF(P3092=1,K3093*B$1/(B$1+B$2+L3093),99999)","v":44.906288770526253},{"$f":"M3093*B$1/(B$1+B$2+L3093)","v":-4.5230143652985273}]
[null,{"$f":"OFFSET(AL$1867,A3093,A3092+1)-B$10-U$3","v":2205.1784771714752},{"$f":"OFFSET(AL$1890,A3093,A3092+1)-B$11-V$3","v":645.51116090589051},{"$f":"OFFSET(AL$1844,A3093,A3092+1)-B$12-W$3","v":-207},{"$f":"B3094*F$5+C3094*F$4","v":2205.1784771714752},{"$f":"C3094*F$5-B3094*F$4","v":645.51116090589051},-207,2205.1784771714752,{"$f":"F3094*F$7+G3094*F$6","v":645.51116090589051},{"$f":"G3094*F$7-F3094*F$6","v":-207},{"$f":"H3094*F$9+J3094*F$8","v":2205.1784771714752},{"$f":"I3094","v":645.51116090589051},{"$f":"J3094*F$9-H3094*F$8","v":-207},{"$f":"IF(P3092=1,K3094*B$1/(B$1+B$2+L3094),99999)","v":67.281187832835855},{"$f":"M3094*B$1/(B$1+B$2+L3094)","v":-6.315681939387094}]
[{"$f":"A3093","v":13},{"$f":"OFFSET(AL$1867,A3098+1,A3097+1)-B$10-U$3","v":2355.1784771714752},{"$f":"OFFSET(AL$1890,A3098+1,A3097+1)-B$11-V$3","v":905.31878204122222},{"$f":"OFFSET(AL$1844,A3098+1,A3097+1)-B$12-W$3","v":-207},{"$f":"B3098*F$5+C3098*F$4","v":2355.1784771714752},{"$f":"C3098*F$5-B3098*F$4","v":905.31878204122222},-207,2355.1784771714752,{"$f":"F3098*F$7+G3098*F$6","v":905.31878204122222},{"$f":"G3098*F$7-F3098*F$6","v":-207},{"$f":"H3098*F$9+J3098*F$8","v":2355.1784771714752},{"$f":"I3098","v":905.31878204122222},{"$f":"J3098*F$9-H3098*F$8","v":-207},{"$f":"IF(P3097=1,K3098*B$1/(B$1+B$2+L3098),99999)","v":51.461382053567597},{"$f":"M3098*B$1/(B$1+B$2+L3098)","v":-4.5230143652985273}]
[null,{"$f":"OFFSET(AL$1867,A3098,A3097+1)-B$10-U$3","v":2505.1784771714752},{"$f":"OFFSET(AL$1890,A3098,A3097+1)-B$11-V$3","v":645.51116090589051},{"$f":"OFFSET(AL$1844,A3098,A3097+1)-B$12-W$3","v":-207},{"$f":"B3099*F$5+C3099*F$4","v":2505.1784771714752},{"$f":"C3099*F$5-B3099*F$4","v":645.51116090589051},-207,2505.1784771714752,{"$f":"F3099*F$7+G3099*F$6","v":645.51116090589051},{"$f":"G3099*F$7-F3099*F$6","v":-207},{"$f":"H3099*F$9+J3099*F$8","v":2505.1784771714752},{"$f":"I3099","v":645.51116090589051},{"$f":"J3099*F$9-H3099*F$8","v":-207},{"$f":"IF(P3097=1,K3099*B$1/(B$1+B$2+L3099),99999)","v":76.434350063831644},{"$f":"M3099*B$1/(B$1+B$2+L3099)","v":-6.315681939387094}]
[]
[null,{"$f":"OFFSET(AL$1867,A3103,A3102+1)-B$10-U$3","v":2805.1784771714752},{"$f":"OFFSET(AL$1890,A3103,A3102+1)-B$11-V$3","v":645.51116090589051},{"$f":"OFFSET(AL$1844,A3103,A3102+1)-B$12-W$3","v":-207},{"$f":"B3104*F$5+C3104*F$4","v":2805.1784771714752},{"$f":"C3104*F$5-B3104*F$4","v":645.51116090589051},-207,2805.1784771714752,{"$f":"F3104*F$7+G3104*F$6","v":645.51116090589051},{"$f":"G3104*F$7-F3104*F$6","v":-207},{"$f":"H3104*F$9+J3104*F$8","v":2805.1784771714752},{"$f":"I3104","v":645.51116090589051},{"$f":"J3104*F$9-H3104*F$8","v":-207},{"$f":"IF(P3102=1,K3104*B$1/(B$1+B$2+L3104),99999)","v":85.587512294827434},{"$f":"M3104*B$1/(B$1+B$2+L3104)","v":-6.315681939387094}]
[]
[null,{"$f":"OFFSET(AL$1867,A3108,A3107+1)-B$10-U$3","v":3105.1784771714752},{"$f":"OFFSET(AL$1890,A3108,A3107+1)-B$11-V$3","v":645.51116090589051},{"$f":"OFFSET(AL$1844,A3108,A3107+1)-B$12-W$3","v":-207},{"$f":"B3109*F$5+C3109*F$4","v":3105.1784771714752},{"$f":"C3109*F$5-B3109*F$4","v":645.51116090589051},-207,3105.1784771714752,{"$f":"F3109*F$7+G3109*F$6","v":645.51116090589051},{"$f":"G3109*F$7-F3109*F$6","v":-207},{"$f":"H3109*F$9+J3109*F$8","v":3105.1784771714752},{"$f":"I3109","v":645.51116090589051},{"$f":"J3109*F$9-H3109*F$8","v":-207},{"$f":"IF(P3107=1,K3109*B$1/(B$1+B$2+L3109),99999)","v":94.740674525823223},{"$f":"M3109*B$1/(B$1+B$2+L3109)","v":-6.315681939387094}]
[0,{"$f":"OFFSET(AL$1867,A3113,A3112)-B$10-U$3","v":-3044.8215228285248},{"$f":"OFFSET(AL$1890,A3113,A3112)-B$11-V$3","v":905.31878204122222},{"$f":"OFFSET(AL$1844,A3113,A3112)-B$12-W$3","v":-207},{"$f":"B3112*F$5+C3112*F$4","v":-3044.8215228285248},{"$f":"C3112*F$5-B3112*F$4","v":905.31878204122222},{"$f":"D3112","v":-207},-3044.8215228285248,{"$f":"F3112*F$7+G3112*F$6","v":905.31878204122222},{"$f":"G3112*F$7-F3112*F$6","v":-207},{"$f":"H3112*F$9+J3112*F$8","v":-3044.8215228285248},{"$f":"I3112","v":905.31878204122222},{"$f":"J3112*F$9-H3112*F$8","v":-207},{"$f":"IF(P3112=1,K3112*B$1/(B$1+B$2+L3112),99999)","v":-66.530297041176595},{"$f":"M3112*B$1/(B$1+B$2+L3112)","v":-4.5230143652985273},{"$f":"IF(MIN(L3112:L3115)+B$2+B$1>0,1,0)","v":1}]
[null,{"$f":"OFFSET(AL$1867,A3113,A3112+1)-B$10-U$3","v":-2744.8215228285248},{"$f":"OFFSET(AL$1890,A3113,A3112+1)-B$11-V$3","v":905.31878204122222},{"$f":"OFFSET(AL$1844,A3113,A3112+1)-B$12-W$3","v":-207},{"$f":"B3114*F$5+C3114*F$4","v":-2744.8215228285248},{"$f":"C3114*F$5-B3114*F$4","v":905.31878204122222},-207,-2744.8215228285248,{"$f":"F3114*F$7+G3114*F$6","v":905.31878204122222},{"$f":"G3114*F$7-F3114*F$6","v":-207},{"$f":"H3114*F$9+J3114*F$8","v":-2744.8215228285248},{"$f":"I3114","v":905.31878204122222},{"$f":"J3114*F$9-H3114*F$8","v":-207},{"$f":"IF(P3112=1,K3114*B$1/(B$1+B$2+L3114),99999)","v":-59.975203758135258},{"$f":"M3114*B$1/(B$1+B$2+L3114)","v":-4.5230143652985273}]
[{"$f":"A3113","v":14},{"$f":"OFFSET(AL$1867,A3118+1,A3117)-B$10-U$3","v":-2594.8215228285248},{"$f":"OFFSET(AL$1890,A3118+1,A3117)-B$11-V$3","v":1165.126403176554},{"$f":"OFFSET(AL$1844,A3118+1,A3117)-B$12-W$3","v":-207},{"$f":"B3118*F$5+C3118*F$4","v":-2594.8215228285248},{"$f":"C3118*F$5-B3118*F$4","v":1165.126403176554},-207,-2594.8215228285248,{"$f":"F3118*F$7+G3118*F$6","v":1165.126403176554},{"$f":"G3118*F$7-F3118*F$6","v":-207},{"$f":"H3118*F$9+J3118*F$8","v":-2594.8215228285248},{"$f":"I3118","v":1165.126403176554},{"$f":"J3118*F$9-H3118*F$8","v":-207},{"$f":"IF(P3117=1,K3118*B$1/(B$1+B$2+L3118),99999)","v":-44.16242398799497},{"$f":"M3118*B$1/(B$1+B$2+L3118)","v":-3.5230252582266215}]
[null,{"$f":"OFFSET(AL$1867,A3118,A3117+1)-B$10-U$3","v":-2444.8215228285248},{"$f":"OFFSET(AL$1890,A3118,A3117+1)-B$11-V$3","v":905.31878204122222},{"$f":"OFFSET(AL$1844,A3118,A3117+1)-B$12-W$3","v":-207},{"$f":"B3119*F$5+C3119*F$4","v":-2444.8215228285248},{"$f":"C3119*F$5-B3119*F$4","v":905.31878204122222},-207,-2444.8215228285248,{"$f":"F3119*F$7+G3119*F$6","v":905.31878204122222},{"$f":"G3119*F$7-F3119*F$6","v":-207},{"$f":"H3119*F$9+J3119*F$8","v":-2444.8215228285248},{"$f":"I3119","v":905.31878204122222},{"$f":"J3119*F$9-H3119*F$8","v":-207},{"$f":"IF(P3117=1,K3119*B$1/(B$1+B$2+L3119),99999)","v":-53.420110475093914},{"$f":"M3119*B$1/(B$1+B$2+L3119)","v":-4.5230143652985273}]
[{"$f":"A3117+1","v":2},{"$f":"OFFSET(AL$1867,A3123,A3122)-B$10-U$3","v":-2444.8215228285248},{"$f":"OFFSET(AL$1890,A3123,A3122)-B$11-V$3","v":905.31878204122222},{"$f":"OFFSET(AL$1844,A3123,A3122)-B$12-W$3","v":-207},{"$f":"B3122*F$5+C3122*F$4","v":-2444.8215228285248},{"$f":"C3122*F$5-B3122*F$4","v":905.31878204122222},{"$f":"D3122","v":-207},-2444.8215228285248,{"$f":"F3122*F$7+G3122*F$6","v":905.31878204122222},{"$f":"G3122*F$7-F3122*F$6","v":-207},{"$f":"H3122*F$9+J3122*F$8","v":-2444.8215228285248},{"$f":"I3122","v":905.31878204122222},{"$f":"J3122*F$9-H3122*F$8","v":-207},{"$f":"IF(P3122=1,K3122*B$1/(B$1+B$2+L3122),99999)","v":-53.420110475093914},{"$f":"M3122*B$1/(B$1+B$2+L3122)","v":-4.5230143652985273},{"$f":"IF(MIN(L3122:L3125)+B$2+B$1>0,1,0)","v":1}]
[{"$f":"A3118","v":14},{"$f":"OFFSET(AL$1867,A3123+1,A3122)-B$10-U$3","v":-2294.8215228285248},{"$f":"OFFSET(AL$1890,A3123+1,A3122)-B$11-V$3","v":1165.126403176554},{"$f":"OFFSET(AL$1844,A3123+1,A3122)-B$12-W$3","v":-207},{"$f":"B3123*F$5+C3123*F$4","v":-2294.8215228285248},{"$f":"C3123*F$5-B3123*F$4","v":1165.126403176554},-207,-2294.8215228285248,{"$f":"F3123*F$7+G3123*F$6","v":1165.126403176554},{"$f":"G3123*F$7-F3123*F$6","v":-207},{"$f":"H3123*F$9+J3123*F$8","v":-2294.8215228285248},{"$f":"I3123","v":1165.126403176554},{"$f":"J3123*F$9-H3123*F$8","v":-207},{"$f":"IF(P3122=1,K3123*B$1/(B$1+B$2+L3123),99999)","v":-39.056590280420153},{"$f":"M3123*B$1/(B$1+B$2+L3123)","v":-3.5230252582266215}]
[{"$f":"A3122+1","v":3},{"$f":"OFFSET(AL$1867,A3128,A3127)-B$10-U$3","v":-2144.8215228285248},{"$f":"OFFSET(AL$1890,A3128,A3127)-B$11-V$3","v":905.31878204122222},{"$f":"OFFSET(AL$1844,A3128,A3127)-B$12-W$3","v":-207},{"$f":"B3127*F$5+C3127*F$4","v":-2144.8215228285248},{"$f":"C3127*F$5-B3127*F$4","v":905.31878204122222},{"$f":"D3127","v":-207},-2144.8215228285248,{"$f":"F3127*F$7+G3127*F$6","v":905.31878204122222},{"$f":"G3127*F$7-F3127*F$6","v":-207},{"$f":"H3127*F$9+J3127*F$8","v":-2144.8215228285248},{"$f":"I3127","v":905.31878204122222},{"$f":"J3127*F$9-H3127*F$8","v":-207},{"$f":"IF(P3127=1,K3127*B$1/(B$1+B$2+L3127),99999)","v":-46.865017192052569},{"$f":"M3127*B$1/(B$1+B$2+L3127)","v":-4.5230143652985273},{"$f":"IF(MIN(L3127:L3130)+B$2+B$1>0,1,0)","v":1}]
[null,{"$f":"OFFSET(AL$1867,A3128,A3127+1)-B$10-U$3","v":-1844.8215228285248},{"$f":"OFFSET(AL$1890,A3128,A3127+1)-B$11-V$3","v":905.31878204122222},{"$f":"OFFSET(AL$1844,A3128,A3127+1)-B$12-W$3","v":-207},{"$f":"B3129*F$5+C3129*F$4","v":-1844.8215228285248},{"$f":"C3129*F$5-B3129*F$4","v":905.31878204122222},-207,-1844.8215228285248,{"$f":"F3129*F$7+G3129*F$6","v":905.31878204122222},{"$f":"G3129*F$7-F3129*F$6","v":-207},{"$f":"H3129*F$9+J3129*F$8","v":-1844.8215228285248},{"$f":"I3129","v":905.31878204122222},{"$f":"J3129*F$9-H3129*F$8","v":-207},{"$f":"IF(P3127=1,K3129*B$1/(B$1+B$2+L3129),99999)","v":-40.309923909011225},{"$f":"M3129*B$1/(B$1+B$2+L3129)","v":-4.5230143652985273}]
[{"$f":"A3127+1","v":4},{"$f":"OFFSET(AL$1867,A3133,A3132)-B$10-U$3","v":-1844.8215228285248},{"$f":"OFFSET(AL$1890,A3133,A3132)-B$11-V$3","v":905.31878204122222},{"$f":"OFFSET(AL$1844,A3133,A3132)-B$12-W$3","v":-207},{"$f":"B3132*F$5+C3132*F$4","v":-1844.8215228285248},{"$f":"C3132*F$5-B3132*F$4","v":905.31878204122222},{"$f":"D3132","v":-207},-1844.8215228285248,{"$f":"F3132*F$7+G3132*F$6","v":905.31878204122222},{"$f":"G3132*F$7-F3132*F$6","v":-207},{"$f":"H3132*F$9+J3132*F$8","v":-1844.8215228285248},{"$f":"I3132","v":905.31878204122222},{"$f":"J3132*F$9-H3132*F$8","v":-207},{"$f":"IF(P3132=1,K3132*B$1/(B$1+B$2+L3132),99999)","v":-40.309923909011225},{"$f":"M3132*B$1/(B$1+B$2+L3132)","v":-4.5230143652985273},{"$f":"IF(MIN(L3132:L3135)+B$2+B$1>0,1,0)","v":1}]
[null,{"$f":"OFFSET(AL$1867,A3133,A3132)-B$10-U$3","v":-1844.8215228285248},{"$f":"OFFSET(AL$1890,A3133,A3132)-B$11-V$3","v":905.31878204122222},{"$f":"OFFSET(AL$1844,A3133,A3132)-B$12-W$3","v":-207},{"$f":"B3135*F$5+C3135*F$4","v":-1844.8215228285248},{"$f":"C3135*F$5-B3135*F$4","v":905.31878204122222},-207,-1844.8215228285248,{"$f":"F3135*F$7+G3135*F$6","v":905.31878204122222},{"$f":"G3135*F$7-F3135*F$6","v":-207},{"$f":"H3135*F$9+J3135*F$8","v":-1844.8215228285248},{"$f":"I3135","v":905.31878204122222},{"$f":"J3135*F$9-H3135*F$8","v":-207},{"$f":"IF(P3132=1,K3135*B$1/(B$1+B$2+L3135),99999)","v":-40.309923909011225},{"$f":"M3135*B$1/(B$1+B$2+L3135)","v":-4.5230143652985273}]
[{"$f":"A3132+1","v":5},{"$f":"OFFSET(AL$1867,A3138,A3137)-B$10-U$3","v":-1544.8215228285248},{"$f":"OFFSET(AL$1890,A3138,A3137)-B$11-V$3","v":905.31878204122222},{"$f":"OFFSET(AL$1844,A3138,A3137)-B$12-W$3","v":-207},{"$f":"B3137*F$5+C3137*F$4","v":-1544.8215228285248},{"$f":"C3137*F$5-B3137*F$4","v":905.31878204122222},{"$f":"D3137","v":-207},-1544.8215228285248,{"$f":"F3137*F$7+G3137*F$6","v":905.31878204122222},{"$f":"G3137*F$7-F3137*F$6","v":-207},{"$f":"H3137*F$9+J3137*F$8","v":-1544.8215228285248},{"$f":"I3137","v":905.31878204122222},{"$f":"J3137*F$9-H3137*F$8","v":-207},{"$f":"IF(P3137=1,K3137*B$1/(B$1+B$2+L3137),99999)","v":-33.75483062596988},{"$f":"M3137*B$1/(B$1+B$2+L3137)","v":-4.5230143652985273},{"$f":"IF(MIN(L3137:L3140)+B$2+B$1>0,1,0)","v":1}]
[null,{"$f":"OFFSET(AL$1867,A3138,A3137)-B$10-U$3","v":-1544.8215228285248},{"$f":"OFFSET(AL$1890,A3138,A3137)-B$11-V$3","v":905.31878204122222},{"$f":"OFFSET(AL$1844,A3138,A3137)-B$12-W$3","v":-207},{"$f":"B3140*F$5+C3140*F$4","v":-1544.8215228285248},{"$f":"C3140*F$5-B3140*F$4","v":905.31878204122222},-207,-1544.8215228285248,{"$f":"F3140*F$7+G3140*F$6","v":905.31878204122222},{"$f":"G3140*F$7-F3140*F$6","v":-207},{"$f":"H3140*F$9+J3140*F$8","v":-1544.8215228285248},{"$f":"I3140","v":905.31878204122222},{"$f":"J3140*F$9-H3140*F$8","v":-207},{"$f":"IF(P3137=1,K3140*B$1/(B$1+B$2+L3140),99999)","v":-33.75483062596988},{"$f":"M3140*B$1/(B$1+B$2+L3140)","v":-4.5230143652985273}]
[{"$f":"A3137+1","v":6},{"$f":"OFFSET(AL$1867,A3143,A3142)-B$10-U$3","v":-1244.8215228285248},{"$f":"OFFSET(AL$1890,A3143,A3142)-B$11-V$3","v":905.31878204122222},{"$f":"OFFSET(AL$1844,A3143,A3142)-B$12-W$3","v":-207},{"$f":"B3142*F$5+C3142*F$4","v":-1244.8215228285248},{"$f":"C3142*F$5-B3142*F$4","v":905.31878204122222},{"$f":"D3142","v":-207},-1244.8215228285248,{"$f":"F3142*F$7+G3142*F$6","v":905.31878204122222},{"$f":"G3142*F$7-F3142*F$6","v":-207},{"$f":"H3142*F$9+J3142*F$8","v":-1244.8215228285248},{"$f":"I3142","v":905.31878204122222},{"$f":"J3142*F$9-H3142*F$8","v":-207},{"$f":"IF(P3142=1,K3142*B$1/(B$1+B$2+L3142),99999)","v":-27.199737342928533},{"$f":"M3142*B$1/(B$1+B$2+L3142)","v":-4.5230143652985273},{"$f":"IF(MIN(L3142:L3145)+B$2+B$1>0,1,0)","v":1}]
[{"$f":"A3138","v":14},{"$f":"OFFSET(AL$1867,A3143+1,A3142)-B$10-U$3","v":-1094.8215228285248},{"$f":"OFFSET(AL$1890,A3143+1,A3142)-B$11-V$3","v":1165.126403176554},{"$f":"OFFSET(AL$1844,A3143+1,A3142)-B$12-W$3","v":-207},{"$f":"B3143*F$5+C3143*F$4","v":-1094.8215228285248},{"$f":"C3143*F$5-B3143*F$4","v":1165.126403176554},-207,-1094.8215228285248,{"$f":"F3143*F$7+G3143*F$6","v":1165.126403176554},{"$f":"G3143*F$7-F3143*F$6","v":-207},{"$f":"H3143*F$9+J3143*F$8","v":-1094.8215228285248},{"$f":"I3143","v":1165.126403176554},{"$f":"J3143*F$9-H3143*F$8","v":-207},{"$f":"IF(P3142=1,K3143*B$1/(B$1+B$2+L3143),99999)","v":-18.633255450120899},{"$f":"M3143*B$1/(B$1+B$2+L3143)","v":-3.5230252582266215}]
[{"$f":"A3142+1","v":7},{"$f":"OFFSET(AL$1867,A3148,A3147)-B$10-U$3","v":-944.82152282852485},{"$f":"OFFSET(AL$1890,A3148,A3147)-B$11-V$3","v":905.31878204122222},{"$f":"OFFSET(AL$1844,A3148,A3147)-B$12-W$3","v":-207},{"$f":"B3147*F$5+C3147*F$4","v":-944.82152282852485},{"$f":"C3147*F$5-B3147*F$4","v":905.31878204122222},{"$f":"D3147","v":-207},-944.82152282852485,{"$f":"F3147*F$7+G3147*F$6","v":905.31878204122222},{"$f":"G3147*F$7-F3147*F$6","v":-207},{"$f":"H3147*F$9+J3147*F$8","v":-944.82152282852485},{"$f":"I3147","v":905.31878204122222},{"$f":"J3147*F$9-H3147*F$8","v":-207},{"$f":"IF(P3147=1,K3147*B$1/(B$1+B$2+L3147),99999)","v":-20.644644059887188},{"$f":"M3147*B$1/(B$1+B$2+L3147)","v":-4.5230143652985273},{"$f":"IF(MIN(L3147:L3150)+B$2+B$1>0,1,0)","v":1}]
[null,{"$f":"OFFSET(AL$1867,A3148,A3147+1)-B$10-U$3","v":-644.82152282852485},{"$f":"OFFSET(AL$1890,A3148,A3147+1)-B$11-V$3","v":905.31878204122222},{"$f":"OFFSET(AL$1844,A3148,A3147+1)-B$12-W$3","v":-207},{"$f":"B3149*F$5+C3149*F$4","v":-644.82152282852485},{"$f":"C3149*F$5-B3149*F$4","v":905.31878204122222},-207,-644.82152282852485,{"$f":"F3149*F$7+G3149*F$6","v":905.31878204122222},{"$f":"G3149*F$7-F3149*F$6","v":-207},{"$f":"H3149*F$9+J3149*F$8","v":-644.82152282852485},{"$f":"I3149","v":905.31878204122222},{"$f":"J3149*F$9-H3149*F$8","v":-207},{"$f":"IF(P3147=1,K3149*B$1/(B$1+B$2+L3149),99999)","v":-14.089550776845847},{"$f":"M3149*B$1/(B$1+B$2+L3149)","v":-4.5230143652985273}]
[{"$f":"A3147+1","v":8},{"$f":"OFFSET(AL$1867,A3153,A3152)-B$10-U$3","v":-644.82152282852485},{"$f":"OFFSET(AL$1890,A3153,A3152)-B$11-V$3","v":905.31878204122222},{"$f":"OFFSET(AL$1844,A3153,A3152)-B$12-W$3","v":-207},{"$f":"B3152*F$5+C3152*F$4","v":-644.82152282852485},{"$f":"C3152*F$5-B3152*F$4","v":905.31878204122222},{"$f":"D3152","v":-207},-644.82152282852485,{"$f":"F3152*F$7+G3152*F$6","v":905.31878204122222},{"$f":"G3152*F$7-F3152*F$6","v":-207},{"$f":"H3152*F$9+J3152*F$8","v":-644.82152282852485},{"$f":"I3152","v":905.31878204122222},{"$f":"J3152*F$9-H3152*F$8","v":-207},{"$f":"IF(P3152=1,K3152*B$1/(B$1+B$2+L3152),99999)","v":-14.089550776845847},{"$f":"M3152*B$1/(B$1+B$2+L3152)","v":-4.5230143652985273},{"$f":"IF(MIN(L3152:L3155)+B$2+B$1>0,1,0)","v":1}]
[{"$f":"A3148","v":14},{"$f":"OFFSET(AL$1867,A3153+1,A3152)-B$10-U$3","v":-494.82152282852485},{"$f":"OFFSET(AL$1890,A3153+1,A3152)-B$11-V$3","v":1165.126403176554},{"$f":"OFFSET(AL$1844,A3153+1,A3152)-B$12-W$3","v":-207},{"$f":"B3153*F$5+C3153*F$4","v":-494.82152282852485},{"$f":"C3153*F$5-B3153*F$4","v":1165.126403176554},-207,-494.82152282852485,{"$f":"F3153*F$7+G3153*F$6","v":1165.126403176554},{"$f":"G3153*F$7-F3153*F$6","v":-207},{"$f":"H3153*F$9+J3153*F$8","v":-494.82152282852485},{"$f":"I3153","v":1165.126403176554},{"$f":"J3153*F$9-H3153*F$8","v":-207},{"$f":"IF(P3152=1,K3153*B$1/(B$1+B$2+L3153),99999)","v":-8.4215880349712737},{"$f":"M3153*B$1/(B$1+B$2+L3153)","v":-3.5230252582266215}]
[{"$f":"A3152+1","v":9},{"$f":"OFFSET(AL$1867,A3158,A3157)-B$10-U$3","v":-344.82152282852485},{"$f":"OFFSET(AL$1890,A3158,A3157)-B$11-V$3","v":905.31878204122222},{"$f":"OFFSET(AL$1844,A3158,A3157)-B$12-W$3","v":-207},{"$f":"B3157*F$5+C3157*F$4","v":-344.82152282852485},{"$f":"C3157*F$5-B3157*F$4","v":905.31878204122222},{"$f":"D3157","v":-207},-344.82152282852485,{"$f":"F3157*F$7+G3157*F$6","v":905.31878204122222},{"$f":"G3157*F$7-F3157*F$6","v":-207},{"$f":"H3157*F$9+J3157*F$8","v":-344.82152282852485},{"$f":"I3157","v":905.31878204122222},{"$f":"J3157*F$9-H3157*F$8","v":-207},{"$f":"IF(P3157=1,K3157*B$1/(B$1+B$2+L3157),99999)","v":-7.5344574938045028},{"$f":"M3157*B$1/(B$1+B$2+L3157)","v":-4.5230143652985273},{"$f":"IF(MIN(L3157:L3160)+B$2+B$1>0,1,0)","v":1}]
[{"$f":"A3153","v":14},{"$f":"OFFSET(AL$1867,A3158+1,A3157)-B$10-U$3","v":-194.82152282852485},{"$f":"OFFSET(AL$1890,A3158+1,A3157)-B$11-V$3","v":1165.126403176554},{"$f":"OFFSET(AL$1844,A3158+1,A3157)-B$12-W$3","v":-207},{"$f":"B3158*F$5+C3158*F$4","v":-194.82152282852485},{"$f":"C3158*F$5-B3158*F$4","v":1165.126403176554},-207,-194.82152282852485,{"$f":"F3158*F$7+G3158*F$6","v":1165.126403176554},{"$f":"G3158*F$7-F3158*F$6","v":-207},{"$f":"H3158*F$9+J3158*F$8","v":-194.82152282852485},{"$f":"I3158","v":1165.126403176554},{"$f":"J3158*F$9-H3158*F$8","v":-207},{"$f":"IF(P3157=1,K3158*B$1/(B$1+B$2+L3158),99999)","v":-3.3157543273964607},{"$f":"M3158*B$1/(B$1+B$2+L3158)","v":-3.5230252582266215}]
[null,{"$f":"OFFSET(AL$1867,A3158,A3157)-B$10-U$3","v":-344.82152282852485},{"$f":"OFFSET(AL$1890,A3158,A3157)-B$11-V$3","v":905.31878204122222},{"$f":"OFFSET(AL$1844,A3158,A3157)-B$12-W$3","v":-207},{"$f":"B3160*F$5+C3160*F$4","v":-344.82152282852485},{"$f":"C3160*F$5-B3160*F$4","v":905.31878204122222},-207,-344.82152282852485,{"$f":"F3160*F$7+G3160*F$6","v":905.31878204122222},{"$f":"G3160*F$7-F3160*F$6","v":-207},{"$f":"H3160*F$9+J3160*F$8","v":-344.82152282852485},{"$f":"I3160","v":905.31878204122222},{"$f":"J3160*F$9-H3160*F$8","v":-207},{"$f":"IF(P3157=1,K3160*B$1/(B$1+B$2+L3160),99999)","v":-7.5344574938045028},{"$f":"M3160*B$1/(B$1+B$2+L3160)","v":-4.5230143652985273}]
[{"$f":"A3158","v":14},{"$f":"OFFSET(AL$1867,A3163+1,A3162)-B$10-U$3","v":105.17847717147515},{"$f":"OFFSET(AL$1890,A3163+1,A3162)-B$11-V$3","v":1165.126403176554},{"$f":"OFFSET(AL$1844,A3163+1,A3162)-B$12-W$3","v":-207},{"$f":"B3163*F$5+C3163*F$4","v":105.17847717147515},{"$f":"C3163*F$5-B3163*F$4","v":1165.126403176554},-207,105.17847717147515,{"$f":"F3163*F$7+G3163*F$6","v":1165.126403176554},{"$f":"G3163*F$7-F3163*F$6","v":-207},{"$f":"H3163*F$9+J3163*F$8","v":105.17847717147515},{"$f":"I3163","v":1165.126403176554},{"$f":"J3163*F$9-H3163*F$8","v":-207},{"$f":"IF(P3162=1,K3163*B$1/(B$1+B$2+L3163),99999)","v":1.7900793801783528},{"$f":"M3163*B$1/(B$1+B$2+L3163)","v":-3.5230252582266215}]
[]
[{"$f":"A3163","v":14},{"$f":"OFFSET(AL$1867,A3168+1,A3167)-B$10-U$3","v":405.17847717147515},{"$f":"OFFSET(AL$1890,A3168+1,A3167)-B$11-V$3","v":1165.126403176554},{"$f":"OFFSET(AL$1844,A3168+1,A3167)-B$12-W$3","v":-207},{"$f":"B3168*F$5+C3168*F$4","v":405.17847717147515},{"$f":"C3168*F$5-B3168*F$4","v":1165.126403176554},-207,405.17847717147515,{"$f":"F3168*F$7+G3168*F$6","v":1165.126403176554},{"$f":"G3168*F$7-F3168*F$6","v":-207},{"$f":"H3168*F$9+J3168*F$8","v":405.17847717147515},{"$f":"I3168","v":1165.126403176554},{"$f":"J3168*F$9-H3168*F$8","v":-207},{"$f":"IF(P3167=1,K3168*B$1/(B$1+B$2+L3168),99999)","v":6.8959130877531667},{"$f":"M3168*B$1/(B$1+B$2+L3168)","v":-3.5230252582266215}]
[]
[{"$f":"A3168","v":14},{"$f":"OFFSET(AL$1867,A3173+1,A3172)-B$10-U$3","v":705.17847717147515},{"$f":"OFFSET(AL$1890,A3173+1,A3172)-B$11-V$3","v":1165.126403176554},{"$f":"OFFSET(AL$1844,A3173+1,A3172)-B$12-W$3","v":-207},{"$f":"B3173*F$5+C3173*F$4","v":705.17847717147515},{"$f":"C3173*F$5-B3173*F$4","v":1165.126403176554},-207,705.17847717147515,{"$f":"F3173*F$7+G3173*F$6","v":1165.126403176554},{"$f":"G3173*F$7-F3173*F$6","v":-207},{"$f":"H3173*F$9+J3173*F$8","v":705.17847717147515},{"$f":"I3173","v":1165.126403176554},{"$f":"J3173*F$9-H3173*F$8","v":-207},{"$f":"IF(P3172=1,K3173*B$1/(B$1+B$2+L3173),99999)","v":12.00174679532798},{"$f":"M3173*B$1/(B$1+B$2+L3173)","v":-3.5230252582266215}]
[{"$f":"A3172+1","v":13},{"$f":"OFFSET(AL$1867,A3178,A3177)-B$10-U$3","v":855.17847717147515},{"$f":"OFFSET(AL$1890,A3178,A3177)-B$11-V$3","v":905.31878204122222},{"$f":"OFFSET(AL$1844,A3178,A3177)-B$12-W$3","v":-207},{"$f":"B3177*F$5+C3177*F$4","v":855.17847717147515},{"$f":"C3177*F$5-B3177*F$4","v":905.31878204122222},{"$f":"D3177","v":-207},855.17847717147515,{"$f":"F3177*F$7+G3177*F$6","v":905.31878204122222},{"$f":"G3177*F$7-F3177*F$6","v":-207},{"$f":"H3177*F$9+J3177*F$8","v":855.17847717147515},{"$f":"I3177","v":905.31878204122222},{"$f":"J3177*F$9-H3177*F$8","v":-207},{"$f":"IF(P3177=1,K3177*B$1/(B$1+B$2+L3177),99999)","v":18.685915638360875},{"$f":"M3177*B$1/(B$1+B$2+L3177)","v":-4.5230143652985273},{"$f":"IF(MIN(L3177:L3180)+B$2+B$1>0,1,0)","v":1}]
[{"$f":"A3173","v":14},{"$f":"OFFSET(AL$1867,A3178+1,A3177)-B$10-U$3","v":1005.1784771714752},{"$f":"OFFSET(AL$1890,A3178+1,A3177)-B$11-V$3","v":1165.126403176554},{"$f":"OFFSET(AL$1844,A3178+1,A3177)-B$12-W$3","v":-207},{"$f":"B3178*F$5+C3178*F$4","v":1005.1784771714752},{"$f":"C3178*F$5-B3178*F$4","v":1165.126403176554},-207,1005.1784771714752,{"$f":"F3178*F$7+G3178*F$6","v":1165.126403176554},{"$f":"G3178*F$7-F3178*F$6","v":-207},{"$f":"H3178*F$9+J3178*F$8","v":1005.1784771714752},{"$f":"I3178","v":1165.126403176554},{"$f":"J3178*F$9-H3178*F$8","v":-207},{"$f":"IF(P3177=1,K3178*B$1/(B$1+B$2+L3178),99999)","v":17.107580502902795},{"$f":"M3178*B$1/(B$1+B$2+L3178)","v":-3.5230252582266215}]
[null,{"$f":"OFFSET(AL$1867,A3178,A3177)-B$10-U$3","v":855.17847717147515},{"$f":"OFFSET(AL$1890,A3178,A3177)-B$11-V$3","v":905.31878204122222},{"$f":"OFFSET(AL$1844,A3178,A3177)-B$12-W$3","v":-207},{"$f":"B3180*F$5+C3180*F$4","v":855.17847717147515},{"$f":"C3180*F$5-B3180*F$4","v":905.31878204122222},-207,855.17847717147515,{"$f":"F3180*F$7+G3180*F$6","v":905.31878204122222},{"$f":"G3180*F$7-F3180*F$6","v":-207},{"$f":"H3180*F$9+J3180*F$8","v":855.17847717147515},{"$f":"I3180","v":905.31878204122222},{"$f":"J3180*F$9-H3180*F$8","v":-207},{"$f":"IF(P3177=1,K3180*B$1/(B$1+B$2+L3180),99999)","v":18.685915638360875},{"$f":"M3180*B$1/(B$1+B$2+L3180)","v":-4.5230143652985273}]
[{"$f":"A3178","v":14},{"$f":"OFFSET(AL$1867,A3183+1,A3182)-B$10-U$3","v":1305.1784771714752},{"$f":"OFFSET(AL$1890,A3183+1,A3182)-B$11-V$3","v":1165.126403176554},{"$f":"OFFSET(AL$1844,A3183+1,A3182)-B$12-W$3","v":-207},{"$f":"B3183*F$5+C3183*F$4","v":1305.1784771714752},{"$f":"C3183*F$5-B3183*F$4","v":1165.126403176554},-207,1305.1784771714752,{"$f":"F3183*F$7+G3183*F$6","v":1165.126403176554},{"$f":"G3183*F$7-F3183*F$6","v":-207},{"$f":"H3183*F$9+J3183*F$8","v":1305.1784771714752},{"$f":"I3183","v":1165.126403176554},{"$f":"J3183*F$9-H3183*F$8","v":-207},{"$f":"IF(P3182=1,K3183*B$1/(B$1+B$2+L3183),99999)","v":22.213414210477609},{"$f":"M3183*B$1/(B$1+B$2+L3183)","v":-3.5230252582266215}]
[]
[{"$f":"A3183","v":14},{"$f":"OFFSET(AL$1867,A3188+1,A3187)-B$10-U$3","v":1605.1784771714752},{"$f":"OFFSET(AL$1890,A3188+1,A3187)-B$11-V$3","v":1165.126403176554},{"$f":"OFFSET(AL$1844,A3188+1,A3187)-B$12-W$3","v":-207},{"$f":"B3188*F$5+C3188*F$4","v":1605.1784771714752},{"$f":"C3188*F$5-B3188*F$4","v":1165.126403176554},-207,1605.1784771714752,{"$f":"F3188*F$7+G3188*F$6","v":1165.126403176554},{"$f":"G3188*F$7-F3188*F$6","v":-207},{"$f":"H3188*F$9+J3188*F$8","v":1605.1784771714752},{"$f":"I3188","v":1165.126403176554},{"$f":"J3188*F$9-H3188*F$8","v":-207},{"$f":"IF(P3187=1,K3188*B$1/(B$1+B$2+L3188),99999)","v":27.319247918052422},{"$f":"M3188*B$1/(B$1+B$2+L3188)","v":-3.5230252582266215}]
[]
[null,{"$f":"OFFSET(AL$1867,A3193,A3192+1)-B$10-U$3","v":2055.1784771714752},{"$f":"OFFSET(AL$1890,A3193,A3192+1)-B$11-V$3","v":905.31878204122222},{"$f":"OFFSET(AL$1844,A3193,A3192+1)-B$12-W$3","v":-207},{"$f":"B3194*F$5+C3194*F$4","v":2055.1784771714752},{"$f":"C3194*F$5-B3194*F$4","v":905.31878204122222},-207,2055.1784771714752,{"$f":"F3194*F$7+G3194*F$6","v":905.31878204122222},{"$f":"G3194*F$7-F3194*F$6","v":-207},{"$f":"H3194*F$9+J3194*F$8","v":2055.1784771714752},{"$f":"I3194","v":905.31878204122222},{"$f":"J3194*F$9-H3194*F$8","v":-207},{"$f":"IF(P3192=1,K3194*B$1/(B$1+B$2+L3194),99999)","v":44.906288770526253},{"$f":"M3194*B$1/(B$1+B$2+L3194)","v":-4.5230143652985273}]
[]
[{"$f":"A3192+1","v":17},{"$f":"OFFSET(AL$1867,A3198,A3197)-B$10-U$3","v":2055.1784771714752},{"$f":"OFFSET(AL$1890,A3198,A3197)-B$11-V$3","v":905.31878204122222},{"$f":"OFFSET(AL$1844,A3198,A3197)-B$12-W$3","v":-207},{"$f":"B3197*F$5+C3197*F$4","v":2055.1784771714752},{"$f":"C3197*F$5-B3197*F$4","v":905.31878204122222},{"$f":"D3197","v":-207},2055.1784771714752,{"$f":"F3197*F$7+G3197*F$6","v":905.31878204122222},{"$f":"G3197*F$7-F3197*F$6","v":-207},{"$f":"H3197*F$9+J3197*F$8","v":2055.1784771714752},{"$f":"I3197","v":905.31878204122222},{"$f":"J3197*F$9-H3197*F$8","v":-207},{"$f":"IF(P3197=1,K3197*B$1/(B$1+B$2+L3197),99999)","v":44.906288770526253},{"$f":"M3197*B$1/(B$1+B$2+L3197)","v":-4.5230143652985273},{"$f":"IF(MIN(L3197:L3200)+B$2+B$1>0,1,0)","v":1}]
[]
[{"$f":"A3197+1","v":18},{"$f":"OFFSET(AL$1867,A3203,A3202)-B$10-U$3","v":2355.1784771714752},{"$f":"OFFSET(AL$1890,A3203,A3202)-B$11-V$3","v":905.31878204122222},{"$f":"OFFSET(AL$1844,A3203,A3202)-B$12-W$3","v":-207},{"$f":"B3202*F$5+C3202*F$4","v":2355.1784771714752},{"$f":"C3202*F$5-B3202*F$4","v":905.31878204122222},{"$f":"D3202","v":-207},2355.1784771714752,{"$f":"F3202*F$7+G3202*F$6","v":905.31878204122222},{"$f":"G3202*F$7-F3202*F$6","v":-207},{"$f":"H3202*F$9+J3202*F$8","v":2355.1784771714752},{"$f":"I3202","v":905.31878204122222},{"$f":"J3202*F$9-H3202*F$8","v":-207},{"$f":"IF(P3202=1,K3202*B$1/(B$1+B$2+L3202),99999)","v":51.461382053567597},{"$f":"M3202*B$1/(B$1+B$2+L3202)","v":-4.5230143652985273},{"$f":"IF(MIN(L3202:L3205)+B$2+B$1>0,1,0)","v":1}]
[]
[{"$f":"A3203","v":14},{"$f":"OFFSET(AL$1867,A3208+1,A3207)-B$10-U$3","v":2805.1784771714752},{"$f":"OFFSET(AL$1890,A3208+1,A3207)-B$11-V$3","v":1165.126403176554},{"$f":"OFFSET(AL$1844,A3208+1,A3207)-B$12-W$3","v":-207},{"$f":"B3208*F$5+C3208*F$4","v":2805.1784771714752},{"$f":"C3208*F$5-B3208*F$4","v":1165.126403176554},-207,2805.1784771714752,{"$f":"F3208*F$7+G3208*F$6","v":1165.126403176554},{"$f":"G3208*F$7-F3208*F$6","v":-207},{"$f":"H3208*F$9+J3208*F$8","v":2805.1784771714752},{"$f":"I3208","v":1165.126403176554},{"$f":"J3208*F$9-H3208*F$8","v":-207},{"$f":"IF(P3207=1,K3208*B$1/(B$1+B$2+L3208),99999)","v":47.742582748351673},{"$f":"M3208*B$1/(B$1+B$2+L3208)","v":-3.5230252582266215}]
[]
[null,{"$f":"OFFSET(AL$1867,A3213,A3212+1)-B$10-U$3","v":-2594.8215228285248},{"$f":"OFFSET(AL$1890,A3213,A3212+1)-B$11-V$3","v":1165.126403176554},{"$f":"OFFSET(AL$1844,A3213,A3212+1)-B$12-W$3","v":-207},{"$f":"B3214*F$5+C3214*F$4","v":-2594.8215228285248},{"$f":"C3214*F$5-B3214*F$4","v":1165.126403176554},-207,-2594.8215228285248,{"$f":"F3214*F$7+G3214*F$6","v":1165.126403176554},{"$f":"G3214*F$7-F3214*F$6","v":-207},{"$f":"H3214*F$9+J3214*F$8","v":-2594.8215228285248},{"$f":"I3214","v":1165.126403176554},{"$f":"J3214*F$9-H3214*F$8","v":-207},{"$f":"IF(P3212=1,K3214*B$1/(B$1+B$2+L3214),99999)","v":-44.16242398799497},{"$f":"M3214*B$1/(B$1+B$2+L3214)","v":-3.5230252582266215}]
[]
[{"$f":"A3212+1","v":1},{"$f":"OFFSET(AL$1867,A3218,A3217)-B$10-U$3","v":-2594.8215228285248},{"$f":"OFFSET(AL$1890,A3218,A3217)-B$11-V$3","v":1165.126403176554},{"$f":"OFFSET(AL$1844,A3218,A3217)-B$12-W$3","v":-207},{"$f":"B3217*F$5+C3217*F$4","v":-2594.8215228285248},{"$f":"C3217*F$5-B3217*F$4","v":1165.126403176554},{"$f":"D3217","v":-207},-2594.8215228285248,{"$f":"F3217*F$7+G3217*F$6","v":1165.126403176554},{"$f":"G3217*F$7-F3217*F$6","v":-207},{"$f":"H3217*F$9+J3217*F$8","v":-2594.8215228285248},{"$f":"I3217","v":1165.126403176554},{"$f":"J3217*F$9-H3217*F$8","v":-207},{"$f":"IF(P3217=1,K3217*B$1/(B$1+B$2+L3217),99999)","v":-44.16242398799497},{"$f":"M3217*B$1/(B$1+B$2+L3217)","v":-3.5230252582266215},{"$f":"IF(MIN(L3217:L3220)+B$2+B$1>0,1,0)","v":1}]
[null,{"$f":"OFFSET(AL$1867,A3218,A3217+1)-B$10-U$3","v":-2294.8215228285248},{"$f":"OFFSET(AL$1890,A3218,A3217+1)-B$11-V$3","v":1165.126403176554},{"$f":"OFFSET(AL$1844,A3218,A3217+1)-B$12-W$3","v":-207},{"$f":"B3219*F$5+C3219*F$4","v":-2294.8215228285248},{"$f":"C3219*F$5-B3219*F$4","v":1165.126403176554},-207,-2294.8215228285248,{"$f":"F3219*F$7+G3219*F$6","v":1165.126403176554},{"$f":"G3219*F$7-F3219*F$6","v":-207},{"$f":"H3219*F$9+J3219*F$8","v":-2294.8215228285248},{"$f":"I3219","v":1165.126403176554},{"$f":"J3219*F$9-H3219*F$8","v":-207},{"$f":"IF(P3217=1,K3219*B$1/(B$1+B$2+L3219),99999)","v":-39.056590280420153},{"$f":"M3219*B$1/(B$1+B$2+L3219)","v":-3.5230252582266215}]
[{"$f":"A3217+1","v":2},{"$f":"OFFSET(AL$1867,A3223,A3222)-B$10-U$3","v":-2294.8215228285248},{"$f":"OFFSET(AL$1890,A3223,A3222)-B$11-V$3","v":1165.126403176554},{"$f":"OFFSET(AL$1844,A3223,A3222)-B$12-W$3","v":-207},{"$f":"B3222*F$5+C3222*F$4","v":-2294.8215228285248},{"$f":"C3222*F$5-B3222*F$4","v":1165.126403176554},{"$f":"D3222","v":-207},-2294.8215228285248,{"$f":"F3222*F$7+G3222*F$6","v":1165.126403176554},{"$f":"G3222*F$7-F3222*F$6","v":-207},{"$f":"H3222*F$9+J3222*F$8","v":-2294.8215228285248},{"$f":"I3222","v":1165.126403176554},{"$f":"J3222*F$9-H3222*F$8","v":-207},{"$f":"IF(P3222=1,K3222*B$1/(B$1+B$2+L3222),99999)","v":-39.056590280420153},{"$f":"M3222*B$1/(B$1+B$2+L3222)","v":-3.5230252582266215},{"$f":"IF(MIN(L3222:L3225)+B$2+B$1>0,1,0)","v":1}]
[null,{"$f":"OFFSET(AL$1867,A3223,A3222)-B$10-U$3","v":-2294.8215228285248},{"$f":"OFFSET(AL$1890,A3223,A3222)-B$11-V$3","v":1165.126403176554},{"$f":"OFFSET(AL$1844,A3223,A3222)-B$12-W$3","v":-207},{"$f":"B3225*F$5+C3225*F$4","v":-2294.8215228285248},{"$f":"C3225*F$5-B3225*F$4","v":1165.126403176554},-207,-2294.8215228285248,{"$f":"F3225*F$7+G3225*F$6","v":1165.126403176554},{"$f":"G3225*F$7-F3225*F$6","v":-207},{"$f":"H3225*F$9+J3225*F$8","v":-2294.8215228285248},{"$f":"I3225","v":1165.126403176554},{"$f":"J3225*F$9-H3225*F$8","v":-207},{"$f":"IF(P3222=1,K3225*B$1/(B$1+B$2+L3225),99999)","v":-39.056590280420153},{"$f":"M3225*B$1/(B$1+B$2+L3225)","v":-3.5230252582266215}]
[{"$f":"A3222+1","v":3},{"$f":"OFFSET(AL$1867,A3228,A3227)-B$10-U$3","v":-1994.8215228285248},{"$f":"OFFSET(AL$1890,A3228,A3227)-B$11-V$3","v":1165.126403176554},{"$f":"OFFSET(AL$1844,A3228,A3227)-B$12-W$3","v":-207},{"$f":"B3227*F$5+C3227*F$4","v":-1994.8215228285248},{"$f":"C3227*F$5-B3227*F$4","v":1165.126403176554},{"$f":"D3227","v":-207},-1994.8215228285248,{"$f":"F3227*F$7+G3227*F$6","v":1165.126403176554},{"$f":"G3227*F$7-F3227*F$6","v":-207},{"$f":"H3227*F$9+J3227*F$8","v":-1994.8215228285248},{"$f":"I3227","v":1165.126403176554},{"$f":"J3227*F$9-H3227*F$8","v":-207},{"$f":"IF(P3227=1,K3227*B$1/(B$1+B$2+L3227),99999)","v":-33.950756572845343},{"$f":"M3227*B$1/(B$1+B$2+L3227)","v":-3.5230252582266215},{"$f":"IF(MIN(L3227:L3230)+B$2+B$1>0,1,0)","v":1}]
[]
[{"$f":"A3227+1","v":4},{"$f":"OFFSET(AL$1867,A3233,A3232)-B$10-U$3","v":-1694.8215228285248},{"$f":"OFFSET(AL$1890,A3233,A3232)-B$11-V$3","v":1165.126403176554},{"$f":"OFFSET(AL$1844,A3233,A3232)-B$12-W$3","v":-207},{"$f":"B3232*F$5+C3232*F$4","v":-1694.8215228285248},{"$f":"C3232*F$5-B3232*F$4","v":1165.126403176554},{"$f":"D3232","v":-207},-1694.8215228285248,{"$f":"F3232*F$7+G3232*F$6","v":1165.126403176554},{"$f":"G3232*F$7-F3232*F$6","v":-207},{"$f":"H3232*F$9+J3232*F$8","v":-1694.8215228285248},{"$f":"I3232","v":1165.126403176554},{"$f":"J3232*F$9-H3232*F$8","v":-207},{"$f":"IF(P3232=1,K3232*B$1/(B$1+B$2+L3232),99999)","v":-28.844922865270526},{"$f":"M3232*B$1/(B$1+B$2+L3232)","v":-3.5230252582266215},{"$f":"IF(MIN(L3232:L3235)+B$2+B$1>0,1,0)","v":1}]
[]
[{"$f":"A3232+1","v":5},{"$f":"OFFSET(AL$1867,A3238,A3237)-B$10-U$3","v":-1394.8215228285248},{"$f":"OFFSET(AL$1890,A3238,A3237)-B$11-V$3","v":1165.126403176554},{"$f":"OFFSET(AL$1844,A3238,A3237)-B$12-W$3","v":-207},{"$f":"B3237*F$5+C3237*F$4","v":-1394.8215228285248},{"$f":"C3237*F$5-B3237*F$4","v":1165.126403176554},{"$f":"D3237","v":-207},-1394.8215228285248,{"$f":"F3237*F$7+G3237*F$6","v":1165.126403176554},{"$f":"G3237*F$7-F3237*F$6","v":-207},{"$f":"H3237*F$9+J3237*F$8","v":-1394.8215228285248},{"$f":"I3237","v":1165.126403176554},{"$f":"J3237*F$9-H3237*F$8","v":-207},{"$f":"IF(P3237=1,K3237*B$1/(B$1+B$2+L3237),99999)","v":-23.739089157695712},{"$f":"M3237*B$1/(B$1+B$2+L3237)","v":-3.5230252582266215},{"$f":"IF(MIN(L3237:L3240)+B$2+B$1>0,1,0)","v":1}]
[null,{"$f":"OFFSET(AL$1867,A3238,A3237+1)-B$10-U$3","v":-1094.8215228285248},{"$f":"OFFSET(AL$1890,A3238,A3237+1)-B$11-V$3","v":1165.126403176554},{"$f":"OFFSET(AL$1844,A3238,A3237+1)-B$12-W$3","v":-207},{"$f":"B3239*F$5+C3239*F$4","v":-1094.8215228285248},{"$f":"C3239*F$5-B3239*F$4","v":1165.126403176554},-207,-1094.8215228285248,{"$f":"F3239*F$7+G3239*F$6","v":1165.126403176554},{"$f":"G3239*F$7-F3239*F$6","v":-207},{"$f":"H3239*F$9+J3239*F$8","v":-1094.8215228285248},{"$f":"I3239","v":1165.126403176554},{"$f":"J3239*F$9-H3239*F$8","v":-207},{"$f":"IF(P3237=1,K3239*B$1/(B$1+B$2+L3239),99999)","v":-18.633255450120899},{"$f":"M3239*B$1/(B$1+B$2+L3239)","v":-3.5230252582266215}]
[{"$f":"A3237+1","v":6},{"$f":"OFFSET(AL$1867,A3243,A3242)-B$10-U$3","v":-1094.8215228285248},{"$f":"OFFSET(AL$1890,A3243,A3242)-B$11-V$3","v":1165.126403176554},{"$f":"OFFSET(AL$1844,A3243,A3242)-B$12-W$3","v":-207},{"$f":"B3242*F$5+C3242*F$4","v":-1094.8215228285248},{"$f":"C3242*F$5-B3242*F$4","v":1165.126403176554},{"$f":"D3242","v":-207},-1094.8215228285248,{"$f":"F3242*F$7+G3242*F$6","v":1165.126403176554},{"$f":"G3242*F$7-F3242*F$6","v":-207},{"$f":"H3242*F$9+J3242*F$8","v":-1094.8215228285248},{"$f":"I3242","v":1165.126403176554},{"$f":"J3242*F$9-H3242*F$8","v":-207},{"$f":"IF(P3242=1,K3242*B$1/(B$1+B$2+L3242),99999)","v":-18.633255450120899},{"$f":"M3242*B$1/(B$1+B$2+L3242)","v":-3.5230252582266215},{"$f":"IF(MIN(L3242:L3245)+B$2+B$1>0,1,0)","v":1}]
[null,{"$f":"OFFSET(AL$1867,A3243,A3242)-B$10-U$3","v":-1094.8215228285248},{"$f":"OFFSET(AL$1890,A3243,A3242)-B$11-V$3","v":1165.126403176554},{"$f":"OFFSET(AL$1844,A3243,A3242)-B$12-W$3","v":-207},{"$f":"B3245*F$5+C3245*F$4","v":-1094.8215228285248},{"$f":"C3245*F$5-B3245*F$4","v":1165.126403176554},-207,-1094.8215228285248,{"$f":"F3245*F$7+G3245*F$6","v":1165.126403176554},{"$f":"G3245*F$7-F3245*F$6","v":-207},{"$f":"H3245*F$9+J3245*F$8","v":-1094.8215228285248},{"$f":"I3245","v":1165.126403176554},{"$f":"J3245*F$9-H3245*F$8","v":-207},{"$f":"IF(P3242=1,K3245*B$1/(B$1+B$2+L3245),99999)","v":-18.633255450120899},{"$f":"M3245*B$1/(B$1+B$2+L3245)","v":-3.5230252582266215}]
[{"$f":"A3242+1","v":7},{"$f":"OFFSET(AL$1867,A3248,A3247)-B$10-U$3","v":-794.82152282852485},{"$f":"OFFSET(AL$1890,A3248,A3247)-B$11-V$3","v":1165.126403176554},{"$f":"OFFSET(AL$1844,A3248,A3247)-B$12-W$3","v":-207},{"$f":"B3247*F$5+C3247*F$4","v":-794.82152282852485},{"$f":"C3247*F$5-B3247*F$4","v":1165.126403176554},{"$f":"D3247","v":-207},-794.82152282852485,{"$f":"F3247*F$7+G3247*F$6","v":1165.126403176554},{"$f":"G3247*F$7-F3247*F$6","v":-207},{"$f":"H3247*F$9+J3247*F$8","v":-794.82152282852485},{"$f":"I3247","v":1165.126403176554},{"$f":"J3247*F$9-H3247*F$8","v":-207},{"$f":"IF(P3247=1,K3247*B$1/(B$1+B$2+L3247),99999)","v":-13.527421742546087},{"$f":"M3247*B$1/(B$1+B$2+L3247)","v":-3.5230252582266215},{"$f":"IF(MIN(L3247:L3250)+B$2+B$1>0,1,0)","v":1}]
[null,{"$f":"OFFSET(AL$1867,A3248,A3247)-B$10-U$3","v":-794.82152282852485},{"$f":"OFFSET(AL$1890,A3248,A3247)-B$11-V$3","v":1165.126403176554},{"$f":"OFFSET(AL$1844,A3248,A3247)-B$12-W$3","v":-207},{"$f":"B3250*F$5+C3250*F$4","v":-794.82152282852485},{"$f":"C3250*F$5-B3250*F$4","v":1165.126403176554},-207,-794.82152282852485,{"$f":"F3250*F$7+G3250*F$6","v":1165.126403176554},{"$f":"G3250*F$7-F3250*F$6","v":-207},{"$f":"H3250*F$9+J3250*F$8","v":-794.82152282852485},{"$f":"I3250","v":1165.126403176554},{"$f":"J3250*F$9-H3250*F$8","v":-207},{"$f":"IF(P3247=1,K3250*B$1/(B$1+B$2+L3250),99999)","v":-13.527421742546087},{"$f":"M3250*B$1/(B$1+B$2+L3250)","v":-3.5230252582266215}]
[{"$f":"A3248","v":15},{"$f":"OFFSET(AL$1867,A3253+1,A3252+1)-B$10-U$3","v":-344.82152282852485},{"$f":"OFFSET(AL$1890,A3253+1,A3252+1)-B$11-V$3","v":1424.9340243118859},{"$f":"OFFSET(AL$1844,A3253+1,A3252+1)-B$12-W$3","v":-207},{"$f":"B3253*F$5+C3253*F$4","v":-344.82152282852485},{"$f":"C3253*F$5-B3253*F$4","v":1424.9340243118859},-207,-344.82152282852485,{"$f":"F3253*F$7+G3253*F$6","v":1424.9340243118859},{"$f":"G3253*F$7-F3253*F$6","v":-207},{"$f":"H3253*F$9+J3253*F$8","v":-344.82152282852485},{"$f":"I3253","v":1424.9340243118859},{"$f":"J3253*F$9-H3253*F$8","v":-207},{"$f":"IF(P3252=1,K3253*B$1/(B$1+B$2+L3253),99999)","v":-4.8060958481193161},{"$f":"M3253*B$1/(B$1+B$2+L3253)","v":-2.8851500695199643}]
[null,{"$f":"OFFSET(AL$1867,A3253,A3252)-B$10-U$3","v":-494.82152282852485},{"$f":"OFFSET(AL$1890,A3253,A3252)-B$11-V$3","v":1165.126403176554},{"$f":"OFFSET(AL$1844,A3253,A3252)-B$12-W$3","v":-207},{"$f":"B3255*F$5+C3255*F$4","v":-494.82152282852485},{"$f":"C3255*F$5-B3255*F$4","v":1165.126403176554},-207,-494.82152282852485,{"$f":"F3255*F$7+G3255*F$6","v":1165.126403176554},{"$f":"G3255*F$7-F3255*F$6","v":-207},{"$f":"H3255*F$9+J3255*F$8","v":-494.82152282852485},{"$f":"I3255","v":1165.126403176554},{"$f":"J3255*F$9-H3255*F$8","v":-207},{"$f":"IF(P3252=1,K3255*B$1/(B$1+B$2+L3255),99999)","v":-8.4215880349712737},{"$f":"M3255*B$1/(B$1+B$2+L3255)","v":-3.5230252582266215}]
[]
[null,{"$f":"OFFSET(AL$1867,A3258,A3257)-B$10-U$3","v":-194.82152282852485},{"$f":"OFFSET(AL$1890,A3258,A3257)-B$11-V$3","v":1165.126403176554},{"$f":"OFFSET(AL$1844,A3258,A3257)-B$12-W$3","v":-207},{"$f":"B3260*F$5+C3260*F$4","v":-194.82152282852485},{"$f":"C3260*F$5-B3260*F$4","v":1165.126403176554},-207,-194.82152282852485,{"$f":"F3260*F$7+G3260*F$6","v":1165.126403176554},{"$f":"G3260*F$7-F3260*F$6","v":-207},{"$f":"H3260*F$9+J3260*F$8","v":-194.82152282852485},{"$f":"I3260","v":1165.126403176554},{"$f":"J3260*F$9-H3260*F$8","v":-207},{"$f":"IF(P3257=1,K3260*B$1/(B$1+B$2+L3260),99999)","v":-3.3157543273964607},{"$f":"M3260*B$1/(B$1+B$2+L3260)","v":-3.5230252582266215}]
[{"$f":"A3257+1","v":10},{"$f":"OFFSET(AL$1867,A3263,A3262)-B$10-U$3","v":105.17847717147515},{"$f":"OFFSET(AL$1890,A3263,A3262)-B$11-V$3","v":1165.126403176554},{"$f":"OFFSET(AL$1844,A3263,A3262)-B$12-W$3","v":-207},{"$f":"B3262*F$5+C3262*F$4","v":105.17847717147515},{"$f":"C3262*F$5-B3262*F$4","v":1165.126403176554},{"$f":"D3262","v":-207},105.17847717147515,{"$f":"F3262*F$7+G3262*F$6","v":1165.126403176554},{"$f":"G3262*F$7-F3262*F$6","v":-207},{"$f":"H3262*F$9+J3262*F$8","v":105.17847717147515},{"$f":"I3262","v":1165.126403176554},{"$f":"J3262*F$9-H3262*F$8","v":-207},{"$f":"IF(P3262=1,K3262*B$1/(B$1+B$2+L3262),99999)","v":1.7900793801783528},{"$f":"M3262*B$1/(B$1+B$2+L3262)","v":-3.5230252582266215},{"$f":"IF(MIN(L3262:L3265)+B$2+B$1>0,1,0)","v":1}]
[null,{"$f":"OFFSET(AL$1867,A3263,A3262)-B$10-U$3","v":105.17847717147515},{"$f":"OFFSET(AL$1890,A3263,A3262)-B$11-V$3","v":1165.126403176554},{"$f":"OFFSET(AL$1844,A3263,A3262)-B$12-W$3","v":-207},{"$f":"B3265*F$5+C3265*F$4","v":105.17847717147515},{"$f":"C3265*F$5-B3265*F$4","v":1165.126403176554},-207,105.17847717147515,{"$f":"F3265*F$7+G3265*F$6","v":1165.126403176554},{"$f":"G3265*F$7-F3265*F$6","v":-207},{"$f":"H3265*F$9+J3265*F$8","v":105.17847717147515},{"$f":"I3265","v":1165.126403176554},{"$f":"J3265*F$9-H3265*F$8","v":-207},{"$f":"IF(P3262=1,K3265*B$1/(B$1+B$2+L3265),99999)","v":1.7900793801783528},{"$f":"M3265*B$1/(B$1+B$2+L3265)","v":-3.5230252582266215}]
[{"$f":"A3262+1","v":11},{"$f":"OFFSET(AL$1867,A3268,A3267)-B$10-U$3","v":405.17847717147515},{"$f":"OFFSET(AL$1890,A3268,A3267)-B$11-V$3","v":1165.126403176554},{"$f":"OFFSET(AL$1844,A3268,A3267)-B$12-W$3","v":-207},{"$f":"B3267*F$5+C3267*F$4","v":405.17847717147515},{"$f":"C3267*F$5-B3267*F$4","v":1165.126403176554},{"$f":"D3267","v":-207},405.17847717147515,{"$f":"F3267*F$7+G3267*F$6","v":1165.126403176554},{"$f":"G3267*F$7-F3267*F$6","v":-207},{"$f":"H3267*F$9+J3267*F$8","v":405.17847717147515},{"$f":"I3267","v":1165.126403176554},{"$f":"J3267*F$9-H3267*F$8","v":-207},{"$f":"IF(P3267=1,K3267*B$1/(B$1+B$2+L3267),99999)","v":6.8959130877531667},{"$f":"M3267*B$1/(B$1+B$2+L3267)","v":-3.5230252582266215},{"$f":"IF(MIN(L3267:L3270)+B$2+B$1>0,1,0)","v":1}]
[null,{"$f":"OFFSET(AL$1867,A3268,A3267)-B$10-U$3","v":405.17847717147515},{"$f":"OFFSET(AL$1890,A3268,A3267)-B$11-V$3","v":1165.126403176554},{"$f":"OFFSET(AL$1844,A3268,A3267)-B$12-W$3","v":-207},{"$f":"B3270*F$5+C3270*F$4","v":405.17847717147515},{"$f":"C3270*F$5-B3270*F$4","v":1165.126403176554},-207,405.17847717147515,{"$f":"F3270*F$7+G3270*F$6","v":1165.126403176554},{"$f":"G3270*F$7-F3270*F$6","v":-207},{"$f":"H3270*F$9+J3270*F$8","v":405.17847717147515},{"$f":"I3270","v":1165.126403176554},{"$f":"J3270*F$9-H3270*F$8","v":-207},{"$f":"IF(P3267=1,K3270*B$1/(B$1+B$2+L3270),99999)","v":6.8959130877531667},{"$f":"M3270*B$1/(B$1+B$2+L3270)","v":-3.5230252582266215}]
[{"$f":"A3268","v":15},{"$f":"OFFSET(AL$1867,A3273+1,A3272+1)-B$10-U$3","v":855.17847717147515},{"$f":"OFFSET(AL$1890,A3273+1,A3272+1)-B$11-V$3","v":1424.9340243118859},{"$f":"OFFSET(AL$1844,A3273+1,A3272+1)-B$12-W$3","v":-207},{"$f":"B3273*F$5+C3273*F$4","v":855.17847717147515},{"$f":"C3273*F$5-B3273*F$4","v":1424.9340243118859},-207,855.17847717147515,{"$f":"F3273*F$7+G3273*F$6","v":1424.9340243118859},{"$f":"G3273*F$7-F3273*F$6","v":-207},{"$f":"H3273*F$9+J3273*F$8","v":855.17847717147515},{"$f":"I3273","v":1424.9340243118859},{"$f":"J3273*F$9-H3273*F$8","v":-207},{"$f":"IF(P3272=1,K3273*B$1/(B$1+B$2+L3273),99999)","v":11.919411801271783},{"$f":"M3273*B$1/(B$1+B$2+L3273)","v":-2.8851500695199643}]
[null,{"$f":"OFFSET(AL$1867,A3273,A3272)-B$10-U$3","v":705.17847717147515},{"$f":"OFFSET(AL$1890,A3273,A3272)-B$11-V$3","v":1165.126403176554},{"$f":"OFFSET(AL$1844,A3273,A3272)-B$12-W$3","v":-207},{"$f":"B3275*F$5+C3275*F$4","v":705.17847717147515},{"$f":"C3275*F$5-B3275*F$4","v":1165.126403176554},-207,705.17847717147515,{"$f":"F3275*F$7+G3275*F$6","v":1165.126403176554},{"$f":"G3275*F$7-F3275*F$6","v":-207},{"$f":"H3275*F$9+J3275*F$8","v":705.17847717147515},{"$f":"I3275","v":1165.126403176554},{"$f":"J3275*F$9-H3275*F$8","v":-207},{"$f":"IF(P3272=1,K3275*B$1/(B$1+B$2+L3275),99999)","v":12.00174679532798},{"$f":"M3275*B$1/(B$1+B$2+L3275)","v":-3.5230252582266215}]
[]
[{"$f":"A3273","v":15},{"$f":"OFFSET(AL$1867,A3278+1,A3277+1)-B$10-U$3","v":1155.1784771714752},{"$f":"OFFSET(AL$1890,A3278+1,A3277+1)-B$11-V$3","v":1424.9340243118859},{"$f":"OFFSET(AL$1844,A3278+1,A3277+1)-B$12-W$3","v":-207},{"$f":"B3278*F$5+C3278*F$4","v":1155.1784771714752},{"$f":"C3278*F$5-B3278*F$4","v":1424.9340243118859},-207,1155.1784771714752,{"$f":"F3278*F$7+G3278*F$6","v":1424.9340243118859},{"$f":"G3278*F$7-F3278*F$6","v":-207},{"$f":"H3278*F$9+J3278*F$8","v":1155.1784771714752},{"$f":"I3278","v":1424.9340243118859},{"$f":"J3278*F$9-H3278*F$8","v":-207},{"$f":"IF(P3277=1,K3278*B$1/(B$1+B$2+L3278),99999)","v":16.100788713619558},{"$f":"M3278*B$1/(B$1+B$2+L3278)","v":-2.8851500695199643}]
[]
[null,{"$f":"OFFSET(AL$1867,A3283,A3282+1)-B$10-U$3","v":1605.1784771714752},{"$f":"OFFSET(AL$1890,A3283,A3282+1)-B$11-V$3","v":1165.126403176554},{"$f":"OFFSET(AL$1844,A3283,A3282+1)-B$12-W$3","v":-207},{"$f":"B3284*F$5+C3284*F$4","v":1605.1784771714752},{"$f":"C3284*F$5-B3284*F$4","v":1165.126403176554},-207,1605.1784771714752,{"$f":"F3284*F$7+G3284*F$6","v":1165.126403176554},{"$f":"G3284*F$7-F3284*F$6","v":-207},{"$f":"H3284*F$9+J3284*F$8","v":1605.1784771714752},{"$f":"I3284","v":1165.126403176554},{"$f":"J3284*F$9-H3284*F$8","v":-207},{"$f":"IF(P3282=1,K3284*B$1/(B$1+B$2+L3284),99999)","v":27.319247918052422},{"$f":"M3284*B$1/(B$1+B$2+L3284)","v":-3.5230252582266215}]
[]
[null,{"$f":"OFFSET(AL$1867,A3288,A3287)-B$10-U$3","v":1605.1784771714752},{"$f":"OFFSET(AL$1890,A3288,A3287)-B$11-V$3","v":1165.126403176554},{"$f":"OFFSET(AL$1844,A3288,A3287)-B$12-W$3","v":-207},{"$f":"B3290*F$5+C3290*F$4","v":1605.1784771714752},{"$f":"C3290*F$5-B3290*F$4","v":1165.126403176554},-207,1605.1784771714752,{"$f":"F3290*F$7+G3290*F$6","v":1165.126403176554},{"$f":"G3290*F$7-F3290*F$6","v":-207},{"$f":"H3290*F$9+J3290*F$8","v":1605.1784771714752},{"$f":"I3290","v":1165.126403176554},{"$f":"J3290*F$9-H3290*F$8","v":-207},{"$f":"IF(P3287=1,K3290*B$1/(B$1+B$2+L3290),99999)","v":27.319247918052422},{"$f":"M3290*B$1/(B$1+B$2+L3290)","v":-3.5230252582266215}]
[]
[null,{"$f":"OFFSET(AL$1867,A3293,A3292)-B$10-U$3","v":1905.1784771714752},{"$f":"OFFSET(AL$1890,A3293,A3292)-B$11-V$3","v":1165.126403176554},{"$f":"OFFSET(AL$1844,A3293,A3292)-B$12-W$3","v":-207},{"$f":"B3295*F$5+C3295*F$4","v":1905.1784771714752},{"$f":"C3295*F$5-B3295*F$4","v":1165.126403176554},-207,1905.1784771714752,{"$f":"F3295*F$7+G3295*F$6","v":1165.126403176554},{"$f":"G3295*F$7-F3295*F$6","v":-207},{"$f":"H3295*F$9+J3295*F$8","v":1905.1784771714752},{"$f":"I3295","v":1165.126403176554},{"$f":"J3295*F$9-H3295*F$8","v":-207},{"$f":"IF(P3292=1,K3295*B$1/(B$1+B$2+L3295),99999)","v":32.425081625627236},{"$f":"M3295*B$1/(B$1+B$2+L3295)","v":-3.5230252582266215}]
[]
[{"$f":"A3293","v":15},{"$f":"OFFSET(AL$1867,A3298+1,A3297+1)-B$10-U$3","v":2355.1784771714752},{"$f":"OFFSET(AL$1890,A3298+1,A3297+1)-B$11-V$3","v":1424.9340243118859},{"$f":"OFFSET(AL$1844,A3298+1,A3297+1)-B$12-W$3","v":-207},{"$f":"B3298*F$5+C3298*F$4","v":2355.1784771714752},{"$f":"C3298*F$5-B3298*F$4","v":1424.9340243118859},-207,2355.1784771714752,{"$f":"F3298*F$7+G3298*F$6","v":1424.9340243118859},{"$f":"G3298*F$7-F3298*F$6","v":-207},{"$f":"H3298*F$9+J3298*F$8","v":2355.1784771714752},{"$f":"I3298","v":1424.9340243118859},{"$f":"J3298*F$9-H3298*F$8","v":-207},{"$f":"IF(P3297=1,K3298*B$1/(B$1+B$2+L3298),99999)","v":32.826296363010655},{"$f":"M3298*B$1/(B$1+B$2+L3298)","v":-2.8851500695199643}]
[]
[null,{"$f":"OFFSET(AL$1867,A3303,A3302+1)-B$10-U$3","v":2805.1784771714752},{"$f":"OFFSET(AL$1890,A3303,A3302+1)-B$11-V$3","v":1165.126403176554},{"$f":"OFFSET(AL$1844,A3303,A3302+1)-B$12-W$3","v":-207},{"$f":"B3304*F$5+C3304*F$4","v":2805.1784771714752},{"$f":"C3304*F$5-B3304*F$4","v":1165.126403176554},-207,2805.1784771714752,{"$f":"F3304*F$7+G3304*F$6","v":1165.126403176554},{"$f":"G3304*F$7-F3304*F$6","v":-207},{"$f":"H3304*F$9+J3304*F$8","v":2805.1784771714752},{"$f":"I3304","v":1165.126403176554},{"$f":"J3304*F$9-H3304*F$8","v":-207},{"$f":"IF(P3302=1,K3304*B$1/(B$1+B$2+L3304),99999)","v":47.742582748351673},{"$f":"M3304*B$1/(B$1+B$2+L3304)","v":-3.5230252582266215}]
[]
[null,{"$f":"OFFSET(AL$1867,A3308,A3307+1)-B$10-U$3","v":3105.1784771714752},{"$f":"OFFSET(AL$1890,A3308,A3307+1)-B$11-V$3","v":1165.126403176554},{"$f":"OFFSET(AL$1844,A3308,A3307+1)-B$12-W$3","v":-207},{"$f":"B3309*F$5+C3309*F$4","v":3105.1784771714752},{"$f":"C3309*F$5-B3309*F$4","v":1165.126403176554},-207,3105.1784771714752,{"$f":"F3309*F$7+G3309*F$6","v":1165.126403176554},{"$f":"G3309*F$7-F3309*F$6","v":-207},{"$f":"H3309*F$9+J3309*F$8","v":3105.1784771714752},{"$f":"I3309","v":1165.126403176554},{"$f":"J3309*F$9-H3309*F$8","v":-207},{"$f":"IF(P3307=1,K3309*B$1/(B$1+B$2+L3309),99999)","v":52.84841645592649},{"$f":"M3309*B$1/(B$1+B$2+L3309)","v":-3.5230252582266215}]
[0,{"$f":"OFFSET(AL$1867,A3313,A3312)-B$10-U$3","v":-3044.8215228285248},{"$f":"OFFSET(AL$1890,A3313,A3312)-B$11-V$3","v":1424.9340243118859},{"$f":"OFFSET(AL$1844,A3313,A3312)-B$12-W$3","v":-207},{"$f":"B3312*F$5+C3312*F$4","v":-3044.8215228285248},{"$f":"C3312*F$5-B3312*F$4","v":1424.9340243118859},{"$f":"D3312","v":-207},-3044.8215228285248,{"$f":"F3312*F$7+G3312*F$6","v":1424.9340243118859},{"$f":"G3312*F$7-F3312*F$6","v":-207},{"$f":"H3312*F$9+J3312*F$8","v":-3044.8215228285248},{"$f":"I3312","v":1424.9340243118859},{"$f":"J3312*F$9-H3312*F$8","v":-207},{"$f":"IF(P3312=1,K3312*B$1/(B$1+B$2+L3312),99999)","v":-42.438488059249288},{"$f":"M3312*B$1/(B$1+B$2+L3312)","v":-2.8851500695199643},{"$f":"IF(MIN(L3312:L3315)+B$2+B$1>0,1,0)","v":1}]
[null,{"$f":"OFFSET(AL$1867,A3313,A3312+1)-B$10-U$3","v":-2744.8215228285248},{"$f":"OFFSET(AL$1890,A3313,A3312+1)-B$11-V$3","v":1424.9340243118859},{"$f":"OFFSET(AL$1844,A3313,A3312+1)-B$12-W$3","v":-207},{"$f":"B3314*F$5+C3314*F$4","v":-2744.8215228285248},{"$f":"C3314*F$5-B3314*F$4","v":1424.9340243118859},-207,-2744.8215228285248,{"$f":"F3314*F$7+G3314*F$6","v":1424.9340243118859},{"$f":"G3314*F$7-F3314*F$6","v":-207},{"$f":"H3314*F$9+J3314*F$8","v":-2744.8215228285248},{"$f":"I3314","v":1424.9340243118859},{"$f":"J3314*F$9-H3314*F$8","v":-207},{"$f":"IF(P3312=1,K3314*B$1/(B$1+B$2+L3314),99999)","v":-38.257111146901515},{"$f":"M3314*B$1/(B$1+B$2+L3314)","v":-2.8851500695199643}]
[null,{"$f":"OFFSET(AL$1867,A3313,A3312)-B$10-U$3","v":-3044.8215228285248},{"$f":"OFFSET(AL$1890,A3313,A3312)-B$11-V$3","v":1424.9340243118859},{"$f":"OFFSET(AL$1844,A3313,A3312)-B$12-W$3","v":-207},{"$f":"B3315*F$5+C3315*F$4","v":-3044.8215228285248},{"$f":"C3315*F$5-B3315*F$4","v":1424.9340243118859},-207,-3044.8215228285248,{"$f":"F3315*F$7+G3315*F$6","v":1424.9340243118859},{"$f":"G3315*F$7-F3315*F$6","v":-207},{"$f":"H3315*F$9+J3315*F$8","v":-3044.8215228285248},{"$f":"I3315","v":1424.9340243118859},{"$f":"J3315*F$9-H3315*F$8","v":-207},{"$f":"IF(P3312=1,K3315*B$1/(B$1+B$2+L3315),99999)","v":-42.438488059249288},{"$f":"M3315*B$1/(B$1+B$2+L3315)","v":-2.8851500695199643}]
[null,{"$f":"OFFSET(AL$1867,A3318,A3317+1)-B$10-U$3","v":-2444.8215228285248},{"$f":"OFFSET(AL$1890,A3318,A3317+1)-B$11-V$3","v":1424.9340243118859},{"$f":"OFFSET(AL$1844,A3318,A3317+1)-B$12-W$3","v":-207},{"$f":"B3319*F$5+C3319*F$4","v":-2444.8215228285248},{"$f":"C3319*F$5-B3319*F$4","v":1424.9340243118859},-207,-2444.8215228285248,{"$f":"F3319*F$7+G3319*F$6","v":1424.9340243118859},{"$f":"G3319*F$7-F3319*F$6","v":-207},{"$f":"H3319*F$9+J3319*F$8","v":-2444.8215228285248},{"$f":"I3319","v":1424.9340243118859},{"$f":"J3319*F$9-H3319*F$8","v":-207},{"$f":"IF(P3317=1,K3319*B$1/(B$1+B$2+L3319),99999)","v":-34.075734234553735},{"$f":"M3319*B$1/(B$1+B$2+L3319)","v":-2.8851500695199643}]
[]
[null,{"$f":"OFFSET(AL$1867,A3323,A3322+1)-B$10-U$3","v":-2144.8215228285248},{"$f":"OFFSET(AL$1890,A3323,A3322+1)-B$11-V$3","v":1424.9340243118859},{"$f":"OFFSET(AL$1844,A3323,A3322+1)-B$12-W$3","v":-207},{"$f":"B3324*F$5+C3324*F$4","v":-2144.8215228285248},{"$f":"C3324*F$5-B3324*F$4","v":1424.9340243118859},-207,-2144.8215228285248,{"$f":"F3324*F$7+G3324*F$6","v":1424.9340243118859},{"$f":"G3324*F$7-F3324*F$6","v":-207},{"$f":"H3324*F$9+J3324*F$8","v":-2144.8215228285248},{"$f":"I3324","v":1424.9340243118859},{"$f":"J3324*F$9-H3324*F$8","v":-207},{"$f":"IF(P3322=1,K3324*B$1/(B$1+B$2+L3324),99999)","v":-29.894357322205963},{"$f":"M3324*B$1/(B$1+B$2+L3324)","v":-2.8851500695199643}]
[]
[null,{"$f":"OFFSET(AL$1867,A3328,A3327+1)-B$10-U$3","v":-1844.8215228285248},{"$f":"OFFSET(AL$1890,A3328,A3327+1)-B$11-V$3","v":1424.9340243118859},{"$f":"OFFSET(AL$1844,A3328,A3327+1)-B$12-W$3","v":-207},{"$f":"B3329*F$5+C3329*F$4","v":-1844.8215228285248},{"$f":"C3329*F$5-B3329*F$4","v":1424.9340243118859},-207,-1844.8215228285248,{"$f":"F3329*F$7+G3329*F$6","v":1424.9340243118859},{"$f":"G3329*F$7-F3329*F$6","v":-207},{"$f":"H3329*F$9+J3329*F$8","v":-1844.8215228285248},{"$f":"I3329","v":1424.9340243118859},{"$f":"J3329*F$9-H3329*F$8","v":-207},{"$f":"IF(P3327=1,K3329*B$1/(B$1+B$2+L3329),99999)","v":-25.71298040985819},{"$f":"M3329*B$1/(B$1+B$2+L3329)","v":-2.8851500695199643}]
[{"$f":"A3327+1","v":4},{"$f":"OFFSET(AL$1867,A3333,A3332)-B$10-U$3","v":-1844.8215228285248},{"$f":"OFFSET(AL$1890,A3333,A3332)-B$11-V$3","v":1424.9340243118859},{"$f":"OFFSET(AL$1844,A3333,A3332)-B$12-W$3","v":-207},{"$f":"B3332*F$5+C3332*F$4","v":-1844.8215228285248},{"$f":"C3332*F$5-B3332*F$4","v":1424.9340243118859},{"$f":"D3332","v":-207},-1844.8215228285248,{"$f":"F3332*F$7+G3332*F$6","v":1424.9340243118859},{"$f":"G3332*F$7-F3332*F$6","v":-207},{"$f":"H3332*F$9+J3332*F$8","v":-1844.8215228285248},{"$f":"I3332","v":1424.9340243118859},{"$f":"J3332*F$9-H3332*F$8","v":-207},{"$f":"IF(P3332=1,K3332*B$1/(B$1+B$2+L3332),99999)","v":-25.71298040985819},{"$f":"M3332*B$1/(B$1+B$2+L3332)","v":-2.8851500695199643},{"$f":"IF(MIN(L3332:L3335)+B$2+B$1>0,1,0)","v":1}]
[null,{"$f":"OFFSET(AL$1867,A3333,A3332+1)-B$10-U$3","v":-1544.8215228285248},{"$f":"OFFSET(AL$1890,A3333,A3332+1)-B$11-V$3","v":1424.9340243118859},{"$f":"OFFSET(AL$1844,A3333,A3332+1)-B$12-W$3","v":-207},{"$f":"B3334*F$5+C3334*F$4","v":-1544.8215228285248},{"$f":"C3334*F$5-B3334*F$4","v":1424.9340243118859},-207,-1544.8215228285248,{"$f":"F3334*F$7+G3334*F$6","v":1424.9340243118859},{"$f":"G3334*F$7-F3334*F$6","v":-207},{"$f":"H3334*F$9+J3334*F$8","v":-1544.8215228285248},{"$f":"I3334","v":1424.9340243118859},{"$f":"J3334*F$9-H3334*F$8","v":-207},{"$f":"IF(P3332=1,K3334*B$1/(B$1+B$2+L3334),99999)","v":-21.531603497510414},{"$f":"M3334*B$1/(B$1+B$2+L3334)","v":-2.8851500695199643}]
[null,{"$f":"OFFSET(AL$1867,A3333,A3332)-B$10-U$3","v":-1844.8215228285248},{"$f":"OFFSET(AL$1890,A3333,A3332)-B$11-V$3","v":1424.9340243118859},{"$f":"OFFSET(AL$1844,A3333,A3332)-B$12-W$3","v":-207},{"$f":"B3335*F$5+C3335*F$4","v":-1844.8215228285248},{"$f":"C3335*F$5-B3335*F$4","v":1424.9340243118859},-207,-1844.8215228285248,{"$f":"F3335*F$7+G3335*F$6","v":1424.9340243118859},{"$f":"G3335*F$7-F3335*F$6","v":-207},{"$f":"H3335*F$9+J3335*F$8","v":-1844.8215228285248},{"$f":"I3335","v":1424.9340243118859},{"$f":"J3335*F$9-H3335*F$8","v":-207},{"$f":"IF(P3332=1,K3335*B$1/(B$1+B$2+L3335),99999)","v":-25.71298040985819},{"$f":"M3335*B$1/(B$1+B$2+L3335)","v":-2.8851500695199643}]
[null,{"$f":"OFFSET(AL$1867,A3338,A3337+1)-B$10-U$3","v":-1244.8215228285248},{"$f":"OFFSET(AL$1890,A3338,A3337+1)-B$11-V$3","v":1424.9340243118859},{"$f":"OFFSET(AL$1844,A3338,A3337+1)-B$12-W$3","v":-207},{"$f":"B3339*F$5+C3339*F$4","v":-1244.8215228285248},{"$f":"C3339*F$5-B3339*F$4","v":1424.9340243118859},-207,-1244.8215228285248,{"$f":"F3339*F$7+G3339*F$6","v":1424.9340243118859},{"$f":"G3339*F$7-F3339*F$6","v":-207},{"$f":"H3339*F$9+J3339*F$8","v":-1244.8215228285248},{"$f":"I3339","v":1424.9340243118859},{"$f":"J3339*F$9-H3339*F$8","v":-207},{"$f":"IF(P3337=1,K3339*B$1/(B$1+B$2+L3339),99999)","v":-17.350226585162638},{"$f":"M3339*B$1/(B$1+B$2+L3339)","v":-2.8851500695199643}]
[null,{"$f":"OFFSET(AL$1867,A3338,A3337)-B$10-U$3","v":-1544.8215228285248},{"$f":"OFFSET(AL$1890,A3338,A3337)-B$11-V$3","v":1424.9340243118859},{"$f":"OFFSET(AL$1844,A3338,A3337)-B$12-W$3","v":-207},{"$f":"B3340*F$5+C3340*F$4","v":-1544.8215228285248},{"$f":"C3340*F$5-B3340*F$4","v":1424.9340243118859},-207,-1544.8215228285248,{"$f":"F3340*F$7+G3340*F$6","v":1424.9340243118859},{"$f":"G3340*F$7-F3340*F$6","v":-207},{"$f":"H3340*F$9+J3340*F$8","v":-1544.8215228285248},{"$f":"I3340","v":1424.9340243118859},{"$f":"J3340*F$9-H3340*F$8","v":-207},{"$f":"IF(P3337=1,K3340*B$1/(B$1+B$2+L3340),99999)","v":-21.531603497510414},{"$f":"M3340*B$1/(B$1+B$2+L3340)","v":-2.8851500695199643}]
[{"$f":"A3338","v":16},{"$f":"OFFSET(AL$1867,A3343+1,A3342)-B$10-U$3","v":-1094.8215228285248},{"$f":"OFFSET(AL$1890,A3343+1,A3342)-B$11-V$3","v":1684.7416454472177},{"$f":"OFFSET(AL$1844,A3343+1,A3342)-B$12-W$3","v":-207},{"$f":"B3343*F$5+C3343*F$4","v":-1094.8215228285248},{"$f":"C3343*F$5-B3343*F$4","v":1684.7416454472177},-207,-1094.8215228285248,{"$f":"F3343*F$7+G3343*F$6","v":1684.7416454472177},{"$f":"G3343*F$7-F3343*F$6","v":-207},{"$f":"H3343*F$9+J3343*F$8","v":-1094.8215228285248},{"$f":"I3343","v":1684.7416454472177},{"$f":"J3343*F$9-H3343*F$8","v":-207},{"$f":"IF(P3342=1,K3343*B$1/(B$1+B$2+L3343),99999)","v":-12.920217376727262},{"$f":"M3343*B$1/(B$1+B$2+L3343)","v":-2.4428502191598143}]
[null,{"$f":"OFFSET(AL$1867,A3343,A3342)-B$10-U$3","v":-1244.8215228285248},{"$f":"OFFSET(AL$1890,A3343,A3342)-B$11-V$3","v":1424.9340243118859},{"$f":"OFFSET(AL$1844,A3343,A3342)-B$12-W$3","v":-207},{"$f":"B3345*F$5+C3345*F$4","v":-1244.8215228285248},{"$f":"C3345*F$5-B3345*F$4","v":1424.9340243118859},-207,-1244.8215228285248,{"$f":"F3345*F$7+G3345*F$6","v":1424.9340243118859},{"$f":"G3345*F$7-F3345*F$6","v":-207},{"$f":"H3345*F$9+J3345*F$8","v":-1244.8215228285248},{"$f":"I3345","v":1424.9340243118859},{"$f":"J3345*F$9-H3345*F$8","v":-207},{"$f":"IF(P3342=1,K3345*B$1/(B$1+B$2+L3345),99999)","v":-17.350226585162638},{"$f":"M3345*B$1/(B$1+B$2+L3345)","v":-2.8851500695199643}]
[null,{"$f":"OFFSET(AL$1867,A3348,A3347+1)-B$10-U$3","v":-644.82152282852485},{"$f":"OFFSET(AL$1890,A3348,A3347+1)-B$11-V$3","v":1424.9340243118859},{"$f":"OFFSET(AL$1844,A3348,A3347+1)-B$12-W$3","v":-207},{"$f":"B3349*F$5+C3349*F$4","v":-644.82152282852485},{"$f":"C3349*F$5-B3349*F$4","v":1424.9340243118859},-207,-644.82152282852485,{"$f":"F3349*F$7+G3349*F$6","v":1424.9340243118859},{"$f":"G3349*F$7-F3349*F$6","v":-207},{"$f":"H3349*F$9+J3349*F$8","v":-644.82152282852485},{"$f":"I3349","v":1424.9340243118859},{"$f":"J3349*F$9-H3349*F$8","v":-207},{"$f":"IF(P3347=1,K3349*B$1/(B$1+B$2+L3349),99999)","v":-8.9874727604670905},{"$f":"M3349*B$1/(B$1+B$2+L3349)","v":-2.8851500695199643}]
[null,{"$f":"OFFSET(AL$1867,A3348,A3347)-B$10-U$3","v":-944.82152282852485},{"$f":"OFFSET(AL$1890,A3348,A3347)-B$11-V$3","v":1424.9340243118859},{"$f":"OFFSET(AL$1844,A3348,A3347)-B$12-W$3","v":-207},{"$f":"B3350*F$5+C3350*F$4","v":-944.82152282852485},{"$f":"C3350*F$5-B3350*F$4","v":1424.9340243118859},-207,-944.82152282852485,{"$f":"F3350*F$7+G3350*F$6","v":1424.9340243118859},{"$f":"G3350*F$7-F3350*F$6","v":-207},{"$f":"H3350*F$9+J3350*F$8","v":-944.82152282852485},{"$f":"I3350","v":1424.9340243118859},{"$f":"J3350*F$9-H3350*F$8","v":-207},{"$f":"IF(P3347=1,K3350*B$1/(B$1+B$2+L3350),99999)","v":-13.168849672814865},{"$f":"M3350*B$1/(B$1+B$2+L3350)","v":-2.8851500695199643}]
[{"$f":"A3347+1","v":8},{"$f":"OFFSET(AL$1867,A3353,A3352)-B$10-U$3","v":-644.82152282852485},{"$f":"OFFSET(AL$1890,A3353,A3352)-B$11-V$3","v":1424.9340243118859},{"$f":"OFFSET(AL$1844,A3353,A3352)-B$12-W$3","v":-207},{"$f":"B3352*F$5+C3352*F$4","v":-644.82152282852485},{"$f":"C3352*F$5-B3352*F$4","v":1424.9340243118859},{"$f":"D3352","v":-207},-644.82152282852485,{"$f":"F3352*F$7+G3352*F$6","v":1424.9340243118859},{"$f":"G3352*F$7-F3352*F$6","v":-207},{"$f":"H3352*F$9+J3352*F$8","v":-644.82152282852485},{"$f":"I3352","v":1424.9340243118859},{"$f":"J3352*F$9-H3352*F$8","v":-207},{"$f":"IF(P3352=1,K3352*B$1/(B$1+B$2+L3352),99999)","v":-8.9874727604670905},{"$f":"M3352*B$1/(B$1+B$2+L3352)","v":-2.8851500695199643},{"$f":"IF(MIN(L3352:L3355)+B$2+B$1>0,1,0)","v":1}]
[null,{"$f":"OFFSET(AL$1867,A3353,A3352)-B$10-U$3","v":-644.82152282852485},{"$f":"OFFSET(AL$1890,A3353,A3352)-B$11-V$3","v":1424.9340243118859},{"$f":"OFFSET(AL$1844,A3353,A3352)-B$12-W$3","v":-207},{"$f":"B3355*F$5+C3355*F$4","v":-644.82152282852485},{"$f":"C3355*F$5-B3355*F$4","v":1424.9340243118859},-207,-644.82152282852485,{"$f":"F3355*F$7+G3355*F$6","v":1424.9340243118859},{"$f":"G3355*F$7-F3355*F$6","v":-207},{"$f":"H3355*F$9+J3355*F$8","v":-644.82152282852485},{"$f":"I3355","v":1424.9340243118859},{"$f":"J3355*F$9-H3355*F$8","v":-207},{"$f":"IF(P3352=1,K3355*B$1/(B$1+B$2+L3355),99999)","v":-8.9874727604670905},{"$f":"M3355*B$1/(B$1+B$2+L3355)","v":-2.8851500695199643}]
[{"$f":"A3352+1","v":9},{"$f":"OFFSET(AL$1867,A3358,A3357)-B$10-U$3","v":-344.82152282852485},{"$f":"OFFSET(AL$1890,A3358,A3357)-B$11-V$3","v":1424.9340243118859},{"$f":"OFFSET(AL$1844,A3358,A3357)-B$12-W$3","v":-207},{"$f":"B3357*F$5+C3357*F$4","v":-344.82152282852485},{"$f":"C3357*F$5-B3357*F$4","v":1424.9340243118859},{"$f":"D3357","v":-207},-344.82152282852485,{"$f":"F3357*F$7+G3357*F$6","v":1424.9340243118859},{"$f":"G3357*F$7-F3357*F$6","v":-207},{"$f":"H3357*F$9+J3357*F$8","v":-344.82152282852485},{"$f":"I3357","v":1424.9340243118859},{"$f":"J3357*F$9-H3357*F$8","v":-207},{"$f":"IF(P3357=1,K3357*B$1/(B$1+B$2+L3357),99999)","v":-4.8060958481193161},{"$f":"M3357*B$1/(B$1+B$2+L3357)","v":-2.8851500695199643},{"$f":"IF(MIN(L3357:L3360)+B$2+B$1>0,1,0)","v":1}]
[null,{"$f":"OFFSET(AL$1867,A3358,A3357)-B$10-U$3","v":-344.82152282852485},{"$f":"OFFSET(AL$1890,A3358,A3357)-B$11-V$3","v":1424.9340243118859},{"$f":"OFFSET(AL$1844,A3358,A3357)-B$12-W$3","v":-207},{"$f":"B3360*F$5+C3360*F$4","v":-344.82152282852485},{"$f":"C3360*F$5-B3360*F$4","v":1424.9340243118859},-207,-344.82152282852485,{"$f":"F3360*F$7+G3360*F$6","v":1424.9340243118859},{"$f":"G3360*F$7-F3360*F$6","v":-207},{"$f":"H3360*F$9+J3360*F$8","v":-344.82152282852485},{"$f":"I3360","v":1424.9340243118859},{"$f":"J3360*F$9-H3360*F$8","v":-207},{"$f":"IF(P3357=1,K3360*B$1/(B$1+B$2+L3360),99999)","v":-4.8060958481193161},{"$f":"M3360*B$1/(B$1+B$2+L3360)","v":-2.8851500695199643}]
[{"$f":"A3358","v":16},{"$f":"OFFSET(AL$1867,A3363+1,A3362)-B$10-U$3","v":105.17847717147515},{"$f":"OFFSET(AL$1890,A3363+1,A3362)-B$11-V$3","v":1684.7416454472177},{"$f":"OFFSET(AL$1844,A3363+1,A3362)-B$12-W$3","v":-207},{"$f":"B3363*F$5+C3363*F$4","v":105.17847717147515},{"$f":"C3363*F$5-B3363*F$4","v":1684.7416454472177},-207,105.17847717147515,{"$f":"F3363*F$7+G3363*F$6","v":1684.7416454472177},{"$f":"G3363*F$7-F3363*F$6","v":-207},{"$f":"H3363*F$9+J3363*F$8","v":105.17847717147515},{"$f":"I3363","v":1684.7416454472177},{"$f":"J3363*F$9-H3363*F$8","v":-207},{"$f":"IF(P3362=1,K3363*B$1/(B$1+B$2+L3363),99999)","v":1.2412331691267324},{"$f":"M3363*B$1/(B$1+B$2+L3363)","v":-2.4428502191598143}]
[null,{"$f":"OFFSET(AL$1867,A3363,A3362)-B$10-U$3","v":-44.821522828524849},{"$f":"OFFSET(AL$1890,A3363,A3362)-B$11-V$3","v":1424.9340243118859},{"$f":"OFFSET(AL$1844,A3363,A3362)-B$12-W$3","v":-207},{"$f":"B3365*F$5+C3365*F$4","v":-44.821522828524849},{"$f":"C3365*F$5-B3365*F$4","v":1424.9340243118859},-207,-44.821522828524849,{"$f":"F3365*F$7+G3365*F$6","v":1424.9340243118859},{"$f":"G3365*F$7-F3365*F$6","v":-207},{"$f":"H3365*F$9+J3365*F$8","v":-44.821522828524849},{"$f":"I3365","v":1424.9340243118859},{"$f":"J3365*F$9-H3365*F$8","v":-207},{"$f":"IF(P3362=1,K3365*B$1/(B$1+B$2+L3365),99999)","v":-0.62471893577154181},{"$f":"M3365*B$1/(B$1+B$2+L3365)","v":-2.8851500695199643}]
[{"$f":"A3363","v":16},{"$f":"OFFSET(AL$1867,A3368+1,A3367)-B$10-U$3","v":405.17847717147515},{"$f":"OFFSET(AL$1890,A3368+1,A3367)-B$11-V$3","v":1684.7416454472177},{"$f":"OFFSET(AL$1844,A3368+1,A3367)-B$12-W$3","v":-207},{"$f":"B3368*F$5+C3368*F$4","v":405.17847717147515},{"$f":"C3368*F$5-B3368*F$4","v":1684.7416454472177},-207,405.17847717147515,{"$f":"F3368*F$7+G3368*F$6","v":1684.7416454472177},{"$f":"G3368*F$7-F3368*F$6","v":-207},{"$f":"H3368*F$9+J3368*F$8","v":405.17847717147515},{"$f":"I3368","v":1684.7416454472177},{"$f":"J3368*F$9-H3368*F$8","v":-207},{"$f":"IF(P3367=1,K3368*B$1/(B$1+B$2+L3368),99999)","v":4.7815958055902312},{"$f":"M3368*B$1/(B$1+B$2+L3368)","v":-2.4428502191598143}]
[]
[{"$f":"A3368","v":16},{"$f":"OFFSET(AL$1867,A3373+1,A3372)-B$10-U$3","v":705.17847717147515},{"$f":"OFFSET(AL$1890,A3373+1,A3372)-B$11-V$3","v":1684.7416454472177},{"$f":"OFFSET(AL$1844,A3373+1,A3372)-B$12-W$3","v":-207},{"$f":"B3373*F$5+C3373*F$4","v":705.17847717147515},{"$f":"C3373*F$5-B3373*F$4","v":1684.7416454472177},-207,705.17847717147515,{"$f":"F3373*F$7+G3373*F$6","v":1684.7416454472177},{"$f":"G3373*F$7-F3373*F$6","v":-207},{"$f":"H3373*F$9+J3373*F$8","v":705.17847717147515},{"$f":"I3373","v":1684.7416454472177},{"$f":"J3373*F$9-H3373*F$8","v":-207},{"$f":"IF(P3372=1,K3373*B$1/(B$1+B$2+L3373),99999)","v":8.3219584420537309},{"$f":"M3373*B$1/(B$1+B$2+L3373)","v":-2.4428502191598143}]
[null,{"$f":"OFFSET(AL$1867,A3373,A3372+1)-B$10-U$3","v":855.17847717147515},{"$f":"OFFSET(AL$1890,A3373,A3372+1)-B$11-V$3","v":1424.9340243118859},{"$f":"OFFSET(AL$1844,A3373,A3372+1)-B$12-W$3","v":-207},{"$f":"B3374*F$5+C3374*F$4","v":855.17847717147515},{"$f":"C3374*F$5-B3374*F$4","v":1424.9340243118859},-207,855.17847717147515,{"$f":"F3374*F$7+G3374*F$6","v":1424.9340243118859},{"$f":"G3374*F$7-F3374*F$6","v":-207},{"$f":"H3374*F$9+J3374*F$8","v":855.17847717147515},{"$f":"I3374","v":1424.9340243118859},{"$f":"J3374*F$9-H3374*F$8","v":-207},{"$f":"IF(P3372=1,K3374*B$1/(B$1+B$2+L3374),99999)","v":11.919411801271783},{"$f":"M3374*B$1/(B$1+B$2+L3374)","v":-2.8851500695199643}]
[{"$f":"A3373","v":16},{"$f":"OFFSET(AL$1867,A3378+1,A3377)-B$10-U$3","v":1005.1784771714752},{"$f":"OFFSET(AL$1890,A3378+1,A3377)-B$11-V$3","v":1684.7416454472177},{"$f":"OFFSET(AL$1844,A3378+1,A3377)-B$12-W$3","v":-207},{"$f":"B3378*F$5+C3378*F$4","v":1005.1784771714752},{"$f":"C3378*F$5-B3378*F$4","v":1684.7416454472177},-207,1005.1784771714752,{"$f":"F3378*F$7+G3378*F$6","v":1684.7416454472177},{"$f":"G3378*F$7-F3378*F$6","v":-207},{"$f":"H3378*F$9+J3378*F$8","v":1005.1784771714752},{"$f":"I3378","v":1684.7416454472177},{"$f":"J3378*F$9-H3378*F$8","v":-207},{"$f":"IF(P3377=1,K3378*B$1/(B$1+B$2+L3378),99999)","v":11.86232107851723},{"$f":"M3378*B$1/(B$1+B$2+L3378)","v":-2.4428502191598143}]
[null,{"$f":"OFFSET(AL$1867,A3378,A3377)-B$10-U$3","v":855.17847717147515},{"$f":"OFFSET(AL$1890,A3378,A3377)-B$11-V$3","v":1424.9340243118859},{"$f":"OFFSET(AL$1844,A3378,A3377)-B$12-W$3","v":-207},{"$f":"B3380*F$5+C3380*F$4","v":855.17847717147515},{"$f":"C3380*F$5-B3380*F$4","v":1424.9340243118859},-207,855.17847717147515,{"$f":"F3380*F$7+G3380*F$6","v":1424.9340243118859},{"$f":"G3380*F$7-F3380*F$6","v":-207},{"$f":"H3380*F$9+J3380*F$8","v":855.17847717147515},{"$f":"I3380","v":1424.9340243118859},{"$f":"J3380*F$9-H3380*F$8","v":-207},{"$f":"IF(P3377=1,K3380*B$1/(B$1+B$2+L3380),99999)","v":11.919411801271783},{"$f":"M3380*B$1/(B$1+B$2+L3380)","v":-2.8851500695199643}]
[{"$f":"A3378","v":16},{"$f":"OFFSET(AL$1867,A3383+1,A3382)-B$10-U$3","v":1305.1784771714752},{"$f":"OFFSET(AL$1890,A3383+1,A3382)-B$11-V$3","v":1684.7416454472177},{"$f":"OFFSET(AL$1844,A3383+1,A3382)-B$12-W$3","v":-207},{"$f":"B3383*F$5+C3383*F$4","v":1305.1784771714752},{"$f":"C3383*F$5-B3383*F$4","v":1684.7416454472177},-207,1305.1784771714752,{"$f":"F3383*F$7+G3383*F$6","v":1684.7416454472177},{"$f":"G3383*F$7-F3383*F$6","v":-207},{"$f":"H3383*F$9+J3383*F$8","v":1305.1784771714752},{"$f":"I3383","v":1684.7416454472177},{"$f":"J3383*F$9-H3383*F$8","v":-207},{"$f":"IF(P3382=1,K3383*B$1/(B$1+B$2+L3383),99999)","v":15.402683714980729},{"$f":"M3383*B$1/(B$1+B$2+L3383)","v":-2.4428502191598143}]
[]
[{"$f":"A3383","v":16},{"$f":"OFFSET(AL$1867,A3388+1,A3387)-B$10-U$3","v":1605.1784771714752},{"$f":"OFFSET(AL$1890,A3388+1,A3387)-B$11-V$3","v":1684.7416454472177},{"$f":"OFFSET(AL$1844,A3388+1,A3387)-B$12-W$3","v":-207},{"$f":"B3388*F$5+C3388*F$4","v":1605.1784771714752},{"$f":"C3388*F$5-B3388*F$4","v":1684.7416454472177},-207,1605.1784771714752,{"$f":"F3388*F$7+G3388*F$6","v":1684.7416454472177},{"$f":"G3388*F$7-F3388*F$6","v":-207},{"$f":"H3388*F$9+J3388*F$8","v":1605.1784771714752},{"$f":"I3388","v":1684.7416454472177},{"$f":"J3388*F$9-H3388*F$8","v":-207},{"$f":"IF(P3387=1,K3388*B$1/(B$1+B$2+L3388),99999)","v":18.943046351444227},{"$f":"M3388*B$1/(B$1+B$2+L3388)","v":-2.4428502191598143}]
[]
[{"$f":"A3388","v":16},{"$f":"OFFSET(AL$1867,A3393+1,A3392)-B$10-U$3","v":1905.1784771714752},{"$f":"OFFSET(AL$1890,A3393+1,A3392)-B$11-V$3","v":1684.7416454472177},{"$f":"OFFSET(AL$1844,A3393+1,A3392)-B$12-W$3","v":-207},{"$f":"B3393*F$5+C3393*F$4","v":1905.1784771714752},{"$f":"C3393*F$5-B3393*F$4","v":1684.7416454472177},-207,1905.1784771714752,{"$f":"F3393*F$7+G3393*F$6","v":1684.7416454472177},{"$f":"G3393*F$7-F3393*F$6","v":-207},{"$f":"H3393*F$9+J3393*F$8","v":1905.1784771714752},{"$f":"I3393","v":1684.7416454472177},{"$f":"J3393*F$9-H3393*F$8","v":-207},{"$f":"IF(P3392=1,K3393*B$1/(B$1+B$2+L3393),99999)","v":22.483408987907726},{"$f":"M3393*B$1/(B$1+B$2+L3393)","v":-2.4428502191598143}]
[null,{"$f":"OFFSET(AL$1867,A3393,A3392+1)-B$10-U$3","v":2055.1784771714752},{"$f":"OFFSET(AL$1890,A3393,A3392+1)-B$11-V$3","v":1424.9340243118859},{"$f":"OFFSET(AL$1844,A3393,A3392+1)-B$12-W$3","v":-207},{"$f":"B3394*F$5+C3394*F$4","v":2055.1784771714752},{"$f":"C3394*F$5-B3394*F$4","v":1424.9340243118859},-207,2055.1784771714752,{"$f":"F3394*F$7+G3394*F$6","v":1424.9340243118859},{"$f":"G3394*F$7-F3394*F$6","v":-207},{"$f":"H3394*F$9+J3394*F$8","v":2055.1784771714752},{"$f":"I3394","v":1424.9340243118859},{"$f":"J3394*F$9-H3394*F$8","v":-207},{"$f":"IF(P3392=1,K3394*B$1/(B$1+B$2+L3394),99999)","v":28.644919450662883},{"$f":"M3394*B$1/(B$1+B$2+L3394)","v":-2.8851500695199643}]
[{"$f":"A3393","v":16},{"$f":"OFFSET(AL$1867,A3398+1,A3397)-B$10-U$3","v":2205.1784771714752},{"$f":"OFFSET(AL$1890,A3398+1,A3397)-B$11-V$3","v":1684.7416454472177},{"$f":"OFFSET(AL$1844,A3398+1,A3397)-B$12-W$3","v":-207},{"$f":"B3398*F$5+C3398*F$4","v":2205.1784771714752},{"$f":"C3398*F$5-B3398*F$4","v":1684.7416454472177},-207,2205.1784771714752,{"$f":"F3398*F$7+G3398*F$6","v":1684.7416454472177},{"$f":"G3398*F$7-F3398*F$6","v":-207},{"$f":"H3398*F$9+J3398*F$8","v":2205.1784771714752},{"$f":"I3398","v":1684.7416454472177},{"$f":"J3398*F$9-H3398*F$8","v":-207},{"$f":"IF(P3397=1,K3398*B$1/(B$1+B$2+L3398),99999)","v":26.023771624371225},{"$f":"M3398*B$1/(B$1+B$2+L3398)","v":-2.4428502191598143}]
[null,{"$f":"OFFSET(AL$1867,A3398,A3397+1)-B$10-U$3","v":2355.1784771714752},{"$f":"OFFSET(AL$1890,A3398,A3397+1)-B$11-V$3","v":1424.9340243118859},{"$f":"OFFSET(AL$1844,A3398,A3397+1)-B$12-W$3","v":-207},{"$f":"B3399*F$5+C3399*F$4","v":2355.1784771714752},{"$f":"C3399*F$5-B3399*F$4","v":1424.9340243118859},-207,2355.1784771714752,{"$f":"F3399*F$7+G3399*F$6","v":1424.9340243118859},{"$f":"G3399*F$7-F3399*F$6","v":-207},{"$f":"H3399*F$9+J3399*F$8","v":2355.1784771714752},{"$f":"I3399","v":1424.9340243118859},{"$f":"J3399*F$9-H3399*F$8","v":-207},{"$f":"IF(P3397=1,K3399*B$1/(B$1+B$2+L3399),99999)","v":32.826296363010655},{"$f":"M3399*B$1/(B$1+B$2+L3399)","v":-2.8851500695199643}]
[{"$f":"A3397+1","v":18},{"$f":"OFFSET(AL$1867,A3403,A3402)-B$10-U$3","v":2355.1784771714752},{"$f":"OFFSET(AL$1890,A3403,A3402)-B$11-V$3","v":1424.9340243118859},{"$f":"OFFSET(AL$1844,A3403,A3402)-B$12-W$3","v":-207},{"$f":"B3402*F$5+C3402*F$4","v":2355.1784771714752},{"$f":"C3402*F$5-B3402*F$4","v":1424.9340243118859},{"$f":"D3402","v":-207},2355.1784771714752,{"$f":"F3402*F$7+G3402*F$6","v":1424.9340243118859},{"$f":"G3402*F$7-F3402*F$6","v":-207},{"$f":"H3402*F$9+J3402*F$8","v":2355.1784771714752},{"$f":"I3402","v":1424.9340243118859},{"$f":"J3402*F$9-H3402*F$8","v":-207},{"$f":"IF(P3402=1,K3402*B$1/(B$1+B$2+L3402),99999)","v":32.826296363010655},{"$f":"M3402*B$1/(B$1+B$2+L3402)","v":-2.8851500695199643},{"$f":"IF(MIN(L3402:L3405)+B$2+B$1>0,1,0)","v":1}]
[null,{"$f":"OFFSET(AL$1867,A3403,A3402+1)-B$10-U$3","v":2655.1784771714752},{"$f":"OFFSET(AL$1890,A3403,A3402+1)-B$11-V$3","v":1424.9340243118859},{"$f":"OFFSET(AL$1844,A3403,A3402+1)-B$12-W$3","v":-207},{"$f":"B3404*F$5+C3404*F$4","v":2655.1784771714752},{"$f":"C3404*F$5-B3404*F$4","v":1424.9340243118859},-207,2655.1784771714752,{"$f":"F3404*F$7+G3404*F$6","v":1424.9340243118859},{"$f":"G3404*F$7-F3404*F$6","v":-207},{"$f":"H3404*F$9+J3404*F$8","v":2655.1784771714752},{"$f":"I3404","v":1424.9340243118859},{"$f":"J3404*F$9-H3404*F$8","v":-207},{"$f":"IF(P3402=1,K3404*B$1/(B$1+B$2+L3404),99999)","v":37.007673275358428},{"$f":"M3404*B$1/(B$1+B$2+L3404)","v":-2.8851500695199643}]
[{"$f":"A3403","v":16},{"$f":"OFFSET(AL$1867,A3408+1,A3407)-B$10-U$3","v":2805.1784771714752},{"$f":"OFFSET(AL$1890,A3408+1,A3407)-B$11-V$3","v":1684.7416454472177},{"$f":"OFFSET(AL$1844,A3408+1,A3407)-B$12-W$3","v":-207},{"$f":"B3408*F$5+C3408*F$4","v":2805.1784771714752},{"$f":"C3408*F$5-B3408*F$4","v":1684.7416454472177},-207,2805.1784771714752,{"$f":"F3408*F$7+G3408*F$6","v":1684.7416454472177},{"$f":"G3408*F$7-F3408*F$6","v":-207},{"$f":"H3408*F$9+J3408*F$8","v":2805.1784771714752},{"$f":"I3408","v":1684.7416454472177},{"$f":"J3408*F$9-H3408*F$8","v":-207},{"$f":"IF(P3407=1,K3408*B$1/(B$1+B$2+L3408),99999)","v":33.104496897298226},{"$f":"M3408*B$1/(B$1+B$2+L3408)","v":-2.4428502191598143}]
[null,{"$f":"OFFSET(AL$1867,A3408,A3407+1)-B$10-U$3","v":2955.1784771714752},{"$f":"OFFSET(AL$1890,A3408,A3407+1)-B$11-V$3","v":1424.9340243118859},{"$f":"OFFSET(AL$1844,A3408,A3407+1)-B$12-W$3","v":-207},{"$f":"B3409*F$5+C3409*F$4","v":2955.1784771714752},{"$f":"C3409*F$5-B3409*F$4","v":1424.9340243118859},-207,2955.1784771714752,{"$f":"F3409*F$7+G3409*F$6","v":1424.9340243118859},{"$f":"G3409*F$7-F3409*F$6","v":-207},{"$f":"H3409*F$9+J3409*F$8","v":2955.1784771714752},{"$f":"I3409","v":1424.9340243118859},{"$f":"J3409*F$9-H3409*F$8","v":-207},{"$f":"IF(P3407=1,K3409*B$1/(B$1+B$2+L3409),99999)","v":41.189050187706208},{"$f":"M3409*B$1/(B$1+B$2+L3409)","v":-2.8851500695199643}]
[]
[null,{"$f":"OFFSET(AL$1867,A3413,A3412+1)-B$10-U$3","v":-2594.8215228285248},{"$f":"OFFSET(AL$1890,A3413,A3412+1)-B$11-V$3","v":1684.7416454472177},{"$f":"OFFSET(AL$1844,A3413,A3412+1)-B$12-W$3","v":-207},{"$f":"B3414*F$5+C3414*F$4","v":-2594.8215228285248},{"$f":"C3414*F$5-B3414*F$4","v":1684.7416454472177},-207,-2594.8215228285248,{"$f":"F3414*F$7+G3414*F$6","v":1684.7416454472177},{"$f":"G3414*F$7-F3414*F$6","v":-207},{"$f":"H3414*F$9+J3414*F$8","v":-2594.8215228285248},{"$f":"I3414","v":1684.7416454472177},{"$f":"J3414*F$9-H3414*F$8","v":-207},{"$f":"IF(P3412=1,K3414*B$1/(B$1+B$2+L3414),99999)","v":-30.622030559044756},{"$f":"M3414*B$1/(B$1+B$2+L3414)","v":-2.4428502191598143}]
[{"$f":"A3412+1","v":1},{"$f":"OFFSET(AL$1867,A3418,A3417)-B$10-U$3","v":-2594.8215228285248},{"$f":"OFFSET(AL$1890,A3418,A3417)-B$11-V$3","v":1684.7416454472177},{"$f":"OFFSET(AL$1844,A3418,A3417)-B$12-W$3","v":-207},{"$f":"B3417*F$5+C3417*F$4","v":-2594.8215228285248},{"$f":"C3417*F$5-B3417*F$4","v":1684.7416454472177},{"$f":"D3417","v":-207},-2594.8215228285248,{"$f":"F3417*F$7+G3417*F$6","v":1684.7416454472177},{"$f":"G3417*F$7-F3417*F$6","v":-207},{"$f":"H3417*F$9+J3417*F$8","v":-2594.8215228285248},{"$f":"I3417","v":1684.7416454472177},{"$f":"J3417*F$9-H3417*F$8","v":-207},{"$f":"IF(P3417=1,K3417*B$1/(B$1+B$2+L3417),99999)","v":-30.622030559044756},{"$f":"M3417*B$1/(B$1+B$2+L3417)","v":-2.4428502191598143},{"$f":"IF(MIN(L3417:L3420)+B$2+B$1>0,1,0)","v":1}]
[null,{"$f":"OFFSET(AL$1867,A3418,A3417+1)-B$10-U$3","v":-2294.8215228285248},{"$f":"OFFSET(AL$1890,A3418,A3417+1)-B$11-V$3","v":1684.7416454472177},{"$f":"OFFSET(AL$1844,A3418,A3417+1)-B$12-W$3","v":-207},{"$f":"B3419*F$5+C3419*F$4","v":-2294.8215228285248},{"$f":"C3419*F$5-B3419*F$4","v":1684.7416454472177},-207,-2294.8215228285248,{"$f":"F3419*F$7+G3419*F$6","v":1684.7416454472177},{"$f":"G3419*F$7-F3419*F$6","v":-207},{"$f":"H3419*F$9+J3419*F$8","v":-2294.8215228285248},{"$f":"I3419","v":1684.7416454472177},{"$f":"J3419*F$9-H3419*F$8","v":-207},{"$f":"IF(P3417=1,K3419*B$1/(B$1+B$2+L3419),99999)","v":-27.081667922581257},{"$f":"M3419*B$1/(B$1+B$2+L3419)","v":-2.4428502191598143}]
[{"$f":"A3417+1","v":2},{"$f":"OFFSET(AL$1867,A3423,A3422)-B$10-U$3","v":-2294.8215228285248},{"$f":"OFFSET(AL$1890,A3423,A3422)-B$11-V$3","v":1684.7416454472177},{"$f":"OFFSET(AL$1844,A3423,A3422)-B$12-W$3","v":-207},{"$f":"B3422*F$5+C3422*F$4","v":-2294.8215228285248},{"$f":"C3422*F$5-B3422*F$4","v":1684.7416454472177},{"$f":"D3422","v":-207},-2294.8215228285248,{"$f":"F3422*F$7+G3422*F$6","v":1684.7416454472177},{"$f":"G3422*F$7-F3422*F$6","v":-207},{"$f":"H3422*F$9+J3422*F$8","v":-2294.8215228285248},{"$f":"I3422","v":1684.7416454472177},{"$f":"J3422*F$9-H3422*F$8","v":-207},{"$f":"IF(P3422=1,K3422*B$1/(B$1+B$2+L3422),99999)","v":-27.081667922581257},{"$f":"M3422*B$1/(B$1+B$2+L3422)","v":-2.4428502191598143},{"$f":"IF(MIN(L3422:L3425)+B$2+B$1>0,1,0)","v":1}]
[null,{"$f":"OFFSET(AL$1867,A3423,A3422+1)-B$10-U$3","v":-1994.8215228285248},{"$f":"OFFSET(AL$1890,A3423,A3422+1)-B$11-V$3","v":1684.7416454472177},{"$f":"OFFSET(AL$1844,A3423,A3422+1)-B$12-W$3","v":-207},{"$f":"B3424*F$5+C3424*F$4","v":-1994.8215228285248},{"$f":"C3424*F$5-B3424*F$4","v":1684.7416454472177},-207,-1994.8215228285248,{"$f":"F3424*F$7+G3424*F$6","v":1684.7416454472177},{"$f":"G3424*F$7-F3424*F$6","v":-207},{"$f":"H3424*F$9+J3424*F$8","v":-1994.8215228285248},{"$f":"I3424","v":1684.7416454472177},{"$f":"J3424*F$9-H3424*F$8","v":-207},{"$f":"IF(P3422=1,K3424*B$1/(B$1+B$2+L3424),99999)","v":-23.541305286117758},{"$f":"M3424*B$1/(B$1+B$2+L3424)","v":-2.4428502191598143}]
[{"$f":"A3423","v":17},{"$f":"OFFSET(AL$1867,A3428+1,A3427+1)-B$10-U$3","v":-1844.8215228285248},{"$f":"OFFSET(AL$1890,A3428+1,A3427+1)-B$11-V$3","v":1944.5492665825495},{"$f":"OFFSET(AL$1844,A3428+1,A3427+1)-B$12-W$3","v":-207},{"$f":"B3428*F$5+C3428*F$4","v":-1844.8215228285248},{"$f":"C3428*F$5-B3428*F$4","v":1944.5492665825495},-207,-1844.8215228285248,{"$f":"F3428*F$7+G3428*F$6","v":1944.5492665825495},{"$f":"G3428*F$7-F3428*F$6","v":-207},{"$f":"H3428*F$9+J3428*F$8","v":-1844.8215228285248},{"$f":"I3428","v":1944.5492665825495},{"$f":"J3428*F$9-H3428*F$8","v":-207},{"$f":"IF(P3427=1,K3428*B$1/(B$1+B$2+L3428),99999)","v":-18.877206672350816},{"$f":"M3428*B$1/(B$1+B$2+L3428)","v":-2.1181354037898585}]
[null,{"$f":"OFFSET(AL$1867,A3428,A3427+1)-B$10-U$3","v":-1694.8215228285248},{"$f":"OFFSET(AL$1890,A3428,A3427+1)-B$11-V$3","v":1684.7416454472177},{"$f":"OFFSET(AL$1844,A3428,A3427+1)-B$12-W$3","v":-207},{"$f":"B3429*F$5+C3429*F$4","v":-1694.8215228285248},{"$f":"C3429*F$5-B3429*F$4","v":1684.7416454472177},-207,-1694.8215228285248,{"$f":"F3429*F$7+G3429*F$6","v":1684.7416454472177},{"$f":"G3429*F$7-F3429*F$6","v":-207},{"$f":"H3429*F$9+J3429*F$8","v":-1694.8215228285248},{"$f":"I3429","v":1684.7416454472177},{"$f":"J3429*F$9-H3429*F$8","v":-207},{"$f":"IF(P3427=1,K3429*B$1/(B$1+B$2+L3429),99999)","v":-20.000942649654259},{"$f":"M3429*B$1/(B$1+B$2+L3429)","v":-2.4428502191598143}]
[{"$f":"A3427+1","v":4},{"$f":"OFFSET(AL$1867,A3433,A3432)-B$10-U$3","v":-1694.8215228285248},{"$f":"OFFSET(AL$1890,A3433,A3432)-B$11-V$3","v":1684.7416454472177},{"$f":"OFFSET(AL$1844,A3433,A3432)-B$12-W$3","v":-207},{"$f":"B3432*F$5+C3432*F$4","v":-1694.8215228285248},{"$f":"C3432*F$5-B3432*F$4","v":1684.7416454472177},{"$f":"D3432","v":-207},-1694.8215228285248,{"$f":"F3432*F$7+G3432*F$6","v":1684.7416454472177},{"$f":"G3432*F$7-F3432*F$6","v":-207},{"$f":"H3432*F$9+J3432*F$8","v":-1694.8215228285248},{"$f":"I3432","v":1684.7416454472177},{"$f":"J3432*F$9-H3432*F$8","v":-207},{"$f":"IF(P3432=1,K3432*B$1/(B$1+B$2+L3432),99999)","v":-20.000942649654259},{"$f":"M3432*B$1/(B$1+B$2+L3432)","v":-2.4428502191598143},{"$f":"IF(MIN(L3432:L3435)+B$2+B$1>0,1,0)","v":1}]
[{"$f":"A3428","v":17},{"$f":"OFFSET(AL$1867,A3433+1,A3432+1)-B$10-U$3","v":-1544.8215228285248},{"$f":"OFFSET(AL$1890,A3433+1,A3432+1)-B$11-V$3","v":1944.5492665825495},{"$f":"OFFSET(AL$1844,A3433+1,A3432+1)-B$12-W$3","v":-207},{"$f":"B3433*F$5+C3433*F$4","v":-1544.8215228285248},{"$f":"C3433*F$5-B3433*F$4","v":1944.5492665825495},-207,-1544.8215228285248,{"$f":"F3433*F$7+G3433*F$6","v":1944.5492665825495},{"$f":"G3433*F$7-F3433*F$6","v":-207},{"$f":"H3433*F$9+J3433*F$8","v":-1544.8215228285248},{"$f":"I3433","v":1944.5492665825495},{"$f":"J3433*F$9-H3433*F$8","v":-207},{"$f":"IF(P3432=1,K3433*B$1/(B$1+B$2+L3433),99999)","v":-15.807445217582904},{"$f":"M3433*B$1/(B$1+B$2+L3433)","v":-2.1181354037898585}]
[{"$f":"A3432+1","v":5},{"$f":"OFFSET(AL$1867,A3438,A3437)-B$10-U$3","v":-1394.8215228285248},{"$f":"OFFSET(AL$1890,A3438,A3437)-B$11-V$3","v":1684.7416454472177},{"$f":"OFFSET(AL$1844,A3438,A3437)-B$12-W$3","v":-207},{"$f":"B3437*F$5+C3437*F$4","v":-1394.8215228285248},{"$f":"C3437*F$5-B3437*F$4","v":1684.7416454472177},{"$f":"D3437","v":-207},-1394.8215228285248,{"$f":"F3437*F$7+G3437*F$6","v":1684.7416454472177},{"$f":"G3437*F$7-F3437*F$6","v":-207},{"$f":"H3437*F$9+J3437*F$8","v":-1394.8215228285248},{"$f":"I3437","v":1684.7416454472177},{"$f":"J3437*F$9-H3437*F$8","v":-207},{"$f":"IF(P3437=1,K3437*B$1/(B$1+B$2+L3437),99999)","v":-16.460580013190761},{"$f":"M3437*B$1/(B$1+B$2+L3437)","v":-2.4428502191598143},{"$f":"IF(MIN(L3437:L3440)+B$2+B$1>0,1,0)","v":1}]
[null,{"$f":"OFFSET(AL$1867,A3438,A3437+1)-B$10-U$3","v":-1094.8215228285248},{"$f":"OFFSET(AL$1890,A3438,A3437+1)-B$11-V$3","v":1684.7416454472177},{"$f":"OFFSET(AL$1844,A3438,A3437+1)-B$12-W$3","v":-207},{"$f":"B3439*F$5+C3439*F$4","v":-1094.8215228285248},{"$f":"C3439*F$5-B3439*F$4","v":1684.7416454472177},-207,-1094.8215228285248,{"$f":"F3439*F$7+G3439*F$6","v":1684.7416454472177},{"$f":"G3439*F$7-F3439*F$6","v":-207},{"$f":"H3439*F$9+J3439*F$8","v":-1094.8215228285248},{"$f":"I3439","v":1684.7416454472177},{"$f":"J3439*F$9-H3439*F$8","v":-207},{"$f":"IF(P3437=1,K3439*B$1/(B$1+B$2+L3439),99999)","v":-12.920217376727262},{"$f":"M3439*B$1/(B$1+B$2+L3439)","v":-2.4428502191598143}]
[{"$f":"A3437+1","v":6},{"$f":"OFFSET(AL$1867,A3443,A3442)-B$10-U$3","v":-1094.8215228285248},{"$f":"OFFSET(AL$1890,A3443,A3442)-B$11-V$3","v":1684.7416454472177},{"$f":"OFFSET(AL$1844,A3443,A3442)-B$12-W$3","v":-207},{"$f":"B3442*F$5+C3442*F$4","v":-1094.8215228285248},{"$f":"C3442*F$5-B3442*F$4","v":1684.7416454472177},{"$f":"D3442","v":-207},-1094.8215228285248,{"$f":"F3442*F$7+G3442*F$6","v":1684.7416454472177},{"$f":"G3442*F$7-F3442*F$6","v":-207},{"$f":"H3442*F$9+J3442*F$8","v":-1094.8215228285248},{"$f":"I3442","v":1684.7416454472177},{"$f":"J3442*F$9-H3442*F$8","v":-207},{"$f":"IF(P3442=1,K3442*B$1/(B$1+B$2+L3442),99999)","v":-12.920217376727262},{"$f":"M3442*B$1/(B$1+B$2+L3442)","v":-2.4428502191598143},{"$f":"IF(MIN(L3442:L3445)+B$2+B$1>0,1,0)","v":1}]
[null,{"$f":"OFFSET(AL$1867,A3443,A3442)-B$10-U$3","v":-1094.8215228285248},{"$f":"OFFSET(AL$1890,A3443,A3442)-B$11-V$3","v":1684.7416454472177},{"$f":"OFFSET(AL$1844,A3443,A3442)-B$12-W$3","v":-207},{"$f":"B3445*F$5+C3445*F$4","v":-1094.8215228285248},{"$f":"C3445*F$5-B3445*F$4","v":1684.7416454472177},-207,-1094.8215228285248,{"$f":"F3445*F$7+G3445*F$6","v":1684.7416454472177},{"$f":"G3445*F$7-F3445*F$6","v":-207},{"$f":"H3445*F$9+J3445*F$8","v":-1094.8215228285248},{"$f":"I3445","v":1684.7416454472177},{"$f":"J3445*F$9-H3445*F$8","v":-207},{"$f":"IF(P3442=1,K3445*B$1/(B$1+B$2+L3445),99999)","v":-12.920217376727262},{"$f":"M3445*B$1/(B$1+B$2+L3445)","v":-2.4428502191598143}]
[{"$f":"A3442+1","v":7},{"$f":"OFFSET(AL$1867,A3448,A3447)-B$10-U$3","v":-794.82152282852485},{"$f":"OFFSET(AL$1890,A3448,A3447)-B$11-V$3","v":1684.7416454472177},{"$f":"OFFSET(AL$1844,A3448,A3447)-B$12-W$3","v":-207},{"$f":"B3447*F$5+C3447*F$4","v":-794.82152282852485},{"$f":"C3447*F$5-B3447*F$4","v":1684.7416454472177},{"$f":"D3447","v":-207},-794.82152282852485,{"$f":"F3447*F$7+G3447*F$6","v":1684.7416454472177},{"$f":"G3447*F$7-F3447*F$6","v":-207},{"$f":"H3447*F$9+J3447*F$8","v":-794.82152282852485},{"$f":"I3447","v":1684.7416454472177},{"$f":"J3447*F$9-H3447*F$8","v":-207},{"$f":"IF(P3447=1,K3447*B$1/(B$1+B$2+L3447),99999)","v":-9.3798547402637649},{"$f":"M3447*B$1/(B$1+B$2+L3447)","v":-2.4428502191598143},{"$f":"IF(MIN(L3447:L3450)+B$2+B$1>0,1,0)","v":1}]
[{"$f":"A3443","v":17},{"$f":"OFFSET(AL$1867,A3448+1,A3447+1)-B$10-U$3","v":-644.82152282852485},{"$f":"OFFSET(AL$1890,A3448+1,A3447+1)-B$11-V$3","v":1944.5492665825495},{"$f":"OFFSET(AL$1844,A3448+1,A3447+1)-B$12-W$3","v":-207},{"$f":"B3448*F$5+C3448*F$4","v":-644.82152282852485},{"$f":"C3448*F$5-B3448*F$4","v":1944.5492665825495},-207,-644.82152282852485,{"$f":"F3448*F$7+G3448*F$6","v":1944.5492665825495},{"$f":"G3448*F$7-F3448*F$6","v":-207},{"$f":"H3448*F$9+J3448*F$8","v":-644.82152282852485},{"$f":"I3448","v":1944.5492665825495},{"$f":"J3448*F$9-H3448*F$8","v":-207},{"$f":"IF(P3447=1,K3448*B$1/(B$1+B$2+L3448),99999)","v":-6.5981608532791727},{"$f":"M3448*B$1/(B$1+B$2+L3448)","v":-2.1181354037898585}]
[{"$f":"A3447+1","v":8},{"$f":"OFFSET(AL$1867,A3453,A3452)-B$10-U$3","v":-494.82152282852485},{"$f":"OFFSET(AL$1890,A3453,A3452)-B$11-V$3","v":1684.7416454472177},{"$f":"OFFSET(AL$1844,A3453,A3452)-B$12-W$3","v":-207},{"$f":"B3452*F$5+C3452*F$4","v":-494.82152282852485},{"$f":"C3452*F$5-B3452*F$4","v":1684.7416454472177},{"$f":"D3452","v":-207},-494.82152282852485,{"$f":"F3452*F$7+G3452*F$6","v":1684.7416454472177},{"$f":"G3452*F$7-F3452*F$6","v":-207},{"$f":"H3452*F$9+J3452*F$8","v":-494.82152282852485},{"$f":"I3452","v":1684.7416454472177},{"$f":"J3452*F$9-H3452*F$8","v":-207},{"$f":"IF(P3452=1,K3452*B$1/(B$1+B$2+L3452),99999)","v":-5.8394921038002652},{"$f":"M3452*B$1/(B$1+B$2+L3452)","v":-2.4428502191598143},{"$f":"IF(MIN(L3452:L3455)+B$2+B$1>0,1,0)","v":1}]
[{"$f":"A3448","v":17},{"$f":"OFFSET(AL$1867,A3453+1,A3452+1)-B$10-U$3","v":-344.82152282852485},{"$f":"OFFSET(AL$1890,A3453+1,A3452+1)-B$11-V$3","v":1944.5492665825495},{"$f":"OFFSET(AL$1844,A3453+1,A3452+1)-B$12-W$3","v":-207},{"$f":"B3453*F$5+C3453*F$4","v":-344.82152282852485},{"$f":"C3453*F$5-B3453*F$4","v":1944.5492665825495},-207,-344.82152282852485,{"$f":"F3453*F$7+G3453*F$6","v":1944.5492665825495},{"$f":"G3453*F$7-F3453*F$6","v":-207},{"$f":"H3453*F$9+J3453*F$8","v":-344.82152282852485},{"$f":"I3453","v":1944.5492665825495},{"$f":"J3453*F$9-H3453*F$8","v":-207},{"$f":"IF(P3452=1,K3453*B$1/(B$1+B$2+L3453),99999)","v":-3.5283993985112625},{"$f":"M3453*B$1/(B$1+B$2+L3453)","v":-2.1181354037898585}]
[{"$f":"A3452+1","v":9},{"$f":"OFFSET(AL$1867,A3458,A3457)-B$10-U$3","v":-194.82152282852485},{"$f":"OFFSET(AL$1890,A3458,A3457)-B$11-V$3","v":1684.7416454472177},{"$f":"OFFSET(AL$1844,A3458,A3457)-B$12-W$3","v":-207},{"$f":"B3457*F$5+C3457*F$4","v":-194.82152282852485},{"$f":"C3457*F$5-B3457*F$4","v":1684.7416454472177},{"$f":"D3457","v":-207},-194.82152282852485,{"$f":"F3457*F$7+G3457*F$6","v":1684.7416454472177},{"$f":"G3457*F$7-F3457*F$6","v":-207},{"$f":"H3457*F$9+J3457*F$8","v":-194.82152282852485},{"$f":"I3457","v":1684.7416454472177},{"$f":"J3457*F$9-H3457*F$8","v":-207},{"$f":"IF(P3457=1,K3457*B$1/(B$1+B$2+L3457),99999)","v":-2.2991294673367664},{"$f":"M3457*B$1/(B$1+B$2+L3457)","v":-2.4428502191598143},{"$f":"IF(MIN(L3457:L3460)+B$2+B$1>0,1,0)","v":1}]
[null,{"$f":"OFFSET(AL$1867,A3458,A3457+1)-B$10-U$3","v":105.17847717147515},{"$f":"OFFSET(AL$1890,A3458,A3457+1)-B$11-V$3","v":1684.7416454472177},{"$f":"OFFSET(AL$1844,A3458,A3457+1)-B$12-W$3","v":-207},{"$f":"B3459*F$5+C3459*F$4","v":105.17847717147515},{"$f":"C3459*F$5-B3459*F$4","v":1684.7416454472177},-207,105.17847717147515,{"$f":"F3459*F$7+G3459*F$6","v":1684.7416454472177},{"$f":"G3459*F$7-F3459*F$6","v":-207},{"$f":"H3459*F$9+J3459*F$8","v":105.17847717147515},{"$f":"I3459","v":1684.7416454472177},{"$f":"J3459*F$9-H3459*F$8","v":-207},{"$f":"IF(P3457=1,K3459*B$1/(B$1+B$2+L3459),99999)","v":1.2412331691267324},{"$f":"M3459*B$1/(B$1+B$2+L3459)","v":-2.4428502191598143}]
[]
[{"$f":"A3457+1","v":10},{"$f":"OFFSET(AL$1867,A3463,A3462)-B$10-U$3","v":105.17847717147515},{"$f":"OFFSET(AL$1890,A3463,A3462)-B$11-V$3","v":1684.7416454472177},{"$f":"OFFSET(AL$1844,A3463,A3462)-B$12-W$3","v":-207},{"$f":"B3462*F$5+C3462*F$4","v":105.17847717147515},{"$f":"C3462*F$5-B3462*F$4","v":1684.7416454472177},{"$f":"D3462","v":-207},105.17847717147515,{"$f":"F3462*F$7+G3462*F$6","v":1684.7416454472177},{"$f":"G3462*F$7-F3462*F$6","v":-207},{"$f":"H3462*F$9+J3462*F$8","v":105.17847717147515},{"$f":"I3462","v":1684.7416454472177},{"$f":"J3462*F$9-H3462*F$8","v":-207},{"$f":"IF(P3462=1,K3462*B$1/(B$1+B$2+L3462),99999)","v":1.2412331691267324},{"$f":"M3462*B$1/(B$1+B$2+L3462)","v":-2.4428502191598143},{"$f":"IF(MIN(L3462:L3465)+B$2+B$1>0,1,0)","v":1}]
[{"$f":"A3458","v":17},{"$f":"OFFSET(AL$1867,A3463+1,A3462+1)-B$10-U$3","v":255.17847717147515},{"$f":"OFFSET(AL$1890,A3463+1,A3462+1)-B$11-V$3","v":1944.5492665825495},{"$f":"OFFSET(AL$1844,A3463+1,A3462+1)-B$12-W$3","v":-207},{"$f":"B3463*F$5+C3463*F$4","v":255.17847717147515},{"$f":"C3463*F$5-B3463*F$4","v":1944.5492665825495},-207,255.17847717147515,{"$f":"F3463*F$7+G3463*F$6","v":1944.5492665825495},{"$f":"G3463*F$7-F3463*F$6","v":-207},{"$f":"H3463*F$9+J3463*F$8","v":255.17847717147515},{"$f":"I3463","v":1944.5492665825495},{"$f":"J3463*F$9-H3463*F$8","v":-207},{"$f":"IF(P3462=1,K3463*B$1/(B$1+B$2+L3463),99999)","v":2.6111235110245588},{"$f":"M3463*B$1/(B$1+B$2+L3463)","v":-2.1181354037898585}]
[null,{"$f":"OFFSET(AL$1867,A3463,A3462+1)-B$10-U$3","v":405.17847717147515},{"$f":"OFFSET(AL$1890,A3463,A3462+1)-B$11-V$3","v":1684.7416454472177},{"$f":"OFFSET(AL$1844,A3463,A3462+1)-B$12-W$3","v":-207},{"$f":"B3464*F$5+C3464*F$4","v":405.17847717147515},{"$f":"C3464*F$5-B3464*F$4","v":1684.7416454472177},-207,405.17847717147515,{"$f":"F3464*F$7+G3464*F$6","v":1684.7416454472177},{"$f":"G3464*F$7-F3464*F$6","v":-207},{"$f":"H3464*F$9+J3464*F$8","v":405.17847717147515},{"$f":"I3464","v":1684.7416454472177},{"$f":"J3464*F$9-H3464*F$8","v":-207},{"$f":"IF(P3462=1,K3464*B$1/(B$1+B$2+L3464),99999)","v":4.7815958055902312},{"$f":"M3464*B$1/(B$1+B$2+L3464)","v":-2.4428502191598143}]
[null,{"$f":"OFFSET(AL$1867,A3463,A3462)-B$10-U$3","v":105.17847717147515},{"$f":"OFFSET(AL$1890,A3463,A3462)-B$11-V$3","v":1684.7416454472177},{"$f":"OFFSET(AL$1844,A3463,A3462)-B$12-W$3","v":-207},{"$f":"B3465*F$5+C3465*F$4","v":105.17847717147515},{"$f":"C3465*F$5-B3465*F$4","v":1684.7416454472177},-207,105.17847717147515,{"$f":"F3465*F$7+G3465*F$6","v":1684.7416454472177},{"$f":"G3465*F$7-F3465*F$6","v":-207},{"$f":"H3465*F$9+J3465*F$8","v":105.17847717147515},{"$f":"I3465","v":1684.7416454472177},{"$f":"J3465*F$9-H3465*F$8","v":-207},{"$f":"IF(P3462=1,K3465*B$1/(B$1+B$2+L3465),99999)","v":1.2412331691267324},{"$f":"M3465*B$1/(B$1+B$2+L3465)","v":-2.4428502191598143}]
[]
[{"$f":"A3462+1","v":11},{"$f":"OFFSET(AL$1867,A3468,A3467)-B$10-U$3","v":405.17847717147515},{"$f":"OFFSET(AL$1890,A3468,A3467)-B$11-V$3","v":1684.7416454472177},{"$f":"OFFSET(AL$1844,A3468,A3467)-B$12-W$3","v":-207},{"$f":"B3467*F$5+C3467*F$4","v":405.17847717147515},{"$f":"C3467*F$5-B3467*F$4","v":1684.7416454472177},{"$f":"D3467","v":-207},405.17847717147515,{"$f":"F3467*F$7+G3467*F$6","v":1684.7416454472177},{"$f":"G3467*F$7-F3467*F$6","v":-207},{"$f":"H3467*F$9+J3467*F$8","v":405.17847717147515},{"$f":"I3467","v":1684.7416454472177},{"$f":"J3467*F$9-H3467*F$8","v":-207},{"$f":"IF(P3467=1,K3467*B$1/(B$1+B$2+L3467),99999)","v":4.7815958055902312},{"$f":"M3467*B$1/(B$1+B$2+L3467)","v":-2.4428502191598143},{"$f":"IF(MIN(L3467:L3470)+B$2+B$1>0,1,0)","v":1}]
[{"$f":"A3463","v":17},{"$f":"OFFSET(AL$1867,A3468+1,A3467+1)-B$10-U$3","v":555.17847717147515},{"$f":"OFFSET(AL$1890,A3468+1,A3467+1)-B$11-V$3","v":1944.5492665825495},{"$f":"OFFSET(AL$1844,A3468+1,A3467+1)-B$12-W$3","v":-207},{"$f":"B3468*F$5+C3468*F$4","v":555.17847717147515},{"$f":"C3468*F$5-B3468*F$4","v":1944.5492665825495},-207,555.17847717147515,{"$f":"F3468*F$7+G3468*F$6","v":1944.5492665825495},{"$f":"G3468*F$7-F3468*F$6","v":-207},{"$f":"H3468*F$9+J3468*F$8","v":555.17847717147515},{"$f":"I3468","v":1944.5492665825495},{"$f":"J3468*F$9-H3468*F$8","v":-207},{"$f":"IF(P3467=1,K3468*B$1/(B$1+B$2+L3468),99999)","v":5.6808849657924698},{"$f":"M3468*B$1/(B$1+B$2+L3468)","v":-2.1181354037898585}]
[null,{"$f":"OFFSET(AL$1867,A3468,A3467+1)-B$10-U$3","v":705.17847717147515},{"$f":"OFFSET(AL$1890,A3468,A3467+1)-B$11-V$3","v":1684.7416454472177},{"$f":"OFFSET(AL$1844,A3468,A3467+1)-B$12-W$3","v":-207},{"$f":"B3469*F$5+C3469*F$4","v":705.17847717147515},{"$f":"C3469*F$5-B3469*F$4","v":1684.7416454472177},-207,705.17847717147515,{"$f":"F3469*F$7+G3469*F$6","v":1684.7416454472177},{"$f":"G3469*F$7-F3469*F$6","v":-207},{"$f":"H3469*F$9+J3469*F$8","v":705.17847717147515},{"$f":"I3469","v":1684.7416454472177},{"$f":"J3469*F$9-H3469*F$8","v":-207},{"$f":"IF(P3467=1,K3469*B$1/(B$1+B$2+L3469),99999)","v":8.3219584420537309},{"$f":"M3469*B$1/(B$1+B$2+L3469)","v":-2.4428502191598143}]
[null,{"$f":"OFFSET(AL$1867,A3468,A3467)-B$10-U$3","v":405.17847717147515},{"$f":"OFFSET(AL$1890,A3468,A3467)-B$11-V$3","v":1684.7416454472177},{"$f":"OFFSET(AL$1844,A3468,A3467)-B$12-W$3","v":-207},{"$f":"B3470*F$5+C3470*F$4","v":405.17847717147515},{"$f":"C3470*F$5-B3470*F$4","v":1684.7416454472177},-207,405.17847717147515,{"$f":"F3470*F$7+G3470*F$6","v":1684.7416454472177},{"$f":"G3470*F$7-F3470*F$6","v":-207},{"$f":"H3470*F$9+J3470*F$8","v":405.17847717147515},{"$f":"I3470","v":1684.7416454472177},{"$f":"J3470*F$9-H3470*F$8","v":-207},{"$f":"IF(P3467=1,K3470*B$1/(B$1+B$2+L3470),99999)","v":4.7815958055902312},{"$f":"M3470*B$1/(B$1+B$2+L3470)","v":-2.4428502191598143}]
[]
[{"$f":"A3467+1","v":12},{"$f":"OFFSET(AL$1867,A3473,A3472)-B$10-U$3","v":705.17847717147515},{"$f":"OFFSET(AL$1890,A3473,A3472)-B$11-V$3","v":1684.7416454472177},{"$f":"OFFSET(AL$1844,A3473,A3472)-B$12-W$3","v":-207},{"$f":"B3472*F$5+C3472*F$4","v":705.17847717147515},{"$f":"C3472*F$5-B3472*F$4","v":1684.7416454472177},{"$f":"D3472","v":-207},705.17847717147515,{"$f":"F3472*F$7+G3472*F$6","v":1684.7416454472177},{"$f":"G3472*F$7-F3472*F$6","v":-207},{"$f":"H3472*F$9+J3472*F$8","v":705.17847717147515},{"$f":"I3472","v":1684.7416454472177},{"$f":"J3472*F$9-H3472*F$8","v":-207},{"$f":"IF(P3472=1,K3472*B$1/(B$1+B$2+L3472),99999)","v":8.3219584420537309},{"$f":"M3472*B$1/(B$1+B$2+L3472)","v":-2.4428502191598143},{"$f":"IF(MIN(L3472:L3475)+B$2+B$1>0,1,0)","v":1}]
[{"$f":"A3468","v":17},{"$f":"OFFSET(AL$1867,A3473+1,A3472+1)-B$10-U$3","v":855.17847717147515},{"$f":"OFFSET(AL$1890,A3473+1,A3472+1)-B$11-V$3","v":1944.5492665825495},{"$f":"OFFSET(AL$1844,A3473+1,A3472+1)-B$12-W$3","v":-207},{"$f":"B3473*F$5+C3473*F$4","v":855.17847717147515},{"$f":"C3473*F$5-B3473*F$4","v":1944.5492665825495},-207,855.17847717147515,{"$f":"F3473*F$7+G3473*F$6","v":1944.5492665825495},{"$f":"G3473*F$7-F3473*F$6","v":-207},{"$f":"H3473*F$9+J3473*F$8","v":855.17847717147515},{"$f":"I3473","v":1944.5492665825495},{"$f":"J3473*F$9-H3473*F$8","v":-207},{"$f":"IF(P3472=1,K3473*B$1/(B$1+B$2+L3473),99999)","v":8.7506464205603809},{"$f":"M3473*B$1/(B$1+B$2+L3473)","v":-2.1181354037898585}]
[null,{"$f":"OFFSET(AL$1867,A3473,A3472+1)-B$10-U$3","v":1005.1784771714752},{"$f":"OFFSET(AL$1890,A3473,A3472+1)-B$11-V$3","v":1684.7416454472177},{"$f":"OFFSET(AL$1844,A3473,A3472+1)-B$12-W$3","v":-207},{"$f":"B3474*F$5+C3474*F$4","v":1005.1784771714752},{"$f":"C3474*F$5-B3474*F$4","v":1684.7416454472177},-207,1005.1784771714752,{"$f":"F3474*F$7+G3474*F$6","v":1684.7416454472177},{"$f":"G3474*F$7-F3474*F$6","v":-207},{"$f":"H3474*F$9+J3474*F$8","v":1005.1784771714752},{"$f":"I3474","v":1684.7416454472177},{"$f":"J3474*F$9-H3474*F$8","v":-207},{"$f":"IF(P3472=1,K3474*B$1/(B$1+B$2+L3474),99999)","v":11.86232107851723},{"$f":"M3474*B$1/(B$1+B$2+L3474)","v":-2.4428502191598143}]
[null,{"$f":"OFFSET(AL$1867,A3473,A3472)-B$10-U$3","v":705.17847717147515},{"$f":"OFFSET(AL$1890,A3473,A3472)-B$11-V$3","v":1684.7416454472177},{"$f":"OFFSET(AL$1844,A3473,A3472)-B$12-W$3","v":-207},{"$f":"B3475*F$5+C3475*F$4","v":705.17847717147515},{"$f":"C3475*F$5-B3475*F$4","v":1684.7416454472177},-207,705.17847717147515,{"$f":"F3475*F$7+G3475*F$6","v":1684.7416454472177},{"$f":"G3475*F$7-F3475*F$6","v":-207},{"$f":"H3475*F$9+J3475*F$8","v":705.17847717147515},{"$f":"I3475","v":1684.7416454472177},{"$f":"J3475*F$9-H3475*F$8","v":-207},{"$f":"IF(P3472=1,K3475*B$1/(B$1+B$2+L3475),99999)","v":8.3219584420537309},{"$f":"M3475*B$1/(B$1+B$2+L3475)","v":-2.4428502191598143}]
[]
[{"$f":"A3472+1","v":13},{"$f":"OFFSET(AL$1867,A3478,A3477)-B$10-U$3","v":1005.1784771714752},{"$f":"OFFSET(AL$1890,A3478,A3477)-B$11-V$3","v":1684.7416454472177},{"$f":"OFFSET(AL$1844,A3478,A3477)-B$12-W$3","v":-207},{"$f":"B3477*F$5+C3477*F$4","v":1005.1784771714752},{"$f":"C3477*F$5-B3477*F$4","v":1684.7416454472177},{"$f":"D3477","v":-207},1005.1784771714752,{"$f":"F3477*F$7+G3477*F$6","v":1684.7416454472177},{"$f":"G3477*F$7-F3477*F$6","v":-207},{"$f":"H3477*F$9+J3477*F$8","v":1005.1784771714752},{"$f":"I3477","v":1684.7416454472177},{"$f":"J3477*F$9-H3477*F$8","v":-207},{"$f":"IF(P3477=1,K3477*B$1/(B$1+B$2+L3477),99999)","v":11.86232107851723},{"$f":"M3477*B$1/(B$1+B$2+L3477)","v":-2.4428502191598143},{"$f":"IF(MIN(L3477:L3480)+B$2+B$1>0,1,0)","v":1}]
[{"$f":"A3473","v":17},{"$f":"OFFSET(AL$1867,A3478+1,A3477+1)-B$10-U$3","v":1155.1784771714752},{"$f":"OFFSET(AL$1890,A3478+1,A3477+1)-B$11-V$3","v":1944.5492665825495},{"$f":"OFFSET(AL$1844,A3478+1,A3477+1)-B$12-W$3","v":-207},{"$f":"B3478*F$5+C3478*F$4","v":1155.1784771714752},{"$f":"C3478*F$5-B3478*F$4","v":1944.5492665825495},-207,1155.1784771714752,{"$f":"F3478*F$7+G3478*F$6","v":1944.5492665825495},{"$f":"G3478*F$7-F3478*F$6","v":-207},{"$f":"H3478*F$9+J3478*F$8","v":1155.1784771714752},{"$f":"I3478","v":1944.5492665825495},{"$f":"J3478*F$9-H3478*F$8","v":-207},{"$f":"IF(P3477=1,K3478*B$1/(B$1+B$2+L3478),99999)","v":11.820407875328291},{"$f":"M3478*B$1/(B$1+B$2+L3478)","v":-2.1181354037898585}]
[null,{"$f":"OFFSET(AL$1867,A3478,A3477+1)-B$10-U$3","v":1305.1784771714752},{"$f":"OFFSET(AL$1890,A3478,A3477+1)-B$11-V$3","v":1684.7416454472177},{"$f":"OFFSET(AL$1844,A3478,A3477+1)-B$12-W$3","v":-207},{"$f":"B3479*F$5+C3479*F$4","v":1305.1784771714752},{"$f":"C3479*F$5-B3479*F$4","v":1684.7416454472177},-207,1305.1784771714752,{"$f":"F3479*F$7+G3479*F$6","v":1684.7416454472177},{"$f":"G3479*F$7-F3479*F$6","v":-207},{"$f":"H3479*F$9+J3479*F$8","v":1305.1784771714752},{"$f":"I3479","v":1684.7416454472177},{"$f":"J3479*F$9-H3479*F$8","v":-207},{"$f":"IF(P3477=1,K3479*B$1/(B$1+B$2+L3479),99999)","v":15.402683714980729},{"$f":"M3479*B$1/(B$1+B$2+L3479)","v":-2.4428502191598143}]
[null,{"$f":"OFFSET(AL$1867,A3478,A3477)-B$10-U$3","v":1005.1784771714752},{"$f":"OFFSET(AL$1890,A3478,A3477)-B$11-V$3","v":1684.7416454472177},{"$f":"OFFSET(AL$1844,A3478,A3477)-B$12-W$3","v":-207},{"$f":"B3480*F$5+C3480*F$4","v":1005.1784771714752},{"$f":"C3480*F$5-B3480*F$4","v":1684.7416454472177},-207,1005.1784771714752,{"$f":"F3480*F$7+G3480*F$6","v":1684.7416454472177},{"$f":"G3480*F$7-F3480*F$6","v":-207},{"$f":"H3480*F$9+J3480*F$8","v":1005.1784771714752},{"$f":"I3480","v":1684.7416454472177},{"$f":"J3480*F$9-H3480*F$8","v":-207},{"$f":"IF(P3477=1,K3480*B$1/(B$1+B$2+L3480),99999)","v":11.86232107851723},{"$f":"M3480*B$1/(B$1+B$2+L3480)","v":-2.4428502191598143}]
[]
[{"$f":"A3477+1","v":14},{"$f":"OFFSET(AL$1867,A3483,A3482)-B$10-U$3","v":1305.1784771714752},{"$f":"OFFSET(AL$1890,A3483,A3482)-B$11-V$3","v":1684.7416454472177},{"$f":"OFFSET(AL$1844,A3483,A3482)-B$12-W$3","v":-207},{"$f":"B3482*F$5+C3482*F$4","v":1305.1784771714752},{"$f":"C3482*F$5-B3482*F$4","v":1684.7416454472177},{"$f":"D3482","v":-207},1305.1784771714752,{"$f":"F3482*F$7+G3482*F$6","v":1684.7416454472177},{"$f":"G3482*F$7-F3482*F$6","v":-207},{"$f":"H3482*F$9+J3482*F$8","v":1305.1784771714752},{"$f":"I3482","v":1684.7416454472177},{"$f":"J3482*F$9-H3482*F$8","v":-207},{"$f":"IF(P3482=1,K3482*B$1/(B$1+B$2+L3482),99999)","v":15.402683714980729},{"$f":"M3482*B$1/(B$1+B$2+L3482)","v":-2.4428502191598143},{"$f":"IF(MIN(L3482:L3485)+B$2+B$1>0,1,0)","v":1}]
[{"$f":"A3478","v":17},{"$f":"OFFSET(AL$1867,A3483+1,A3482+1)-B$10-U$3","v":1455.1784771714752},{"$f":"OFFSET(AL$1890,A3483+1,A3482+1)-B$11-V$3","v":1944.5492665825495},{"$f":"OFFSET(AL$1844,A3483+1,A3482+1)-B$12-W$3","v":-207},{"$f":"B3483*F$5+C3483*F$4","v":1455.1784771714752},{"$f":"C3483*F$5-B3483*F$4","v":1944.5492665825495},-207,1455.1784771714752,{"$f":"F3483*F$7+G3483*F$6","v":1944.5492665825495},{"$f":"G3483*F$7-F3483*F$6","v":-207},{"$f":"H3483*F$9+J3483*F$8","v":1455.1784771714752},{"$f":"I3483","v":1944.5492665825495},{"$f":"J3483*F$9-H3483*F$8","v":-207},{"$f":"IF(P3482=1,K3483*B$1/(B$1+B$2+L3483),99999)","v":14.890169330096203},{"$f":"M3483*B$1/(B$1+B$2+L3483)","v":-2.1181354037898585}]
[null,{"$f":"OFFSET(AL$1867,A3483,A3482+1)-B$10-U$3","v":1605.1784771714752},{"$f":"OFFSET(AL$1890,A3483,A3482+1)-B$11-V$3","v":1684.7416454472177},{"$f":"OFFSET(AL$1844,A3483,A3482+1)-B$12-W$3","v":-207},{"$f":"B3484*F$5+C3484*F$4","v":1605.1784771714752},{"$f":"C3484*F$5-B3484*F$4","v":1684.7416454472177},-207,1605.1784771714752,{"$f":"F3484*F$7+G3484*F$6","v":1684.7416454472177},{"$f":"G3484*F$7-F3484*F$6","v":-207},{"$f":"H3484*F$9+J3484*F$8","v":1605.1784771714752},{"$f":"I3484","v":1684.7416454472177},{"$f":"J3484*F$9-H3484*F$8","v":-207},{"$f":"IF(P3482=1,K3484*B$1/(B$1+B$2+L3484),99999)","v":18.943046351444227},{"$f":"M3484*B$1/(B$1+B$2+L3484)","v":-2.4428502191598143}]
[null,{"$f":"OFFSET(AL$1867,A3483,A3482)-B$10-U$3","v":1305.1784771714752},{"$f":"OFFSET(AL$1890,A3483,A3482)-B$11-V$3","v":1684.7416454472177},{"$f":"OFFSET(AL$1844,A3483,A3482)-B$12-W$3","v":-207},{"$f":"B3485*F$5+C3485*F$4","v":1305.1784771714752},{"$f":"C3485*F$5-B3485*F$4","v":1684.7416454472177},-207,1305.1784771714752,{"$f":"F3485*F$7+G3485*F$6","v":1684.7416454472177},{"$f":"G3485*F$7-F3485*F$6","v":-207},{"$f":"H3485*F$9+J3485*F$8","v":1305.1784771714752},{"$f":"I3485","v":1684.7416454472177},{"$f":"J3485*F$9-H3485*F$8","v":-207},{"$f":"IF(P3482=1,K3485*B$1/(B$1+B$2+L3485),99999)","v":15.402683714980729},{"$f":"M3485*B$1/(B$1+B$2+L3485)","v":-2.4428502191598143}]
[]
[{"$f":"A3482+1","v":15},{"$f":"OFFSET(AL$1867,A3488,A3487)-B$10-U$3","v":1605.1784771714752},{"$f":"OFFSET(AL$1890,A3488,A3487)-B$11-V$3","v":1684.7416454472177},{"$f":"OFFSET(AL$1844,A3488,A3487)-B$12-W$3","v":-207},{"$f":"B3487*F$5+C3487*F$4","v":1605.1784771714752},{"$f":"C3487*F$5-B3487*F$4","v":1684.7416454472177},{"$f":"D3487","v":-207},1605.1784771714752,{"$f":"F3487*F$7+G3487*F$6","v":1684.7416454472177},{"$f":"G3487*F$7-F3487*F$6","v":-207},{"$f":"H3487*F$9+J3487*F$8","v":1605.1784771714752},{"$f":"I3487","v":1684.7416454472177},{"$f":"J3487*F$9-H3487*F$8","v":-207},{"$f":"IF(P3487=1,K3487*B$1/(B$1+B$2+L3487),99999)","v":18.943046351444227},{"$f":"M3487*B$1/(B$1+B$2+L3487)","v":-2.4428502191598143},{"$f":"IF(MIN(L3487:L3490)+B$2+B$1>0,1,0)","v":1}]
[{"$f":"A3483","v":17},{"$f":"OFFSET(AL$1867,A3488+1,A3487+1)-B$10-U$3","v":1755.1784771714752},{"$f":"OFFSET(AL$1890,A3488+1,A3487+1)-B$11-V$3","v":1944.5492665825495},{"$f":"OFFSET(AL$1844,A3488+1,A3487+1)-B$12-W$3","v":-207},{"$f":"B3488*F$5+C3488*F$4","v":1755.1784771714752},{"$f":"C3488*F$5-B3488*F$4","v":1944.5492665825495},-207,1755.1784771714752,{"$f":"F3488*F$7+G3488*F$6","v":1944.5492665825495},{"$f":"G3488*F$7-F3488*F$6","v":-207},{"$f":"H3488*F$9+J3488*F$8","v":1755.1784771714752},{"$f":"I3488","v":1944.5492665825495},{"$f":"J3488*F$9-H3488*F$8","v":-207},{"$f":"IF(P3487=1,K3488*B$1/(B$1+B$2+L3488),99999)","v":17.959930784864113},{"$f":"M3488*B$1/(B$1+B$2+L3488)","v":-2.1181354037898585}]
[null,{"$f":"OFFSET(AL$1867,A3488,A3487+1)-B$10-U$3","v":1905.1784771714752},{"$f":"OFFSET(AL$1890,A3488,A3487+1)-B$11-V$3","v":1684.7416454472177},{"$f":"OFFSET(AL$1844,A3488,A3487+1)-B$12-W$3","v":-207},{"$f":"B3489*F$5+C3489*F$4","v":1905.1784771714752},{"$f":"C3489*F$5-B3489*F$4","v":1684.7416454472177},-207,1905.1784771714752,{"$f":"F3489*F$7+G3489*F$6","v":1684.7416454472177},{"$f":"G3489*F$7-F3489*F$6","v":-207},{"$f":"H3489*F$9+J3489*F$8","v":1905.1784771714752},{"$f":"I3489","v":1684.7416454472177},{"$f":"J3489*F$9-H3489*F$8","v":-207},{"$f":"IF(P3487=1,K3489*B$1/(B$1+B$2+L3489),99999)","v":22.483408987907726},{"$f":"M3489*B$1/(B$1+B$2+L3489)","v":-2.4428502191598143}]
[null,{"$f":"OFFSET(AL$1867,A3488,A3487)-B$10-U$3","v":1605.1784771714752},{"$f":"OFFSET(AL$1890,A3488,A3487)-B$11-V$3","v":1684.7416454472177},{"$f":"OFFSET(AL$1844,A3488,A3487)-B$12-W$3","v":-207},{"$f":"B3490*F$5+C3490*F$4","v":1605.1784771714752},{"$f":"C3490*F$5-B3490*F$4","v":1684.7416454472177},-207,1605.1784771714752,{"$f":"F3490*F$7+G3490*F$6","v":1684.7416454472177},{"$f":"G3490*F$7-F3490*F$6","v":-207},{"$f":"H3490*F$9+J3490*F$8","v":1605.1784771714752},{"$f":"I3490","v":1684.7416454472177},{"$f":"J3490*F$9-H3490*F$8","v":-207},{"$f":"IF(P3487=1,K3490*B$1/(B$1+B$2+L3490),99999)","v":18.943046351444227},{"$f":"M3490*B$1/(B$1+B$2+L3490)","v":-2.4428502191598143}]
[]
[{"$f":"A3487+1","v":16},{"$f":"OFFSET(AL$1867,A3493,A3492)-B$10-U$3","v":1905.1784771714752},{"$f":"OFFSET(AL$1890,A3493,A3492)-B$11-V$3","v":1684.7416454472177},{"$f":"OFFSET(AL$1844,A3493,A3492)-B$12-W$3","v":-207},{"$f":"B3492*F$5+C3492*F$4","v":1905.1784771714752},{"$f":"C3492*F$5-B3492*F$4","v":1684.7416454472177},{"$f":"D3492","v":-207},1905.1784771714752,{"$f":"F3492*F$7+G3492*F$6","v":1684.7416454472177},{"$f":"G3492*F$7-F3492*F$6","v":-207},{"$f":"H3492*F$9+J3492*F$8","v":1905.1784771714752},{"$f":"I3492","v":1684.7416454472177},{"$f":"J3492*F$9-H3492*F$8","v":-207},{"$f":"IF(P3492=1,K3492*B$1/(B$1+B$2+L3492),99999)","v":22.483408987907726},{"$f":"M3492*B$1/(B$1+B$2+L3492)","v":-2.4428502191598143},{"$f":"IF(MIN(L3492:L3495)+B$2+B$1>0,1,0)","v":1}]
[{"$f":"A3488","v":17},{"$f":"OFFSET(AL$1867,A3493+1,A3492+1)-B$10-U$3","v":2055.1784771714752},{"$f":"OFFSET(AL$1890,A3493+1,A3492+1)-B$11-V$3","v":1944.5492665825495},{"$f":"OFFSET(AL$1844,A3493+1,A3492+1)-B$12-W$3","v":-207},{"$f":"B3493*F$5+C3493*F$4","v":2055.1784771714752},{"$f":"C3493*F$5-B3493*F$4","v":1944.5492665825495},-207,2055.1784771714752,{"$f":"F3493*F$7+G3493*F$6","v":1944.5492665825495},{"$f":"G3493*F$7-F3493*F$6","v":-207},{"$f":"H3493*F$9+J3493*F$8","v":2055.1784771714752},{"$f":"I3493","v":1944.5492665825495},{"$f":"J3493*F$9-H3493*F$8","v":-207},{"$f":"IF(P3492=1,K3493*B$1/(B$1+B$2+L3493),99999)","v":21.029692239632023},{"$f":"M3493*B$1/(B$1+B$2+L3493)","v":-2.1181354037898585}]
[null,{"$f":"OFFSET(AL$1867,A3493,A3492+1)-B$10-U$3","v":2205.1784771714752},{"$f":"OFFSET(AL$1890,A3493,A3492+1)-B$11-V$3","v":1684.7416454472177},{"$f":"OFFSET(AL$1844,A3493,A3492+1)-B$12-W$3","v":-207},{"$f":"B3494*F$5+C3494*F$4","v":2205.1784771714752},{"$f":"C3494*F$5-B3494*F$4","v":1684.7416454472177},-207,2205.1784771714752,{"$f":"F3494*F$7+G3494*F$6","v":1684.7416454472177},{"$f":"G3494*F$7-F3494*F$6","v":-207},{"$f":"H3494*F$9+J3494*F$8","v":2205.1784771714752},{"$f":"I3494","v":1684.7416454472177},{"$f":"J3494*F$9-H3494*F$8","v":-207},{"$f":"IF(P3492=1,K3494*B$1/(B$1+B$2+L3494),99999)","v":26.023771624371225},{"$f":"M3494*B$1/(B$1+B$2+L3494)","v":-2.4428502191598143}]
[null,{"$f":"OFFSET(AL$1867,A3493,A3492)-B$10-U$3","v":1905.1784771714752},{"$f":"OFFSET(AL$1890,A3493,A3492)-B$11-V$3","v":1684.7416454472177},{"$f":"OFFSET(AL$1844,A3493,A3492)-B$12-W$3","v":-207},{"$f":"B3495*F$5+C3495*F$4","v":1905.1784771714752},{"$f":"C3495*F$5-B3495*F$4","v":1684.7416454472177},-207,1905.1784771714752,{"$f":"F3495*F$7+G3495*F$6","v":1684.7416454472177},{"$f":"G3495*F$7-F3495*F$6","v":-207},{"$f":"H3495*F$9+J3495*F$8","v":1905.1784771714752},{"$f":"I3495","v":1684.7416454472177},{"$f":"J3495*F$9-H3495*F$8","v":-207},{"$f":"IF(P3492=1,K3495*B$1/(B$1+B$2+L3495),99999)","v":22.483408987907726},{"$f":"M3495*B$1/(B$1+B$2+L3495)","v":-2.4428502191598143}]
[]
[{"$f":"A3492+1","v":17},{"$f":"OFFSET(AL$1867,A3498,A3497)-B$10-U$3","v":2205.1784771714752},{"$f":"OFFSET(AL$1890,A3498,A3497)-B$11-V$3","v":1684.7416454472177},{"$f":"OFFSET(AL$1844,A3498,A3497)-B$12-W$3","v":-207},{"$f":"B3497*F$5+C3497*F$4","v":2205.1784771714752},{"$f":"C3497*F$5-B3497*F$4","v":1684.7416454472177},{"$f":"D3497","v":-207},2205.1784771714752,{"$f":"F3497*F$7+G3497*F$6","v":1684.7416454472177},{"$f":"G3497*F$7-F3497*F$6","v":-207},{"$f":"H3497*F$9+J3497*F$8","v":2205.1784771714752},{"$f":"I3497","v":1684.7416454472177},{"$f":"J3497*F$9-H3497*F$8","v":-207},{"$f":"IF(P3497=1,K3497*B$1/(B$1+B$2+L3497),99999)","v":26.023771624371225},{"$f":"M3497*B$1/(B$1+B$2+L3497)","v":-2.4428502191598143},{"$f":"IF(MIN(L3497:L3500)+B$2+B$1>0,1,0)","v":1}]
[{"$f":"A3493","v":17},{"$f":"OFFSET(AL$1867,A3498+1,A3497+1)-B$10-U$3","v":2355.1784771714752},{"$f":"OFFSET(AL$1890,A3498+1,A3497+1)-B$11-V$3","v":1944.5492665825495},{"$f":"OFFSET(AL$1844,A3498+1,A3497+1)-B$12-W$3","v":-207},{"$f":"B3498*F$5+C3498*F$4","v":2355.1784771714752},{"$f":"C3498*F$5-B3498*F$4","v":1944.5492665825495},-207,2355.1784771714752,{"$f":"F3498*F$7+G3498*F$6","v":1944.5492665825495},{"$f":"G3498*F$7-F3498*F$6","v":-207},{"$f":"H3498*F$9+J3498*F$8","v":2355.1784771714752},{"$f":"I3498","v":1944.5492665825495},{"$f":"J3498*F$9-H3498*F$8","v":-207},{"$f":"IF(P3497=1,K3498*B$1/(B$1+B$2+L3498),99999)","v":24.099453694399934},{"$f":"M3498*B$1/(B$1+B$2+L3498)","v":-2.1181354037898585}]
[null,{"$f":"OFFSET(AL$1867,A3498,A3497+1)-B$10-U$3","v":2505.1784771714752},{"$f":"OFFSET(AL$1890,A3498,A3497+1)-B$11-V$3","v":1684.7416454472177},{"$f":"OFFSET(AL$1844,A3498,A3497+1)-B$12-W$3","v":-207},{"$f":"B3499*F$5+C3499*F$4","v":2505.1784771714752},{"$f":"C3499*F$5-B3499*F$4","v":1684.7416454472177},-207,2505.1784771714752,{"$f":"F3499*F$7+G3499*F$6","v":1684.7416454472177},{"$f":"G3499*F$7-F3499*F$6","v":-207},{"$f":"H3499*F$9+J3499*F$8","v":2505.1784771714752},{"$f":"I3499","v":1684.7416454472177},{"$f":"J3499*F$9-H3499*F$8","v":-207},{"$f":"IF(P3497=1,K3499*B$1/(B$1+B$2+L3499),99999)","v":29.564134260834724},{"$f":"M3499*B$1/(B$1+B$2+L3499)","v":-2.4428502191598143}]
[null,{"$f":"OFFSET(AL$1867,A3498,A3497)-B$10-U$3","v":2205.1784771714752},{"$f":"OFFSET(AL$1890,A3498,A3497)-B$11-V$3","v":1684.7416454472177},{"$f":"OFFSET(AL$1844,A3498,A3497)-B$12-W$3","v":-207},{"$f":"B3500*F$5+C3500*F$4","v":2205.1784771714752},{"$f":"C3500*F$5-B3500*F$4","v":1684.7416454472177},-207,2205.1784771714752,{"$f":"F3500*F$7+G3500*F$6","v":1684.7416454472177},{"$f":"G3500*F$7-F3500*F$6","v":-207},{"$f":"H3500*F$9+J3500*F$8","v":2205.1784771714752},{"$f":"I3500","v":1684.7416454472177},{"$f":"J3500*F$9-H3500*F$8","v":-207},{"$f":"IF(P3497=1,K3500*B$1/(B$1+B$2+L3500),99999)","v":26.023771624371225},{"$f":"M3500*B$1/(B$1+B$2+L3500)","v":-2.4428502191598143}]
[]
[{"$f":"A3497+1","v":18},{"$f":"OFFSET(AL$1867,A3503,A3502)-B$10-U$3","v":2505.1784771714752},{"$f":"OFFSET(AL$1890,A3503,A3502)-B$11-V$3","v":1684.7416454472177},{"$f":"OFFSET(AL$1844,A3503,A3502)-B$12-W$3","v":-207},{"$f":"B3502*F$5+C3502*F$4","v":2505.1784771714752},{"$f":"C3502*F$5-B3502*F$4","v":1684.7416454472177},{"$f":"D3502","v":-207},2505.1784771714752,{"$f":"F3502*F$7+G3502*F$6","v":1684.7416454472177},{"$f":"G3502*F$7-F3502*F$6","v":-207},{"$f":"H3502*F$9+J3502*F$8","v":2505.1784771714752},{"$f":"I3502","v":1684.7416454472177},{"$f":"J3502*F$9-H3502*F$8","v":-207},{"$f":"IF(P3502=1,K3502*B$1/(B$1+B$2+L3502),99999)","v":29.564134260834724},{"$f":"M3502*B$1/(B$1+B$2+L3502)","v":-2.4428502191598143},{"$f":"IF(MIN(L3502:L3505)+B$2+B$1>0,1,0)","v":1}]
[{"$f":"A3498","v":17},{"$f":"OFFSET(AL$1867,A3503+1,A3502+1)-B$10-U$3","v":2655.1784771714752},{"$f":"OFFSET(AL$1890,A3503+1,A3502+1)-B$11-V$3","v":1944.5492665825495},{"$f":"OFFSET(AL$1844,A3503+1,A3502+1)-B$12-W$3","v":-207},{"$f":"B3503*F$5+C3503*F$4","v":2655.1784771714752},{"$f":"C3503*F$5-B3503*F$4","v":1944.5492665825495},-207,2655.1784771714752,{"$f":"F3503*F$7+G3503*F$6","v":1944.5492665825495},{"$f":"G3503*F$7-F3503*F$6","v":-207},{"$f":"H3503*F$9+J3503*F$8","v":2655.1784771714752},{"$f":"I3503","v":1944.5492665825495},{"$f":"J3503*F$9-H3503*F$8","v":-207},{"$f":"IF(P3502=1,K3503*B$1/(B$1+B$2+L3503),99999)","v":27.169215149167844},{"$f":"M3503*B$1/(B$1+B$2+L3503)","v":-2.1181354037898585}]
[null,{"$f":"OFFSET(AL$1867,A3503,A3502+1)-B$10-U$3","v":2805.1784771714752},{"$f":"OFFSET(AL$1890,A3503,A3502+1)-B$11-V$3","v":1684.7416454472177},{"$f":"OFFSET(AL$1844,A3503,A3502+1)-B$12-W$3","v":-207},{"$f":"B3504*F$5+C3504*F$4","v":2805.1784771714752},{"$f":"C3504*F$5-B3504*F$4","v":1684.7416454472177},-207,2805.1784771714752,{"$f":"F3504*F$7+G3504*F$6","v":1684.7416454472177},{"$f":"G3504*F$7-F3504*F$6","v":-207},{"$f":"H3504*F$9+J3504*F$8","v":2805.1784771714752},{"$f":"I3504","v":1684.7416454472177},{"$f":"J3504*F$9-H3504*F$8","v":-207},{"$f":"IF(P3502=1,K3504*B$1/(B$1+B$2+L3504),99999)","v":33.104496897298226},{"$f":"M3504*B$1/(B$1+B$2+L3504)","v":-2.4428502191598143}]
[null,{"$f":"OFFSET(AL$1867,A3503,A3502)-B$10-U$3","v":2505.1784771714752},{"$f":"OFFSET(AL$1890,A3503,A3502)-B$11-V$3","v":1684.7416454472177},{"$f":"OFFSET(AL$1844,A3503,A3502)-B$12-W$3","v":-207},{"$f":"B3505*F$5+C3505*F$4","v":2505.1784771714752},{"$f":"C3505*F$5-B3505*F$4","v":1684.7416454472177},-207,2505.1784771714752,{"$f":"F3505*F$7+G3505*F$6","v":1684.7416454472177},{"$f":"G3505*F$7-F3505*F$6","v":-207},{"$f":"H3505*F$9+J3505*F$8","v":2505.1784771714752},{"$f":"I3505","v":1684.7416454472177},{"$f":"J3505*F$9-H3505*F$8","v":-207},{"$f":"IF(P3502=1,K3505*B$1/(B$1+B$2+L3505),99999)","v":29.564134260834724},{"$f":"M3505*B$1/(B$1+B$2+L3505)","v":-2.4428502191598143}]
[]
[{"$f":"A3502+1","v":19},{"$f":"OFFSET(AL$1867,A3508,A3507)-B$10-U$3","v":2805.1784771714752},{"$f":"OFFSET(AL$1890,A3508,A3507)-B$11-V$3","v":1684.7416454472177},{"$f":"OFFSET(AL$1844,A3508,A3507)-B$12-W$3","v":-207},{"$f":"B3507*F$5+C3507*F$4","v":2805.1784771714752},{"$f":"C3507*F$5-B3507*F$4","v":1684.7416454472177},{"$f":"D3507","v":-207},2805.1784771714752,{"$f":"F3507*F$7+G3507*F$6","v":1684.7416454472177},{"$f":"G3507*F$7-F3507*F$6","v":-207},{"$f":"H3507*F$9+J3507*F$8","v":2805.1784771714752},{"$f":"I3507","v":1684.7416454472177},{"$f":"J3507*F$9-H3507*F$8","v":-207},{"$f":"IF(P3507=1,K3507*B$1/(B$1+B$2+L3507),99999)","v":33.104496897298226},{"$f":"M3507*B$1/(B$1+B$2+L3507)","v":-2.4428502191598143},{"$f":"IF(MIN(L3507:L3510)+B$2+B$1>0,1,0)","v":1}]
[{"$f":"A3503","v":17},{"$f":"OFFSET(AL$1867,A3508+1,A3507+1)-B$10-U$3","v":2955.1784771714752},{"$f":"OFFSET(AL$1890,A3508+1,A3507+1)-B$11-V$3","v":1944.5492665825495},{"$f":"OFFSET(AL$1844,A3508+1,A3507+1)-B$12-W$3","v":-207},{"$f":"B3508*F$5+C3508*F$4","v":2955.1784771714752},{"$f":"C3508*F$5-B3508*F$4","v":1944.5492665825495},-207,2955.1784771714752,{"$f":"F3508*F$7+G3508*F$6","v":1944.5492665825495},{"$f":"G3508*F$7-F3508*F$6","v":-207},{"$f":"H3508*F$9+J3508*F$8","v":2955.1784771714752},{"$f":"I3508","v":1944.5492665825495},{"$f":"J3508*F$9-H3508*F$8","v":-207},{"$f":"IF(P3507=1,K3508*B$1/(B$1+B$2+L3508),99999)","v":30.238976603935754},{"$f":"M3508*B$1/(B$1+B$2+L3508)","v":-2.1181354037898585}]
[null,{"$f":"OFFSET(AL$1867,A3508,A3507+1)-B$10-U$3","v":3105.1784771714752},{"$f":"OFFSET(AL$1890,A3508,A3507+1)-B$11-V$3","v":1684.7416454472177},{"$f":"OFFSET(AL$1844,A3508,A3507+1)-B$12-W$3","v":-207},{"$f":"B3509*F$5+C3509*F$4","v":3105.1784771714752},{"$f":"C3509*F$5-B3509*F$4","v":1684.7416454472177},-207,3105.1784771714752,{"$f":"F3509*F$7+G3509*F$6","v":1684.7416454472177},{"$f":"G3509*F$7-F3509*F$6","v":-207},{"$f":"H3509*F$9+J3509*F$8","v":3105.1784771714752},{"$f":"I3509","v":1684.7416454472177},{"$f":"J3509*F$9-H3509*F$8","v":-207},{"$f":"IF(P3507=1,K3509*B$1/(B$1+B$2+L3509),99999)","v":36.644859533761725},{"$f":"M3509*B$1/(B$1+B$2+L3509)","v":-2.4428502191598143}]
[null,{"$f":"OFFSET(AL$1867,A3508,A3507)-B$10-U$3","v":2805.1784771714752},{"$f":"OFFSET(AL$1890,A3508,A3507)-B$11-V$3","v":1684.7416454472177},{"$f":"OFFSET(AL$1844,A3508,A3507)-B$12-W$3","v":-207},{"$f":"B3510*F$5+C3510*F$4","v":2805.1784771714752},{"$f":"C3510*F$5-B3510*F$4","v":1684.7416454472177},-207,2805.1784771714752,{"$f":"F3510*F$7+G3510*F$6","v":1684.7416454472177},{"$f":"G3510*F$7-F3510*F$6","v":-207},{"$f":"H3510*F$9+J3510*F$8","v":2805.1784771714752},{"$f":"I3510","v":1684.7416454472177},{"$f":"J3510*F$9-H3510*F$8","v":-207},{"$f":"IF(P3507=1,K3510*B$1/(B$1+B$2+L3510),99999)","v":33.104496897298226},{"$f":"M3510*B$1/(B$1+B$2+L3510)","v":-2.4428502191598143}]
[]
[0,{"$f":"OFFSET(AL$1867,A3513,A3512)-B$10-U$3","v":-3044.8215228285248},{"$f":"OFFSET(AL$1890,A3513,A3512)-B$11-V$3","v":1944.5492665825495},{"$f":"OFFSET(AL$1844,A3513,A3512)-B$12-W$3","v":-207},{"$f":"B3512*F$5+C3512*F$4","v":-3044.8215228285248},{"$f":"C3512*F$5-B3512*F$4","v":1944.5492665825495},{"$f":"D3512","v":-207},-3044.8215228285248,{"$f":"F3512*F$7+G3512*F$6","v":1944.5492665825495},{"$f":"G3512*F$7-F3512*F$6","v":-207},{"$f":"H3512*F$9+J3512*F$8","v":-3044.8215228285248},{"$f":"I3512","v":1944.5492665825495},{"$f":"J3512*F$9-H3512*F$8","v":-207},{"$f":"IF(P3512=1,K3512*B$1/(B$1+B$2+L3512),99999)","v":-31.156252491422457},{"$f":"M3512*B$1/(B$1+B$2+L3512)","v":-2.1181354037898585},{"$f":"IF(MIN(L3512:L3515)+B$2+B$1>0,1,0)","v":1}]
[{"$f":"A3508+1","v":18},{"$f":"OFFSET(AL$1867,A3513+1,A3512)-B$10-U$3","v":-2894.8215228285248},{"$f":"OFFSET(AL$1890,A3513+1,A3512)-B$11-V$3","v":2204.3568877178814},{"$f":"OFFSET(AL$1844,A3513+1,A3512)-B$12-W$3","v":-207},{"$f":"B3513*F$5+C3513*F$4","v":-2894.8215228285248},{"$f":"C3513*F$5-B3513*F$4","v":2204.3568877178814},-207,-2894.8215228285248,{"$f":"F3513*F$7+G3513*F$6","v":2204.3568877178814},{"$f":"G3513*F$7-F3513*F$6","v":-207},{"$f":"H3513*F$9+J3513*F$8","v":-2894.8215228285248},{"$f":"I3513","v":2204.3568877178814},{"$f":"J3513*F$9-H3513*F$8","v":-207},{"$f":"IF(P3512=1,K3513*B$1/(B$1+B$2+L3513),99999)","v":-26.14593464030029},{"$f":"M3513*B$1/(B$1+B$2+L3513)","v":-1.8696173245436911}]
[null,{"$f":"OFFSET(AL$1867,A3513,A3512+1)-B$10-U$3","v":-2744.8215228285248},{"$f":"OFFSET(AL$1890,A3513,A3512+1)-B$11-V$3","v":1944.5492665825495},{"$f":"OFFSET(AL$1844,A3513,A3512+1)-B$12-W$3","v":-207},{"$f":"B3514*F$5+C3514*F$4","v":-2744.8215228285248},{"$f":"C3514*F$5-B3514*F$4","v":1944.5492665825495},-207,-2744.8215228285248,{"$f":"F3514*F$7+G3514*F$6","v":1944.5492665825495},{"$f":"G3514*F$7-F3514*F$6","v":-207},{"$f":"H3514*F$9+J3514*F$8","v":-2744.8215228285248},{"$f":"I3514","v":1944.5492665825495},{"$f":"J3514*F$9-H3514*F$8","v":-207},{"$f":"IF(P3512=1,K3514*B$1/(B$1+B$2+L3514),99999)","v":-28.086491036654547},{"$f":"M3514*B$1/(B$1+B$2+L3514)","v":-2.1181354037898585}]
[null,{"$f":"OFFSET(AL$1867,A3513,A3512)-B$10-U$3","v":-3044.8215228285248},{"$f":"OFFSET(AL$1890,A3513,A3512)-B$11-V$3","v":1944.5492665825495},{"$f":"OFFSET(AL$1844,A3513,A3512)-B$12-W$3","v":-207},{"$f":"B3515*F$5+C3515*F$4","v":-3044.8215228285248},{"$f":"C3515*F$5-B3515*F$4","v":1944.5492665825495},-207,-3044.8215228285248,{"$f":"F3515*F$7+G3515*F$6","v":1944.5492665825495},{"$f":"G3515*F$7-F3515*F$6","v":-207},{"$f":"H3515*F$9+J3515*F$8","v":-3044.8215228285248},{"$f":"I3515","v":1944.5492665825495},{"$f":"J3515*F$9-H3515*F$8","v":-207},{"$f":"IF(P3512=1,K3515*B$1/(B$1+B$2+L3515),99999)","v":-31.156252491422457},{"$f":"M3515*B$1/(B$1+B$2+L3515)","v":-2.1181354037898585}]
[]
[{"$f":"A3512+1","v":1},{"$f":"OFFSET(AL$1867,A3518,A3517)-B$10-U$3","v":-2744.8215228285248},{"$f":"OFFSET(AL$1890,A3518,A3517)-B$11-V$3","v":1944.5492665825495},{"$f":"OFFSET(AL$1844,A3518,A3517)-B$12-W$3","v":-207},{"$f":"B3517*F$5+C3517*F$4","v":-2744.8215228285248},{"$f":"C3517*F$5-B3517*F$4","v":1944.5492665825495},{"$f":"D3517","v":-207},-2744.8215228285248,{"$f":"F3517*F$7+G3517*F$6","v":1944.5492665825495},{"$f":"G3517*F$7-F3517*F$6","v":-207},{"$f":"H3517*F$9+J3517*F$8","v":-2744.8215228285248},{"$f":"I3517","v":1944.5492665825495},{"$f":"J3517*F$9-H3517*F$8","v":-207},{"$f":"IF(P3517=1,K3517*B$1/(B$1+B$2+L3517),99999)","v":-28.086491036654547},{"$f":"M3517*B$1/(B$1+B$2+L3517)","v":-2.1181354037898585},{"$f":"IF(MIN(L3517:L3520)+B$2+B$1>0,1,0)","v":1}]
[{"$f":"A3513","v":18},{"$f":"OFFSET(AL$1867,A3518+1,A3517)-B$10-U$3","v":-2594.8215228285248},{"$f":"OFFSET(AL$1890,A3518+1,A3517)-B$11-V$3","v":2204.3568877178814},{"$f":"OFFSET(AL$1844,A3518+1,A3517)-B$12-W$3","v":-207},{"$f":"B3518*F$5+C3518*F$4","v":-2594.8215228285248},{"$f":"C3518*F$5-B3518*F$4","v":2204.3568877178814},-207,-2594.8215228285248,{"$f":"F3518*F$7+G3518*F$6","v":2204.3568877178814},{"$f":"G3518*F$7-F3518*F$6","v":-207},{"$f":"H3518*F$9+J3518*F$8","v":-2594.8215228285248},{"$f":"I3518","v":2204.3568877178814},{"$f":"J3518*F$9-H3518*F$8","v":-207},{"$f":"IF(P3517=1,K3518*B$1/(B$1+B$2+L3518),99999)","v":-23.436344314874653},{"$f":"M3518*B$1/(B$1+B$2+L3518)","v":-1.8696173245436911}]
[null,{"$f":"OFFSET(AL$1867,A3518,A3517+1)-B$10-U$3","v":-2444.8215228285248},{"$f":"OFFSET(AL$1890,A3518,A3517+1)-B$11-V$3","v":1944.5492665825495},{"$f":"OFFSET(AL$1844,A3518,A3517+1)-B$12-W$3","v":-207},{"$f":"B3519*F$5+C3519*F$4","v":-2444.8215228285248},{"$f":"C3519*F$5-B3519*F$4","v":1944.5492665825495},-207,-2444.8215228285248,{"$f":"F3519*F$7+G3519*F$6","v":1944.5492665825495},{"$f":"G3519*F$7-F3519*F$6","v":-207},{"$f":"H3519*F$9+J3519*F$8","v":-2444.8215228285248},{"$f":"I3519","v":1944.5492665825495},{"$f":"J3519*F$9-H3519*F$8","v":-207},{"$f":"IF(P3517=1,K3519*B$1/(B$1+B$2+L3519),99999)","v":-25.016729581886636},{"$f":"M3519*B$1/(B$1+B$2+L3519)","v":-2.1181354037898585}]
[null,{"$f":"OFFSET(AL$1867,A3518,A3517)-B$10-U$3","v":-2744.8215228285248},{"$f":"OFFSET(AL$1890,A3518,A3517)-B$11-V$3","v":1944.5492665825495},{"$f":"OFFSET(AL$1844,A3518,A3517)-B$12-W$3","v":-207},{"$f":"B3520*F$5+C3520*F$4","v":-2744.8215228285248},{"$f":"C3520*F$5-B3520*F$4","v":1944.5492665825495},-207,-2744.8215228285248,{"$f":"F3520*F$7+G3520*F$6","v":1944.5492665825495},{"$f":"G3520*F$7-F3520*F$6","v":-207},{"$f":"H3520*F$9+J3520*F$8","v":-2744.8215228285248},{"$f":"I3520","v":1944.5492665825495},{"$f":"J3520*F$9-H3520*F$8","v":-207},{"$f":"IF(P3517=1,K3520*B$1/(B$1+B$2+L3520),99999)","v":-28.086491036654547},{"$f":"M3520*B$1/(B$1+B$2+L3520)","v":-2.1181354037898585}]
[]
[{"$f":"A3517+1","v":2},{"$f":"OFFSET(AL$1867,A3523,A3522)-B$10-U$3","v":-2444.8215228285248},{"$f":"OFFSET(AL$1890,A3523,A3522)-B$11-V$3","v":1944.5492665825495},{"$f":"OFFSET(AL$1844,A3523,A3522)-B$12-W$3","v":-207},{"$f":"B3522*F$5+C3522*F$4","v":-2444.8215228285248},{"$f":"C3522*F$5-B3522*F$4","v":1944.5492665825495},{"$f":"D3522","v":-207},-2444.8215228285248,{"$f":"F3522*F$7+G3522*F$6","v":1944.5492665825495},{"$f":"G3522*F$7-F3522*F$6","v":-207},{"$f":"H3522*F$9+J3522*F$8","v":-2444.8215228285248},{"$f":"I3522","v":1944.5492665825495},{"$f":"J3522*F$9-H3522*F$8","v":-207},{"$f":"IF(P3522=1,K3522*B$1/(B$1+B$2+L3522),99999)","v":-25.016729581886636},{"$f":"M3522*B$1/(B$1+B$2+L3522)","v":-2.1181354037898585},{"$f":"IF(MIN(L3522:L3525)+B$2+B$1>0,1,0)","v":1}]
[{"$f":"A3518","v":18},{"$f":"OFFSET(AL$1867,A3523+1,A3522)-B$10-U$3","v":-2294.8215228285248},{"$f":"OFFSET(AL$1890,A3523+1,A3522)-B$11-V$3","v":2204.3568877178814},{"$f":"OFFSET(AL$1844,A3523+1,A3522)-B$12-W$3","v":-207},{"$f":"B3523*F$5+C3523*F$4","v":-2294.8215228285248},{"$f":"C3523*F$5-B3523*F$4","v":2204.3568877178814},-207,-2294.8215228285248,{"$f":"F3523*F$7+G3523*F$6","v":2204.3568877178814},{"$f":"G3523*F$7-F3523*F$6","v":-207},{"$f":"H3523*F$9+J3523*F$8","v":-2294.8215228285248},{"$f":"I3523","v":2204.3568877178814},{"$f":"J3523*F$9-H3523*F$8","v":-207},{"$f":"IF(P3522=1,K3523*B$1/(B$1+B$2+L3523),99999)","v":-20.726753989449012},{"$f":"M3523*B$1/(B$1+B$2+L3523)","v":-1.8696173245436911}]
[null,{"$f":"OFFSET(AL$1867,A3523,A3522+1)-B$10-U$3","v":-2144.8215228285248},{"$f":"OFFSET(AL$1890,A3523,A3522+1)-B$11-V$3","v":1944.5492665825495},{"$f":"OFFSET(AL$1844,A3523,A3522+1)-B$12-W$3","v":-207},{"$f":"B3524*F$5+C3524*F$4","v":-2144.8215228285248},{"$f":"C3524*F$5-B3524*F$4","v":1944.5492665825495},-207,-2144.8215228285248,{"$f":"F3524*F$7+G3524*F$6","v":1944.5492665825495},{"$f":"G3524*F$7-F3524*F$6","v":-207},{"$f":"H3524*F$9+J3524*F$8","v":-2144.8215228285248},{"$f":"I3524","v":1944.5492665825495},{"$f":"J3524*F$9-H3524*F$8","v":-207},{"$f":"IF(P3522=1,K3524*B$1/(B$1+B$2+L3524),99999)","v":-21.946968127118726},{"$f":"M3524*B$1/(B$1+B$2+L3524)","v":-2.1181354037898585}]
[null,{"$f":"OFFSET(AL$1867,A3523,A3522)-B$10-U$3","v":-2444.8215228285248},{"$f":"OFFSET(AL$1890,A3523,A3522)-B$11-V$3","v":1944.5492665825495},{"$f":"OFFSET(AL$1844,A3523,A3522)-B$12-W$3","v":-207},{"$f":"B3525*F$5+C3525*F$4","v":-2444.8215228285248},{"$f":"C3525*F$5-B3525*F$4","v":1944.5492665825495},-207,-2444.8215228285248,{"$f":"F3525*F$7+G3525*F$6","v":1944.5492665825495},{"$f":"G3525*F$7-F3525*F$6","v":-207},{"$f":"H3525*F$9+J3525*F$8","v":-2444.8215228285248},{"$f":"I3525","v":1944.5492665825495},{"$f":"J3525*F$9-H3525*F$8","v":-207},{"$f":"IF(P3522=1,K3525*B$1/(B$1+B$2+L3525),99999)","v":-25.016729581886636},{"$f":"M3525*B$1/(B$1+B$2+L3525)","v":-2.1181354037898585}]
[]
[{"$f":"A3522+1","v":3},{"$f":"OFFSET(AL$1867,A3528,A3527)-B$10-U$3","v":-2144.8215228285248},{"$f":"OFFSET(AL$1890,A3528,A3527)-B$11-V$3","v":1944.5492665825495},{"$f":"OFFSET(AL$1844,A3528,A3527)-B$12-W$3","v":-207},{"$f":"B3527*F$5+C3527*F$4","v":-2144.8215228285248},{"$f":"C3527*F$5-B3527*F$4","v":1944.5492665825495},{"$f":"D3527","v":-207},-2144.8215228285248,{"$f":"F3527*F$7+G3527*F$6","v":1944.5492665825495},{"$f":"G3527*F$7-F3527*F$6","v":-207},{"$f":"H3527*F$9+J3527*F$8","v":-2144.8215228285248},{"$f":"I3527","v":1944.5492665825495},{"$f":"J3527*F$9-H3527*F$8","v":-207},{"$f":"IF(P3527=1,K3527*B$1/(B$1+B$2+L3527),99999)","v":-21.946968127118726},{"$f":"M3527*B$1/(B$1+B$2+L3527)","v":-2.1181354037898585},{"$f":"IF(MIN(L3527:L3530)+B$2+B$1>0,1,0)","v":1}]
[{"$f":"A3523","v":18},{"$f":"OFFSET(AL$1867,A3528+1,A3527)-B$10-U$3","v":-1994.8215228285248},{"$f":"OFFSET(AL$1890,A3528+1,A3527)-B$11-V$3","v":2204.3568877178814},{"$f":"OFFSET(AL$1844,A3528+1,A3527)-B$12-W$3","v":-207},{"$f":"B3528*F$5+C3528*F$4","v":-1994.8215228285248},{"$f":"C3528*F$5-B3528*F$4","v":2204.3568877178814},-207,-1994.8215228285248,{"$f":"F3528*F$7+G3528*F$6","v":2204.3568877178814},{"$f":"G3528*F$7-F3528*F$6","v":-207},{"$f":"H3528*F$9+J3528*F$8","v":-1994.8215228285248},{"$f":"I3528","v":2204.3568877178814},{"$f":"J3528*F$9-H3528*F$8","v":-207},{"$f":"IF(P3527=1,K3528*B$1/(B$1+B$2+L3528),99999)","v":-18.017163664023371},{"$f":"M3528*B$1/(B$1+B$2+L3528)","v":-1.8696173245436911}]
[null,{"$f":"OFFSET(AL$1867,A3528,A3527+1)-B$10-U$3","v":-1844.8215228285248},{"$f":"OFFSET(AL$1890,A3528,A3527+1)-B$11-V$3","v":1944.5492665825495},{"$f":"OFFSET(AL$1844,A3528,A3527+1)-B$12-W$3","v":-207},{"$f":"B3529*F$5+C3529*F$4","v":-1844.8215228285248},{"$f":"C3529*F$5-B3529*F$4","v":1944.5492665825495},-207,-1844.8215228285248,{"$f":"F3529*F$7+G3529*F$6","v":1944.5492665825495},{"$f":"G3529*F$7-F3529*F$6","v":-207},{"$f":"H3529*F$9+J3529*F$8","v":-1844.8215228285248},{"$f":"I3529","v":1944.5492665825495},{"$f":"J3529*F$9-H3529*F$8","v":-207},{"$f":"IF(P3527=1,K3529*B$1/(B$1+B$2+L3529),99999)","v":-18.877206672350816},{"$f":"M3529*B$1/(B$1+B$2+L3529)","v":-2.1181354037898585}]
[null,{"$f":"OFFSET(AL$1867,A3528,A3527)-B$10-U$3","v":-2144.8215228285248},{"$f":"OFFSET(AL$1890,A3528,A3527)-B$11-V$3","v":1944.5492665825495},{"$f":"OFFSET(AL$1844,A3528,A3527)-B$12-W$3","v":-207},{"$f":"B3530*F$5+C3530*F$4","v":-2144.8215228285248},{"$f":"C3530*F$5-B3530*F$4","v":1944.5492665825495},-207,-2144.8215228285248,{"$f":"F3530*F$7+G3530*F$6","v":1944.5492665825495},{"$f":"G3530*F$7-F3530*F$6","v":-207},{"$f":"H3530*F$9+J3530*F$8","v":-2144.8215228285248},{"$f":"I3530","v":1944.5492665825495},{"$f":"J3530*F$9-H3530*F$8","v":-207},{"$f":"IF(P3527=1,K3530*B$1/(B$1+B$2+L3530),99999)","v":-21.946968127118726},{"$f":"M3530*B$1/(B$1+B$2+L3530)","v":-2.1181354037898585}]
[]
[{"$f":"A3527+1","v":4},{"$f":"OFFSET(AL$1867,A3533,A3532)-B$10-U$3","v":-1844.8215228285248},{"$f":"OFFSET(AL$1890,A3533,A3532)-B$11-V$3","v":1944.5492665825495},{"$f":"OFFSET(AL$1844,A3533,A3532)-B$12-W$3","v":-207},{"$f":"B3532*F$5+C3532*F$4","v":-1844.8215228285248},{"$f":"C3532*F$5-B3532*F$4","v":1944.5492665825495},{"$f":"D3532","v":-207},-1844.8215228285248,{"$f":"F3532*F$7+G3532*F$6","v":1944.5492665825495},{"$f":"G3532*F$7-F3532*F$6","v":-207},{"$f":"H3532*F$9+J3532*F$8","v":-1844.8215228285248},{"$f":"I3532","v":1944.5492665825495},{"$f":"J3532*F$9-H3532*F$8","v":-207},{"$f":"IF(P3532=1,K3532*B$1/(B$1+B$2+L3532),99999)","v":-18.877206672350816},{"$f":"M3532*B$1/(B$1+B$2+L3532)","v":-2.1181354037898585},{"$f":"IF(MIN(L3532:L3535)+B$2+B$1>0,1,0)","v":1}]
[{"$f":"A3528","v":18},{"$f":"OFFSET(AL$1867,A3533+1,A3532)-B$10-U$3","v":-1694.8215228285248},{"$f":"OFFSET(AL$1890,A3533+1,A3532)-B$11-V$3","v":2204.3568877178814},{"$f":"OFFSET(AL$1844,A3533+1,A3532)-B$12-W$3","v":-207},{"$f":"B3533*F$5+C3533*F$4","v":-1694.8215228285248},{"$f":"C3533*F$5-B3533*F$4","v":2204.3568877178814},-207,-1694.8215228285248,{"$f":"F3533*F$7+G3533*F$6","v":2204.3568877178814},{"$f":"G3533*F$7-F3533*F$6","v":-207},{"$f":"H3533*F$9+J3533*F$8","v":-1694.8215228285248},{"$f":"I3533","v":2204.3568877178814},{"$f":"J3533*F$9-H3533*F$8","v":-207},{"$f":"IF(P3532=1,K3533*B$1/(B$1+B$2+L3533),99999)","v":-15.307573338597733},{"$f":"M3533*B$1/(B$1+B$2+L3533)","v":-1.8696173245436911}]
[null,{"$f":"OFFSET(AL$1867,A3533,A3532+1)-B$10-U$3","v":-1544.8215228285248},{"$f":"OFFSET(AL$1890,A3533,A3532+1)-B$11-V$3","v":1944.5492665825495},{"$f":"OFFSET(AL$1844,A3533,A3532+1)-B$12-W$3","v":-207},{"$f":"B3534*F$5+C3534*F$4","v":-1544.8215228285248},{"$f":"C3534*F$5-B3534*F$4","v":1944.5492665825495},-207,-1544.8215228285248,{"$f":"F3534*F$7+G3534*F$6","v":1944.5492665825495},{"$f":"G3534*F$7-F3534*F$6","v":-207},{"$f":"H3534*F$9+J3534*F$8","v":-1544.8215228285248},{"$f":"I3534","v":1944.5492665825495},{"$f":"J3534*F$9-H3534*F$8","v":-207},{"$f":"IF(P3532=1,K3534*B$1/(B$1+B$2+L3534),99999)","v":-15.807445217582904},{"$f":"M3534*B$1/(B$1+B$2+L3534)","v":-2.1181354037898585}]
[null,{"$f":"OFFSET(AL$1867,A3533,A3532)-B$10-U$3","v":-1844.8215228285248},{"$f":"OFFSET(AL$1890,A3533,A3532)-B$11-V$3","v":1944.5492665825495},{"$f":"OFFSET(AL$1844,A3533,A3532)-B$12-W$3","v":-207},{"$f":"B3535*F$5+C3535*F$4","v":-1844.8215228285248},{"$f":"C3535*F$5-B3535*F$4","v":1944.5492665825495},-207,-1844.8215228285248,{"$f":"F3535*F$7+G3535*F$6","v":1944.5492665825495},{"$f":"G3535*F$7-F3535*F$6","v":-207},{"$f":"H3535*F$9+J3535*F$8","v":-1844.8215228285248},{"$f":"I3535","v":1944.5492665825495},{"$f":"J3535*F$9-H3535*F$8","v":-207},{"$f":"IF(P3532=1,K3535*B$1/(B$1+B$2+L3535),99999)","v":-18.877206672350816},{"$f":"M3535*B$1/(B$1+B$2+L3535)","v":-2.1181354037898585}]
[]
[{"$f":"A3532+1","v":5},{"$f":"OFFSET(AL$1867,A3538,A3537)-B$10-U$3","v":-1544.8215228285248},{"$f":"OFFSET(AL$1890,A3538,A3537)-B$11-V$3","v":1944.5492665825495},{"$f":"OFFSET(AL$1844,A3538,A3537)-B$12-W$3","v":-207},{"$f":"B3537*F$5+C3537*F$4","v":-1544.8215228285248},{"$f":"C3537*F$5-B3537*F$4","v":1944.5492665825495},{"$f":"D3537","v":-207},-1544.8215228285248,{"$f":"F3537*F$7+G3537*F$6","v":1944.5492665825495},{"$f":"G3537*F$7-F3537*F$6","v":-207},{"$f":"H3537*F$9+J3537*F$8","v":-1544.8215228285248},{"$f":"I3537","v":1944.5492665825495},{"$f":"J3537*F$9-H3537*F$8","v":-207},{"$f":"IF(P3537=1,K3537*B$1/(B$1+B$2+L3537),99999)","v":-15.807445217582904},{"$f":"M3537*B$1/(B$1+B$2+L3537)","v":-2.1181354037898585},{"$f":"IF(MIN(L3537:L3540)+B$2+B$1>0,1,0)","v":1}]
[{"$f":"A3533","v":18},{"$f":"OFFSET(AL$1867,A3538+1,A3537)-B$10-U$3","v":-1394.8215228285248},{"$f":"OFFSET(AL$1890,A3538+1,A3537)-B$11-V$3","v":2204.3568877178814},{"$f":"OFFSET(AL$1844,A3538+1,A3537)-B$12-W$3","v":-207},{"$f":"B3538*F$5+C3538*F$4","v":-1394.8215228285248},{"$f":"C3538*F$5-B3538*F$4","v":2204.3568877178814},-207,-1394.8215228285248,{"$f":"F3538*F$7+G3538*F$6","v":2204.3568877178814},{"$f":"G3538*F$7-F3538*F$6","v":-207},{"$f":"H3538*F$9+J3538*F$8","v":-1394.8215228285248},{"$f":"I3538","v":2204.3568877178814},{"$f":"J3538*F$9-H3538*F$8","v":-207},{"$f":"IF(P3537=1,K3538*B$1/(B$1+B$2+L3538),99999)","v":-12.597983013172094},{"$f":"M3538*B$1/(B$1+B$2+L3538)","v":-1.8696173245436911}]
[null,{"$f":"OFFSET(AL$1867,A3538,A3537+1)-B$10-U$3","v":-1244.8215228285248},{"$f":"OFFSET(AL$1890,A3538,A3537+1)-B$11-V$3","v":1944.5492665825495},{"$f":"OFFSET(AL$1844,A3538,A3537+1)-B$12-W$3","v":-207},{"$f":"B3539*F$5+C3539*F$4","v":-1244.8215228285248},{"$f":"C3539*F$5-B3539*F$4","v":1944.5492665825495},-207,-1244.8215228285248,{"$f":"F3539*F$7+G3539*F$6","v":1944.5492665825495},{"$f":"G3539*F$7-F3539*F$6","v":-207},{"$f":"H3539*F$9+J3539*F$8","v":-1244.8215228285248},{"$f":"I3539","v":1944.5492665825495},{"$f":"J3539*F$9-H3539*F$8","v":-207},{"$f":"IF(P3537=1,K3539*B$1/(B$1+B$2+L3539),99999)","v":-12.737683762814994},{"$f":"M3539*B$1/(B$1+B$2+L3539)","v":-2.1181354037898585}]
[null,{"$f":"OFFSET(AL$1867,A3538,A3537)-B$10-U$3","v":-1544.8215228285248},{"$f":"OFFSET(AL$1890,A3538,A3537)-B$11-V$3","v":1944.5492665825495},{"$f":"OFFSET(AL$1844,A3538,A3537)-B$12-W$3","v":-207},{"$f":"B3540*F$5+C3540*F$4","v":-1544.8215228285248},{"$f":"C3540*F$5-B3540*F$4","v":1944.5492665825495},-207,-1544.8215228285248,{"$f":"F3540*F$7+G3540*F$6","v":1944.5492665825495},{"$f":"G3540*F$7-F3540*F$6","v":-207},{"$f":"H3540*F$9+J3540*F$8","v":-1544.8215228285248},{"$f":"I3540","v":1944.5492665825495},{"$f":"J3540*F$9-H3540*F$8","v":-207},{"$f":"IF(P3537=1,K3540*B$1/(B$1+B$2+L3540),99999)","v":-15.807445217582904},{"$f":"M3540*B$1/(B$1+B$2+L3540)","v":-2.1181354037898585}]
[]
[{"$f":"A3537+1","v":6},{"$f":"OFFSET(AL$1867,A3543,A3542)-B$10-U$3","v":-1244.8215228285248},{"$f":"OFFSET(AL$1890,A3543,A3542)-B$11-V$3","v":1944.5492665825495},{"$f":"OFFSET(AL$1844,A3543,A3542)-B$12-W$3","v":-207},{"$f":"B3542*F$5+C3542*F$4","v":-1244.8215228285248},{"$f":"C3542*F$5-B3542*F$4","v":1944.5492665825495},{"$f":"D3542","v":-207},-1244.8215228285248,{"$f":"F3542*F$7+G3542*F$6","v":1944.5492665825495},{"$f":"G3542*F$7-F3542*F$6","v":-207},{"$f":"H3542*F$9+J3542*F$8","v":-1244.8215228285248},{"$f":"I3542","v":1944.5492665825495},{"$f":"J3542*F$9-H3542*F$8","v":-207},{"$f":"IF(P3542=1,K3542*B$1/(B$1+B$2+L3542),99999)","v":-12.737683762814994},{"$f":"M3542*B$1/(B$1+B$2+L3542)","v":-2.1181354037898585},{"$f":"IF(MIN(L3542:L3545)+B$2+B$1>0,1,0)","v":1}]
[{"$f":"A3538","v":18},{"$f":"OFFSET(AL$1867,A3543+1,A3542)-B$10-U$3","v":-1094.8215228285248},{"$f":"OFFSET(AL$1890,A3543+1,A3542)-B$11-V$3","v":2204.3568877178814},{"$f":"OFFSET(AL$1844,A3543+1,A3542)-B$12-W$3","v":-207},{"$f":"B3543*F$5+C3543*F$4","v":-1094.8215228285248},{"$f":"C3543*F$5-B3543*F$4","v":2204.3568877178814},-207,-1094.8215228285248,{"$f":"F3543*F$7+G3543*F$6","v":2204.3568877178814},{"$f":"G3543*F$7-F3543*F$6","v":-207},{"$f":"H3543*F$9+J3543*F$8","v":-1094.8215228285248},{"$f":"I3543","v":2204.3568877178814},{"$f":"J3543*F$9-H3543*F$8","v":-207},{"$f":"IF(P3542=1,K3543*B$1/(B$1+B$2+L3543),99999)","v":-9.888392687746455},{"$f":"M3543*B$1/(B$1+B$2+L3543)","v":-1.8696173245436911}]
[null,{"$f":"OFFSET(AL$1867,A3543,A3542+1)-B$10-U$3","v":-944.82152282852485},{"$f":"OFFSET(AL$1890,A3543,A3542+1)-B$11-V$3","v":1944.5492665825495},{"$f":"OFFSET(AL$1844,A3543,A3542+1)-B$12-W$3","v":-207},{"$f":"B3544*F$5+C3544*F$4","v":-944.82152282852485},{"$f":"C3544*F$5-B3544*F$4","v":1944.5492665825495},-207,-944.82152282852485,{"$f":"F3544*F$7+G3544*F$6","v":1944.5492665825495},{"$f":"G3544*F$7-F3544*F$6","v":-207},{"$f":"H3544*F$9+J3544*F$8","v":-944.82152282852485},{"$f":"I3544","v":1944.5492665825495},{"$f":"J3544*F$9-H3544*F$8","v":-207},{"$f":"IF(P3542=1,K3544*B$1/(B$1+B$2+L3544),99999)","v":-9.667922308047082},{"$f":"M3544*B$1/(B$1+B$2+L3544)","v":-2.1181354037898585}]
[null,{"$f":"OFFSET(AL$1867,A3543,A3542)-B$10-U$3","v":-1244.8215228285248},{"$f":"OFFSET(AL$1890,A3543,A3542)-B$11-V$3","v":1944.5492665825495},{"$f":"OFFSET(AL$1844,A3543,A3542)-B$12-W$3","v":-207},{"$f":"B3545*F$5+C3545*F$4","v":-1244.8215228285248},{"$f":"C3545*F$5-B3545*F$4","v":1944.5492665825495},-207,-1244.8215228285248,{"$f":"F3545*F$7+G3545*F$6","v":1944.5492665825495},{"$f":"G3545*F$7-F3545*F$6","v":-207},{"$f":"H3545*F$9+J3545*F$8","v":-1244.8215228285248},{"$f":"I3545","v":1944.5492665825495},{"$f":"J3545*F$9-H3545*F$8","v":-207},{"$f":"IF(P3542=1,K3545*B$1/(B$1+B$2+L3545),99999)","v":-12.737683762814994},{"$f":"M3545*B$1/(B$1+B$2+L3545)","v":-2.1181354037898585}]
[]
[{"$f":"A3542+1","v":7},{"$f":"OFFSET(AL$1867,A3548,A3547)-B$10-U$3","v":-944.82152282852485},{"$f":"OFFSET(AL$1890,A3548,A3547)-B$11-V$3","v":1944.5492665825495},{"$f":"OFFSET(AL$1844,A3548,A3547)-B$12-W$3","v":-207},{"$f":"B3547*F$5+C3547*F$4","v":-944.82152282852485},{"$f":"C3547*F$5-B3547*F$4","v":1944.5492665825495},{"$f":"D3547","v":-207},-944.82152282852485,{"$f":"F3547*F$7+G3547*F$6","v":1944.5492665825495},{"$f":"G3547*F$7-F3547*F$6","v":-207},{"$f":"H3547*F$9+J3547*F$8","v":-944.82152282852485},{"$f":"I3547","v":1944.5492665825495},{"$f":"J3547*F$9-H3547*F$8","v":-207},{"$f":"IF(P3547=1,K3547*B$1/(B$1+B$2+L3547),99999)","v":-9.667922308047082},{"$f":"M3547*B$1/(B$1+B$2+L3547)","v":-2.1181354037898585},{"$f":"IF(MIN(L3547:L3550)+B$2+B$1>0,1,0)","v":1}]
[{"$f":"A3543","v":18},{"$f":"OFFSET(AL$1867,A3548+1,A3547)-B$10-U$3","v":-794.82152282852485},{"$f":"OFFSET(AL$1890,A3548+1,A3547)-B$11-V$3","v":2204.3568877178814},{"$f":"OFFSET(AL$1844,A3548+1,A3547)-B$12-W$3","v":-207},{"$f":"B3548*F$5+C3548*F$4","v":-794.82152282852485},{"$f":"C3548*F$5-B3548*F$4","v":2204.3568877178814},-207,-794.82152282852485,{"$f":"F3548*F$7+G3548*F$6","v":2204.3568877178814},{"$f":"G3548*F$7-F3548*F$6","v":-207},{"$f":"H3548*F$9+J3548*F$8","v":-794.82152282852485},{"$f":"I3548","v":2204.3568877178814},{"$f":"J3548*F$9-H3548*F$8","v":-207},{"$f":"IF(P3547=1,K3548*B$1/(B$1+B$2+L3548),99999)","v":-7.1788023623208161},{"$f":"M3548*B$1/(B$1+B$2+L3548)","v":-1.8696173245436911}]
[null,{"$f":"OFFSET(AL$1867,A3548,A3547+1)-B$10-U$3","v":-644.82152282852485},{"$f":"OFFSET(AL$1890,A3548,A3547+1)-B$11-V$3","v":1944.5492665825495},{"$f":"OFFSET(AL$1844,A3548,A3547+1)-B$12-W$3","v":-207},{"$f":"B3549*F$5+C3549*F$4","v":-644.82152282852485},{"$f":"C3549*F$5-B3549*F$4","v":1944.5492665825495},-207,-644.82152282852485,{"$f":"F3549*F$7+G3549*F$6","v":1944.5492665825495},{"$f":"G3549*F$7-F3549*F$6","v":-207},{"$f":"H3549*F$9+J3549*F$8","v":-644.82152282852485},{"$f":"I3549","v":1944.5492665825495},{"$f":"J3549*F$9-H3549*F$8","v":-207},{"$f":"IF(P3547=1,K3549*B$1/(B$1+B$2+L3549),99999)","v":-6.5981608532791727},{"$f":"M3549*B$1/(B$1+B$2+L3549)","v":-2.1181354037898585}]
[null,{"$f":"OFFSET(AL$1867,A3548,A3547)-B$10-U$3","v":-944.82152282852485},{"$f":"OFFSET(AL$1890,A3548,A3547)-B$11-V$3","v":1944.5492665825495},{"$f":"OFFSET(AL$1844,A3548,A3547)-B$12-W$3","v":-207},{"$f":"B3550*F$5+C3550*F$4","v":-944.82152282852485},{"$f":"C3550*F$5-B3550*F$4","v":1944.5492665825495},-207,-944.82152282852485,{"$f":"F3550*F$7+G3550*F$6","v":1944.5492665825495},{"$f":"G3550*F$7-F3550*F$6","v":-207},{"$f":"H3550*F$9+J3550*F$8","v":-944.82152282852485},{"$f":"I3550","v":1944.5492665825495},{"$f":"J3550*F$9-H3550*F$8","v":-207},{"$f":"IF(P3547=1,K3550*B$1/(B$1+B$2+L3550),99999)","v":-9.667922308047082},{"$f":"M3550*B$1/(B$1+B$2+L3550)","v":-2.1181354037898585}]
[]
[{"$f":"A3547+1","v":8},{"$f":"OFFSET(AL$1867,A3553,A3552)-B$10-U$3","v":-644.82152282852485},{"$f":"OFFSET(AL$1890,A3553,A3552)-B$11-V$3","v":1944.5492665825495},{"$f":"OFFSET(AL$1844,A3553,A3552)-B$12-W$3","v":-207},{"$f":"B3552*F$5+C3552*F$4","v":-644.82152282852485},{"$f":"C3552*F$5-B3552*F$4","v":1944.5492665825495},{"$f":"D3552","v":-207},-644.82152282852485,{"$f":"F3552*F$7+G3552*F$6","v":1944.5492665825495},{"$f":"G3552*F$7-F3552*F$6","v":-207},{"$f":"H3552*F$9+J3552*F$8","v":-644.82152282852485},{"$f":"I3552","v":1944.5492665825495},{"$f":"J3552*F$9-H3552*F$8","v":-207},{"$f":"IF(P3552=1,K3552*B$1/(B$1+B$2+L3552),99999)","v":-6.5981608532791727},{"$f":"M3552*B$1/(B$1+B$2+L3552)","v":-2.1181354037898585},{"$f":"IF(MIN(L3552:L3555)+B$2+B$1>0,1,0)","v":1}]
[{"$f":"A3548","v":18},{"$f":"OFFSET(AL$1867,A3553+1,A3552)-B$10-U$3","v":-494.82152282852485},{"$f":"OFFSET(AL$1890,A3553+1,A3552)-B$11-V$3","v":2204.3568877178814},{"$f":"OFFSET(AL$1844,A3553+1,A3552)-B$12-W$3","v":-207},{"$f":"B3553*F$5+C3553*F$4","v":-494.82152282852485},{"$f":"C3553*F$5-B3553*F$4","v":2204.3568877178814},-207,-494.82152282852485,{"$f":"F3553*F$7+G3553*F$6","v":2204.3568877178814},{"$f":"G3553*F$7-F3553*F$6","v":-207},{"$f":"H3553*F$9+J3553*F$8","v":-494.82152282852485},{"$f":"I3553","v":2204.3568877178814},{"$f":"J3553*F$9-H3553*F$8","v":-207},{"$f":"IF(P3552=1,K3553*B$1/(B$1+B$2+L3553),99999)","v":-4.4692120368951764},{"$f":"M3553*B$1/(B$1+B$2+L3553)","v":-1.8696173245436911}]
[null,{"$f":"OFFSET(AL$1867,A3553,A3552+1)-B$10-U$3","v":-344.82152282852485},{"$f":"OFFSET(AL$1890,A3553,A3552+1)-B$11-V$3","v":1944.5492665825495},{"$f":"OFFSET(AL$1844,A3553,A3552+1)-B$12-W$3","v":-207},{"$f":"B3554*F$5+C3554*F$4","v":-344.82152282852485},{"$f":"C3554*F$5-B3554*F$4","v":1944.5492665825495},-207,-344.82152282852485,{"$f":"F3554*F$7+G3554*F$6","v":1944.5492665825495},{"$f":"G3554*F$7-F3554*F$6","v":-207},{"$f":"H3554*F$9+J3554*F$8","v":-344.82152282852485},{"$f":"I3554","v":1944.5492665825495},{"$f":"J3554*F$9-H3554*F$8","v":-207},{"$f":"IF(P3552=1,K3554*B$1/(B$1+B$2+L3554),99999)","v":-3.5283993985112625},{"$f":"M3554*B$1/(B$1+B$2+L3554)","v":-2.1181354037898585}]
[null,{"$f":"OFFSET(AL$1867,A3553,A3552)-B$10-U$3","v":-644.82152282852485},{"$f":"OFFSET(AL$1890,A3553,A3552)-B$11-V$3","v":1944.5492665825495},{"$f":"OFFSET(AL$1844,A3553,A3552)-B$12-W$3","v":-207},{"$f":"B3555*F$5+C3555*F$4","v":-644.82152282852485},{"$f":"C3555*F$5-B3555*F$4","v":1944.5492665825495},-207,-644.82152282852485,{"$f":"F3555*F$7+G3555*F$6","v":1944.5492665825495},{"$f":"G3555*F$7-F3555*F$6","v":-207},{"$f":"H3555*F$9+J3555*F$8","v":-644.82152282852485},{"$f":"I3555","v":1944.5492665825495},{"$f":"J3555*F$9-H3555*F$8","v":-207},{"$f":"IF(P3552=1,K3555*B$1/(B$1+B$2+L3555),99999)","v":-6.5981608532791727},{"$f":"M3555*B$1/(B$1+B$2+L3555)","v":-2.1181354037898585}]
[]
[{"$f":"A3552+1","v":9},{"$f":"OFFSET(AL$1867,A3558,A3557)-B$10-U$3","v":-344.82152282852485},{"$f":"OFFSET(AL$1890,A3558,A3557)-B$11-V$3","v":1944.5492665825495},{"$f":"OFFSET(AL$1844,A3558,A3557)-B$12-W$3","v":-207},{"$f":"B3557*F$5+C3557*F$4","v":-344.82152282852485},{"$f":"C3557*F$5-B3557*F$4","v":1944.5492665825495},{"$f":"D3557","v":-207},-344.82152282852485,{"$f":"F3557*F$7+G3557*F$6","v":1944.5492665825495},{"$f":"G3557*F$7-F3557*F$6","v":-207},{"$f":"H3557*F$9+J3557*F$8","v":-344.82152282852485},{"$f":"I3557","v":1944.5492665825495},{"$f":"J3557*F$9-H3557*F$8","v":-207},{"$f":"IF(P3557=1,K3557*B$1/(B$1+B$2+L3557),99999)","v":-3.5283993985112625},{"$f":"M3557*B$1/(B$1+B$2+L3557)","v":-2.1181354037898585},{"$f":"IF(MIN(L3557:L3560)+B$2+B$1>0,1,0)","v":1}]
[{"$f":"A3553","v":18},{"$f":"OFFSET(AL$1867,A3558+1,A3557)-B$10-U$3","v":-194.82152282852485},{"$f":"OFFSET(AL$1890,A3558+1,A3557)-B$11-V$3","v":2204.3568877178814},{"$f":"OFFSET(AL$1844,A3558+1,A3557)-B$12-W$3","v":-207},{"$f":"B3558*F$5+C3558*F$4","v":-194.82152282852485},{"$f":"C3558*F$5-B3558*F$4","v":2204.3568877178814},-207,-194.82152282852485,{"$f":"F3558*F$7+G3558*F$6","v":2204.3568877178814},{"$f":"G3558*F$7-F3558*F$6","v":-207},{"$f":"H3558*F$9+J3558*F$8","v":-194.82152282852485},{"$f":"I3558","v":2204.3568877178814},{"$f":"J3558*F$9-H3558*F$8","v":-207},{"$f":"IF(P3557=1,K3558*B$1/(B$1+B$2+L3558),99999)","v":-1.7596217114695376},{"$f":"M3558*B$1/(B$1+B$2+L3558)","v":-1.8696173245436911}]
[null,{"$f":"OFFSET(AL$1867,A3558,A3557+1)-B$10-U$3","v":-44.821522828524849},{"$f":"OFFSET(AL$1890,A3558,A3557+1)-B$11-V$3","v":1944.5492665825495},{"$f":"OFFSET(AL$1844,A3558,A3557+1)-B$12-W$3","v":-207},{"$f":"B3559*F$5+C3559*F$4","v":-44.821522828524849},{"$f":"C3559*F$5-B3559*F$4","v":1944.5492665825495},-207,-44.821522828524849,{"$f":"F3559*F$7+G3559*F$6","v":1944.5492665825495},{"$f":"G3559*F$7-F3559*F$6","v":-207},{"$f":"H3559*F$9+J3559*F$8","v":-44.821522828524849},{"$f":"I3559","v":1944.5492665825495},{"$f":"J3559*F$9-H3559*F$8","v":-207},{"$f":"IF(P3557=1,K3559*B$1/(B$1+B$2+L3559),99999)","v":-0.45863794374335187},{"$f":"M3559*B$1/(B$1+B$2+L3559)","v":-2.1181354037898585}]
[null,{"$f":"OFFSET(AL$1867,A3558,A3557)-B$10-U$3","v":-344.82152282852485},{"$f":"OFFSET(AL$1890,A3558,A3557)-B$11-V$3","v":1944.5492665825495},{"$f":"OFFSET(AL$1844,A3558,A3557)-B$12-W$3","v":-207},{"$f":"B3560*F$5+C3560*F$4","v":-344.82152282852485},{"$f":"C3560*F$5-B3560*F$4","v":1944.5492665825495},-207,-344.82152282852485,{"$f":"F3560*F$7+G3560*F$6","v":1944.5492665825495},{"$f":"G3560*F$7-F3560*F$6","v":-207},{"$f":"H3560*F$9+J3560*F$8","v":-344.82152282852485},{"$f":"I3560","v":1944.5492665825495},{"$f":"J3560*F$9-H3560*F$8","v":-207},{"$f":"IF(P3557=1,K3560*B$1/(B$1+B$2+L3560),99999)","v":-3.5283993985112625},{"$f":"M3560*B$1/(B$1+B$2+L3560)","v":-2.1181354037898585}]
[]
[{"$f":"A3557+1","v":10},{"$f":"OFFSET(AL$1867,A3563,A3562)-B$10-U$3","v":-44.821522828524849},{"$f":"OFFSET(AL$1890,A3563,A3562)-B$11-V$3","v":1944.5492665825495},{"$f":"OFFSET(AL$1844,A3563,A3562)-B$12-W$3","v":-207},{"$f":"B3562*F$5+C3562*F$4","v":-44.821522828524849},{"$f":"C3562*F$5-B3562*F$4","v":1944.5492665825495},{"$f":"D3562","v":-207},-44.821522828524849,{"$f":"F3562*F$7+G3562*F$6","v":1944.5492665825495},{"$f":"G3562*F$7-F3562*F$6","v":-207},{"$f":"H3562*F$9+J3562*F$8","v":-44.821522828524849},{"$f":"I3562","v":1944.5492665825495},{"$f":"J3562*F$9-H3562*F$8","v":-207},{"$f":"IF(P3562=1,K3562*B$1/(B$1+B$2+L3562),99999)","v":-0.45863794374335187},{"$f":"M3562*B$1/(B$1+B$2+L3562)","v":-2.1181354037898585},{"$f":"IF(MIN(L3562:L3565)+B$2+B$1>0,1,0)","v":1}]
[{"$f":"A3558","v":18},{"$f":"OFFSET(AL$1867,A3563+1,A3562)-B$10-U$3","v":105.17847717147515},{"$f":"OFFSET(AL$1890,A3563+1,A3562)-B$11-V$3","v":2204.3568877178814},{"$f":"OFFSET(AL$1844,A3563+1,A3562)-B$12-W$3","v":-207},{"$f":"B3563*F$5+C3563*F$4","v":105.17847717147515},{"$f":"C3563*F$5-B3563*F$4","v":2204.3568877178814},-207,105.17847717147515,{"$f":"F3563*F$7+G3563*F$6","v":2204.3568877178814},{"$f":"G3563*F$7-F3563*F$6","v":-207},{"$f":"H3563*F$9+J3563*F$8","v":105.17847717147515},{"$f":"I3563","v":2204.3568877178814},{"$f":"J3563*F$9-H3563*F$8","v":-207},{"$f":"IF(P3562=1,K3563*B$1/(B$1+B$2+L3563),99999)","v":0.94996861395610177},{"$f":"M3563*B$1/(B$1+B$2+L3563)","v":-1.8696173245436911}]
[null,{"$f":"OFFSET(AL$1867,A3563,A3562+1)-B$10-U$3","v":255.17847717147515},{"$f":"OFFSET(AL$1890,A3563,A3562+1)-B$11-V$3","v":1944.5492665825495},{"$f":"OFFSET(AL$1844,A3563,A3562+1)-B$12-W$3","v":-207},{"$f":"B3564*F$5+C3564*F$4","v":255.17847717147515},{"$f":"C3564*F$5-B3564*F$4","v":1944.5492665825495},-207,255.17847717147515,{"$f":"F3564*F$7+G3564*F$6","v":1944.5492665825495},{"$f":"G3564*F$7-F3564*F$6","v":-207},{"$f":"H3564*F$9+J3564*F$8","v":255.17847717147515},{"$f":"I3564","v":1944.5492665825495},{"$f":"J3564*F$9-H3564*F$8","v":-207},{"$f":"IF(P3562=1,K3564*B$1/(B$1+B$2+L3564),99999)","v":2.6111235110245588},{"$f":"M3564*B$1/(B$1+B$2+L3564)","v":-2.1181354037898585}]
[null,{"$f":"OFFSET(AL$1867,A3563,A3562)-B$10-U$3","v":-44.821522828524849},{"$f":"OFFSET(AL$1890,A3563,A3562)-B$11-V$3","v":1944.5492665825495},{"$f":"OFFSET(AL$1844,A3563,A3562)-B$12-W$3","v":-207},{"$f":"B3565*F$5+C3565*F$4","v":-44.821522828524849},{"$f":"C3565*F$5-B3565*F$4","v":1944.5492665825495},-207,-44.821522828524849,{"$f":"F3565*F$7+G3565*F$6","v":1944.5492665825495},{"$f":"G3565*F$7-F3565*F$6","v":-207},{"$f":"H3565*F$9+J3565*F$8","v":-44.821522828524849},{"$f":"I3565","v":1944.5492665825495},{"$f":"J3565*F$9-H3565*F$8","v":-207},{"$f":"IF(P3562=1,K3565*B$1/(B$1+B$2+L3565),99999)","v":-0.45863794374335187},{"$f":"M3565*B$1/(B$1+B$2+L3565)","v":-2.1181354037898585}]
[]
[{"$f":"A3562+1","v":11},{"$f":"OFFSET(AL$1867,A3568,A3567)-B$10-U$3","v":255.17847717147515},{"$f":"OFFSET(AL$1890,A3568,A3567)-B$11-V$3","v":1944.5492665825495},{"$f":"OFFSET(AL$1844,A3568,A3567)-B$12-W$3","v":-207},{"$f":"B3567*F$5+C3567*F$4","v":255.17847717147515},{"$f":"C3567*F$5-B3567*F$4","v":1944.5492665825495},{"$f":"D3567","v":-207},255.17847717147515,{"$f":"F3567*F$7+G3567*F$6","v":1944.5492665825495},{"$f":"G3567*F$7-F3567*F$6","v":-207},{"$f":"H3567*F$9+J3567*F$8","v":255.17847717147515},{"$f":"I3567","v":1944.5492665825495},{"$f":"J3567*F$9-H3567*F$8","v":-207},{"$f":"IF(P3567=1,K3567*B$1/(B$1+B$2+L3567),99999)","v":2.6111235110245588},{"$f":"M3567*B$1/(B$1+B$2+L3567)","v":-2.1181354037898585},{"$f":"IF(MIN(L3567:L3570)+B$2+B$1>0,1,0)","v":1}]
[{"$f":"A3563","v":18},{"$f":"OFFSET(AL$1867,A3568+1,A3567)-B$10-U$3","v":405.17847717147515},{"$f":"OFFSET(AL$1890,A3568+1,A3567)-B$11-V$3","v":2204.3568877178814},{"$f":"OFFSET(AL$1844,A3568+1,A3567)-B$12-W$3","v":-207},{"$f":"B3568*F$5+C3568*F$4","v":405.17847717147515},{"$f":"C3568*F$5-B3568*F$4","v":2204.3568877178814},-207,405.17847717147515,{"$f":"F3568*F$7+G3568*F$6","v":2204.3568877178814},{"$f":"G3568*F$7-F3568*F$6","v":-207},{"$f":"H3568*F$9+J3568*F$8","v":405.17847717147515},{"$f":"I3568","v":2204.3568877178814},{"$f":"J3568*F$9-H3568*F$8","v":-207},{"$f":"IF(P3567=1,K3568*B$1/(B$1+B$2+L3568),99999)","v":3.6595589393817409},{"$f":"M3568*B$1/(B$1+B$2+L3568)","v":-1.8696173245436911}]
[null,{"$f":"OFFSET(AL$1867,A3568,A3567+1)-B$10-U$3","v":555.17847717147515},{"$f":"OFFSET(AL$1890,A3568,A3567+1)-B$11-V$3","v":1944.5492665825495},{"$f":"OFFSET(AL$1844,A3568,A3567+1)-B$12-W$3","v":-207},{"$f":"B3569*F$5+C3569*F$4","v":555.17847717147515},{"$f":"C3569*F$5-B3569*F$4","v":1944.5492665825495},-207,555.17847717147515,{"$f":"F3569*F$7+G3569*F$6","v":1944.5492665825495},{"$f":"G3569*F$7-F3569*F$6","v":-207},{"$f":"H3569*F$9+J3569*F$8","v":555.17847717147515},{"$f":"I3569","v":1944.5492665825495},{"$f":"J3569*F$9-H3569*F$8","v":-207},{"$f":"IF(P3567=1,K3569*B$1/(B$1+B$2+L3569),99999)","v":5.6808849657924698},{"$f":"M3569*B$1/(B$1+B$2+L3569)","v":-2.1181354037898585}]
[null,{"$f":"OFFSET(AL$1867,A3568,A3567)-B$10-U$3","v":255.17847717147515},{"$f":"OFFSET(AL$1890,A3568,A3567)-B$11-V$3","v":1944.5492665825495},{"$f":"OFFSET(AL$1844,A3568,A3567)-B$12-W$3","v":-207},{"$f":"B3570*F$5+C3570*F$4","v":255.17847717147515},{"$f":"C3570*F$5-B3570*F$4","v":1944.5492665825495},-207,255.17847717147515,{"$f":"F3570*F$7+G3570*F$6","v":1944.5492665825495},{"$f":"G3570*F$7-F3570*F$6","v":-207},{"$f":"H3570*F$9+J3570*F$8","v":255.17847717147515},{"$f":"I3570","v":1944.5492665825495},{"$f":"J3570*F$9-H3570*F$8","v":-207},{"$f":"IF(P3567=1,K3570*B$1/(B$1+B$2+L3570),99999)","v":2.6111235110245588},{"$f":"M3570*B$1/(B$1+B$2+L3570)","v":-2.1181354037898585}]
[]
[{"$f":"A3567+1","v":12},{"$f":"OFFSET(AL$1867,A3573,A3572)-B$10-U$3","v":555.17847717147515},{"$f":"OFFSET(AL$1890,A3573,A3572)-B$11-V$3","v":1944.5492665825495},{"$f":"OFFSET(AL$1844,A3573,A3572)-B$12-W$3","v":-207},{"$f":"B3572*F$5+C3572*F$4","v":555.17847717147515},{"$f":"C3572*F$5-B3572*F$4","v":1944.5492665825495},{"$f":"D3572","v":-207},555.17847717147515,{"$f":"F3572*F$7+G3572*F$6","v":1944.5492665825495},{"$f":"G3572*F$7-F3572*F$6","v":-207},{"$f":"H3572*F$9+J3572*F$8","v":555.17847717147515},{"$f":"I3572","v":1944.5492665825495},{"$f":"J3572*F$9-H3572*F$8","v":-207},{"$f":"IF(P3572=1,K3572*B$1/(B$1+B$2+L3572),99999)","v":5.6808849657924698},{"$f":"M3572*B$1/(B$1+B$2+L3572)","v":-2.1181354037898585},{"$f":"IF(MIN(L3572:L3575)+B$2+B$1>0,1,0)","v":1}]
[{"$f":"A3568","v":18},{"$f":"OFFSET(AL$1867,A3573+1,A3572)-B$10-U$3","v":705.17847717147515},{"$f":"OFFSET(AL$1890,A3573+1,A3572)-B$11-V$3","v":2204.3568877178814},{"$f":"OFFSET(AL$1844,A3573+1,A3572)-B$12-W$3","v":-207},{"$f":"B3573*F$5+C3573*F$4","v":705.17847717147515},{"$f":"C3573*F$5-B3573*F$4","v":2204.3568877178814},-207,705.17847717147515,{"$f":"F3573*F$7+G3573*F$6","v":2204.3568877178814},{"$f":"G3573*F$7-F3573*F$6","v":-207},{"$f":"H3573*F$9+J3573*F$8","v":705.17847717147515},{"$f":"I3573","v":2204.3568877178814},{"$f":"J3573*F$9-H3573*F$8","v":-207},{"$f":"IF(P3572=1,K3573*B$1/(B$1+B$2+L3573),99999)","v":6.3691492648073806},{"$f":"M3573*B$1/(B$1+B$2+L3573)","v":-1.8696173245436911}]
[null,{"$f":"OFFSET(AL$1867,A3573,A3572+1)-B$10-U$3","v":855.17847717147515},{"$f":"OFFSET(AL$1890,A3573,A3572+1)-B$11-V$3","v":1944.5492665825495},{"$f":"OFFSET(AL$1844,A3573,A3572+1)-B$12-W$3","v":-207},{"$f":"B3574*F$5+C3574*F$4","v":855.17847717147515},{"$f":"C3574*F$5-B3574*F$4","v":1944.5492665825495},-207,855.17847717147515,{"$f":"F3574*F$7+G3574*F$6","v":1944.5492665825495},{"$f":"G3574*F$7-F3574*F$6","v":-207},{"$f":"H3574*F$9+J3574*F$8","v":855.17847717147515},{"$f":"I3574","v":1944.5492665825495},{"$f":"J3574*F$9-H3574*F$8","v":-207},{"$f":"IF(P3572=1,K3574*B$1/(B$1+B$2+L3574),99999)","v":8.7506464205603809},{"$f":"M3574*B$1/(B$1+B$2+L3574)","v":-2.1181354037898585}]
[null,{"$f":"OFFSET(AL$1867,A3573,A3572)-B$10-U$3","v":555.17847717147515},{"$f":"OFFSET(AL$1890,A3573,A3572)-B$11-V$3","v":1944.5492665825495},{"$f":"OFFSET(AL$1844,A3573,A3572)-B$12-W$3","v":-207},{"$f":"B3575*F$5+C3575*F$4","v":555.17847717147515},{"$f":"C3575*F$5-B3575*F$4","v":1944.5492665825495},-207,555.17847717147515,{"$f":"F3575*F$7+G3575*F$6","v":1944.5492665825495},{"$f":"G3575*F$7-F3575*F$6","v":-207},{"$f":"H3575*F$9+J3575*F$8","v":555.17847717147515},{"$f":"I3575","v":1944.5492665825495},{"$f":"J3575*F$9-H3575*F$8","v":-207},{"$f":"IF(P3572=1,K3575*B$1/(B$1+B$2+L3575),99999)","v":5.6808849657924698},{"$f":"M3575*B$1/(B$1+B$2+L3575)","v":-2.1181354037898585}]
[]
[{"$f":"A3572+1","v":13},{"$f":"OFFSET(AL$1867,A3578,A3577)-B$10-U$3","v":855.17847717147515},{"$f":"OFFSET(AL$1890,A3578,A3577)-B$11-V$3","v":1944.5492665825495},{"$f":"OFFSET(AL$1844,A3578,A3577)-B$12-W$3","v":-207},{"$f":"B3577*F$5+C3577*F$4","v":855.17847717147515},{"$f":"C3577*F$5-B3577*F$4","v":1944.5492665825495},{"$f":"D3577","v":-207},855.17847717147515,{"$f":"F3577*F$7+G3577*F$6","v":1944.5492665825495},{"$f":"G3577*F$7-F3577*F$6","v":-207},{"$f":"H3577*F$9+J3577*F$8","v":855.17847717147515},{"$f":"I3577","v":1944.5492665825495},{"$f":"J3577*F$9-H3577*F$8","v":-207},{"$f":"IF(P3577=1,K3577*B$1/(B$1+B$2+L3577),99999)","v":8.7506464205603809},{"$f":"M3577*B$1/(B$1+B$2+L3577)","v":-2.1181354037898585},{"$f":"IF(MIN(L3577:L3580)+B$2+B$1>0,1,0)","v":1}]
[{"$f":"A3573","v":18},{"$f":"OFFSET(AL$1867,A3578+1,A3577)-B$10-U$3","v":1005.1784771714752},{"$f":"OFFSET(AL$1890,A3578+1,A3577)-B$11-V$3","v":2204.3568877178814},{"$f":"OFFSET(AL$1844,A3578+1,A3577)-B$12-W$3","v":-207},{"$f":"B3578*F$5+C3578*F$4","v":1005.1784771714752},{"$f":"C3578*F$5-B3578*F$4","v":2204.3568877178814},-207,1005.1784771714752,{"$f":"F3578*F$7+G3578*F$6","v":2204.3568877178814},{"$f":"G3578*F$7-F3578*F$6","v":-207},{"$f":"H3578*F$9+J3578*F$8","v":1005.1784771714752},{"$f":"I3578","v":2204.3568877178814},{"$f":"J3578*F$9-H3578*F$8","v":-207},{"$f":"IF(P3577=1,K3578*B$1/(B$1+B$2+L3578),99999)","v":9.0787395902330204},{"$f":"M3578*B$1/(B$1+B$2+L3578)","v":-1.8696173245436911}]
[null,{"$f":"OFFSET(AL$1867,A3578,A3577+1)-B$10-U$3","v":1155.1784771714752},{"$f":"OFFSET(AL$1890,A3578,A3577+1)-B$11-V$3","v":1944.5492665825495},{"$f":"OFFSET(AL$1844,A3578,A3577+1)-B$12-W$3","v":-207},{"$f":"B3579*F$5+C3579*F$4","v":1155.1784771714752},{"$f":"C3579*F$5-B3579*F$4","v":1944.5492665825495},-207,1155.1784771714752,{"$f":"F3579*F$7+G3579*F$6","v":1944.5492665825495},{"$f":"G3579*F$7-F3579*F$6","v":-207},{"$f":"H3579*F$9+J3579*F$8","v":1155.1784771714752},{"$f":"I3579","v":1944.5492665825495},{"$f":"J3579*F$9-H3579*F$8","v":-207},{"$f":"IF(P3577=1,K3579*B$1/(B$1+B$2+L3579),99999)","v":11.820407875328291},{"$f":"M3579*B$1/(B$1+B$2+L3579)","v":-2.1181354037898585}]
[null,{"$f":"OFFSET(AL$1867,A3578,A3577)-B$10-U$3","v":855.17847717147515},{"$f":"OFFSET(AL$1890,A3578,A3577)-B$11-V$3","v":1944.5492665825495},{"$f":"OFFSET(AL$1844,A3578,A3577)-B$12-W$3","v":-207},{"$f":"B3580*F$5+C3580*F$4","v":855.17847717147515},{"$f":"C3580*F$5-B3580*F$4","v":1944.5492665825495},-207,855.17847717147515,{"$f":"F3580*F$7+G3580*F$6","v":1944.5492665825495},{"$f":"G3580*F$7-F3580*F$6","v":-207},{"$f":"H3580*F$9+J3580*F$8","v":855.17847717147515},{"$f":"I3580","v":1944.5492665825495},{"$f":"J3580*F$9-H3580*F$8","v":-207},{"$f":"IF(P3577=1,K3580*B$1/(B$1+B$2+L3580),99999)","v":8.7506464205603809},{"$f":"M3580*B$1/(B$1+B$2+L3580)","v":-2.1181354037898585}]
[]
[{"$f":"A3577+1","v":14},{"$f":"OFFSET(AL$1867,A3583,A3582)-B$10-U$3","v":1155.1784771714752},{"$f":"OFFSET(AL$1890,A3583,A3582)-B$11-V$3","v":1944.5492665825495},{"$f":"OFFSET(AL$1844,A3583,A3582)-B$12-W$3","v":-207},{"$f":"B3582*F$5+C3582*F$4","v":1155.1784771714752},{"$f":"C3582*F$5-B3582*F$4","v":1944.5492665825495},{"$f":"D3582","v":-207},1155.1784771714752,{"$f":"F3582*F$7+G3582*F$6","v":1944.5492665825495},{"$f":"G3582*F$7-F3582*F$6","v":-207},{"$f":"H3582*F$9+J3582*F$8","v":1155.1784771714752},{"$f":"I3582","v":1944.5492665825495},{"$f":"J3582*F$9-H3582*F$8","v":-207},{"$f":"IF(P3582=1,K3582*B$1/(B$1+B$2+L3582),99999)","v":11.820407875328291},{"$f":"M3582*B$1/(B$1+B$2+L3582)","v":-2.1181354037898585},{"$f":"IF(MIN(L3582:L3585)+B$2+B$1>0,1,0)","v":1}]
[{"$f":"A3578","v":18},{"$f":"OFFSET(AL$1867,A3583+1,A3582)-B$10-U$3","v":1305.1784771714752},{"$f":"OFFSET(AL$1890,A3583+1,A3582)-B$11-V$3","v":2204.3568877178814},{"$f":"OFFSET(AL$1844,A3583+1,A3582)-B$12-W$3","v":-207},{"$f":"B3583*F$5+C3583*F$4","v":1305.1784771714752},{"$f":"C3583*F$5-B3583*F$4","v":2204.3568877178814},-207,1305.1784771714752,{"$f":"F3583*F$7+G3583*F$6","v":2204.3568877178814},{"$f":"G3583*F$7-F3583*F$6","v":-207},{"$f":"H3583*F$9+J3583*F$8","v":1305.1784771714752},{"$f":"I3583","v":2204.3568877178814},{"$f":"J3583*F$9-H3583*F$8","v":-207},{"$f":"IF(P3582=1,K3583*B$1/(B$1+B$2+L3583),99999)","v":11.788329915658659},{"$f":"M3583*B$1/(B$1+B$2+L3583)","v":-1.8696173245436911}]
[null,{"$f":"OFFSET(AL$1867,A3583,A3582+1)-B$10-U$3","v":1455.1784771714752},{"$f":"OFFSET(AL$1890,A3583,A3582+1)-B$11-V$3","v":1944.5492665825495},{"$f":"OFFSET(AL$1844,A3583,A3582+1)-B$12-W$3","v":-207},{"$f":"B3584*F$5+C3584*F$4","v":1455.1784771714752},{"$f":"C3584*F$5-B3584*F$4","v":1944.5492665825495},-207,1455.1784771714752,{"$f":"F3584*F$7+G3584*F$6","v":1944.5492665825495},{"$f":"G3584*F$7-F3584*F$6","v":-207},{"$f":"H3584*F$9+J3584*F$8","v":1455.1784771714752},{"$f":"I3584","v":1944.5492665825495},{"$f":"J3584*F$9-H3584*F$8","v":-207},{"$f":"IF(P3582=1,K3584*B$1/(B$1+B$2+L3584),99999)","v":14.890169330096203},{"$f":"M3584*B$1/(B$1+B$2+L3584)","v":-2.1181354037898585}]
[null,{"$f":"OFFSET(AL$1867,A3583,A3582)-B$10-U$3","v":1155.1784771714752},{"$f":"OFFSET(AL$1890,A3583,A3582)-B$11-V$3","v":1944.5492665825495},{"$f":"OFFSET(AL$1844,A3583,A3582)-B$12-W$3","v":-207},{"$f":"B3585*F$5+C3585*F$4","v":1155.1784771714752},{"$f":"C3585*F$5-B3585*F$4","v":1944.5492665825495},-207,1155.1784771714752,{"$f":"F3585*F$7+G3585*F$6","v":1944.5492665825495},{"$f":"G3585*F$7-F3585*F$6","v":-207},{"$f":"H3585*F$9+J3585*F$8","v":1155.1784771714752},{"$f":"I3585","v":1944.5492665825495},{"$f":"J3585*F$9-H3585*F$8","v":-207},{"$f":"IF(P3582=1,K3585*B$1/(B$1+B$2+L3585),99999)","v":11.820407875328291},{"$f":"M3585*B$1/(B$1+B$2+L3585)","v":-2.1181354037898585}]
[]
[{"$f":"A3582+1","v":15},{"$f":"OFFSET(AL$1867,A3588,A3587)-B$10-U$3","v":1455.1784771714752},{"$f":"OFFSET(AL$1890,A3588,A3587)-B$11-V$3","v":1944.5492665825495},{"$f":"OFFSET(AL$1844,A3588,A3587)-B$12-W$3","v":-207},{"$f":"B3587*F$5+C3587*F$4","v":1455.1784771714752},{"$f":"C3587*F$5-B3587*F$4","v":1944.5492665825495},{"$f":"D3587","v":-207},1455.1784771714752,{"$f":"F3587*F$7+G3587*F$6","v":1944.5492665825495},{"$f":"G3587*F$7-F3587*F$6","v":-207},{"$f":"H3587*F$9+J3587*F$8","v":1455.1784771714752},{"$f":"I3587","v":1944.5492665825495},{"$f":"J3587*F$9-H3587*F$8","v":-207},{"$f":"IF(P3587=1,K3587*B$1/(B$1+B$2+L3587),99999)","v":14.890169330096203},{"$f":"M3587*B$1/(B$1+B$2+L3587)","v":-2.1181354037898585},{"$f":"IF(MIN(L3587:L3590)+B$2+B$1>0,1,0)","v":1}]
[{"$f":"A3583","v":18},{"$f":"OFFSET(AL$1867,A3588+1,A3587)-B$10-U$3","v":1605.1784771714752},{"$f":"OFFSET(AL$1890,A3588+1,A3587)-B$11-V$3","v":2204.3568877178814},{"$f":"OFFSET(AL$1844,A3588+1,A3587)-B$12-W$3","v":-207},{"$f":"B3588*F$5+C3588*F$4","v":1605.1784771714752},{"$f":"C3588*F$5-B3588*F$4","v":2204.3568877178814},-207,1605.1784771714752,{"$f":"F3588*F$7+G3588*F$6","v":2204.3568877178814},{"$f":"G3588*F$7-F3588*F$6","v":-207},{"$f":"H3588*F$9+J3588*F$8","v":1605.1784771714752},{"$f":"I3588","v":2204.3568877178814},{"$f":"J3588*F$9-H3588*F$8","v":-207},{"$f":"IF(P3587=1,K3588*B$1/(B$1+B$2+L3588),99999)","v":14.4979202410843},{"$f":"M3588*B$1/(B$1+B$2+L3588)","v":-1.8696173245436911}]
[null,{"$f":"OFFSET(AL$1867,A3588,A3587+1)-B$10-U$3","v":1755.1784771714752},{"$f":"OFFSET(AL$1890,A3588,A3587+1)-B$11-V$3","v":1944.5492665825495},{"$f":"OFFSET(AL$1844,A3588,A3587+1)-B$12-W$3","v":-207},{"$f":"B3589*F$5+C3589*F$4","v":1755.1784771714752},{"$f":"C3589*F$5-B3589*F$4","v":1944.5492665825495},-207,1755.1784771714752,{"$f":"F3589*F$7+G3589*F$6","v":1944.5492665825495},{"$f":"G3589*F$7-F3589*F$6","v":-207},{"$f":"H3589*F$9+J3589*F$8","v":1755.1784771714752},{"$f":"I3589","v":1944.5492665825495},{"$f":"J3589*F$9-H3589*F$8","v":-207},{"$f":"IF(P3587=1,K3589*B$1/(B$1+B$2+L3589),99999)","v":17.959930784864113},{"$f":"M3589*B$1/(B$1+B$2+L3589)","v":-2.1181354037898585}]
[null,{"$f":"OFFSET(AL$1867,A3588,A3587)-B$10-U$3","v":1455.1784771714752},{"$f":"OFFSET(AL$1890,A3588,A3587)-B$11-V$3","v":1944.5492665825495},{"$f":"OFFSET(AL$1844,A3588,A3587)-B$12-W$3","v":-207},{"$f":"B3590*F$5+C3590*F$4","v":1455.1784771714752},{"$f":"C3590*F$5-B3590*F$4","v":1944.5492665825495},-207,1455.1784771714752,{"$f":"F3590*F$7+G3590*F$6","v":1944.5492665825495},{"$f":"G3590*F$7-F3590*F$6","v":-207},{"$f":"H3590*F$9+J3590*F$8","v":1455.1784771714752},{"$f":"I3590","v":1944.5492665825495},{"$f":"J3590*F$9-H3590*F$8","v":-207},{"$f":"IF(P3587=1,K3590*B$1/(B$1+B$2+L3590),99999)","v":14.890169330096203},{"$f":"M3590*B$1/(B$1+B$2+L3590)","v":-2.1181354037898585}]
[]
[{"$f":"A3587+1","v":16},{"$f":"OFFSET(AL$1867,A3593,A3592)-B$10-U$3","v":1755.1784771714752},{"$f":"OFFSET(AL$1890,A3593,A3592)-B$11-V$3","v":1944.5492665825495},{"$f":"OFFSET(AL$1844,A3593,A3592)-B$12-W$3","v":-207},{"$f":"B3592*F$5+C3592*F$4","v":1755.1784771714752},{"$f":"C3592*F$5-B3592*F$4","v":1944.5492665825495},{"$f":"D3592","v":-207},1755.1784771714752,{"$f":"F3592*F$7+G3592*F$6","v":1944.5492665825495},{"$f":"G3592*F$7-F3592*F$6","v":-207},{"$f":"H3592*F$9+J3592*F$8","v":1755.1784771714752},{"$f":"I3592","v":1944.5492665825495},{"$f":"J3592*F$9-H3592*F$8","v":-207},{"$f":"IF(P3592=1,K3592*B$1/(B$1+B$2+L3592),99999)","v":17.959930784864113},{"$f":"M3592*B$1/(B$1+B$2+L3592)","v":-2.1181354037898585},{"$f":"IF(MIN(L3592:L3595)+B$2+B$1>0,1,0)","v":1}]
[{"$f":"A3588","v":18},{"$f":"OFFSET(AL$1867,A3593+1,A3592)-B$10-U$3","v":1905.1784771714752},{"$f":"OFFSET(AL$1890,A3593+1,A3592)-B$11-V$3","v":2204.3568877178814},{"$f":"OFFSET(AL$1844,A3593+1,A3592)-B$12-W$3","v":-207},{"$f":"B3593*F$5+C3593*F$4","v":1905.1784771714752},{"$f":"C3593*F$5-B3593*F$4","v":2204.3568877178814},-207,1905.1784771714752,{"$f":"F3593*F$7+G3593*F$6","v":2204.3568877178814},{"$f":"G3593*F$7-F3593*F$6","v":-207},{"$f":"H3593*F$9+J3593*F$8","v":1905.1784771714752},{"$f":"I3593","v":2204.3568877178814},{"$f":"J3593*F$9-H3593*F$8","v":-207},{"$f":"IF(P3592=1,K3593*B$1/(B$1+B$2+L3593),99999)","v":17.207510566509939},{"$f":"M3593*B$1/(B$1+B$2+L3593)","v":-1.8696173245436911}]
[null,{"$f":"OFFSET(AL$1867,A3593,A3592+1)-B$10-U$3","v":2055.1784771714752},{"$f":"OFFSET(AL$1890,A3593,A3592+1)-B$11-V$3","v":1944.5492665825495},{"$f":"OFFSET(AL$1844,A3593,A3592+1)-B$12-W$3","v":-207},{"$f":"B3594*F$5+C3594*F$4","v":2055.1784771714752},{"$f":"C3594*F$5-B3594*F$4","v":1944.5492665825495},-207,2055.1784771714752,{"$f":"F3594*F$7+G3594*F$6","v":1944.5492665825495},{"$f":"G3594*F$7-F3594*F$6","v":-207},{"$f":"H3594*F$9+J3594*F$8","v":2055.1784771714752},{"$f":"I3594","v":1944.5492665825495},{"$f":"J3594*F$9-H3594*F$8","v":-207},{"$f":"IF(P3592=1,K3594*B$1/(B$1+B$2+L3594),99999)","v":21.029692239632023},{"$f":"M3594*B$1/(B$1+B$2+L3594)","v":-2.1181354037898585}]
[null,{"$f":"OFFSET(AL$1867,A3593,A3592)-B$10-U$3","v":1755.1784771714752},{"$f":"OFFSET(AL$1890,A3593,A3592)-B$11-V$3","v":1944.5492665825495},{"$f":"OFFSET(AL$1844,A3593,A3592)-B$12-W$3","v":-207},{"$f":"B3595*F$5+C3595*F$4","v":1755.1784771714752},{"$f":"C3595*F$5-B3595*F$4","v":1944.5492665825495},-207,1755.1784771714752,{"$f":"F3595*F$7+G3595*F$6","v":1944.5492665825495},{"$f":"G3595*F$7-F3595*F$6","v":-207},{"$f":"H3595*F$9+J3595*F$8","v":1755.1784771714752},{"$f":"I3595","v":1944.5492665825495},{"$f":"J3595*F$9-H3595*F$8","v":-207},{"$f":"IF(P3592=1,K3595*B$1/(B$1+B$2+L3595),99999)","v":17.959930784864113},{"$f":"M3595*B$1/(B$1+B$2+L3595)","v":-2.1181354037898585}]
[]
[{"$f":"A3592+1","v":17},{"$f":"OFFSET(AL$1867,A3598,A3597)-B$10-U$3","v":2055.1784771714752},{"$f":"OFFSET(AL$1890,A3598,A3597)-B$11-V$3","v":1944.5492665825495},{"$f":"OFFSET(AL$1844,A3598,A3597)-B$12-W$3","v":-207},{"$f":"B3597*F$5+C3597*F$4","v":2055.1784771714752},{"$f":"C3597*F$5-B3597*F$4","v":1944.5492665825495},{"$f":"D3597","v":-207},2055.1784771714752,{"$f":"F3597*F$7+G3597*F$6","v":1944.5492665825495},{"$f":"G3597*F$7-F3597*F$6","v":-207},{"$f":"H3597*F$9+J3597*F$8","v":2055.1784771714752},{"$f":"I3597","v":1944.5492665825495},{"$f":"J3597*F$9-H3597*F$8","v":-207},{"$f":"IF(P3597=1,K3597*B$1/(B$1+B$2+L3597),99999)","v":21.029692239632023},{"$f":"M3597*B$1/(B$1+B$2+L3597)","v":-2.1181354037898585},{"$f":"IF(MIN(L3597:L3600)+B$2+B$1>0,1,0)","v":1}]
[{"$f":"A3593","v":18},{"$f":"OFFSET(AL$1867,A3598+1,A3597)-B$10-U$3","v":2205.1784771714752},{"$f":"OFFSET(AL$1890,A3598+1,A3597)-B$11-V$3","v":2204.3568877178814},{"$f":"OFFSET(AL$1844,A3598+1,A3597)-B$12-W$3","v":-207},{"$f":"B3598*F$5+C3598*F$4","v":2205.1784771714752},{"$f":"C3598*F$5-B3598*F$4","v":2204.3568877178814},-207,2205.1784771714752,{"$f":"F3598*F$7+G3598*F$6","v":2204.3568877178814},{"$f":"G3598*F$7-F3598*F$6","v":-207},{"$f":"H3598*F$9+J3598*F$8","v":2205.1784771714752},{"$f":"I3598","v":2204.3568877178814},{"$f":"J3598*F$9-H3598*F$8","v":-207},{"$f":"IF(P3597=1,K3598*B$1/(B$1+B$2+L3598),99999)","v":19.917100891935579},{"$f":"M3598*B$1/(B$1+B$2+L3598)","v":-1.8696173245436911}]
[null,{"$f":"OFFSET(AL$1867,A3598,A3597+1)-B$10-U$3","v":2355.1784771714752},{"$f":"OFFSET(AL$1890,A3598,A3597+1)-B$11-V$3","v":1944.5492665825495},{"$f":"OFFSET(AL$1844,A3598,A3597+1)-B$12-W$3","v":-207},{"$f":"B3599*F$5+C3599*F$4","v":2355.1784771714752},{"$f":"C3599*F$5-B3599*F$4","v":1944.5492665825495},-207,2355.1784771714752,{"$f":"F3599*F$7+G3599*F$6","v":1944.5492665825495},{"$f":"G3599*F$7-F3599*F$6","v":-207},{"$f":"H3599*F$9+J3599*F$8","v":2355.1784771714752},{"$f":"I3599","v":1944.5492665825495},{"$f":"J3599*F$9-H3599*F$8","v":-207},{"$f":"IF(P3597=1,K3599*B$1/(B$1+B$2+L3599),99999)","v":24.099453694399934},{"$f":"M3599*B$1/(B$1+B$2+L3599)","v":-2.1181354037898585}]
[null,{"$f":"OFFSET(AL$1867,A3598,A3597)-B$10-U$3","v":2055.1784771714752},{"$f":"OFFSET(AL$1890,A3598,A3597)-B$11-V$3","v":1944.5492665825495},{"$f":"OFFSET(AL$1844,A3598,A3597)-B$12-W$3","v":-207},{"$f":"B3600*F$5+C3600*F$4","v":2055.1784771714752},{"$f":"C3600*F$5-B3600*F$4","v":1944.5492665825495},-207,2055.1784771714752,{"$f":"F3600*F$7+G3600*F$6","v":1944.5492665825495},{"$f":"G3600*F$7-F3600*F$6","v":-207},{"$f":"H3600*F$9+J3600*F$8","v":2055.1784771714752},{"$f":"I3600","v":1944.5492665825495},{"$f":"J3600*F$9-H3600*F$8","v":-207},{"$f":"IF(P3597=1,K3600*B$1/(B$1+B$2+L3600),99999)","v":21.029692239632023},{"$f":"M3600*B$1/(B$1+B$2+L3600)","v":-2.1181354037898585}]
[]
[{"$f":"A3597+1","v":18},{"$f":"OFFSET(AL$1867,A3603,A3602)-B$10-U$3","v":2355.1784771714752},{"$f":"OFFSET(AL$1890,A3603,A3602)-B$11-V$3","v":1944.5492665825495},{"$f":"OFFSET(AL$1844,A3603,A3602)-B$12-W$3","v":-207},{"$f":"B3602*F$5+C3602*F$4","v":2355.1784771714752},{"$f":"C3602*F$5-B3602*F$4","v":1944.5492665825495},{"$f":"D3602","v":-207},2355.1784771714752,{"$f":"F3602*F$7+G3602*F$6","v":1944.5492665825495},{"$f":"G3602*F$7-F3602*F$6","v":-207},{"$f":"H3602*F$9+J3602*F$8","v":2355.1784771714752},{"$f":"I3602","v":1944.5492665825495},{"$f":"J3602*F$9-H3602*F$8","v":-207},{"$f":"IF(P3602=1,K3602*B$1/(B$1+B$2+L3602),99999)","v":24.099453694399934},{"$f":"M3602*B$1/(B$1+B$2+L3602)","v":-2.1181354037898585},{"$f":"IF(MIN(L3602:L3605)+B$2+B$1>0,1,0)","v":1}]
[{"$f":"A3598","v":18},{"$f":"OFFSET(AL$1867,A3603+1,A3602)-B$10-U$3","v":2505.1784771714752},{"$f":"OFFSET(AL$1890,A3603+1,A3602)-B$11-V$3","v":2204.3568877178814},{"$f":"OFFSET(AL$1844,A3603+1,A3602)-B$12-W$3","v":-207},{"$f":"B3603*F$5+C3603*F$4","v":2505.1784771714752},{"$f":"C3603*F$5-B3603*F$4","v":2204.3568877178814},-207,2505.1784771714752,{"$f":"F3603*F$7+G3603*F$6","v":2204.3568877178814},{"$f":"G3603*F$7-F3603*F$6","v":-207},{"$f":"H3603*F$9+J3603*F$8","v":2505.1784771714752},{"$f":"I3603","v":2204.3568877178814},{"$f":"J3603*F$9-H3603*F$8","v":-207},{"$f":"IF(P3602=1,K3603*B$1/(B$1+B$2+L3603),99999)","v":22.626691217361216},{"$f":"M3603*B$1/(B$1+B$2+L3603)","v":-1.8696173245436911}]
[null,{"$f":"OFFSET(AL$1867,A3603,A3602+1)-B$10-U$3","v":2655.1784771714752},{"$f":"OFFSET(AL$1890,A3603,A3602+1)-B$11-V$3","v":1944.5492665825495},{"$f":"OFFSET(AL$1844,A3603,A3602+1)-B$12-W$3","v":-207},{"$f":"B3604*F$5+C3604*F$4","v":2655.1784771714752},{"$f":"C3604*F$5-B3604*F$4","v":1944.5492665825495},-207,2655.1784771714752,{"$f":"F3604*F$7+G3604*F$6","v":1944.5492665825495},{"$f":"G3604*F$7-F3604*F$6","v":-207},{"$f":"H3604*F$9+J3604*F$8","v":2655.1784771714752},{"$f":"I3604","v":1944.5492665825495},{"$f":"J3604*F$9-H3604*F$8","v":-207},{"$f":"IF(P3602=1,K3604*B$1/(B$1+B$2+L3604),99999)","v":27.169215149167844},{"$f":"M3604*B$1/(B$1+B$2+L3604)","v":-2.1181354037898585}]
[null,{"$f":"OFFSET(AL$1867,A3603,A3602)-B$10-U$3","v":2355.1784771714752},{"$f":"OFFSET(AL$1890,A3603,A3602)-B$11-V$3","v":1944.5492665825495},{"$f":"OFFSET(AL$1844,A3603,A3602)-B$12-W$3","v":-207},{"$f":"B3605*F$5+C3605*F$4","v":2355.1784771714752},{"$f":"C3605*F$5-B3605*F$4","v":1944.5492665825495},-207,2355.1784771714752,{"$f":"F3605*F$7+G3605*F$6","v":1944.5492665825495},{"$f":"G3605*F$7-F3605*F$6","v":-207},{"$f":"H3605*F$9+J3605*F$8","v":2355.1784771714752},{"$f":"I3605","v":1944.5492665825495},{"$f":"J3605*F$9-H3605*F$8","v":-207},{"$f":"IF(P3602=1,K3605*B$1/(B$1+B$2+L3605),99999)","v":24.099453694399934},{"$f":"M3605*B$1/(B$1+B$2+L3605)","v":-2.1181354037898585}]
[]
[{"$f":"A3602+1","v":19},{"$f":"OFFSET(AL$1867,A3608,A3607)-B$10-U$3","v":2655.1784771714752},{"$f":"OFFSET(AL$1890,A3608,A3607)-B$11-V$3","v":1944.5492665825495},{"$f":"OFFSET(AL$1844,A3608,A3607)-B$12-W$3","v":-207},{"$f":"B3607*F$5+C3607*F$4","v":2655.1784771714752},{"$f":"C3607*F$5-B3607*F$4","v":1944.5492665825495},{"$f":"D3607","v":-207},2655.1784771714752,{"$f":"F3607*F$7+G3607*F$6","v":1944.5492665825495},{"$f":"G3607*F$7-F3607*F$6","v":-207},{"$f":"H3607*F$9+J3607*F$8","v":2655.1784771714752},{"$f":"I3607","v":1944.5492665825495},{"$f":"J3607*F$9-H3607*F$8","v":-207},{"$f":"IF(P3607=1,K3607*B$1/(B$1+B$2+L3607),99999)","v":27.169215149167844},{"$f":"M3607*B$1/(B$1+B$2+L3607)","v":-2.1181354037898585},{"$f":"IF(MIN(L3607:L3610)+B$2+B$1>0,1,0)","v":1}]
[{"$f":"A3603","v":18},{"$f":"OFFSET(AL$1867,A3608+1,A3607)-B$10-U$3","v":2805.1784771714752},{"$f":"OFFSET(AL$1890,A3608+1,A3607)-B$11-V$3","v":2204.3568877178814},{"$f":"OFFSET(AL$1844,A3608+1,A3607)-B$12-W$3","v":-207},{"$f":"B3608*F$5+C3608*F$4","v":2805.1784771714752},{"$f":"C3608*F$5-B3608*F$4","v":2204.3568877178814},-207,2805.1784771714752,{"$f":"F3608*F$7+G3608*F$6","v":2204.3568877178814},{"$f":"G3608*F$7-F3608*F$6","v":-207},{"$f":"H3608*F$9+J3608*F$8","v":2805.1784771714752},{"$f":"I3608","v":2204.3568877178814},{"$f":"J3608*F$9-H3608*F$8","v":-207},{"$f":"IF(P3607=1,K3608*B$1/(B$1+B$2+L3608),99999)","v":25.336281542786857},{"$f":"M3608*B$1/(B$1+B$2+L3608)","v":-1.8696173245436911}]
[null,{"$f":"OFFSET(AL$1867,A3608,A3607+1)-B$10-U$3","v":2955.1784771714752},{"$f":"OFFSET(AL$1890,A3608,A3607+1)-B$11-V$3","v":1944.5492665825495},{"$f":"OFFSET(AL$1844,A3608,A3607+1)-B$12-W$3","v":-207},{"$f":"B3609*F$5+C3609*F$4","v":2955.1784771714752},{"$f":"C3609*F$5-B3609*F$4","v":1944.5492665825495},-207,2955.1784771714752,{"$f":"F3609*F$7+G3609*F$6","v":1944.5492665825495},{"$f":"G3609*F$7-F3609*F$6","v":-207},{"$f":"H3609*F$9+J3609*F$8","v":2955.1784771714752},{"$f":"I3609","v":1944.5492665825495},{"$f":"J3609*F$9-H3609*F$8","v":-207},{"$f":"IF(P3607=1,K3609*B$1/(B$1+B$2+L3609),99999)","v":30.238976603935754},{"$f":"M3609*B$1/(B$1+B$2+L3609)","v":-2.1181354037898585}]
[null,{"$f":"OFFSET(AL$1867,A3608,A3607)-B$10-U$3","v":2655.1784771714752},{"$f":"OFFSET(AL$1890,A3608,A3607)-B$11-V$3","v":1944.5492665825495},{"$f":"OFFSET(AL$1844,A3608,A3607)-B$12-W$3","v":-207},{"$f":"B3610*F$5+C3610*F$4","v":2655.1784771714752},{"$f":"C3610*F$5-B3610*F$4","v":1944.5492665825495},-207,2655.1784771714752,{"$f":"F3610*F$7+G3610*F$6","v":1944.5492665825495},{"$f":"G3610*F$7-F3610*F$6","v":-207},{"$f":"H3610*F$9+J3610*F$8","v":2655.1784771714752},{"$f":"I3610","v":1944.5492665825495},{"$f":"J3610*F$9-H3610*F$8","v":-207},{"$f":"IF(P3607=1,K3610*B$1/(B$1+B$2+L3610),99999)","v":27.169215149167844},{"$f":"M3610*B$1/(B$1+B$2+L3610)","v":-2.1181354037898585}]
[]
[0,{"$f":"OFFSET(AL$1867,A3613,A3612)-B$10-U$3","v":-2894.8215228285248},{"$f":"OFFSET(AL$1890,A3613,A3612)-B$11-V$3","v":2204.3568877178814},{"$f":"OFFSET(AL$1844,A3613,A3612)-B$12-W$3","v":-207},{"$f":"B3612*F$5+C3612*F$4","v":-2894.8215228285248},{"$f":"C3612*F$5-B3612*F$4","v":2204.3568877178814},{"$f":"D3612","v":-207},-2894.8215228285248,{"$f":"F3612*F$7+G3612*F$6","v":2204.3568877178814},{"$f":"G3612*F$7-F3612*F$6","v":-207},{"$f":"H3612*F$9+J3612*F$8","v":-2894.8215228285248},{"$f":"I3612","v":2204.3568877178814},{"$f":"J3612*F$9-H3612*F$8","v":-207},{"$f":"IF(P3612=1,K3612*B$1/(B$1+B$2+L3612),99999)","v":-26.14593464030029},{"$f":"M3612*B$1/(B$1+B$2+L3612)","v":-1.8696173245436911},{"$f":"IF(MIN(L3612:L3615)+B$2+B$1>0,1,0)","v":1}]
[{"$f":"A3608+1","v":19},{"$f":"OFFSET(AL$1867,A3613+1,A3612+1)-B$10-U$3","v":-2744.8215228285248},{"$f":"OFFSET(AL$1890,A3613+1,A3612+1)-B$11-V$3","v":2464.1645088532132},{"$f":"OFFSET(AL$1844,A3613+1,A3612+1)-B$12-W$3","v":-207},{"$f":"B3613*F$5+C3613*F$4","v":-2744.8215228285248},{"$f":"C3613*F$5-B3613*F$4","v":2464.1645088532132},-207,-2744.8215228285248,{"$f":"F3613*F$7+G3613*F$6","v":2464.1645088532132},{"$f":"G3613*F$7-F3613*F$6","v":-207},{"$f":"H3613*F$9+J3613*F$8","v":-2744.8215228285248},{"$f":"I3613","v":2464.1645088532132},{"$f":"J3613*F$9-H3613*F$8","v":-207},{"$f":"IF(P3612=1,K3613*B$1/(B$1+B$2+L3613),99999)","v":-22.187865948337951},{"$f":"M3613*B$1/(B$1+B$2+L3613)","v":-1.6732921296001086}]
[null,{"$f":"OFFSET(AL$1867,A3613,A3612+1)-B$10-U$3","v":-2594.8215228285248},{"$f":"OFFSET(AL$1890,A3613,A3612+1)-B$11-V$3","v":2204.3568877178814},{"$f":"OFFSET(AL$1844,A3613,A3612+1)-B$12-W$3","v":-207},{"$f":"B3614*F$5+C3614*F$4","v":-2594.8215228285248},{"$f":"C3614*F$5-B3614*F$4","v":2204.3568877178814},-207,-2594.8215228285248,{"$f":"F3614*F$7+G3614*F$6","v":2204.3568877178814},{"$f":"G3614*F$7-F3614*F$6","v":-207},{"$f":"H3614*F$9+J3614*F$8","v":-2594.8215228285248},{"$f":"I3614","v":2204.3568877178814},{"$f":"J3614*F$9-H3614*F$8","v":-207},{"$f":"IF(P3612=1,K3614*B$1/(B$1+B$2+L3614),99999)","v":-23.436344314874653},{"$f":"M3614*B$1/(B$1+B$2+L3614)","v":-1.8696173245436911}]
[null,{"$f":"OFFSET(AL$1867,A3613,A3612)-B$10-U$3","v":-2894.8215228285248},{"$f":"OFFSET(AL$1890,A3613,A3612)-B$11-V$3","v":2204.3568877178814},{"$f":"OFFSET(AL$1844,A3613,A3612)-B$12-W$3","v":-207},{"$f":"B3615*F$5+C3615*F$4","v":-2894.8215228285248},{"$f":"C3615*F$5-B3615*F$4","v":2204.3568877178814},-207,-2894.8215228285248,{"$f":"F3615*F$7+G3615*F$6","v":2204.3568877178814},{"$f":"G3615*F$7-F3615*F$6","v":-207},{"$f":"H3615*F$9+J3615*F$8","v":-2894.8215228285248},{"$f":"I3615","v":2204.3568877178814},{"$f":"J3615*F$9-H3615*F$8","v":-207},{"$f":"IF(P3612=1,K3615*B$1/(B$1+B$2+L3615),99999)","v":-26.14593464030029},{"$f":"M3615*B$1/(B$1+B$2+L3615)","v":-1.8696173245436911}]
[]
[{"$f":"A3612+1","v":1},{"$f":"OFFSET(AL$1867,A3618,A3617)-B$10-U$3","v":-2594.8215228285248},{"$f":"OFFSET(AL$1890,A3618,A3617)-B$11-V$3","v":2204.3568877178814},{"$f":"OFFSET(AL$1844,A3618,A3617)-B$12-W$3","v":-207},{"$f":"B3617*F$5+C3617*F$4","v":-2594.8215228285248},{"$f":"C3617*F$5-B3617*F$4","v":2204.3568877178814},{"$f":"D3617","v":-207},-2594.8215228285248,{"$f":"F3617*F$7+G3617*F$6","v":2204.3568877178814},{"$f":"G3617*F$7-F3617*F$6","v":-207},{"$f":"H3617*F$9+J3617*F$8","v":-2594.8215228285248},{"$f":"I3617","v":2204.3568877178814},{"$f":"J3617*F$9-H3617*F$8","v":-207},{"$f":"IF(P3617=1,K3617*B$1/(B$1+B$2+L3617),99999)","v":-23.436344314874653},{"$f":"M3617*B$1/(B$1+B$2+L3617)","v":-1.8696173245436911},{"$f":"IF(MIN(L3617:L3620)+B$2+B$1>0,1,0)","v":1}]
[{"$f":"A3613","v":19},{"$f":"OFFSET(AL$1867,A3618+1,A3617+1)-B$10-U$3","v":-2444.8215228285248},{"$f":"OFFSET(AL$1890,A3618+1,A3617+1)-B$11-V$3","v":2464.1645088532132},{"$f":"OFFSET(AL$1844,A3618+1,A3617+1)-B$12-W$3","v":-207},{"$f":"B3618*F$5+C3618*F$4","v":-2444.8215228285248},{"$f":"C3618*F$5-B3618*F$4","v":2464.1645088532132},-207,-2444.8215228285248,{"$f":"F3618*F$7+G3618*F$6","v":2464.1645088532132},{"$f":"G3618*F$7-F3618*F$6","v":-207},{"$f":"H3618*F$9+J3618*F$8","v":-2444.8215228285248},{"$f":"I3618","v":2464.1645088532132},{"$f":"J3618*F$9-H3618*F$8","v":-207},{"$f":"IF(P3617=1,K3618*B$1/(B$1+B$2+L3618),99999)","v":-19.762804890946487},{"$f":"M3618*B$1/(B$1+B$2+L3618)","v":-1.6732921296001086}]
[null,{"$f":"OFFSET(AL$1867,A3618,A3617+1)-B$10-U$3","v":-2294.8215228285248},{"$f":"OFFSET(AL$1890,A3618,A3617+1)-B$11-V$3","v":2204.3568877178814},{"$f":"OFFSET(AL$1844,A3618,A3617+1)-B$12-W$3","v":-207},{"$f":"B3619*F$5+C3619*F$4","v":-2294.8215228285248},{"$f":"C3619*F$5-B3619*F$4","v":2204.3568877178814},-207,-2294.8215228285248,{"$f":"F3619*F$7+G3619*F$6","v":2204.3568877178814},{"$f":"G3619*F$7-F3619*F$6","v":-207},{"$f":"H3619*F$9+J3619*F$8","v":-2294.8215228285248},{"$f":"I3619","v":2204.3568877178814},{"$f":"J3619*F$9-H3619*F$8","v":-207},{"$f":"IF(P3617=1,K3619*B$1/(B$1+B$2+L3619),99999)","v":-20.726753989449012},{"$f":"M3619*B$1/(B$1+B$2+L3619)","v":-1.8696173245436911}]
[null,{"$f":"OFFSET(AL$1867,A3618,A3617)-B$10-U$3","v":-2594.8215228285248},{"$f":"OFFSET(AL$1890,A3618,A3617)-B$11-V$3","v":2204.3568877178814},{"$f":"OFFSET(AL$1844,A3618,A3617)-B$12-W$3","v":-207},{"$f":"B3620*F$5+C3620*F$4","v":-2594.8215228285248},{"$f":"C3620*F$5-B3620*F$4","v":2204.3568877178814},-207,-2594.8215228285248,{"$f":"F3620*F$7+G3620*F$6","v":2204.3568877178814},{"$f":"G3620*F$7-F3620*F$6","v":-207},{"$f":"H3620*F$9+J3620*F$8","v":-2594.8215228285248},{"$f":"I3620","v":2204.3568877178814},{"$f":"J3620*F$9-H3620*F$8","v":-207},{"$f":"IF(P3617=1,K3620*B$1/(B$1+B$2+L3620),99999)","v":-23.436344314874653},{"$f":"M3620*B$1/(B$1+B$2+L3620)","v":-1.8696173245436911}]
[]
[{"$f":"A3617+1","v":2},{"$f":"OFFSET(AL$1867,A3623,A3622)-B$10-U$3","v":-2294.8215228285248},{"$f":"OFFSET(AL$1890,A3623,A3622)-B$11-V$3","v":2204.3568877178814},{"$f":"OFFSET(AL$1844,A3623,A3622)-B$12-W$3","v":-207},{"$f":"B3622*F$5+C3622*F$4","v":-2294.8215228285248},{"$f":"C3622*F$5-B3622*F$4","v":2204.3568877178814},{"$f":"D3622","v":-207},-2294.8215228285248,{"$f":"F3622*F$7+G3622*F$6","v":2204.3568877178814},{"$f":"G3622*F$7-F3622*F$6","v":-207},{"$f":"H3622*F$9+J3622*F$8","v":-2294.8215228285248},{"$f":"I3622","v":2204.3568877178814},{"$f":"J3622*F$9-H3622*F$8","v":-207},{"$f":"IF(P3622=1,K3622*B$1/(B$1+B$2+L3622),99999)","v":-20.726753989449012},{"$f":"M3622*B$1/(B$1+B$2+L3622)","v":-1.8696173245436911},{"$f":"IF(MIN(L3622:L3625)+B$2+B$1>0,1,0)","v":1}]
[{"$f":"A3618","v":19},{"$f":"OFFSET(AL$1867,A3623+1,A3622+1)-B$10-U$3","v":-2144.8215228285248},{"$f":"OFFSET(AL$1890,A3623+1,A3622+1)-B$11-V$3","v":2464.1645088532132},{"$f":"OFFSET(AL$1844,A3623+1,A3622+1)-B$12-W$3","v":-207},{"$f":"B3623*F$5+C3623*F$4","v":-2144.8215228285248},{"$f":"C3623*F$5-B3623*F$4","v":2464.1645088532132},-207,-2144.8215228285248,{"$f":"F3623*F$7+G3623*F$6","v":2464.1645088532132},{"$f":"G3623*F$7-F3623*F$6","v":-207},{"$f":"H3623*F$9+J3623*F$8","v":-2144.8215228285248},{"$f":"I3623","v":2464.1645088532132},{"$f":"J3623*F$9-H3623*F$8","v":-207},{"$f":"IF(P3622=1,K3623*B$1/(B$1+B$2+L3623),99999)","v":-17.337743833555024},{"$f":"M3623*B$1/(B$1+B$2+L3623)","v":-1.6732921296001086}]
[null,{"$f":"OFFSET(AL$1867,A3623,A3622+1)-B$10-U$3","v":-1994.8215228285248},{"$f":"OFFSET(AL$1890,A3623,A3622+1)-B$11-V$3","v":2204.3568877178814},{"$f":"OFFSET(AL$1844,A3623,A3622+1)-B$12-W$3","v":-207},{"$f":"B3624*F$5+C3624*F$4","v":-1994.8215228285248},{"$f":"C3624*F$5-B3624*F$4","v":2204.3568877178814},-207,-1994.8215228285248,{"$f":"F3624*F$7+G3624*F$6","v":2204.3568877178814},{"$f":"G3624*F$7-F3624*F$6","v":-207},{"$f":"H3624*F$9+J3624*F$8","v":-1994.8215228285248},{"$f":"I3624","v":2204.3568877178814},{"$f":"J3624*F$9-H3624*F$8","v":-207},{"$f":"IF(P3622=1,K3624*B$1/(B$1+B$2+L3624),99999)","v":-18.017163664023371},{"$f":"M3624*B$1/(B$1+B$2+L3624)","v":-1.8696173245436911}]
[null,{"$f":"OFFSET(AL$1867,A3623,A3622)-B$10-U$3","v":-2294.8215228285248},{"$f":"OFFSET(AL$1890,A3623,A3622)-B$11-V$3","v":2204.3568877178814},{"$f":"OFFSET(AL$1844,A3623,A3622)-B$12-W$3","v":-207},{"$f":"B3625*F$5+C3625*F$4","v":-2294.8215228285248},{"$f":"C3625*F$5-B3625*F$4","v":2204.3568877178814},-207,-2294.8215228285248,{"$f":"F3625*F$7+G3625*F$6","v":2204.3568877178814},{"$f":"G3625*F$7-F3625*F$6","v":-207},{"$f":"H3625*F$9+J3625*F$8","v":-2294.8215228285248},{"$f":"I3625","v":2204.3568877178814},{"$f":"J3625*F$9-H3625*F$8","v":-207},{"$f":"IF(P3622=1,K3625*B$1/(B$1+B$2+L3625),99999)","v":-20.726753989449012},{"$f":"M3625*B$1/(B$1+B$2+L3625)","v":-1.8696173245436911}]
[]
[{"$f":"A3622+1","v":3},{"$f":"OFFSET(AL$1867,A3628,A3627)-B$10-U$3","v":-1994.8215228285248},{"$f":"OFFSET(AL$1890,A3628,A3627)-B$11-V$3","v":2204.3568877178814},{"$f":"OFFSET(AL$1844,A3628,A3627)-B$12-W$3","v":-207},{"$f":"B3627*F$5+C3627*F$4","v":-1994.8215228285248},{"$f":"C3627*F$5-B3627*F$4","v":2204.3568877178814},{"$f":"D3627","v":-207},-1994.8215228285248,{"$f":"F3627*F$7+G3627*F$6","v":2204.3568877178814},{"$f":"G3627*F$7-F3627*F$6","v":-207},{"$f":"H3627*F$9+J3627*F$8","v":-1994.8215228285248},{"$f":"I3627","v":2204.3568877178814},{"$f":"J3627*F$9-H3627*F$8","v":-207},{"$f":"IF(P3627=1,K3627*B$1/(B$1+B$2+L3627),99999)","v":-18.017163664023371},{"$f":"M3627*B$1/(B$1+B$2+L3627)","v":-1.8696173245436911},{"$f":"IF(MIN(L3627:L3630)+B$2+B$1>0,1,0)","v":1}]
[{"$f":"A3623","v":19},{"$f":"OFFSET(AL$1867,A3628+1,A3627+1)-B$10-U$3","v":-1844.8215228285248},{"$f":"OFFSET(AL$1890,A3628+1,A3627+1)-B$11-V$3","v":2464.1645088532132},{"$f":"OFFSET(AL$1844,A3628+1,A3627+1)-B$12-W$3","v":-207},{"$f":"B3628*F$5+C3628*F$4","v":-1844.8215228285248},{"$f":"C3628*F$5-B3628*F$4","v":2464.1645088532132},-207,-1844.8215228285248,{"$f":"F3628*F$7+G3628*F$6","v":2464.1645088532132},{"$f":"G3628*F$7-F3628*F$6","v":-207},{"$f":"H3628*F$9+J3628*F$8","v":-1844.8215228285248},{"$f":"I3628","v":2464.1645088532132},{"$f":"J3628*F$9-H3628*F$8","v":-207},{"$f":"IF(P3627=1,K3628*B$1/(B$1+B$2+L3628),99999)","v":-14.912682776163564},{"$f":"M3628*B$1/(B$1+B$2+L3628)","v":-1.6732921296001086}]
[null,{"$f":"OFFSET(AL$1867,A3628,A3627+1)-B$10-U$3","v":-1694.8215228285248},{"$f":"OFFSET(AL$1890,A3628,A3627+1)-B$11-V$3","v":2204.3568877178814},{"$f":"OFFSET(AL$1844,A3628,A3627+1)-B$12-W$3","v":-207},{"$f":"B3629*F$5+C3629*F$4","v":-1694.8215228285248},{"$f":"C3629*F$5-B3629*F$4","v":2204.3568877178814},-207,-1694.8215228285248,{"$f":"F3629*F$7+G3629*F$6","v":2204.3568877178814},{"$f":"G3629*F$7-F3629*F$6","v":-207},{"$f":"H3629*F$9+J3629*F$8","v":-1694.8215228285248},{"$f":"I3629","v":2204.3568877178814},{"$f":"J3629*F$9-H3629*F$8","v":-207},{"$f":"IF(P3627=1,K3629*B$1/(B$1+B$2+L3629),99999)","v":-15.307573338597733},{"$f":"M3629*B$1/(B$1+B$2+L3629)","v":-1.8696173245436911}]
[null,{"$f":"OFFSET(AL$1867,A3628,A3627)-B$10-U$3","v":-1994.8215228285248},{"$f":"OFFSET(AL$1890,A3628,A3627)-B$11-V$3","v":2204.3568877178814},{"$f":"OFFSET(AL$1844,A3628,A3627)-B$12-W$3","v":-207},{"$f":"B3630*F$5+C3630*F$4","v":-1994.8215228285248},{"$f":"C3630*F$5-B3630*F$4","v":2204.3568877178814},-207,-1994.8215228285248,{"$f":"F3630*F$7+G3630*F$6","v":2204.3568877178814},{"$f":"G3630*F$7-F3630*F$6","v":-207},{"$f":"H3630*F$9+J3630*F$8","v":-1994.8215228285248},{"$f":"I3630","v":2204.3568877178814},{"$f":"J3630*F$9-H3630*F$8","v":-207},{"$f":"IF(P3627=1,K3630*B$1/(B$1+B$2+L3630),99999)","v":-18.017163664023371},{"$f":"M3630*B$1/(B$1+B$2+L3630)","v":-1.8696173245436911}]
[]
[{"$f":"A3627+1","v":4},{"$f":"OFFSET(AL$1867,A3633,A3632)-B$10-U$3","v":-1694.8215228285248},{"$f":"OFFSET(AL$1890,A3633,A3632)-B$11-V$3","v":2204.3568877178814},{"$f":"OFFSET(AL$1844,A3633,A3632)-B$12-W$3","v":-207},{"$f":"B3632*F$5+C3632*F$4","v":-1694.8215228285248},{"$f":"C3632*F$5-B3632*F$4","v":2204.3568877178814},{"$f":"D3632","v":-207},-1694.8215228285248,{"$f":"F3632*F$7+G3632*F$6","v":2204.3568877178814},{"$f":"G3632*F$7-F3632*F$6","v":-207},{"$f":"H3632*F$9+J3632*F$8","v":-1694.8215228285248},{"$f":"I3632","v":2204.3568877178814},{"$f":"J3632*F$9-H3632*F$8","v":-207},{"$f":"IF(P3632=1,K3632*B$1/(B$1+B$2+L3632),99999)","v":-15.307573338597733},{"$f":"M3632*B$1/(B$1+B$2+L3632)","v":-1.8696173245436911},{"$f":"IF(MIN(L3632:L3635)+B$2+B$1>0,1,0)","v":1}]
[{"$f":"A3628","v":19},{"$f":"OFFSET(AL$1867,A3633+1,A3632+1)-B$10-U$3","v":-1544.8215228285248},{"$f":"OFFSET(AL$1890,A3633+1,A3632+1)-B$11-V$3","v":2464.1645088532132},{"$f":"OFFSET(AL$1844,A3633+1,A3632+1)-B$12-W$3","v":-207},{"$f":"B3633*F$5+C3633*F$4","v":-1544.8215228285248},{"$f":"C3633*F$5-B3633*F$4","v":2464.1645088532132},-207,-1544.8215228285248,{"$f":"F3633*F$7+G3633*F$6","v":2464.1645088532132},{"$f":"G3633*F$7-F3633*F$6","v":-207},{"$f":"H3633*F$9+J3633*F$8","v":-1544.8215228285248},{"$f":"I3633","v":2464.1645088532132},{"$f":"J3633*F$9-H3633*F$8","v":-207},{"$f":"IF(P3632=1,K3633*B$1/(B$1+B$2+L3633),99999)","v":-12.487621718772102},{"$f":"M3633*B$1/(B$1+B$2+L3633)","v":-1.6732921296001086}]
[null,{"$f":"OFFSET(AL$1867,A3633,A3632+1)-B$10-U$3","v":-1394.8215228285248},{"$f":"OFFSET(AL$1890,A3633,A3632+1)-B$11-V$3","v":2204.3568877178814},{"$f":"OFFSET(AL$1844,A3633,A3632+1)-B$12-W$3","v":-207},{"$f":"B3634*F$5+C3634*F$4","v":-1394.8215228285248},{"$f":"C3634*F$5-B3634*F$4","v":2204.3568877178814},-207,-1394.8215228285248,{"$f":"F3634*F$7+G3634*F$6","v":2204.3568877178814},{"$f":"G3634*F$7-F3634*F$6","v":-207},{"$f":"H3634*F$9+J3634*F$8","v":-1394.8215228285248},{"$f":"I3634","v":2204.3568877178814},{"$f":"J3634*F$9-H3634*F$8","v":-207},{"$f":"IF(P3632=1,K3634*B$1/(B$1+B$2+L3634),99999)","v":-12.597983013172094},{"$f":"M3634*B$1/(B$1+B$2+L3634)","v":-1.8696173245436911}]
[null,{"$f":"OFFSET(AL$1867,A3633,A3632)-B$10-U$3","v":-1694.8215228285248},{"$f":"OFFSET(AL$1890,A3633,A3632)-B$11-V$3","v":2204.3568877178814},{"$f":"OFFSET(AL$1844,A3633,A3632)-B$12-W$3","v":-207},{"$f":"B3635*F$5+C3635*F$4","v":-1694.8215228285248},{"$f":"C3635*F$5-B3635*F$4","v":2204.3568877178814},-207,-1694.8215228285248,{"$f":"F3635*F$7+G3635*F$6","v":2204.3568877178814},{"$f":"G3635*F$7-F3635*F$6","v":-207},{"$f":"H3635*F$9+J3635*F$8","v":-1694.8215228285248},{"$f":"I3635","v":2204.3568877178814},{"$f":"J3635*F$9-H3635*F$8","v":-207},{"$f":"IF(P3632=1,K3635*B$1/(B$1+B$2+L3635),99999)","v":-15.307573338597733},{"$f":"M3635*B$1/(B$1+B$2+L3635)","v":-1.8696173245436911}]
[]
[{"$f":"A3632+1","v":5},{"$f":"OFFSET(AL$1867,A3638,A3637)-B$10-U$3","v":-1394.8215228285248},{"$f":"OFFSET(AL$1890,A3638,A3637)-B$11-V$3","v":2204.3568877178814},{"$f":"OFFSET(AL$1844,A3638,A3637)-B$12-W$3","v":-207},{"$f":"B3637*F$5+C3637*F$4","v":-1394.8215228285248},{"$f":"C3637*F$5-B3637*F$4","v":2204.3568877178814},{"$f":"D3637","v":-207},-1394.8215228285248,{"$f":"F3637*F$7+G3637*F$6","v":2204.3568877178814},{"$f":"G3637*F$7-F3637*F$6","v":-207},{"$f":"H3637*F$9+J3637*F$8","v":-1394.8215228285248},{"$f":"I3637","v":2204.3568877178814},{"$f":"J3637*F$9-H3637*F$8","v":-207},{"$f":"IF(P3637=1,K3637*B$1/(B$1+B$2+L3637),99999)","v":-12.597983013172094},{"$f":"M3637*B$1/(B$1+B$2+L3637)","v":-1.8696173245436911},{"$f":"IF(MIN(L3637:L3640)+B$2+B$1>0,1,0)","v":1}]
[{"$f":"A3633","v":19},{"$f":"OFFSET(AL$1867,A3638+1,A3637+1)-B$10-U$3","v":-1244.8215228285248},{"$f":"OFFSET(AL$1890,A3638+1,A3637+1)-B$11-V$3","v":2464.1645088532132},{"$f":"OFFSET(AL$1844,A3638+1,A3637+1)-B$12-W$3","v":-207},{"$f":"B3638*F$5+C3638*F$4","v":-1244.8215228285248},{"$f":"C3638*F$5-B3638*F$4","v":2464.1645088532132},-207,-1244.8215228285248,{"$f":"F3638*F$7+G3638*F$6","v":2464.1645088532132},{"$f":"G3638*F$7-F3638*F$6","v":-207},{"$f":"H3638*F$9+J3638*F$8","v":-1244.8215228285248},{"$f":"I3638","v":2464.1645088532132},{"$f":"J3638*F$9-H3638*F$8","v":-207},{"$f":"IF(P3637=1,K3638*B$1/(B$1+B$2+L3638),99999)","v":-10.06256066138064},{"$f":"M3638*B$1/(B$1+B$2+L3638)","v":-1.6732921296001086}]
[null,{"$f":"OFFSET(AL$1867,A3638,A3637+1)-B$10-U$3","v":-1094.8215228285248},{"$f":"OFFSET(AL$1890,A3638,A3637+1)-B$11-V$3","v":2204.3568877178814},{"$f":"OFFSET(AL$1844,A3638,A3637+1)-B$12-W$3","v":-207},{"$f":"B3639*F$5+C3639*F$4","v":-1094.8215228285248},{"$f":"C3639*F$5-B3639*F$4","v":2204.3568877178814},-207,-1094.8215228285248,{"$f":"F3639*F$7+G3639*F$6","v":2204.3568877178814},{"$f":"G3639*F$7-F3639*F$6","v":-207},{"$f":"H3639*F$9+J3639*F$8","v":-1094.8215228285248},{"$f":"I3639","v":2204.3568877178814},{"$f":"J3639*F$9-H3639*F$8","v":-207},{"$f":"IF(P3637=1,K3639*B$1/(B$1+B$2+L3639),99999)","v":-9.888392687746455},{"$f":"M3639*B$1/(B$1+B$2+L3639)","v":-1.8696173245436911}]
[null,{"$f":"OFFSET(AL$1867,A3638,A3637)-B$10-U$3","v":-1394.8215228285248},{"$f":"OFFSET(AL$1890,A3638,A3637)-B$11-V$3","v":2204.3568877178814},{"$f":"OFFSET(AL$1844,A3638,A3637)-B$12-W$3","v":-207},{"$f":"B3640*F$5+C3640*F$4","v":-1394.8215228285248},{"$f":"C3640*F$5-B3640*F$4","v":2204.3568877178814},-207,-1394.8215228285248,{"$f":"F3640*F$7+G3640*F$6","v":2204.3568877178814},{"$f":"G3640*F$7-F3640*F$6","v":-207},{"$f":"H3640*F$9+J3640*F$8","v":-1394.8215228285248},{"$f":"I3640","v":2204.3568877178814},{"$f":"J3640*F$9-H3640*F$8","v":-207},{"$f":"IF(P3637=1,K3640*B$1/(B$1+B$2+L3640),99999)","v":-12.597983013172094},{"$f":"M3640*B$1/(B$1+B$2+L3640)","v":-1.8696173245436911}]
[]
[{"$f":"A3637+1","v":6},{"$f":"OFFSET(AL$1867,A3643,A3642)-B$10-U$3","v":-1094.8215228285248},{"$f":"OFFSET(AL$1890,A3643,A3642)-B$11-V$3","v":2204.3568877178814},{"$f":"OFFSET(AL$1844,A3643,A3642)-B$12-W$3","v":-207},{"$f":"B3642*F$5+C3642*F$4","v":-1094.8215228285248},{"$f":"C3642*F$5-B3642*F$4","v":2204.3568877178814},{"$f":"D3642","v":-207},-1094.8215228285248,{"$f":"F3642*F$7+G3642*F$6","v":2204.3568877178814},{"$f":"G3642*F$7-F3642*F$6","v":-207},{"$f":"H3642*F$9+J3642*F$8","v":-1094.8215228285248},{"$f":"I3642","v":2204.3568877178814},{"$f":"J3642*F$9-H3642*F$8","v":-207},{"$f":"IF(P3642=1,K3642*B$1/(B$1+B$2+L3642),99999)","v":-9.888392687746455},{"$f":"M3642*B$1/(B$1+B$2+L3642)","v":-1.8696173245436911},{"$f":"IF(MIN(L3642:L3645)+B$2+B$1>0,1,0)","v":1}]
[{"$f":"A3638","v":19},{"$f":"OFFSET(AL$1867,A3643+1,A3642+1)-B$10-U$3","v":-944.82152282852485},{"$f":"OFFSET(AL$1890,A3643+1,A3642+1)-B$11-V$3","v":2464.1645088532132},{"$f":"OFFSET(AL$1844,A3643+1,A3642+1)-B$12-W$3","v":-207},{"$f":"B3643*F$5+C3643*F$4","v":-944.82152282852485},{"$f":"C3643*F$5-B3643*F$4","v":2464.1645088532132},-207,-944.82152282852485,{"$f":"F3643*F$7+G3643*F$6","v":2464.1645088532132},{"$f":"G3643*F$7-F3643*F$6","v":-207},{"$f":"H3643*F$9+J3643*F$8","v":-944.82152282852485},{"$f":"I3643","v":2464.1645088532132},{"$f":"J3643*F$9-H3643*F$8","v":-207},{"$f":"IF(P3642=1,K3643*B$1/(B$1+B$2+L3643),99999)","v":-7.6374996039891778},{"$f":"M3643*B$1/(B$1+B$2+L3643)","v":-1.6732921296001086}]
[null,{"$f":"OFFSET(AL$1867,A3643,A3642+1)-B$10-U$3","v":-794.82152282852485},{"$f":"OFFSET(AL$1890,A3643,A3642+1)-B$11-V$3","v":2204.3568877178814},{"$f":"OFFSET(AL$1844,A3643,A3642+1)-B$12-W$3","v":-207},{"$f":"B3644*F$5+C3644*F$4","v":-794.82152282852485},{"$f":"C3644*F$5-B3644*F$4","v":2204.3568877178814},-207,-794.82152282852485,{"$f":"F3644*F$7+G3644*F$6","v":2204.3568877178814},{"$f":"G3644*F$7-F3644*F$6","v":-207},{"$f":"H3644*F$9+J3644*F$8","v":-794.82152282852485},{"$f":"I3644","v":2204.3568877178814},{"$f":"J3644*F$9-H3644*F$8","v":-207},{"$f":"IF(P3642=1,K3644*B$1/(B$1+B$2+L3644),99999)","v":-7.1788023623208161},{"$f":"M3644*B$1/(B$1+B$2+L3644)","v":-1.8696173245436911}]
[null,{"$f":"OFFSET(AL$1867,A3643,A3642)-B$10-U$3","v":-1094.8215228285248},{"$f":"OFFSET(AL$1890,A3643,A3642)-B$11-V$3","v":2204.3568877178814},{"$f":"OFFSET(AL$1844,A3643,A3642)-B$12-W$3","v":-207},{"$f":"B3645*F$5+C3645*F$4","v":-1094.8215228285248},{"$f":"C3645*F$5-B3645*F$4","v":2204.3568877178814},-207,-1094.8215228285248,{"$f":"F3645*F$7+G3645*F$6","v":2204.3568877178814},{"$f":"G3645*F$7-F3645*F$6","v":-207},{"$f":"H3645*F$9+J3645*F$8","v":-1094.8215228285248},{"$f":"I3645","v":2204.3568877178814},{"$f":"J3645*F$9-H3645*F$8","v":-207},{"$f":"IF(P3642=1,K3645*B$1/(B$1+B$2+L3645),99999)","v":-9.888392687746455},{"$f":"M3645*B$1/(B$1+B$2+L3645)","v":-1.8696173245436911}]
[]
[{"$f":"A3642+1","v":7},{"$f":"OFFSET(AL$1867,A3648,A3647)-B$10-U$3","v":-794.82152282852485},{"$f":"OFFSET(AL$1890,A3648,A3647)-B$11-V$3","v":2204.3568877178814},{"$f":"OFFSET(AL$1844,A3648,A3647)-B$12-W$3","v":-207},{"$f":"B3647*F$5+C3647*F$4","v":-794.82152282852485},{"$f":"C3647*F$5-B3647*F$4","v":2204.3568877178814},{"$f":"D3647","v":-207},-794.82152282852485,{"$f":"F3647*F$7+G3647*F$6","v":2204.3568877178814},{"$f":"G3647*F$7-F3647*F$6","v":-207},{"$f":"H3647*F$9+J3647*F$8","v":-794.82152282852485},{"$f":"I3647","v":2204.3568877178814},{"$f":"J3647*F$9-H3647*F$8","v":-207},{"$f":"IF(P3647=1,K3647*B$1/(B$1+B$2+L3647),99999)","v":-7.1788023623208161},{"$f":"M3647*B$1/(B$1+B$2+L3647)","v":-1.8696173245436911},{"$f":"IF(MIN(L3647:L3650)+B$2+B$1>0,1,0)","v":1}]
[{"$f":"A3643","v":19},{"$f":"OFFSET(AL$1867,A3648+1,A3647+1)-B$10-U$3","v":-644.82152282852485},{"$f":"OFFSET(AL$1890,A3648+1,A3647+1)-B$11-V$3","v":2464.1645088532132},{"$f":"OFFSET(AL$1844,A3648+1,A3647+1)-B$12-W$3","v":-207},{"$f":"B3648*F$5+C3648*F$4","v":-644.82152282852485},{"$f":"C3648*F$5-B3648*F$4","v":2464.1645088532132},-207,-644.82152282852485,{"$f":"F3648*F$7+G3648*F$6","v":2464.1645088532132},{"$f":"G3648*F$7-F3648*F$6","v":-207},{"$f":"H3648*F$9+J3648*F$8","v":-644.82152282852485},{"$f":"I3648","v":2464.1645088532132},{"$f":"J3648*F$9-H3648*F$8","v":-207},{"$f":"IF(P3647=1,K3648*B$1/(B$1+B$2+L3648),99999)","v":-5.212438546597717},{"$f":"M3648*B$1/(B$1+B$2+L3648)","v":-1.6732921296001086}]
[null,{"$f":"OFFSET(AL$1867,A3648,A3647+1)-B$10-U$3","v":-494.82152282852485},{"$f":"OFFSET(AL$1890,A3648,A3647+1)-B$11-V$3","v":2204.3568877178814},{"$f":"OFFSET(AL$1844,A3648,A3647+1)-B$12-W$3","v":-207},{"$f":"B3649*F$5+C3649*F$4","v":-494.82152282852485},{"$f":"C3649*F$5-B3649*F$4","v":2204.3568877178814},-207,-494.82152282852485,{"$f":"F3649*F$7+G3649*F$6","v":2204.3568877178814},{"$f":"G3649*F$7-F3649*F$6","v":-207},{"$f":"H3649*F$9+J3649*F$8","v":-494.82152282852485},{"$f":"I3649","v":2204.3568877178814},{"$f":"J3649*F$9-H3649*F$8","v":-207},{"$f":"IF(P3647=1,K3649*B$1/(B$1+B$2+L3649),99999)","v":-4.4692120368951764},{"$f":"M3649*B$1/(B$1+B$2+L3649)","v":-1.8696173245436911}]
[null,{"$f":"OFFSET(AL$1867,A3648,A3647)-B$10-U$3","v":-794.82152282852485},{"$f":"OFFSET(AL$1890,A3648,A3647)-B$11-V$3","v":2204.3568877178814},{"$f":"OFFSET(AL$1844,A3648,A3647)-B$12-W$3","v":-207},{"$f":"B3650*F$5+C3650*F$4","v":-794.82152282852485},{"$f":"C3650*F$5-B3650*F$4","v":2204.3568877178814},-207,-794.82152282852485,{"$f":"F3650*F$7+G3650*F$6","v":2204.3568877178814},{"$f":"G3650*F$7-F3650*F$6","v":-207},{"$f":"H3650*F$9+J3650*F$8","v":-794.82152282852485},{"$f":"I3650","v":2204.3568877178814},{"$f":"J3650*F$9-H3650*F$8","v":-207},{"$f":"IF(P3647=1,K3650*B$1/(B$1+B$2+L3650),99999)","v":-7.1788023623208161},{"$f":"M3650*B$1/(B$1+B$2+L3650)","v":-1.8696173245436911}]
[]
[{"$f":"A3647+1","v":8},{"$f":"OFFSET(AL$1867,A3653,A3652)-B$10-U$3","v":-494.82152282852485},{"$f":"OFFSET(AL$1890,A3653,A3652)-B$11-V$3","v":2204.3568877178814},{"$f":"OFFSET(AL$1844,A3653,A3652)-B$12-W$3","v":-207},{"$f":"B3652*F$5+C3652*F$4","v":-494.82152282852485},{"$f":"C3652*F$5-B3652*F$4","v":2204.3568877178814},{"$f":"D3652","v":-207},-494.82152282852485,{"$f":"F3652*F$7+G3652*F$6","v":2204.3568877178814},{"$f":"G3652*F$7-F3652*F$6","v":-207},{"$f":"H3652*F$9+J3652*F$8","v":-494.82152282852485},{"$f":"I3652","v":2204.3568877178814},{"$f":"J3652*F$9-H3652*F$8","v":-207},{"$f":"IF(P3652=1,K3652*B$1/(B$1+B$2+L3652),99999)","v":-4.4692120368951764},{"$f":"M3652*B$1/(B$1+B$2+L3652)","v":-1.8696173245436911},{"$f":"IF(MIN(L3652:L3655)+B$2+B$1>0,1,0)","v":1}]
[{"$f":"A3648","v":19},{"$f":"OFFSET(AL$1867,A3653+1,A3652+1)-B$10-U$3","v":-344.82152282852485},{"$f":"OFFSET(AL$1890,A3653+1,A3652+1)-B$11-V$3","v":2464.1645088532132},{"$f":"OFFSET(AL$1844,A3653+1,A3652+1)-B$12-W$3","v":-207},{"$f":"B3653*F$5+C3653*F$4","v":-344.82152282852485},{"$f":"C3653*F$5-B3653*F$4","v":2464.1645088532132},-207,-344.82152282852485,{"$f":"F3653*F$7+G3653*F$6","v":2464.1645088532132},{"$f":"G3653*F$7-F3653*F$6","v":-207},{"$f":"H3653*F$9+J3653*F$8","v":-344.82152282852485},{"$f":"I3653","v":2464.1645088532132},{"$f":"J3653*F$9-H3653*F$8","v":-207},{"$f":"IF(P3652=1,K3653*B$1/(B$1+B$2+L3653),99999)","v":-2.7873774892062553},{"$f":"M3653*B$1/(B$1+B$2+L3653)","v":-1.6732921296001086}]
[null,{"$f":"OFFSET(AL$1867,A3653,A3652+1)-B$10-U$3","v":-194.82152282852485},{"$f":"OFFSET(AL$1890,A3653,A3652+1)-B$11-V$3","v":2204.3568877178814},{"$f":"OFFSET(AL$1844,A3653,A3652+1)-B$12-W$3","v":-207},{"$f":"B3654*F$5+C3654*F$4","v":-194.82152282852485},{"$f":"C3654*F$5-B3654*F$4","v":2204.3568877178814},-207,-194.82152282852485,{"$f":"F3654*F$7+G3654*F$6","v":2204.3568877178814},{"$f":"G3654*F$7-F3654*F$6","v":-207},{"$f":"H3654*F$9+J3654*F$8","v":-194.82152282852485},{"$f":"I3654","v":2204.3568877178814},{"$f":"J3654*F$9-H3654*F$8","v":-207},{"$f":"IF(P3652=1,K3654*B$1/(B$1+B$2+L3654),99999)","v":-1.7596217114695376},{"$f":"M3654*B$1/(B$1+B$2+L3654)","v":-1.8696173245436911}]
[null,{"$f":"OFFSET(AL$1867,A3653,A3652)-B$10-U$3","v":-494.82152282852485},{"$f":"OFFSET(AL$1890,A3653,A3652)-B$11-V$3","v":2204.3568877178814},{"$f":"OFFSET(AL$1844,A3653,A3652)-B$12-W$3","v":-207},{"$f":"B3655*F$5+C3655*F$4","v":-494.82152282852485},{"$f":"C3655*F$5-B3655*F$4","v":2204.3568877178814},-207,-494.82152282852485,{"$f":"F3655*F$7+G3655*F$6","v":2204.3568877178814},{"$f":"G3655*F$7-F3655*F$6","v":-207},{"$f":"H3655*F$9+J3655*F$8","v":-494.82152282852485},{"$f":"I3655","v":2204.3568877178814},{"$f":"J3655*F$9-H3655*F$8","v":-207},{"$f":"IF(P3652=1,K3655*B$1/(B$1+B$2+L3655),99999)","v":-4.4692120368951764},{"$f":"M3655*B$1/(B$1+B$2+L3655)","v":-1.8696173245436911}]
[]
[{"$f":"A3652+1","v":9},{"$f":"OFFSET(AL$1867,A3658,A3657)-B$10-U$3","v":-194.82152282852485},{"$f":"OFFSET(AL$1890,A3658,A3657)-B$11-V$3","v":2204.3568877178814},{"$f":"OFFSET(AL$1844,A3658,A3657)-B$12-W$3","v":-207},{"$f":"B3657*F$5+C3657*F$4","v":-194.82152282852485},{"$f":"C3657*F$5-B3657*F$4","v":2204.3568877178814},{"$f":"D3657","v":-207},-194.82152282852485,{"$f":"F3657*F$7+G3657*F$6","v":2204.3568877178814},{"$f":"G3657*F$7-F3657*F$6","v":-207},{"$f":"H3657*F$9+J3657*F$8","v":-194.82152282852485},{"$f":"I3657","v":2204.3568877178814},{"$f":"J3657*F$9-H3657*F$8","v":-207},{"$f":"IF(P3657=1,K3657*B$1/(B$1+B$2+L3657),99999)","v":-1.7596217114695376},{"$f":"M3657*B$1/(B$1+B$2+L3657)","v":-1.8696173245436911},{"$f":"IF(MIN(L3657:L3660)+B$2+B$1>0,1,0)","v":1}]
[{"$f":"A3653","v":19},{"$f":"OFFSET(AL$1867,A3658+1,A3657+1)-B$10-U$3","v":-44.821522828524849},{"$f":"OFFSET(AL$1890,A3658+1,A3657+1)-B$11-V$3","v":2464.1645088532132},{"$f":"OFFSET(AL$1844,A3658+1,A3657+1)-B$12-W$3","v":-207},{"$f":"B3658*F$5+C3658*F$4","v":-44.821522828524849},{"$f":"C3658*F$5-B3658*F$4","v":2464.1645088532132},-207,-44.821522828524849,{"$f":"F3658*F$7+G3658*F$6","v":2464.1645088532132},{"$f":"G3658*F$7-F3658*F$6","v":-207},{"$f":"H3658*F$9+J3658*F$8","v":-44.821522828524849},{"$f":"I3658","v":2464.1645088532132},{"$f":"J3658*F$9-H3658*F$8","v":-207},{"$f":"IF(P3657=1,K3658*B$1/(B$1+B$2+L3658),99999)","v":-0.36231643181479339},{"$f":"M3658*B$1/(B$1+B$2+L3658)","v":-1.6732921296001086}]
[null,{"$f":"OFFSET(AL$1867,A3658,A3657+1)-B$10-U$3","v":105.17847717147515},{"$f":"OFFSET(AL$1890,A3658,A3657+1)-B$11-V$3","v":2204.3568877178814},{"$f":"OFFSET(AL$1844,A3658,A3657+1)-B$12-W$3","v":-207},{"$f":"B3659*F$5+C3659*F$4","v":105.17847717147515},{"$f":"C3659*F$5-B3659*F$4","v":2204.3568877178814},-207,105.17847717147515,{"$f":"F3659*F$7+G3659*F$6","v":2204.3568877178814},{"$f":"G3659*F$7-F3659*F$6","v":-207},{"$f":"H3659*F$9+J3659*F$8","v":105.17847717147515},{"$f":"I3659","v":2204.3568877178814},{"$f":"J3659*F$9-H3659*F$8","v":-207},{"$f":"IF(P3657=1,K3659*B$1/(B$1+B$2+L3659),99999)","v":0.94996861395610177},{"$f":"M3659*B$1/(B$1+B$2+L3659)","v":-1.8696173245436911}]
[null,{"$f":"OFFSET(AL$1867,A3658,A3657)-B$10-U$3","v":-194.82152282852485},{"$f":"OFFSET(AL$1890,A3658,A3657)-B$11-V$3","v":2204.3568877178814},{"$f":"OFFSET(AL$1844,A3658,A3657)-B$12-W$3","v":-207},{"$f":"B3660*F$5+C3660*F$4","v":-194.82152282852485},{"$f":"C3660*F$5-B3660*F$4","v":2204.3568877178814},-207,-194.82152282852485,{"$f":"F3660*F$7+G3660*F$6","v":2204.3568877178814},{"$f":"G3660*F$7-F3660*F$6","v":-207},{"$f":"H3660*F$9+J3660*F$8","v":-194.82152282852485},{"$f":"I3660","v":2204.3568877178814},{"$f":"J3660*F$9-H3660*F$8","v":-207},{"$f":"IF(P3657=1,K3660*B$1/(B$1+B$2+L3660),99999)","v":-1.7596217114695376},{"$f":"M3660*B$1/(B$1+B$2+L3660)","v":-1.8696173245436911}]
[]
[{"$f":"A3657+1","v":10},{"$f":"OFFSET(AL$1867,A3663,A3662)-B$10-U$3","v":105.17847717147515},{"$f":"OFFSET(AL$1890,A3663,A3662)-B$11-V$3","v":2204.3568877178814},{"$f":"OFFSET(AL$1844,A3663,A3662)-B$12-W$3","v":-207},{"$f":"B3662*F$5+C3662*F$4","v":105.17847717147515},{"$f":"C3662*F$5-B3662*F$4","v":2204.3568877178814},{"$f":"D3662","v":-207},105.17847717147515,{"$f":"F3662*F$7+G3662*F$6","v":2204.3568877178814},{"$f":"G3662*F$7-F3662*F$6","v":-207},{"$f":"H3662*F$9+J3662*F$8","v":105.17847717147515},{"$f":"I3662","v":2204.3568877178814},{"$f":"J3662*F$9-H3662*F$8","v":-207},{"$f":"IF(P3662=1,K3662*B$1/(B$1+B$2+L3662),99999)","v":0.94996861395610177},{"$f":"M3662*B$1/(B$1+B$2+L3662)","v":-1.8696173245436911},{"$f":"IF(MIN(L3662:L3665)+B$2+B$1>0,1,0)","v":1}]
[{"$f":"A3658","v":19},{"$f":"OFFSET(AL$1867,A3663+1,A3662+1)-B$10-U$3","v":255.17847717147515},{"$f":"OFFSET(AL$1890,A3663+1,A3662+1)-B$11-V$3","v":2464.1645088532132},{"$f":"OFFSET(AL$1844,A3663+1,A3662+1)-B$12-W$3","v":-207},{"$f":"B3663*F$5+C3663*F$4","v":255.17847717147515},{"$f":"C3663*F$5-B3663*F$4","v":2464.1645088532132},-207,255.17847717147515,{"$f":"F3663*F$7+G3663*F$6","v":2464.1645088532132},{"$f":"G3663*F$7-F3663*F$6","v":-207},{"$f":"H3663*F$9+J3663*F$8","v":255.17847717147515},{"$f":"I3663","v":2464.1645088532132},{"$f":"J3663*F$9-H3663*F$8","v":-207},{"$f":"IF(P3662=1,K3663*B$1/(B$1+B$2+L3663),99999)","v":2.0627446255766686},{"$f":"M3663*B$1/(B$1+B$2+L3663)","v":-1.6732921296001086}]
[null,{"$f":"OFFSET(AL$1867,A3663,A3662+1)-B$10-U$3","v":405.17847717147515},{"$f":"OFFSET(AL$1890,A3663,A3662+1)-B$11-V$3","v":2204.3568877178814},{"$f":"OFFSET(AL$1844,A3663,A3662+1)-B$12-W$3","v":-207},{"$f":"B3664*F$5+C3664*F$4","v":405.17847717147515},{"$f":"C3664*F$5-B3664*F$4","v":2204.3568877178814},-207,405.17847717147515,{"$f":"F3664*F$7+G3664*F$6","v":2204.3568877178814},{"$f":"G3664*F$7-F3664*F$6","v":-207},{"$f":"H3664*F$9+J3664*F$8","v":405.17847717147515},{"$f":"I3664","v":2204.3568877178814},{"$f":"J3664*F$9-H3664*F$8","v":-207},{"$f":"IF(P3662=1,K3664*B$1/(B$1+B$2+L3664),99999)","v":3.6595589393817409},{"$f":"M3664*B$1/(B$1+B$2+L3664)","v":-1.8696173245436911}]
[null,{"$f":"OFFSET(AL$1867,A3663,A3662)-B$10-U$3","v":105.17847717147515},{"$f":"OFFSET(AL$1890,A3663,A3662)-B$11-V$3","v":2204.3568877178814},{"$f":"OFFSET(AL$1844,A3663,A3662)-B$12-W$3","v":-207},{"$f":"B3665*F$5+C3665*F$4","v":105.17847717147515},{"$f":"C3665*F$5-B3665*F$4","v":2204.3568877178814},-207,105.17847717147515,{"$f":"F3665*F$7+G3665*F$6","v":2204.3568877178814},{"$f":"G3665*F$7-F3665*F$6","v":-207},{"$f":"H3665*F$9+J3665*F$8","v":105.17847717147515},{"$f":"I3665","v":2204.3568877178814},{"$f":"J3665*F$9-H3665*F$8","v":-207},{"$f":"IF(P3662=1,K3665*B$1/(B$1+B$2+L3665),99999)","v":0.94996861395610177},{"$f":"M3665*B$1/(B$1+B$2+L3665)","v":-1.8696173245436911}]
[]
[{"$f":"A3662+1","v":11},{"$f":"OFFSET(AL$1867,A3668,A3667)-B$10-U$3","v":405.17847717147515},{"$f":"OFFSET(AL$1890,A3668,A3667)-B$11-V$3","v":2204.3568877178814},{"$f":"OFFSET(AL$1844,A3668,A3667)-B$12-W$3","v":-207},{"$f":"B3667*F$5+C3667*F$4","v":405.17847717147515},{"$f":"C3667*F$5-B3667*F$4","v":2204.3568877178814},{"$f":"D3667","v":-207},405.17847717147515,{"$f":"F3667*F$7+G3667*F$6","v":2204.3568877178814},{"$f":"G3667*F$7-F3667*F$6","v":-207},{"$f":"H3667*F$9+J3667*F$8","v":405.17847717147515},{"$f":"I3667","v":2204.3568877178814},{"$f":"J3667*F$9-H3667*F$8","v":-207},{"$f":"IF(P3667=1,K3667*B$1/(B$1+B$2+L3667),99999)","v":3.6595589393817409},{"$f":"M3667*B$1/(B$1+B$2+L3667)","v":-1.8696173245436911},{"$f":"IF(MIN(L3667:L3670)+B$2+B$1>0,1,0)","v":1}]
[{"$f":"A3663","v":19},{"$f":"OFFSET(AL$1867,A3668+1,A3667+1)-B$10-U$3","v":555.17847717147515},{"$f":"OFFSET(AL$1890,A3668+1,A3667+1)-B$11-V$3","v":2464.1645088532132},{"$f":"OFFSET(AL$1844,A3668+1,A3667+1)-B$12-W$3","v":-207},{"$f":"B3668*F$5+C3668*F$4","v":555.17847717147515},{"$f":"C3668*F$5-B3668*F$4","v":2464.1645088532132},-207,555.17847717147515,{"$f":"F3668*F$7+G3668*F$6","v":2464.1645088532132},{"$f":"G3668*F$7-F3668*F$6","v":-207},{"$f":"H3668*F$9+J3668*F$8","v":555.17847717147515},{"$f":"I3668","v":2464.1645088532132},{"$f":"J3668*F$9-H3668*F$8","v":-207},{"$f":"IF(P3667=1,K3668*B$1/(B$1+B$2+L3668),99999)","v":4.4878056829681299},{"$f":"M3668*B$1/(B$1+B$2+L3668)","v":-1.6732921296001086}]
[null,{"$f":"OFFSET(AL$1867,A3668,A3667+1)-B$10-U$3","v":705.17847717147515},{"$f":"OFFSET(AL$1890,A3668,A3667+1)-B$11-V$3","v":2204.3568877178814},{"$f":"OFFSET(AL$1844,A3668,A3667+1)-B$12-W$3","v":-207},{"$f":"B3669*F$5+C3669*F$4","v":705.17847717147515},{"$f":"C3669*F$5-B3669*F$4","v":2204.3568877178814},-207,705.17847717147515,{"$f":"F3669*F$7+G3669*F$6","v":2204.3568877178814},{"$f":"G3669*F$7-F3669*F$6","v":-207},{"$f":"H3669*F$9+J3669*F$8","v":705.17847717147515},{"$f":"I3669","v":2204.3568877178814},{"$f":"J3669*F$9-H3669*F$8","v":-207},{"$f":"IF(P3667=1,K3669*B$1/(B$1+B$2+L3669),99999)","v":6.3691492648073806},{"$f":"M3669*B$1/(B$1+B$2+L3669)","v":-1.8696173245436911}]
[null,{"$f":"OFFSET(AL$1867,A3668,A3667)-B$10-U$3","v":405.17847717147515},{"$f":"OFFSET(AL$1890,A3668,A3667)-B$11-V$3","v":2204.3568877178814},{"$f":"OFFSET(AL$1844,A3668,A3667)-B$12-W$3","v":-207},{"$f":"B3670*F$5+C3670*F$4","v":405.17847717147515},{"$f":"C3670*F$5-B3670*F$4","v":2204.3568877178814},-207,405.17847717147515,{"$f":"F3670*F$7+G3670*F$6","v":2204.3568877178814},{"$f":"G3670*F$7-F3670*F$6","v":-207},{"$f":"H3670*F$9+J3670*F$8","v":405.17847717147515},{"$f":"I3670","v":2204.3568877178814},{"$f":"J3670*F$9-H3670*F$8","v":-207},{"$f":"IF(P3667=1,K3670*B$1/(B$1+B$2+L3670),99999)","v":3.6595589393817409},{"$f":"M3670*B$1/(B$1+B$2+L3670)","v":-1.8696173245436911}]
[]
[{"$f":"A3667+1","v":12},{"$f":"OFFSET(AL$1867,A3673,A3672)-B$10-U$3","v":705.17847717147515},{"$f":"OFFSET(AL$1890,A3673,A3672)-B$11-V$3","v":2204.3568877178814},{"$f":"OFFSET(AL$1844,A3673,A3672)-B$12-W$3","v":-207},{"$f":"B3672*F$5+C3672*F$4","v":705.17847717147515},{"$f":"C3672*F$5-B3672*F$4","v":2204.3568877178814},{"$f":"D3672","v":-207},705.17847717147515,{"$f":"F3672*F$7+G3672*F$6","v":2204.3568877178814},{"$f":"G3672*F$7-F3672*F$6","v":-207},{"$f":"H3672*F$9+J3672*F$8","v":705.17847717147515},{"$f":"I3672","v":2204.3568877178814},{"$f":"J3672*F$9-H3672*F$8","v":-207},{"$f":"IF(P3672=1,K3672*B$1/(B$1+B$2+L3672),99999)","v":6.3691492648073806},{"$f":"M3672*B$1/(B$1+B$2+L3672)","v":-1.8696173245436911},{"$f":"IF(MIN(L3672:L3675)+B$2+B$1>0,1,0)","v":1}]
[{"$f":"A3668","v":19},{"$f":"OFFSET(AL$1867,A3673+1,A3672+1)-B$10-U$3","v":855.17847717147515},{"$f":"OFFSET(AL$1890,A3673+1,A3672+1)-B$11-V$3","v":2464.1645088532132},{"$f":"OFFSET(AL$1844,A3673+1,A3672+1)-B$12-W$3","v":-207},{"$f":"B3673*F$5+C3673*F$4","v":855.17847717147515},{"$f":"C3673*F$5-B3673*F$4","v":2464.1645088532132},-207,855.17847717147515,{"$f":"F3673*F$7+G3673*F$6","v":2464.1645088532132},{"$f":"G3673*F$7-F3673*F$6","v":-207},{"$f":"H3673*F$9+J3673*F$8","v":855.17847717147515},{"$f":"I3673","v":2464.1645088532132},{"$f":"J3673*F$9-H3673*F$8","v":-207},{"$f":"IF(P3672=1,K3673*B$1/(B$1+B$2+L3673),99999)","v":6.9128667403595925},{"$f":"M3673*B$1/(B$1+B$2+L3673)","v":-1.6732921296001086}]
[null,{"$f":"OFFSET(AL$1867,A3673,A3672+1)-B$10-U$3","v":1005.1784771714752},{"$f":"OFFSET(AL$1890,A3673,A3672+1)-B$11-V$3","v":2204.3568877178814},{"$f":"OFFSET(AL$1844,A3673,A3672+1)-B$12-W$3","v":-207},{"$f":"B3674*F$5+C3674*F$4","v":1005.1784771714752},{"$f":"C3674*F$5-B3674*F$4","v":2204.3568877178814},-207,1005.1784771714752,{"$f":"F3674*F$7+G3674*F$6","v":2204.3568877178814},{"$f":"G3674*F$7-F3674*F$6","v":-207},{"$f":"H3674*F$9+J3674*F$8","v":1005.1784771714752},{"$f":"I3674","v":2204.3568877178814},{"$f":"J3674*F$9-H3674*F$8","v":-207},{"$f":"IF(P3672=1,K3674*B$1/(B$1+B$2+L3674),99999)","v":9.0787395902330204},{"$f":"M3674*B$1/(B$1+B$2+L3674)","v":-1.8696173245436911}]
[null,{"$f":"OFFSET(AL$1867,A3673,A3672)-B$10-U$3","v":705.17847717147515},{"$f":"OFFSET(AL$1890,A3673,A3672)-B$11-V$3","v":2204.3568877178814},{"$f":"OFFSET(AL$1844,A3673,A3672)-B$12-W$3","v":-207},{"$f":"B3675*F$5+C3675*F$4","v":705.17847717147515},{"$f":"C3675*F$5-B3675*F$4","v":2204.3568877178814},-207,705.17847717147515,{"$f":"F3675*F$7+G3675*F$6","v":2204.3568877178814},{"$f":"G3675*F$7-F3675*F$6","v":-207},{"$f":"H3675*F$9+J3675*F$8","v":705.17847717147515},{"$f":"I3675","v":2204.3568877178814},{"$f":"J3675*F$9-H3675*F$8","v":-207},{"$f":"IF(P3672=1,K3675*B$1/(B$1+B$2+L3675),99999)","v":6.3691492648073806},{"$f":"M3675*B$1/(B$1+B$2+L3675)","v":-1.8696173245436911}]
[]
[{"$f":"A3672+1","v":13},{"$f":"OFFSET(AL$1867,A3678,A3677)-B$10-U$3","v":1005.1784771714752},{"$f":"OFFSET(AL$1890,A3678,A3677)-B$11-V$3","v":2204.3568877178814},{"$f":"OFFSET(AL$1844,A3678,A3677)-B$12-W$3","v":-207},{"$f":"B3677*F$5+C3677*F$4","v":1005.1784771714752},{"$f":"C3677*F$5-B3677*F$4","v":2204.3568877178814},{"$f":"D3677","v":-207},1005.1784771714752,{"$f":"F3677*F$7+G3677*F$6","v":2204.3568877178814},{"$f":"G3677*F$7-F3677*F$6","v":-207},{"$f":"H3677*F$9+J3677*F$8","v":1005.1784771714752},{"$f":"I3677","v":2204.3568877178814},{"$f":"J3677*F$9-H3677*F$8","v":-207},{"$f":"IF(P3677=1,K3677*B$1/(B$1+B$2+L3677),99999)","v":9.0787395902330204},{"$f":"M3677*B$1/(B$1+B$2+L3677)","v":-1.8696173245436911},{"$f":"IF(MIN(L3677:L3680)+B$2+B$1>0,1,0)","v":1}]
[{"$f":"A3673","v":19},{"$f":"OFFSET(AL$1867,A3678+1,A3677+1)-B$10-U$3","v":1155.1784771714752},{"$f":"OFFSET(AL$1890,A3678+1,A3677+1)-B$11-V$3","v":2464.1645088532132},{"$f":"OFFSET(AL$1844,A3678+1,A3677+1)-B$12-W$3","v":-207},{"$f":"B3678*F$5+C3678*F$4","v":1155.1784771714752},{"$f":"C3678*F$5-B3678*F$4","v":2464.1645088532132},-207,1155.1784771714752,{"$f":"F3678*F$7+G3678*F$6","v":2464.1645088532132},{"$f":"G3678*F$7-F3678*F$6","v":-207},{"$f":"H3678*F$9+J3678*F$8","v":1155.1784771714752},{"$f":"I3678","v":2464.1645088532132},{"$f":"J3678*F$9-H3678*F$8","v":-207},{"$f":"IF(P3677=1,K3678*B$1/(B$1+B$2+L3678),99999)","v":9.3379277977510551},{"$f":"M3678*B$1/(B$1+B$2+L3678)","v":-1.6732921296001086}]
[null,{"$f":"OFFSET(AL$1867,A3678,A3677+1)-B$10-U$3","v":1305.1784771714752},{"$f":"OFFSET(AL$1890,A3678,A3677+1)-B$11-V$3","v":2204.3568877178814},{"$f":"OFFSET(AL$1844,A3678,A3677+1)-B$12-W$3","v":-207},{"$f":"B3679*F$5+C3679*F$4","v":1305.1784771714752},{"$f":"C3679*F$5-B3679*F$4","v":2204.3568877178814},-207,1305.1784771714752,{"$f":"F3679*F$7+G3679*F$6","v":2204.3568877178814},{"$f":"G3679*F$7-F3679*F$6","v":-207},{"$f":"H3679*F$9+J3679*F$8","v":1305.1784771714752},{"$f":"I3679","v":2204.3568877178814},{"$f":"J3679*F$9-H3679*F$8","v":-207},{"$f":"IF(P3677=1,K3679*B$1/(B$1+B$2+L3679),99999)","v":11.788329915658659},{"$f":"M3679*B$1/(B$1+B$2+L3679)","v":-1.8696173245436911}]
[null,{"$f":"OFFSET(AL$1867,A3678,A3677)-B$10-U$3","v":1005.1784771714752},{"$f":"OFFSET(AL$1890,A3678,A3677)-B$11-V$3","v":2204.3568877178814},{"$f":"OFFSET(AL$1844,A3678,A3677)-B$12-W$3","v":-207},{"$f":"B3680*F$5+C3680*F$4","v":1005.1784771714752},{"$f":"C3680*F$5-B3680*F$4","v":2204.3568877178814},-207,1005.1784771714752,{"$f":"F3680*F$7+G3680*F$6","v":2204.3568877178814},{"$f":"G3680*F$7-F3680*F$6","v":-207},{"$f":"H3680*F$9+J3680*F$8","v":1005.1784771714752},{"$f":"I3680","v":2204.3568877178814},{"$f":"J3680*F$9-H3680*F$8","v":-207},{"$f":"IF(P3677=1,K3680*B$1/(B$1+B$2+L3680),99999)","v":9.0787395902330204},{"$f":"M3680*B$1/(B$1+B$2+L3680)","v":-1.8696173245436911}]
[]
[{"$f":"A3677+1","v":14},{"$f":"OFFSET(AL$1867,A3683,A3682)-B$10-U$3","v":1305.1784771714752},{"$f":"OFFSET(AL$1890,A3683,A3682)-B$11-V$3","v":2204.3568877178814},{"$f":"OFFSET(AL$1844,A3683,A3682)-B$12-W$3","v":-207},{"$f":"B3682*F$5+C3682*F$4","v":1305.1784771714752},{"$f":"C3682*F$5-B3682*F$4","v":2204.3568877178814},{"$f":"D3682","v":-207},1305.1784771714752,{"$f":"F3682*F$7+G3682*F$6","v":2204.3568877178814},{"$f":"G3682*F$7-F3682*F$6","v":-207},{"$f":"H3682*F$9+J3682*F$8","v":1305.1784771714752},{"$f":"I3682","v":2204.3568877178814},{"$f":"J3682*F$9-H3682*F$8","v":-207},{"$f":"IF(P3682=1,K3682*B$1/(B$1+B$2+L3682),99999)","v":11.788329915658659},{"$f":"M3682*B$1/(B$1+B$2+L3682)","v":-1.8696173245436911},{"$f":"IF(MIN(L3682:L3685)+B$2+B$1>0,1,0)","v":1}]
[{"$f":"A3678","v":19},{"$f":"OFFSET(AL$1867,A3683+1,A3682+1)-B$10-U$3","v":1455.1784771714752},{"$f":"OFFSET(AL$1890,A3683+1,A3682+1)-B$11-V$3","v":2464.1645088532132},{"$f":"OFFSET(AL$1844,A3683+1,A3682+1)-B$12-W$3","v":-207},{"$f":"B3683*F$5+C3683*F$4","v":1455.1784771714752},{"$f":"C3683*F$5-B3683*F$4","v":2464.1645088532132},-207,1455.1784771714752,{"$f":"F3683*F$7+G3683*F$6","v":2464.1645088532132},{"$f":"G3683*F$7-F3683*F$6","v":-207},{"$f":"H3683*F$9+J3683*F$8","v":1455.1784771714752},{"$f":"I3683","v":2464.1645088532132},{"$f":"J3683*F$9-H3683*F$8","v":-207},{"$f":"IF(P3682=1,K3683*B$1/(B$1+B$2+L3683),99999)","v":11.762988855142517},{"$f":"M3683*B$1/(B$1+B$2+L3683)","v":-1.6732921296001086}]
[null,{"$f":"OFFSET(AL$1867,A3683,A3682+1)-B$10-U$3","v":1605.1784771714752},{"$f":"OFFSET(AL$1890,A3683,A3682+1)-B$11-V$3","v":2204.3568877178814},{"$f":"OFFSET(AL$1844,A3683,A3682+1)-B$12-W$3","v":-207},{"$f":"B3684*F$5+C3684*F$4","v":1605.1784771714752},{"$f":"C3684*F$5-B3684*F$4","v":2204.3568877178814},-207,1605.1784771714752,{"$f":"F3684*F$7+G3684*F$6","v":2204.3568877178814},{"$f":"G3684*F$7-F3684*F$6","v":-207},{"$f":"H3684*F$9+J3684*F$8","v":1605.1784771714752},{"$f":"I3684","v":2204.3568877178814},{"$f":"J3684*F$9-H3684*F$8","v":-207},{"$f":"IF(P3682=1,K3684*B$1/(B$1+B$2+L3684),99999)","v":14.4979202410843},{"$f":"M3684*B$1/(B$1+B$2+L3684)","v":-1.8696173245436911}]
[null,{"$f":"OFFSET(AL$1867,A3683,A3682)-B$10-U$3","v":1305.1784771714752},{"$f":"OFFSET(AL$1890,A3683,A3682)-B$11-V$3","v":2204.3568877178814},{"$f":"OFFSET(AL$1844,A3683,A3682)-B$12-W$3","v":-207},{"$f":"B3685*F$5+C3685*F$4","v":1305.1784771714752},{"$f":"C3685*F$5-B3685*F$4","v":2204.3568877178814},-207,1305.1784771714752,{"$f":"F3685*F$7+G3685*F$6","v":2204.3568877178814},{"$f":"G3685*F$7-F3685*F$6","v":-207},{"$f":"H3685*F$9+J3685*F$8","v":1305.1784771714752},{"$f":"I3685","v":2204.3568877178814},{"$f":"J3685*F$9-H3685*F$8","v":-207},{"$f":"IF(P3682=1,K3685*B$1/(B$1+B$2+L3685),99999)","v":11.788329915658659},{"$f":"M3685*B$1/(B$1+B$2+L3685)","v":-1.8696173245436911}]
[]
[{"$f":"A3682+1","v":15},{"$f":"OFFSET(AL$1867,A3688,A3687)-B$10-U$3","v":1605.1784771714752},{"$f":"OFFSET(AL$1890,A3688,A3687)-B$11-V$3","v":2204.3568877178814},{"$f":"OFFSET(AL$1844,A3688,A3687)-B$12-W$3","v":-207},{"$f":"B3687*F$5+C3687*F$4","v":1605.1784771714752},{"$f":"C3687*F$5-B3687*F$4","v":2204.3568877178814},{"$f":"D3687","v":-207},1605.1784771714752,{"$f":"F3687*F$7+G3687*F$6","v":2204.3568877178814},{"$f":"G3687*F$7-F3687*F$6","v":-207},{"$f":"H3687*F$9+J3687*F$8","v":1605.1784771714752},{"$f":"I3687","v":2204.3568877178814},{"$f":"J3687*F$9-H3687*F$8","v":-207},{"$f":"IF(P3687=1,K3687*B$1/(B$1+B$2+L3687),99999)","v":14.4979202410843},{"$f":"M3687*B$1/(B$1+B$2+L3687)","v":-1.8696173245436911},{"$f":"IF(MIN(L3687:L3690)+B$2+B$1>0,1,0)","v":1}]
[{"$f":"A3683","v":19},{"$f":"OFFSET(AL$1867,A3688+1,A3687+1)-B$10-U$3","v":1755.1784771714752},{"$f":"OFFSET(AL$1890,A3688+1,A3687+1)-B$11-V$3","v":2464.1645088532132},{"$f":"OFFSET(AL$1844,A3688+1,A3687+1)-B$12-W$3","v":-207},{"$f":"B3688*F$5+C3688*F$4","v":1755.1784771714752},{"$f":"C3688*F$5-B3688*F$4","v":2464.1645088532132},-207,1755.1784771714752,{"$f":"F3688*F$7+G3688*F$6","v":2464.1645088532132},{"$f":"G3688*F$7-F3688*F$6","v":-207},{"$f":"H3688*F$9+J3688*F$8","v":1755.1784771714752},{"$f":"I3688","v":2464.1645088532132},{"$f":"J3688*F$9-H3688*F$8","v":-207},{"$f":"IF(P3687=1,K3688*B$1/(B$1+B$2+L3688),99999)","v":14.188049912533979},{"$f":"M3688*B$1/(B$1+B$2+L3688)","v":-1.6732921296001086}]
[null,{"$f":"OFFSET(AL$1867,A3688,A3687+1)-B$10-U$3","v":1905.1784771714752},{"$f":"OFFSET(AL$1890,A3688,A3687+1)-B$11-V$3","v":2204.3568877178814},{"$f":"OFFSET(AL$1844,A3688,A3687+1)-B$12-W$3","v":-207},{"$f":"B3689*F$5+C3689*F$4","v":1905.1784771714752},{"$f":"C3689*F$5-B3689*F$4","v":2204.3568877178814},-207,1905.1784771714752,{"$f":"F3689*F$7+G3689*F$6","v":2204.3568877178814},{"$f":"G3689*F$7-F3689*F$6","v":-207},{"$f":"H3689*F$9+J3689*F$8","v":1905.1784771714752},{"$f":"I3689","v":2204.3568877178814},{"$f":"J3689*F$9-H3689*F$8","v":-207},{"$f":"IF(P3687=1,K3689*B$1/(B$1+B$2+L3689),99999)","v":17.207510566509939},{"$f":"M3689*B$1/(B$1+B$2+L3689)","v":-1.8696173245436911}]
[null,{"$f":"OFFSET(AL$1867,A3688,A3687)-B$10-U$3","v":1605.1784771714752},{"$f":"OFFSET(AL$1890,A3688,A3687)-B$11-V$3","v":2204.3568877178814},{"$f":"OFFSET(AL$1844,A3688,A3687)-B$12-W$3","v":-207},{"$f":"B3690*F$5+C3690*F$4","v":1605.1784771714752},{"$f":"C3690*F$5-B3690*F$4","v":2204.3568877178814},-207,1605.1784771714752,{"$f":"F3690*F$7+G3690*F$6","v":2204.3568877178814},{"$f":"G3690*F$7-F3690*F$6","v":-207},{"$f":"H3690*F$9+J3690*F$8","v":1605.1784771714752},{"$f":"I3690","v":2204.3568877178814},{"$f":"J3690*F$9-H3690*F$8","v":-207},{"$f":"IF(P3687=1,K3690*B$1/(B$1+B$2+L3690),99999)","v":14.4979202410843},{"$f":"M3690*B$1/(B$1+B$2+L3690)","v":-1.8696173245436911}]
[]
[{"$f":"A3687+1","v":16},{"$f":"OFFSET(AL$1867,A3693,A3692)-B$10-U$3","v":1905.1784771714752},{"$f":"OFFSET(AL$1890,A3693,A3692)-B$11-V$3","v":2204.3568877178814},{"$f":"OFFSET(AL$1844,A3693,A3692)-B$12-W$3","v":-207},{"$f":"B3692*F$5+C3692*F$4","v":1905.1784771714752},{"$f":"C3692*F$5-B3692*F$4","v":2204.3568877178814},{"$f":"D3692","v":-207},1905.1784771714752,{"$f":"F3692*F$7+G3692*F$6","v":2204.3568877178814},{"$f":"G3692*F$7-F3692*F$6","v":-207},{"$f":"H3692*F$9+J3692*F$8","v":1905.1784771714752},{"$f":"I3692","v":2204.3568877178814},{"$f":"J3692*F$9-H3692*F$8","v":-207},{"$f":"IF(P3692=1,K3692*B$1/(B$1+B$2+L3692),99999)","v":17.207510566509939},{"$f":"M3692*B$1/(B$1+B$2+L3692)","v":-1.8696173245436911},{"$f":"IF(MIN(L3692:L3695)+B$2+B$1>0,1,0)","v":1}]
[{"$f":"A3688","v":19},{"$f":"OFFSET(AL$1867,A3693+1,A3692+1)-B$10-U$3","v":2055.1784771714752},{"$f":"OFFSET(AL$1890,A3693+1,A3692+1)-B$11-V$3","v":2464.1645088532132},{"$f":"OFFSET(AL$1844,A3693+1,A3692+1)-B$12-W$3","v":-207},{"$f":"B3693*F$5+C3693*F$4","v":2055.1784771714752},{"$f":"C3693*F$5-B3693*F$4","v":2464.1645088532132},-207,2055.1784771714752,{"$f":"F3693*F$7+G3693*F$6","v":2464.1645088532132},{"$f":"G3693*F$7-F3693*F$6","v":-207},{"$f":"H3693*F$9+J3693*F$8","v":2055.1784771714752},{"$f":"I3693","v":2464.1645088532132},{"$f":"J3693*F$9-H3693*F$8","v":-207},{"$f":"IF(P3692=1,K3693*B$1/(B$1+B$2+L3693),99999)","v":16.61311096992544},{"$f":"M3693*B$1/(B$1+B$2+L3693)","v":-1.6732921296001086}]
[null,{"$f":"OFFSET(AL$1867,A3693,A3692+1)-B$10-U$3","v":2205.1784771714752},{"$f":"OFFSET(AL$1890,A3693,A3692+1)-B$11-V$3","v":2204.3568877178814},{"$f":"OFFSET(AL$1844,A3693,A3692+1)-B$12-W$3","v":-207},{"$f":"B3694*F$5+C3694*F$4","v":2205.1784771714752},{"$f":"C3694*F$5-B3694*F$4","v":2204.3568877178814},-207,2205.1784771714752,{"$f":"F3694*F$7+G3694*F$6","v":2204.3568877178814},{"$f":"G3694*F$7-F3694*F$6","v":-207},{"$f":"H3694*F$9+J3694*F$8","v":2205.1784771714752},{"$f":"I3694","v":2204.3568877178814},{"$f":"J3694*F$9-H3694*F$8","v":-207},{"$f":"IF(P3692=1,K3694*B$1/(B$1+B$2+L3694),99999)","v":19.917100891935579},{"$f":"M3694*B$1/(B$1+B$2+L3694)","v":-1.8696173245436911}]
[null,{"$f":"OFFSET(AL$1867,A3693,A3692)-B$10-U$3","v":1905.1784771714752},{"$f":"OFFSET(AL$1890,A3693,A3692)-B$11-V$3","v":2204.3568877178814},{"$f":"OFFSET(AL$1844,A3693,A3692)-B$12-W$3","v":-207},{"$f":"B3695*F$5+C3695*F$4","v":1905.1784771714752},{"$f":"C3695*F$5-B3695*F$4","v":2204.3568877178814},-207,1905.1784771714752,{"$f":"F3695*F$7+G3695*F$6","v":2204.3568877178814},{"$f":"G3695*F$7-F3695*F$6","v":-207},{"$f":"H3695*F$9+J3695*F$8","v":1905.1784771714752},{"$f":"I3695","v":2204.3568877178814},{"$f":"J3695*F$9-H3695*F$8","v":-207},{"$f":"IF(P3692=1,K3695*B$1/(B$1+B$2+L3695),99999)","v":17.207510566509939},{"$f":"M3695*B$1/(B$1+B$2+L3695)","v":-1.8696173245436911}]
[]
[{"$f":"A3692+1","v":17},{"$f":"OFFSET(AL$1867,A3698,A3697)-B$10-U$3","v":2205.1784771714752},{"$f":"OFFSET(AL$1890,A3698,A3697)-B$11-V$3","v":2204.3568877178814},{"$f":"OFFSET(AL$1844,A3698,A3697)-B$12-W$3","v":-207},{"$f":"B3697*F$5+C3697*F$4","v":2205.1784771714752},{"$f":"C3697*F$5-B3697*F$4","v":2204.3568877178814},{"$f":"D3697","v":-207},2205.1784771714752,{"$f":"F3697*F$7+G3697*F$6","v":2204.3568877178814},{"$f":"G3697*F$7-F3697*F$6","v":-207},{"$f":"H3697*F$9+J3697*F$8","v":2205.1784771714752},{"$f":"I3697","v":2204.3568877178814},{"$f":"J3697*F$9-H3697*F$8","v":-207},{"$f":"IF(P3697=1,K3697*B$1/(B$1+B$2+L3697),99999)","v":19.917100891935579},{"$f":"M3697*B$1/(B$1+B$2+L3697)","v":-1.8696173245436911},{"$f":"IF(MIN(L3697:L3700)+B$2+B$1>0,1,0)","v":1}]
[{"$f":"A3693","v":19},{"$f":"OFFSET(AL$1867,A3698+1,A3697+1)-B$10-U$3","v":2355.1784771714752},{"$f":"OFFSET(AL$1890,A3698+1,A3697+1)-B$11-V$3","v":2464.1645088532132},{"$f":"OFFSET(AL$1844,A3698+1,A3697+1)-B$12-W$3","v":-207},{"$f":"B3698*F$5+C3698*F$4","v":2355.1784771714752},{"$f":"C3698*F$5-B3698*F$4","v":2464.1645088532132},-207,2355.1784771714752,{"$f":"F3698*F$7+G3698*F$6","v":2464.1645088532132},{"$f":"G3698*F$7-F3698*F$6","v":-207},{"$f":"H3698*F$9+J3698*F$8","v":2355.1784771714752},{"$f":"I3698","v":2464.1645088532132},{"$f":"J3698*F$9-H3698*F$8","v":-207},{"$f":"IF(P3697=1,K3698*B$1/(B$1+B$2+L3698),99999)","v":19.038172027316904},{"$f":"M3698*B$1/(B$1+B$2+L3698)","v":-1.6732921296001086}]
[null,{"$f":"OFFSET(AL$1867,A3698,A3697+1)-B$10-U$3","v":2505.1784771714752},{"$f":"OFFSET(AL$1890,A3698,A3697+1)-B$11-V$3","v":2204.3568877178814},{"$f":"OFFSET(AL$1844,A3698,A3697+1)-B$12-W$3","v":-207},{"$f":"B3699*F$5+C3699*F$4","v":2505.1784771714752},{"$f":"C3699*F$5-B3699*F$4","v":2204.3568877178814},-207,2505.1784771714752,{"$f":"F3699*F$7+G3699*F$6","v":2204.3568877178814},{"$f":"G3699*F$7-F3699*F$6","v":-207},{"$f":"H3699*F$9+J3699*F$8","v":2505.1784771714752},{"$f":"I3699","v":2204.3568877178814},{"$f":"J3699*F$9-H3699*F$8","v":-207},{"$f":"IF(P3697=1,K3699*B$1/(B$1+B$2+L3699),99999)","v":22.626691217361216},{"$f":"M3699*B$1/(B$1+B$2+L3699)","v":-1.8696173245436911}]
[null,{"$f":"OFFSET(AL$1867,A3698,A3697)-B$10-U$3","v":2205.1784771714752},{"$f":"OFFSET(AL$1890,A3698,A3697)-B$11-V$3","v":2204.3568877178814},{"$f":"OFFSET(AL$1844,A3698,A3697)-B$12-W$3","v":-207},{"$f":"B3700*F$5+C3700*F$4","v":2205.1784771714752},{"$f":"C3700*F$5-B3700*F$4","v":2204.3568877178814},-207,2205.1784771714752,{"$f":"F3700*F$7+G3700*F$6","v":2204.3568877178814},{"$f":"G3700*F$7-F3700*F$6","v":-207},{"$f":"H3700*F$9+J3700*F$8","v":2205.1784771714752},{"$f":"I3700","v":2204.3568877178814},{"$f":"J3700*F$9-H3700*F$8","v":-207},{"$f":"IF(P3697=1,K3700*B$1/(B$1+B$2+L3700),99999)","v":19.917100891935579},{"$f":"M3700*B$1/(B$1+B$2+L3700)","v":-1.8696173245436911}]
[]
[{"$f":"A3697+1","v":18},{"$f":"OFFSET(AL$1867,A3703,A3702)-B$10-U$3","v":2505.1784771714752},{"$f":"OFFSET(AL$1890,A3703,A3702)-B$11-V$3","v":2204.3568877178814},{"$f":"OFFSET(AL$1844,A3703,A3702)-B$12-W$3","v":-207},{"$f":"B3702*F$5+C3702*F$4","v":2505.1784771714752},{"$f":"C3702*F$5-B3702*F$4","v":2204.3568877178814},{"$f":"D3702","v":-207},2505.1784771714752,{"$f":"F3702*F$7+G3702*F$6","v":2204.3568877178814},{"$f":"G3702*F$7-F3702*F$6","v":-207},{"$f":"H3702*F$9+J3702*F$8","v":2505.1784771714752},{"$f":"I3702","v":2204.3568877178814},{"$f":"J3702*F$9-H3702*F$8","v":-207},{"$f":"IF(P3702=1,K3702*B$1/(B$1+B$2+L3702),99999)","v":22.626691217361216},{"$f":"M3702*B$1/(B$1+B$2+L3702)","v":-1.8696173245436911},{"$f":"IF(MIN(L3702:L3705)+B$2+B$1>0,1,0)","v":1}]
[{"$f":"A3698","v":19},{"$f":"OFFSET(AL$1867,A3703+1,A3702+1)-B$10-U$3","v":2655.1784771714752},{"$f":"OFFSET(AL$1890,A3703+1,A3702+1)-B$11-V$3","v":2464.1645088532132},{"$f":"OFFSET(AL$1844,A3703+1,A3702+1)-B$12-W$3","v":-207},{"$f":"B3703*F$5+C3703*F$4","v":2655.1784771714752},{"$f":"C3703*F$5-B3703*F$4","v":2464.1645088532132},-207,2655.1784771714752,{"$f":"F3703*F$7+G3703*F$6","v":2464.1645088532132},{"$f":"G3703*F$7-F3703*F$6","v":-207},{"$f":"H3703*F$9+J3703*F$8","v":2655.1784771714752},{"$f":"I3703","v":2464.1645088532132},{"$f":"J3703*F$9-H3703*F$8","v":-207},{"$f":"IF(P3702=1,K3703*B$1/(B$1+B$2+L3703),99999)","v":21.463233084708364},{"$f":"M3703*B$1/(B$1+B$2+L3703)","v":-1.6732921296001086}]
[null,{"$f":"OFFSET(AL$1867,A3703,A3702+1)-B$10-U$3","v":2805.1784771714752},{"$f":"OFFSET(AL$1890,A3703,A3702+1)-B$11-V$3","v":2204.3568877178814},{"$f":"OFFSET(AL$1844,A3703,A3702+1)-B$12-W$3","v":-207},{"$f":"B3704*F$5+C3704*F$4","v":2805.1784771714752},{"$f":"C3704*F$5-B3704*F$4","v":2204.3568877178814},-207,2805.1784771714752,{"$f":"F3704*F$7+G3704*F$6","v":2204.3568877178814},{"$f":"G3704*F$7-F3704*F$6","v":-207},{"$f":"H3704*F$9+J3704*F$8","v":2805.1784771714752},{"$f":"I3704","v":2204.3568877178814},{"$f":"J3704*F$9-H3704*F$8","v":-207},{"$f":"IF(P3702=1,K3704*B$1/(B$1+B$2+L3704),99999)","v":25.336281542786857},{"$f":"M3704*B$1/(B$1+B$2+L3704)","v":-1.8696173245436911}]
[null,{"$f":"OFFSET(AL$1867,A3703,A3702)-B$10-U$3","v":2505.1784771714752},{"$f":"OFFSET(AL$1890,A3703,A3702)-B$11-V$3","v":2204.3568877178814},{"$f":"OFFSET(AL$1844,A3703,A3702)-B$12-W$3","v":-207},{"$f":"B3705*F$5+C3705*F$4","v":2505.1784771714752},{"$f":"C3705*F$5-B3705*F$4","v":2204.3568877178814},-207,2505.1784771714752,{"$f":"F3705*F$7+G3705*F$6","v":2204.3568877178814},{"$f":"G3705*F$7-F3705*F$6","v":-207},{"$f":"H3705*F$9+J3705*F$8","v":2505.1784771714752},{"$f":"I3705","v":2204.3568877178814},{"$f":"J3705*F$9-H3705*F$8","v":-207},{"$f":"IF(P3702=1,K3705*B$1/(B$1+B$2+L3705),99999)","v":22.626691217361216},{"$f":"M3705*B$1/(B$1+B$2+L3705)","v":-1.8696173245436911}]
[]
[{"$f":"A3702+1","v":19},{"$f":"OFFSET(AL$1867,A3708,A3707)-B$10-U$3","v":2805.1784771714752},{"$f":"OFFSET(AL$1890,A3708,A3707)-B$11-V$3","v":2204.3568877178814},{"$f":"OFFSET(AL$1844,A3708,A3707)-B$12-W$3","v":-207},{"$f":"B3707*F$5+C3707*F$4","v":2805.1784771714752},{"$f":"C3707*F$5-B3707*F$4","v":2204.3568877178814},{"$f":"D3707","v":-207},2805.1784771714752,{"$f":"F3707*F$7+G3707*F$6","v":2204.3568877178814},{"$f":"G3707*F$7-F3707*F$6","v":-207},{"$f":"H3707*F$9+J3707*F$8","v":2805.1784771714752},{"$f":"I3707","v":2204.3568877178814},{"$f":"J3707*F$9-H3707*F$8","v":-207},{"$f":"IF(P3707=1,K3707*B$1/(B$1+B$2+L3707),99999)","v":25.336281542786857},{"$f":"M3707*B$1/(B$1+B$2+L3707)","v":-1.8696173245436911},{"$f":"IF(MIN(L3707:L3710)+B$2+B$1>0,1,0)","v":1}]
[{"$f":"A3703","v":19},{"$f":"OFFSET(AL$1867,A3708+1,A3707+1)-B$10-U$3","v":2955.1784771714752},{"$f":"OFFSET(AL$1890,A3708+1,A3707+1)-B$11-V$3","v":2464.1645088532132},{"$f":"OFFSET(AL$1844,A3708+1,A3707+1)-B$12-W$3","v":-207},{"$f":"B3708*F$5+C3708*F$4","v":2955.1784771714752},{"$f":"C3708*F$5-B3708*F$4","v":2464.1645088532132},-207,2955.1784771714752,{"$f":"F3708*F$7+G3708*F$6","v":2464.1645088532132},{"$f":"G3708*F$7-F3708*F$6","v":-207},{"$f":"H3708*F$9+J3708*F$8","v":2955.1784771714752},{"$f":"I3708","v":2464.1645088532132},{"$f":"J3708*F$9-H3708*F$8","v":-207},{"$f":"IF(P3707=1,K3708*B$1/(B$1+B$2+L3708),99999)","v":23.888294142099827},{"$f":"M3708*B$1/(B$1+B$2+L3708)","v":-1.6732921296001086}]
[null,{"$f":"OFFSET(AL$1867,A3708,A3707+1)-B$10-U$3","v":3105.1784771714752},{"$f":"OFFSET(AL$1890,A3708,A3707+1)-B$11-V$3","v":2204.3568877178814},{"$f":"OFFSET(AL$1844,A3708,A3707+1)-B$12-W$3","v":-207},{"$f":"B3709*F$5+C3709*F$4","v":3105.1784771714752},{"$f":"C3709*F$5-B3709*F$4","v":2204.3568877178814},-207,3105.1784771714752,{"$f":"F3709*F$7+G3709*F$6","v":2204.3568877178814},{"$f":"G3709*F$7-F3709*F$6","v":-207},{"$f":"H3709*F$9+J3709*F$8","v":3105.1784771714752},{"$f":"I3709","v":2204.3568877178814},{"$f":"J3709*F$9-H3709*F$8","v":-207},{"$f":"IF(P3707=1,K3709*B$1/(B$1+B$2+L3709),99999)","v":28.045871868212494},{"$f":"M3709*B$1/(B$1+B$2+L3709)","v":-1.8696173245436911}]
[null,{"$f":"OFFSET(AL$1867,A3708,A3707)-B$10-U$3","v":2805.1784771714752},{"$f":"OFFSET(AL$1890,A3708,A3707)-B$11-V$3","v":2204.3568877178814},{"$f":"OFFSET(AL$1844,A3708,A3707)-B$12-W$3","v":-207},{"$f":"B3710*F$5+C3710*F$4","v":2805.1784771714752},{"$f":"C3710*F$5-B3710*F$4","v":2204.3568877178814},-207,2805.1784771714752,{"$f":"F3710*F$7+G3710*F$6","v":2204.3568877178814},{"$f":"G3710*F$7-F3710*F$6","v":-207},{"$f":"H3710*F$9+J3710*F$8","v":2805.1784771714752},{"$f":"I3710","v":2204.3568877178814},{"$f":"J3710*F$9-H3710*F$8","v":-207},{"$f":"IF(P3707=1,K3710*B$1/(B$1+B$2+L3710),99999)","v":25.336281542786857},{"$f":"M3710*B$1/(B$1+B$2+L3710)","v":-1.8696173245436911}]